BEGIN:VCALENDAR
VERSION:2.0
PRODID:-//QuickScores.com//BQ Dynamic iCal Creator//EN
METHOD:PUBLISH
X-WR-CALNAME:18u Boys - All-Star Invitational - 2026
X-WR-CALDESC:QuickScores game calendar
X-PUBLISHED-TTL:PT24H
REFRESH-INTERVAL;VALUE=DURATION:PT24H
CALSCALE:GREGORIAN
BEGIN:VTIMEZONE
TZID:America/Chicago
X-LIC-LOCATION:America/Chicago
BEGIN:DAYLIGHT
TZNAME:CDT
TZOFFSETFROM:-0600
TZOFFSETTO:-0500
DTSTART:19700308T020000
RRULE:FREQ=YEARLY;BYMONTH=3;BYDAY=2SU
END:DAYLIGHT
BEGIN:STANDARD
TZNAME:CST
TZOFFSETFROM:-0500
TZOFFSETTO:-0600
DTSTART:19701101T020000
RRULE:FREQ=YEARLY;BYMONTH=11;BYDAY=1SU
END:STANDARD
END:VTIMEZONE
BEGIN:VEVENT
UID:gwinnettparksfoundation-73183496-20260226T200000@quickscores.com
DTSTAMP:20260422T214300Z
DTSTART;TZID=America/Chicago:20260226T200000
DURATION:PT1H0M0S
SUMMARY:Dacula vs. Mill Creek
DESCRIPTION:18u Boys - Gwinnett Parks Foundation
LOCATION:George Pierce Court 2
CATEGORIES:QuickScores, Basketball - Youth Game
TRANSP:OPAQUE
BEGIN:VALARM
TRIGGER:-PT2H
ACTION:DISPLAY
DESCRIPTION:Dacula vs. Mill Creek
END:VALARM
END:VEVENT
BEGIN:VEVENT
UID:gwinnettparksfoundation-73183495-20260228T090000@quickscores.com
DTSTAMP:20260422T214300Z
DTSTART;TZID=America/Chicago:20260228T090000
DURATION:PT1H15M0S
SUMMARY:Dacula vs. Collins Hill
DESCRIPTION:18u Boys - Gwinnett Parks Foundation
LOCATION:Bogan Court 1
CATEGORIES:QuickScores, Basketball - Youth Game
TRANSP:OPAQUE
BEGIN:VALARM
TRIGGER:-PT2H
ACTION:DISPLAY
DESCRIPTION:Dacula vs. Collins Hill
END:VALARM
END:VEVENT
BEGIN:VEVENT
UID:gwinnettparksfoundation-73183493-20260228T101500@quickscores.com
DTSTAMP:20260422T214300Z
DTSTART;TZID=America/Chicago:20260228T101500
DURATION:PT1H15M0S
SUMMARY:Brookwood vs. Mill Creek
DESCRIPTION:18u Boys - Gwinnett Parks Foundation
LOCATION:Lucky Shoals Court 2
CATEGORIES:QuickScores, Basketball - Youth Game
TRANSP:OPAQUE
BEGIN:VALARM
TRIGGER:-PT2H
ACTION:DISPLAY
DESCRIPTION:Brookwood vs. Mill Creek
END:VALARM
END:VEVENT
BEGIN:VEVENT
UID:gwinnettparksfoundation-73183494-20260228T101500@quickscores.com
DTSTAMP:20260422T214300Z
DTSTART;TZID=America/Chicago:20260228T101500
DURATION:PT1H15M0S
SUMMARY:Mustangs vs. Mountain View
DESCRIPTION:18u Boys - Gwinnett Parks Foundation
LOCATION:Lucky Shoals Court 1
CATEGORIES:QuickScores, Basketball - Youth Game
TRANSP:OPAQUE
BEGIN:VALARM
TRIGGER:-PT2H
ACTION:DISPLAY
DESCRIPTION:Mustangs vs. Mountain View
END:VALARM
END:VEVENT
BEGIN:VEVENT
UID:gwinnettparksfoundation-73183498-20260228T140000@quickscores.com
DTSTAMP:20260422T214300Z
DTSTART;TZID=America/Chicago:20260228T140000
DURATION:PT1H15M0S
SUMMARY:Mustangs vs. Collins Hill
DESCRIPTION:18u Boys - Gwinnett Parks Foundation
LOCATION:Lucky Shoals Court 1
CATEGORIES:QuickScores, Basketball - Youth Game
TRANSP:OPAQUE
BEGIN:VALARM
TRIGGER:-PT2H
ACTION:DISPLAY
DESCRIPTION:Mustangs vs. Collins Hill
END:VALARM
END:VEVENT
BEGIN:VEVENT
UID:gwinnettparksfoundation-73183497-20260228T140000@quickscores.com
DTSTAMP:20260422T214300Z
DTSTART;TZID=America/Chicago:20260228T140000
DURATION:PT1H15M0S
SUMMARY:Mountain View vs. Brookwood
DESCRIPTION:18u Boys - Gwinnett Parks Foundation
LOCATION:Lucky Shoals Court 2
CATEGORIES:QuickScores, Basketball - Youth Game
TRANSP:OPAQUE
BEGIN:VALARM
TRIGGER:-PT2H
ACTION:DISPLAY
DESCRIPTION:Mountain View vs. Brookwood
END:VALARM
END:VEVENT
BEGIN:VEVENT
UID:gwinnettparksfoundation-73236456-20260301T113000@quickscores.com
DTSTAMP:20260422T214300Z
DTSTART;TZID=America/Chicago:20260301T113000
DURATION:PT1H15M0S
SUMMARY:[4] Mustangs vs. [5] Collins Hill
DESCRIPTION:18u Boys - Gwinnett Parks Foundation
LOCATION:Lucky Shoals Court 1
CATEGORIES:QuickScores, Basketball - Youth Game
TRANSP:OPAQUE
BEGIN:VALARM
TRIGGER:-PT2H
ACTION:DISPLAY
DESCRIPTION:[4] Mustangs vs. [5] Collins Hill
END:VALARM
END:VEVENT
BEGIN:VEVENT
UID:gwinnettparksfoundation-73236458-20260301T113000@quickscores.com
DTSTAMP:20260422T214300Z
DTSTART;TZID=America/Chicago:20260301T113000
DURATION:PT1H15M0S
SUMMARY:[3] Dacula vs. [6] Brookwood
DESCRIPTION:18u Boys - Gwinnett Parks Foundation
LOCATION:Lucky Shoals Court 2
CATEGORIES:QuickScores, Basketball - Youth Game
TRANSP:OPAQUE
BEGIN:VALARM
TRIGGER:-PT2H
ACTION:DISPLAY
DESCRIPTION:[3] Dacula vs. [6] Brookwood
END:VALARM
END:VEVENT
BEGIN:VEVENT
UID:gwinnettparksfoundation-73236459-20260301T151500@quickscores.com
DTSTAMP:20260422T214300Z
DTSTART;TZID=America/Chicago:20260301T151500
DURATION:PT1H15M0S
SUMMARY:[1] Mountain View vs. [4] Mustangs
DESCRIPTION:18u Boys - Gwinnett Parks Foundation
LOCATION:Lucky Shoals Court 1
CATEGORIES:QuickScores, Basketball - Youth Game
TRANSP:OPAQUE
BEGIN:VALARM
TRIGGER:-PT2H
ACTION:DISPLAY
DESCRIPTION:[1] Mountain View vs. [4] Mustangs
END:VALARM
END:VEVENT
BEGIN:VEVENT
UID:gwinnettparksfoundation-73236460-20260301T151500@quickscores.com
DTSTAMP:20260422T214300Z
DTSTART;TZID=America/Chicago:20260301T151500
DURATION:PT1H15M0S
SUMMARY:[2] Mill Creek vs. [3] Dacula
DESCRIPTION:18u Boys - Gwinnett Parks Foundation
LOCATION:Lucky Shoals Court 2
CATEGORIES:QuickScores, Basketball - Youth Game
TRANSP:OPAQUE
BEGIN:VALARM
TRIGGER:-PT2H
ACTION:DISPLAY
DESCRIPTION:[2] Mill Creek vs. [3] Dacula
END:VALARM
END:VEVENT
BEGIN:VEVENT
UID:gwinnettparksfoundation-73236461-20260307T151500@quickscores.com
DTSTAMP:20260422T214300Z
DTSTART;TZID=America/Chicago:20260307T151500
DURATION:PT1H15M0S
SUMMARY:[4] Mustangs vs. [2] Mill Creek
DESCRIPTION:18u Boys - Gwinnett Parks Foundation
LOCATION:Lucky Shoals Court 1
CATEGORIES:QuickScores, Basketball - Youth Game
TRANSP:OPAQUE
BEGIN:VALARM
TRIGGER:-PT2H
ACTION:DISPLAY
DESCRIPTION:[4] Mustangs vs. [2] Mill Creek
END:VALARM
END:VEVENT
END:VCALENDAR
