BEGIN:VCALENDAR
VERSION:2.0
PRODID:-//QuickScores.com//BQ Dynamic iCal Creator//EN
METHOD:PUBLISH
X-WR-CALNAME:U10a - Spring 2026
X-WR-CALDESC:QuickScores game calendar
X-PUBLISHED-TTL:PT24H
REFRESH-INTERVAL;VALUE=DURATION:PT24H
CALSCALE:GREGORIAN
BEGIN:VTIMEZONE
TZID:America/New_York
X-LIC-LOCATION:America/New_York
BEGIN:DAYLIGHT
TZNAME:EDT
TZOFFSETFROM:-0500
TZOFFSETTO:-0400
DTSTART:19700308T020000
RRULE:FREQ=YEARLY;BYMONTH=3;BYDAY=2SU
END:DAYLIGHT
BEGIN:STANDARD
TZNAME:EST
TZOFFSETFROM:-0400
TZOFFSETTO:-0500
DTSTART:19701101T020000
RRULE:FREQ=YEARLY;BYMONTH=11;BYDAY=1SU
END:STANDARD
END:VTIMEZONE
BEGIN:VEVENT
UID:loraincountysoccer-73880135-20260418T124500@quickscores.com
DTSTAMP:20260421T170900Z
DTSTART;TZID=America/New_York:20260418T124500
DURATION:PT1H0M0S
SUMMARY:EL317806 vs. LO330602
DESCRIPTION:U10a - Lorain County Soccer League
LOCATION:EF 5
CATEGORIES:QuickScores, Soccer - Youth Game
TRANSP:OPAQUE
BEGIN:VALARM
TRIGGER:-PT2H
ACTION:DISPLAY
DESCRIPTION:EL317806 vs. LO330602
END:VALARM
END:VEVENT
BEGIN:VEVENT
UID:loraincountysoccer-73880134-20260418T140000@quickscores.com
DTSTAMP:20260421T170900Z
DTSTART;TZID=America/New_York:20260418T140000
DURATION:PT1H0M0S
SUMMARY:FS229602 vs. MV039606
DESCRIPTION:U10a - Lorain County Soccer League
LOCATION:FS6 U9/10
CATEGORIES:QuickScores, Soccer - Youth Game
TRANSP:OPAQUE
BEGIN:VALARM
TRIGGER:-PT2H
ACTION:DISPLAY
DESCRIPTION:FS229602 vs. MV039606
END:VALARM
END:VEVENT
BEGIN:VEVENT
UID:loraincountysoccer-73880137-20260423T173000@quickscores.com
DTSTAMP:20260421T170900Z
DTSTART;TZID=America/New_York:20260423T173000
DURATION:PT1H0M0S
SUMMARY:WE287000 vs. FS229602
DESCRIPTION:U10a - Lorain County Soccer League
LOCATION:WE 3
CATEGORIES:QuickScores, Soccer - Youth Game
TRANSP:OPAQUE
BEGIN:VALARM
TRIGGER:-PT2H
ACTION:DISPLAY
DESCRIPTION:WE287000 vs. FS229602
END:VALARM
END:VEVENT
BEGIN:VEVENT
UID:loraincountysoccer-73880140-20260425T124500@quickscores.com
DTSTAMP:20260421T170900Z
DTSTART;TZID=America/New_York:20260425T124500
DURATION:PT1H0M0S
SUMMARY:MV039601 vs. EL317806
DESCRIPTION:U10a - Lorain County Soccer League
LOCATION:MV B
CATEGORIES:QuickScores, Soccer - Youth Game
TRANSP:OPAQUE
BEGIN:VALARM
TRIGGER:-PT2H
ACTION:DISPLAY
DESCRIPTION:MV039601 vs. EL317806
END:VALARM
END:VEVENT
BEGIN:VEVENT
UID:loraincountysoccer-73880142-20260425T124500@quickscores.com
DTSTAMP:20260421T170900Z
DTSTART;TZID=America/New_York:20260425T124500
DURATION:PT1H0M0S
SUMMARY:FS229602 vs. VR533806
DESCRIPTION:U10a - Lorain County Soccer League
LOCATION:FS6 U9/10
CATEGORIES:QuickScores, Soccer - Youth Game
TRANSP:OPAQUE
BEGIN:VALARM
TRIGGER:-PT2H
ACTION:DISPLAY
DESCRIPTION:FS229602 vs. VR533806
END:VALARM
END:VEVENT
BEGIN:VEVENT
UID:loraincountysoccer-73880143-20260425T124500@quickscores.com
DTSTAMP:20260421T170900Z
DTSTART;TZID=America/New_York:20260425T124500
DURATION:PT1H0M0S
SUMMARY:LO330602 vs. FS229604
DESCRIPTION:U10a - Lorain County Soccer League
LOCATION:LO2
CATEGORIES:QuickScores, Soccer - Youth Game
TRANSP:OPAQUE
BEGIN:VALARM
TRIGGER:-PT2H
ACTION:DISPLAY
DESCRIPTION:LO330602 vs. FS229604
END:VALARM
END:VEVENT
BEGIN:VEVENT
UID:loraincountysoccer-73880141-20260425T133000@quickscores.com
DTSTAMP:20260421T170900Z
DTSTART;TZID=America/New_York:20260425T133000
DURATION:PT1H0M0S
SUMMARY:OB343000 vs. WE287000
DESCRIPTION:U10a - Lorain County Soccer League
LOCATION:OB 2
CATEGORIES:QuickScores, Soccer - Youth Game
TRANSP:OPAQUE
BEGIN:VALARM
TRIGGER:-PT2H
ACTION:DISPLAY
DESCRIPTION:OB343000 vs. WE287000
END:VALARM
END:VEVENT
BEGIN:VEVENT
UID:loraincountysoccer-73880165-20260427T183000@quickscores.com
DTSTAMP:20260421T170900Z
DTSTART;TZID=America/New_York:20260427T183000
DURATION:PT1H0M0S
SUMMARY:VR533806 vs. OB343000
DESCRIPTION:U10a - Lorain County Soccer League
LOCATION:VR D
CATEGORIES:QuickScores, Soccer - Youth Game
TRANSP:OPAQUE
BEGIN:VALARM
TRIGGER:-PT2H
ACTION:DISPLAY
DESCRIPTION:VR533806 vs. OB343000
END:VALARM
END:VEVENT
BEGIN:VEVENT
UID:loraincountysoccer-73880169-20260428T181500@quickscores.com
DTSTAMP:20260421T170900Z
DTSTART;TZID=America/New_York:20260428T181500
DURATION:PT1H0M0S
SUMMARY:AM286300 vs. MV039606
DESCRIPTION:U10a - Lorain County Soccer League
LOCATION:AM 4
CATEGORIES:QuickScores, Soccer - Youth Game
TRANSP:OPAQUE
BEGIN:VALARM
TRIGGER:-PT2H
ACTION:DISPLAY
DESCRIPTION:AM286300 vs. MV039606
END:VALARM
END:VEVENT
BEGIN:VEVENT
UID:loraincountysoccer-73880136-20260429T183000@quickscores.com
DTSTAMP:20260421T170900Z
DTSTART;TZID=America/New_York:20260429T183000
DURATION:PT1H0M0S
SUMMARY:VR533806 vs. MV039601
DESCRIPTION:U10a - Lorain County Soccer League
LOCATION:VR D
CATEGORIES:QuickScores, Soccer - Youth Game
TRANSP:OPAQUE
BEGIN:VALARM
TRIGGER:-PT2H
ACTION:DISPLAY
DESCRIPTION:VR533806 vs. MV039601
END:VALARM
END:VEVENT
BEGIN:VEVENT
UID:loraincountysoccer-73880149-20260502T124500@quickscores.com
DTSTAMP:20260421T170900Z
DTSTART;TZID=America/New_York:20260502T124500
DURATION:PT1H0M0S
SUMMARY:VR533806 vs. MV039606
DESCRIPTION:U10a - Lorain County Soccer League
LOCATION:VR D
CATEGORIES:QuickScores, Soccer - Youth Game
TRANSP:OPAQUE
BEGIN:VALARM
TRIGGER:-PT2H
ACTION:DISPLAY
DESCRIPTION:VR533806 vs. MV039606
END:VALARM
END:VEVENT
BEGIN:VEVENT
UID:loraincountysoccer-73880147-20260502T223000@quickscores.com
DTSTAMP:20260421T170900Z
DTSTART;TZID=America/New_York:20260502T223000
DURATION:PT1H0M0S
SUMMARY:WE287000 vs. LO330602
DESCRIPTION:U10a - Lorain County Soccer League
LOCATION:WE 3
CATEGORIES:QuickScores, Soccer - Youth Game
TRANSP:OPAQUE
BEGIN:VALARM
TRIGGER:-PT2H
ACTION:DISPLAY
DESCRIPTION:WE287000 vs. LO330602
END:VALARM
END:VEVENT
BEGIN:VEVENT
UID:loraincountysoccer-73880146-20260507T180000@quickscores.com
DTSTAMP:20260421T170900Z
DTSTART;TZID=America/New_York:20260507T180000
DURATION:PT1H0M0S
SUMMARY:FS229602 vs. AM286300
DESCRIPTION:U10a - Lorain County Soccer League
LOCATION:FS6 U9/10
CATEGORIES:QuickScores, Soccer - Youth Game
TRANSP:OPAQUE
BEGIN:VALARM
TRIGGER:-PT2H
ACTION:DISPLAY
DESCRIPTION:FS229602 vs. AM286300
END:VALARM
END:VEVENT
BEGIN:VEVENT
UID:loraincountysoccer-73880152-20260509T124500@quickscores.com
DTSTAMP:20260421T170900Z
DTSTART;TZID=America/New_York:20260509T124500
DURATION:PT1H0M0S
SUMMARY:VR533806 vs. AM286300
DESCRIPTION:U10a - Lorain County Soccer League
LOCATION:VR D
CATEGORIES:QuickScores, Soccer - Youth Game
TRANSP:OPAQUE
BEGIN:VALARM
TRIGGER:-PT2H
ACTION:DISPLAY
DESCRIPTION:VR533806 vs. AM286300
END:VALARM
END:VEVENT
BEGIN:VEVENT
UID:loraincountysoccer-73880153-20260509T124500@quickscores.com
DTSTAMP:20260421T170900Z
DTSTART;TZID=America/New_York:20260509T124500
DURATION:PT1H0M0S
SUMMARY:WE287000 vs. EL317806
DESCRIPTION:U10a - Lorain County Soccer League
LOCATION:WE 3
CATEGORIES:QuickScores, Soccer - Youth Game
TRANSP:OPAQUE
BEGIN:VALARM
TRIGGER:-PT2H
ACTION:DISPLAY
DESCRIPTION:WE287000 vs. EL317806
END:VALARM
END:VEVENT
BEGIN:VEVENT
UID:loraincountysoccer-73880155-20260509T124500@quickscores.com
DTSTAMP:20260421T170900Z
DTSTART;TZID=America/New_York:20260509T124500
DURATION:PT1H0M0S
SUMMARY:MV039606 vs. FS229604
DESCRIPTION:U10a - Lorain County Soccer League
LOCATION:MV A
CATEGORIES:QuickScores, Soccer - Youth Game
TRANSP:OPAQUE
BEGIN:VALARM
TRIGGER:-PT2H
ACTION:DISPLAY
DESCRIPTION:MV039606 vs. FS229604
END:VALARM
END:VEVENT
BEGIN:VEVENT
UID:loraincountysoccer-73880156-20260509T124500@quickscores.com
DTSTAMP:20260421T170900Z
DTSTART;TZID=America/New_York:20260509T124500
DURATION:PT1H0M0S
SUMMARY:LO330602 vs. MV039601
DESCRIPTION:U10a - Lorain County Soccer League
LOCATION:LO2
CATEGORIES:QuickScores, Soccer - Youth Game
TRANSP:OPAQUE
BEGIN:VALARM
TRIGGER:-PT2H
ACTION:DISPLAY
DESCRIPTION:LO330602 vs. MV039601
END:VALARM
END:VEVENT
BEGIN:VEVENT
UID:loraincountysoccer-73880154-20260511T183000@quickscores.com
DTSTAMP:20260421T170900Z
DTSTART;TZID=America/New_York:20260511T183000
DURATION:PT1H0M0S
SUMMARY:OB343000 vs. FS229604
DESCRIPTION:U10a - Lorain County Soccer League
LOCATION:OB 2
CATEGORIES:QuickScores, Soccer - Youth Game
TRANSP:OPAQUE
BEGIN:VALARM
TRIGGER:-PT2H
ACTION:DISPLAY
DESCRIPTION:OB343000 vs. FS229604
END:VALARM
END:VEVENT
BEGIN:VEVENT
UID:loraincountysoccer-73880167-20260515T183000@quickscores.com
DTSTAMP:20260421T170900Z
DTSTART;TZID=America/New_York:20260515T183000
DURATION:PT1H0M0S
SUMMARY:FS229604 vs. MV039601
DESCRIPTION:U10a - Lorain County Soccer League
LOCATION:FS6 U9/10
CATEGORIES:QuickScores, Soccer - Youth Game
TRANSP:OPAQUE
BEGIN:VALARM
TRIGGER:-PT2H
ACTION:DISPLAY
DESCRIPTION:FS229604 vs. MV039601
END:VALARM
END:VEVENT
BEGIN:VEVENT
UID:loraincountysoccer-73880158-20260516T124500@quickscores.com
DTSTAMP:20260421T170900Z
DTSTART;TZID=America/New_York:20260516T124500
DURATION:PT1H0M0S
SUMMARY:EL317806 vs. AM286300
DESCRIPTION:U10a - Lorain County Soccer League
LOCATION:EF 5
CATEGORIES:QuickScores, Soccer - Youth Game
TRANSP:OPAQUE
BEGIN:VALARM
TRIGGER:-PT2H
ACTION:DISPLAY
DESCRIPTION:EL317806 vs. AM286300
END:VALARM
END:VEVENT
BEGIN:VEVENT
UID:loraincountysoccer-73880160-20260516T124500@quickscores.com
DTSTAMP:20260421T170900Z
DTSTART;TZID=America/New_York:20260516T124500
DURATION:PT1H0M0S
SUMMARY:MV039606 vs. WE287000
DESCRIPTION:U10a - Lorain County Soccer League
LOCATION:MV A
CATEGORIES:QuickScores, Soccer - Youth Game
TRANSP:OPAQUE
BEGIN:VALARM
TRIGGER:-PT2H
ACTION:DISPLAY
DESCRIPTION:MV039606 vs. WE287000
END:VALARM
END:VEVENT
BEGIN:VEVENT
UID:loraincountysoccer-73880159-20260516T140000@quickscores.com
DTSTAMP:20260421T170900Z
DTSTART;TZID=America/New_York:20260516T140000
DURATION:PT1H0M0S
SUMMARY:FS229604 vs. VR533806
DESCRIPTION:U10a - Lorain County Soccer League
LOCATION:FS6 U9/10
CATEGORIES:QuickScores, Soccer - Youth Game
TRANSP:OPAQUE
BEGIN:VALARM
TRIGGER:-PT2H
ACTION:DISPLAY
DESCRIPTION:FS229604 vs. VR533806
END:VALARM
END:VEVENT
BEGIN:VEVENT
UID:loraincountysoccer-73880163-20260520T181500@quickscores.com
DTSTAMP:20260421T170900Z
DTSTART;TZID=America/New_York:20260520T181500
DURATION:PT1H0M0S
SUMMARY:OB343000 vs. AM286300
DESCRIPTION:U10a - Lorain County Soccer League
LOCATION:OB 2
CATEGORIES:QuickScores, Soccer - Youth Game
TRANSP:OPAQUE
BEGIN:VALARM
TRIGGER:-PT2H
ACTION:DISPLAY
DESCRIPTION:OB343000 vs. AM286300
END:VALARM
END:VEVENT
BEGIN:VEVENT
UID:loraincountysoccer-73880162-20260520T183000@quickscores.com
DTSTAMP:20260421T170900Z
DTSTART;TZID=America/New_York:20260520T183000
DURATION:PT1H0M0S
SUMMARY:FS229602 vs. MV039601
DESCRIPTION:U10a - Lorain County Soccer League
LOCATION:FS6 U9/10
CATEGORIES:QuickScores, Soccer - Youth Game
TRANSP:OPAQUE
BEGIN:VALARM
TRIGGER:-PT2H
ACTION:DISPLAY
DESCRIPTION:FS229602 vs. MV039601
END:VALARM
END:VEVENT
BEGIN:VEVENT
UID:loraincountysoccer-73880175-20260521T181500@quickscores.com
DTSTAMP:20260421T170900Z
DTSTART;TZID=America/New_York:20260521T181500
DURATION:PT1H0M0S
SUMMARY:EL317806 vs. FS229604
DESCRIPTION:U10a - Lorain County Soccer League
LOCATION:EF 5
CATEGORIES:QuickScores, Soccer - Youth Game
TRANSP:OPAQUE
BEGIN:VALARM
TRIGGER:-PT2H
ACTION:DISPLAY
DESCRIPTION:EL317806 vs. FS229604
END:VALARM
END:VEVENT
BEGIN:VEVENT
UID:loraincountysoccer-73880161-20260522T183000@quickscores.com
DTSTAMP:20260421T170900Z
DTSTART;TZID=America/New_York:20260522T183000
DURATION:PT1H0M0S
SUMMARY:LO330602 vs. OB343000
DESCRIPTION:U10a - Lorain County Soccer League
LOCATION:LO2
CATEGORIES:QuickScores, Soccer - Youth Game
TRANSP:OPAQUE
BEGIN:VALARM
TRIGGER:-PT2H
ACTION:DISPLAY
DESCRIPTION:LO330602 vs. OB343000
END:VALARM
END:VEVENT
BEGIN:VEVENT
UID:loraincountysoccer-73880168-20260523T124500@quickscores.com
DTSTAMP:20260421T170900Z
DTSTART;TZID=America/New_York:20260523T124500
DURATION:PT1H0M0S
SUMMARY:MV039606 vs. LO330602
DESCRIPTION:U10a - Lorain County Soccer League
LOCATION:MV A
CATEGORIES:QuickScores, Soccer - Youth Game
TRANSP:OPAQUE
BEGIN:VALARM
TRIGGER:-PT2H
ACTION:DISPLAY
DESCRIPTION:MV039606 vs. LO330602
END:VALARM
END:VEVENT
BEGIN:VEVENT
UID:loraincountysoccer-73880164-20260523T124500@quickscores.com
DTSTAMP:20260421T170900Z
DTSTART;TZID=America/New_York:20260523T124500
DURATION:PT1H0M0S
SUMMARY:AM286300 vs. WE287000
DESCRIPTION:U10a - Lorain County Soccer League
LOCATION:AM 4
CATEGORIES:QuickScores, Soccer - Youth Game
TRANSP:OPAQUE
BEGIN:VALARM
TRIGGER:-PT2H
ACTION:DISPLAY
DESCRIPTION:AM286300 vs. WE287000
END:VALARM
END:VEVENT
BEGIN:VEVENT
UID:loraincountysoccer-73880166-20260523T124500@quickscores.com
DTSTAMP:20260421T170900Z
DTSTART;TZID=America/New_York:20260523T124500
DURATION:PT1H0M0S
SUMMARY:EL317806 vs. FS229602
DESCRIPTION:U10a - Lorain County Soccer League
LOCATION:EF 5
CATEGORIES:QuickScores, Soccer - Youth Game
TRANSP:OPAQUE
BEGIN:VALARM
TRIGGER:-PT2H
ACTION:DISPLAY
DESCRIPTION:EL317806 vs. FS229602
END:VALARM
END:VEVENT
BEGIN:VEVENT
UID:loraincountysoccer-73880157-20260527T180000@quickscores.com
DTSTAMP:20260421T170900Z
DTSTART;TZID=America/New_York:20260527T180000
DURATION:PT1H0M0S
SUMMARY:FS229604 vs. FS229602
DESCRIPTION:U10a - Lorain County Soccer League
LOCATION:FS6 U9/10
CATEGORIES:QuickScores, Soccer - Youth Game
TRANSP:OPAQUE
BEGIN:VALARM
TRIGGER:-PT2H
ACTION:DISPLAY
DESCRIPTION:FS229604 vs. FS229602
END:VALARM
END:VEVENT
BEGIN:VEVENT
UID:loraincountysoccer-73880148-20260527T183000@quickscores.com
DTSTAMP:20260421T170900Z
DTSTART;TZID=America/New_York:20260527T183000
DURATION:PT1H0M0S
SUMMARY:MV039601 vs. OB343000
DESCRIPTION:U10a - Lorain County Soccer League
LOCATION:MV B
CATEGORIES:QuickScores, Soccer - Youth Game
TRANSP:OPAQUE
BEGIN:VALARM
TRIGGER:-PT2H
ACTION:DISPLAY
DESCRIPTION:MV039601 vs. OB343000
END:VALARM
END:VEVENT
BEGIN:VEVENT
UID:loraincountysoccer-73880176-20260529T181500@quickscores.com
DTSTAMP:20260421T170900Z
DTSTART;TZID=America/New_York:20260529T181500
DURATION:PT1H0M0S
SUMMARY:AM286300 vs. LO330602
DESCRIPTION:U10a - Lorain County Soccer League
LOCATION:AM 4
CATEGORIES:QuickScores, Soccer - Youth Game
TRANSP:OPAQUE
BEGIN:VALARM
TRIGGER:-PT2H
ACTION:DISPLAY
DESCRIPTION:AM286300 vs. LO330602
END:VALARM
END:VEVENT
BEGIN:VEVENT
UID:loraincountysoccer-73880173-20260530T124500@quickscores.com
DTSTAMP:20260421T170900Z
DTSTART;TZID=America/New_York:20260530T124500
DURATION:PT1H0M0S
SUMMARY:MV039601 vs. WE287000
DESCRIPTION:U10a - Lorain County Soccer League
LOCATION:MV B
CATEGORIES:QuickScores, Soccer - Youth Game
TRANSP:OPAQUE
BEGIN:VALARM
TRIGGER:-PT2H
ACTION:DISPLAY
DESCRIPTION:MV039601 vs. WE287000
END:VALARM
END:VEVENT
BEGIN:VEVENT
UID:loraincountysoccer-73880172-20260530T124500@quickscores.com
DTSTAMP:20260421T170900Z
DTSTART;TZID=America/New_York:20260530T124500
DURATION:PT1H0M0S
SUMMARY:LO330602 vs. VR533806
DESCRIPTION:U10a - Lorain County Soccer League
LOCATION:LO2
CATEGORIES:QuickScores, Soccer - Youth Game
TRANSP:OPAQUE
BEGIN:VALARM
TRIGGER:-PT2H
ACTION:DISPLAY
DESCRIPTION:LO330602 vs. VR533806
END:VALARM
END:VEVENT
BEGIN:VEVENT
UID:loraincountysoccer-73880171-20260530T124500@quickscores.com
DTSTAMP:20260421T170900Z
DTSTART;TZID=America/New_York:20260530T124500
DURATION:PT1H0M0S
SUMMARY:MV039606 vs. EL317806
DESCRIPTION:U10a - Lorain County Soccer League
LOCATION:MV A
CATEGORIES:QuickScores, Soccer - Youth Game
TRANSP:OPAQUE
BEGIN:VALARM
TRIGGER:-PT2H
ACTION:DISPLAY
DESCRIPTION:MV039606 vs. EL317806
END:VALARM
END:VEVENT
BEGIN:VEVENT
UID:loraincountysoccer-73880170-20260530T124500@quickscores.com
DTSTAMP:20260421T170900Z
DTSTART;TZID=America/New_York:20260530T124500
DURATION:PT1H0M0S
SUMMARY:AM286300 vs. FS229604
DESCRIPTION:U10a - Lorain County Soccer League
LOCATION:AM 4
CATEGORIES:QuickScores, Soccer - Youth Game
TRANSP:OPAQUE
BEGIN:VALARM
TRIGGER:-PT2H
ACTION:DISPLAY
DESCRIPTION:AM286300 vs. FS229604
END:VALARM
END:VEVENT
BEGIN:VEVENT
UID:loraincountysoccer-73880174-20260603T183000@quickscores.com
DTSTAMP:20260421T170900Z
DTSTART;TZID=America/New_York:20260603T183000
DURATION:PT1H0M0S
SUMMARY:FS229602 vs. OB343000
DESCRIPTION:U10a - Lorain County Soccer League
LOCATION:FS6 U9/10
CATEGORIES:QuickScores, Soccer - Youth Game
TRANSP:OPAQUE
BEGIN:VALARM
TRIGGER:-PT2H
ACTION:DISPLAY
DESCRIPTION:FS229602 vs. OB343000
END:VALARM
END:VEVENT
BEGIN:VEVENT
UID:loraincountysoccer-73880177-20260606T124500@quickscores.com
DTSTAMP:20260421T170900Z
DTSTART;TZID=America/New_York:20260606T124500
DURATION:PT1H0M0S
SUMMARY:OB343000 vs. EL317806
DESCRIPTION:U10a - Lorain County Soccer League
LOCATION:OB 2
CATEGORIES:QuickScores, Soccer - Youth Game
TRANSP:OPAQUE
BEGIN:VALARM
TRIGGER:-PT2H
ACTION:DISPLAY
DESCRIPTION:OB343000 vs. EL317806
END:VALARM
END:VEVENT
BEGIN:VEVENT
UID:loraincountysoccer-73880178-20260606T124500@quickscores.com
DTSTAMP:20260421T170900Z
DTSTART;TZID=America/New_York:20260606T124500
DURATION:PT1H0M0S
SUMMARY:WE287000 vs. VR533806
DESCRIPTION:U10a - Lorain County Soccer League
LOCATION:WE 3
CATEGORIES:QuickScores, Soccer - Youth Game
TRANSP:OPAQUE
BEGIN:VALARM
TRIGGER:-PT2H
ACTION:DISPLAY
DESCRIPTION:WE287000 vs. VR533806
END:VALARM
END:VEVENT
BEGIN:VEVENT
UID:loraincountysoccer-73880179-20260606T124500@quickscores.com
DTSTAMP:20260421T170900Z
DTSTART;TZID=America/New_York:20260606T124500
DURATION:PT1H0M0S
SUMMARY:MV039601 vs. MV039606
DESCRIPTION:U10a - Lorain County Soccer League
LOCATION:MV B
CATEGORIES:QuickScores, Soccer - Youth Game
TRANSP:OPAQUE
BEGIN:VALARM
TRIGGER:-PT2H
ACTION:DISPLAY
DESCRIPTION:MV039601 vs. MV039606
END:VALARM
END:VEVENT
END:VCALENDAR
