BEGIN:VCALENDAR
VERSION:2.0
PRODID:-//QuickScores.com//BQ Dynamic iCal Creator//EN
METHOD:PUBLISH
X-WR-CALNAME:Lower Bracket - Winter 2025-2026
X-WR-CALDESC:QuickScores game calendar
X-PUBLISHED-TTL:PT24H
REFRESH-INTERVAL;VALUE=DURATION:PT24H
CALSCALE:GREGORIAN
BEGIN:VTIMEZONE
TZID:America/Denver
X-LIC-LOCATION:America/Denver
BEGIN:DAYLIGHT
TZNAME:MDT
TZOFFSETFROM:-0700
TZOFFSETTO:-0600
DTSTART:19700308T020000
RRULE:FREQ=YEARLY;BYMONTH=3;BYDAY=2SU
END:DAYLIGHT
BEGIN:STANDARD
TZNAME:MST
TZOFFSETFROM:-0600
TZOFFSETTO:-0700
DTSTART:19701101T020000
RRULE:FREQ=YEARLY;BYMONTH=11;BYDAY=1SU
END:STANDARD
END:VTIMEZONE
BEGIN:VEVENT
UID:draper-73116728-20260219T200000@quickscores.com
DTSTAMP:20260420T221800Z
DTSTART;TZID=America/Denver:20260219T200000
DURATION:PT1H0M0S
SUMMARY:[18] Tim Pugh vs. [19] Brandon Myers
DESCRIPTION:Lower Bracket - Draper City UT Parks and Recreation
LOCATION:DPMS East (HS Basketball)
CATEGORIES:QuickScores, Basketball - Youth Game
TRANSP:OPAQUE
BEGIN:VALARM
TRIGGER:-PT2H
ACTION:DISPLAY
DESCRIPTION:[18] Tim Pugh vs. [19] Brandon Myers
END:VALARM
END:VEVENT
BEGIN:VEVENT
UID:draper-73116732-20260219T200000@quickscores.com
DTSTAMP:20260420T221800Z
DTSTART;TZID=America/Denver:20260219T200000
DURATION:PT1H0M0S
SUMMARY:[17] Steve Sugiyama vs. [20] Tyler Free
DESCRIPTION:Lower Bracket - Draper City UT Parks and Recreation
LOCATION:DPMS West (HS Basketball)
CATEGORIES:QuickScores, Basketball - Youth Game
TRANSP:OPAQUE
BEGIN:VALARM
TRIGGER:-PT2H
ACTION:DISPLAY
DESCRIPTION:[17] Steve Sugiyama vs. [20] Tyler Free
END:VALARM
END:VEVENT
BEGIN:VEVENT
UID:draper-73116734-20260219T210000@quickscores.com
DTSTAMP:20260420T221800Z
DTSTART;TZID=America/Denver:20260219T210000
DURATION:PT1H0M0S
SUMMARY:[16] Callie Mickelson vs. [21] Eric Kjar
DESCRIPTION:Lower Bracket - Draper City UT Parks and Recreation
CATEGORIES:QuickScores, Basketball - Youth Game
TRANSP:OPAQUE
BEGIN:VALARM
TRIGGER:-PT2H
ACTION:DISPLAY
DESCRIPTION:[16] Callie Mickelson vs. [21] Eric Kjar
END:VALARM
END:VEVENT
BEGIN:VEVENT
UID:draper-73116735-20260226T170000@quickscores.com
DTSTAMP:20260420T221800Z
DTSTART;TZID=America/Denver:20260226T170000
DURATION:PT1H0M0S
SUMMARY:[11] Ron Hankins vs. [19] Brandon Myers
DESCRIPTION:Lower Bracket - Draper City UT Parks and Recreation
LOCATION:DPMS East (HS Basketball)
CATEGORIES:QuickScores, Basketball - Youth Game
TRANSP:OPAQUE
BEGIN:VALARM
TRIGGER:-PT2H
ACTION:DISPLAY
DESCRIPTION:[11] Ron Hankins vs. [19] Brandon Myers
END:VALARM
END:VEVENT
BEGIN:VEVENT
UID:draper-73116736-20260226T170000@quickscores.com
DTSTAMP:20260420T221800Z
DTSTART;TZID=America/Denver:20260226T170000
DURATION:PT1H0M0S
SUMMARY:[14] Adam Ware vs. [15] Jackson Brown
DESCRIPTION:Lower Bracket - Draper City UT Parks and Recreation
LOCATION:DPMS West (HS Basketball)
CATEGORIES:QuickScores, Basketball - Youth Game
TRANSP:OPAQUE
BEGIN:VALARM
TRIGGER:-PT2H
ACTION:DISPLAY
DESCRIPTION:[14] Adam Ware vs. [15] Jackson Brown
END:VALARM
END:VEVENT
BEGIN:VEVENT
UID:draper-73116738-20260226T180000@quickscores.com
DTSTAMP:20260420T221800Z
DTSTART;TZID=America/Denver:20260226T180000
DURATION:PT1H0M0S
SUMMARY:[13] Trace Griffths vs. [16] Callie Mickelson
DESCRIPTION:Lower Bracket - Draper City UT Parks and Recreation
LOCATION:DPMS West (HS Basketball)
CATEGORIES:QuickScores, Basketball - Youth Game
TRANSP:OPAQUE
BEGIN:VALARM
TRIGGER:-PT2H
ACTION:DISPLAY
DESCRIPTION:[13] Trace Griffths vs. [16] Callie Mickelson
END:VALARM
END:VEVENT
BEGIN:VEVENT
UID:draper-73116737-20260226T180000@quickscores.com
DTSTAMP:20260420T221800Z
DTSTART;TZID=America/Denver:20260226T180000
DURATION:PT1H0M0S
SUMMARY:[12] Jacob Brinton vs. [17] Steve Sugiyama
DESCRIPTION:Lower Bracket - Draper City UT Parks and Recreation
LOCATION:DPMS East (HS Basketball)
CATEGORIES:QuickScores, Basketball - Youth Game
TRANSP:OPAQUE
BEGIN:VALARM
TRIGGER:-PT2H
ACTION:DISPLAY
DESCRIPTION:[12] Jacob Brinton vs. [17] Steve Sugiyama
END:VALARM
END:VEVENT
BEGIN:VEVENT
UID:draper-73116739-20260226T190000@quickscores.com
DTSTAMP:20260420T221800Z
DTSTART;TZID=America/Denver:20260226T190000
DURATION:PT1H0M0S
SUMMARY:[11] Ron Hankins vs. [14] Adam Ware
DESCRIPTION:Lower Bracket - Draper City UT Parks and Recreation
LOCATION:DPMS West (HS Basketball)
CATEGORIES:QuickScores, Basketball - Youth Game
TRANSP:OPAQUE
BEGIN:VALARM
TRIGGER:-PT2H
ACTION:DISPLAY
DESCRIPTION:[11] Ron Hankins vs. [14] Adam Ware
END:VALARM
END:VEVENT
BEGIN:VEVENT
UID:draper-73116740-20260226T200000@quickscores.com
DTSTAMP:20260420T221800Z
DTSTART;TZID=America/Denver:20260226T200000
DURATION:PT1H0M0S
SUMMARY:[12] Jacob Brinton vs. [13] Trace Griffths
DESCRIPTION:Lower Bracket - Draper City UT Parks and Recreation
LOCATION:DPMS West (HS Basketball)
CATEGORIES:QuickScores, Basketball - Youth Game
TRANSP:OPAQUE
BEGIN:VALARM
TRIGGER:-PT2H
ACTION:DISPLAY
DESCRIPTION:[12] Jacob Brinton vs. [13] Trace Griffths
END:VALARM
END:VEVENT
BEGIN:VEVENT
UID:draper-73116741-20260305T180000@quickscores.com
DTSTAMP:20260420T221800Z
DTSTART;TZID=America/Denver:20260305T180000
DURATION:PT1H0M0S
SUMMARY:[14] Adam Ware vs. [13] Trace Griffths
DESCRIPTION:Lower Bracket - Draper City UT Parks and Recreation
LOCATION:DPMS East (HS Basketball)
CATEGORIES:QuickScores, Basketball - Youth Game
TRANSP:OPAQUE
BEGIN:VALARM
TRIGGER:-PT2H
ACTION:DISPLAY
DESCRIPTION:[14] Adam Ware vs. [13] Trace Griffths
END:VALARM
END:VEVENT
END:VCALENDAR
