BEGIN:VCALENDAR
VERSION:2.0
PRODID:-//QuickScores.com//BQ Dynamic iCal Creator//EN
METHOD:PUBLISH
X-WR-CALNAME:Upper Bracket - Winter 2025-2026
X-WR-CALDESC:QuickScores game calendar
X-PUBLISHED-TTL:PT24H
REFRESH-INTERVAL;VALUE=DURATION:PT24H
CALSCALE:GREGORIAN
BEGIN:VTIMEZONE
TZID:America/Denver
X-LIC-LOCATION:America/Denver
BEGIN:DAYLIGHT
TZNAME:MDT
TZOFFSETFROM:-0700
TZOFFSETTO:-0600
DTSTART:19700308T020000
RRULE:FREQ=YEARLY;BYMONTH=3;BYDAY=2SU
END:DAYLIGHT
BEGIN:STANDARD
TZNAME:MST
TZOFFSETFROM:-0600
TZOFFSETTO:-0700
DTSTART:19701101T020000
RRULE:FREQ=YEARLY;BYMONTH=11;BYDAY=1SU
END:STANDARD
END:VTIMEZONE
BEGIN:VEVENT
UID:draper-73116576-20260219T170000@quickscores.com
DTSTAMP:20260425T070600Z
DTSTART;TZID=America/Denver:20260219T170000
DURATION:PT1H0M0S
SUMMARY:[8] Jeff Richards vs. [9] Curtis Borg
DESCRIPTION:Upper Bracket - Draper City UT Parks and Recreation
LOCATION:DPMS East (HS Basketball)
CATEGORIES:QuickScores, Basketball - Youth Game
TRANSP:OPAQUE
BEGIN:VALARM
TRIGGER:-PT2H
ACTION:DISPLAY
DESCRIPTION:[8] Jeff Richards vs. [9] Curtis Borg
END:VALARM
END:VEVENT
BEGIN:VEVENT
UID:draper-73116580-20260219T170000@quickscores.com
DTSTAMP:20260425T070600Z
DTSTART;TZID=America/Denver:20260219T170000
DURATION:PT1H0M0S
SUMMARY:[7] Mark Walker vs. [10] Scott Neal
DESCRIPTION:Upper Bracket - Draper City UT Parks and Recreation
LOCATION:DPMS West (HS Basketball)
CATEGORIES:QuickScores, Basketball - Youth Game
TRANSP:OPAQUE
BEGIN:VALARM
TRIGGER:-PT2H
ACTION:DISPLAY
DESCRIPTION:[7] Mark Walker vs. [10] Scott Neal
END:VALARM
END:VEVENT
BEGIN:VEVENT
UID:draper-73116584-20260219T180000@quickscores.com
DTSTAMP:20260425T070600Z
DTSTART;TZID=America/Denver:20260219T180000
DURATION:PT1H0M0S
SUMMARY:[4] Jason Tenney vs. [5] Jared Adamson
DESCRIPTION:Upper Bracket - Draper City UT Parks and Recreation
LOCATION:DPMS East (HS Basketball)
CATEGORIES:QuickScores, Basketball - Youth Game
TRANSP:OPAQUE
BEGIN:VALARM
TRIGGER:-PT2H
ACTION:DISPLAY
DESCRIPTION:[4] Jason Tenney vs. [5] Jared Adamson
END:VALARM
END:VEVENT
BEGIN:VEVENT
UID:draper-73116586-20260219T180000@quickscores.com
DTSTAMP:20260425T070600Z
DTSTART;TZID=America/Denver:20260219T180000
DURATION:PT1H0M0S
SUMMARY:[3] Chris Pizza vs. [6] Jake Kessler
DESCRIPTION:Upper Bracket - Draper City UT Parks and Recreation
LOCATION:DPMS West (HS Basketball)
CATEGORIES:QuickScores, Basketball - Youth Game
TRANSP:OPAQUE
BEGIN:VALARM
TRIGGER:-PT2H
ACTION:DISPLAY
DESCRIPTION:[3] Chris Pizza vs. [6] Jake Kessler
END:VALARM
END:VEVENT
BEGIN:VEVENT
UID:draper-73116583-20260219T190000@quickscores.com
DTSTAMP:20260425T070600Z
DTSTART;TZID=America/Denver:20260219T190000
DURATION:PT1H0M0S
SUMMARY:[1] Barry Gates vs. [9] Curtis Borg
DESCRIPTION:Upper Bracket - Draper City UT Parks and Recreation
LOCATION:DPMS East (HS Basketball)
CATEGORIES:QuickScores, Basketball - Youth Game
TRANSP:OPAQUE
BEGIN:VALARM
TRIGGER:-PT2H
ACTION:DISPLAY
DESCRIPTION:[1] Barry Gates vs. [9] Curtis Borg
END:VALARM
END:VEVENT
BEGIN:VEVENT
UID:draper-73116585-20260219T190000@quickscores.com
DTSTAMP:20260425T070600Z
DTSTART;TZID=America/Denver:20260219T190000
DURATION:PT1H0M0S
SUMMARY:[2] Chad Thorell vs. [10] Scott Neal
DESCRIPTION:Upper Bracket - Draper City UT Parks and Recreation
LOCATION:DPMS West (HS Basketball)
CATEGORIES:QuickScores, Basketball - Youth Game
TRANSP:OPAQUE
BEGIN:VALARM
TRIGGER:-PT2H
ACTION:DISPLAY
DESCRIPTION:[2] Chad Thorell vs. [10] Scott Neal
END:VALARM
END:VEVENT
BEGIN:VEVENT
UID:draper-73116588-20260226T190000@quickscores.com
DTSTAMP:20260425T070600Z
DTSTART;TZID=America/Denver:20260226T190000
DURATION:PT1H0M0S
SUMMARY:[10] Scott Neal vs. [3] Chris Pizza
DESCRIPTION:Upper Bracket - Draper City UT Parks and Recreation
LOCATION:DPMS East (HS Basketball)
CATEGORIES:QuickScores, Basketball - Youth Game
TRANSP:OPAQUE
BEGIN:VALARM
TRIGGER:-PT2H
ACTION:DISPLAY
DESCRIPTION:[10] Scott Neal vs. [3] Chris Pizza
END:VALARM
END:VEVENT
BEGIN:VEVENT
UID:draper-73116587-20260226T200000@quickscores.com
DTSTAMP:20260425T070600Z
DTSTART;TZID=America/Denver:20260226T200000
DURATION:PT1H0M0S
SUMMARY:[1] Barry Gates vs. [5] Jared Adamson
DESCRIPTION:Upper Bracket - Draper City UT Parks and Recreation
LOCATION:DPMS East (HS Basketball)
CATEGORIES:QuickScores, Basketball - Youth Game
TRANSP:OPAQUE
BEGIN:VALARM
TRIGGER:-PT2H
ACTION:DISPLAY
DESCRIPTION:[1] Barry Gates vs. [5] Jared Adamson
END:VALARM
END:VEVENT
BEGIN:VEVENT
UID:draper-73116589-20260305T190000@quickscores.com
DTSTAMP:20260425T070600Z
DTSTART;TZID=America/Denver:20260305T190000
DURATION:PT1H0M0S
SUMMARY:[1] Barry Gates vs. [3] Chris Pizza
DESCRIPTION:Upper Bracket - Draper City UT Parks and Recreation
LOCATION:DPMS East (HS Basketball)
CATEGORIES:QuickScores, Basketball - Youth Game
TRANSP:OPAQUE
BEGIN:VALARM
TRIGGER:-PT2H
ACTION:DISPLAY
DESCRIPTION:[1] Barry Gates vs. [3] Chris Pizza
END:VALARM
END:VEVENT
END:VCALENDAR
