BEGIN:VCALENDAR
VERSION:2.0
PRODID:-//QuickScores.com//BQ Dynamic iCal Creator//EN
METHOD:PUBLISH
X-WR-CALNAME:5th/6th Grade Co-ed Soccer (tues/thurs) - Spring 2026
X-WR-CALDESC:QuickScores game calendar
X-PUBLISHED-TTL:PT24H
REFRESH-INTERVAL;VALUE=DURATION:PT24H
CALSCALE:GREGORIAN
BEGIN:VTIMEZONE
TZID:America/Denver
X-LIC-LOCATION:America/Denver
BEGIN:DAYLIGHT
TZNAME:MDT
TZOFFSETFROM:-0700
TZOFFSETTO:-0600
DTSTART:19700308T020000
RRULE:FREQ=YEARLY;BYMONTH=3;BYDAY=2SU
END:DAYLIGHT
BEGIN:STANDARD
TZNAME:MST
TZOFFSETFROM:-0600
TZOFFSETTO:-0700
DTSTART:19701101T020000
RRULE:FREQ=YEARLY;BYMONTH=11;BYDAY=1SU
END:STANDARD
END:VTIMEZONE
BEGIN:VEVENT
UID:clintoncity-73239040-20260317T170000@quickscores.com
DTSTAMP:20260424T024900Z
DTSTART;TZID=America/Denver:20260317T170000
DURATION:PT1H0M0S
SUMMARY:Practice: Bateman vs. Bedell
DESCRIPTION:PRACTICE NUMBER 1 --- 5th/6th Grade Co-ed Soccer (tues/thurs) - Clinton City Parks & Recreation
LOCATION:Civic Center Park - West Field
CATEGORIES:QuickScores, Soccer - Youth Game
TRANSP:OPAQUE
BEGIN:VALARM
TRIGGER:-PT2H
ACTION:DISPLAY
DESCRIPTION:Practice: Bateman vs. Bedell
END:VALARM
END:VEVENT
BEGIN:VEVENT
UID:clintoncity-73239039-20260317T180000@quickscores.com
DTSTAMP:20260424T024900Z
DTSTART;TZID=America/Denver:20260317T180000
DURATION:PT1H0M0S
SUMMARY:Practice: Flores, Seeds vs. Berardi
DESCRIPTION:PRACTICE NUMBER 1 --- 5th/6th Grade Co-ed Soccer (tues/thurs) - Clinton City Parks & Recreation
LOCATION:Civic Center Park - West Field
CATEGORIES:QuickScores, Soccer - Youth Game
TRANSP:OPAQUE
BEGIN:VALARM
TRIGGER:-PT2H
ACTION:DISPLAY
DESCRIPTION:Practice: Flores, Seeds vs. Berardi
END:VALARM
END:VEVENT
BEGIN:VEVENT
UID:clintoncity-73239041-20260317T190000@quickscores.com
DTSTAMP:20260424T024900Z
DTSTART;TZID=America/Denver:20260317T190000
DURATION:PT1H0M0S
SUMMARY:Practice: Simmons vs. Hill
DESCRIPTION:PRACTICE NUMBER 1 --- 5th/6th Grade Co-ed Soccer (tues/thurs) - Clinton City Parks & Recreation
LOCATION:Civic Center Park - West Field
CATEGORIES:QuickScores, Soccer - Youth Game
TRANSP:OPAQUE
BEGIN:VALARM
TRIGGER:-PT2H
ACTION:DISPLAY
DESCRIPTION:Practice: Simmons vs. Hill
END:VALARM
END:VEVENT
BEGIN:VEVENT
UID:clintoncity-73239038-20260319T170000@quickscores.com
DTSTAMP:20260424T024900Z
DTSTART;TZID=America/Denver:20260319T170000
DURATION:PT1H0M0S
SUMMARY:Practice: Hill vs. Bedell
DESCRIPTION:PRACTICE NUMBER 2 --- 5th/6th Grade Co-ed Soccer (tues/thurs) - Clinton City Parks & Recreation
LOCATION:Civic Center Park - West Field
CATEGORIES:QuickScores, Soccer - Youth Game
TRANSP:OPAQUE
BEGIN:VALARM
TRIGGER:-PT2H
ACTION:DISPLAY
DESCRIPTION:Practice: Hill vs. Bedell
END:VALARM
END:VEVENT
BEGIN:VEVENT
UID:clintoncity-73239036-20260319T180000@quickscores.com
DTSTAMP:20260424T024900Z
DTSTART;TZID=America/Denver:20260319T180000
DURATION:PT1H0M0S
SUMMARY:Practice: Bateman vs. Simmons
DESCRIPTION:PRACTICE NUMBER 2 --- 5th/6th Grade Co-ed Soccer (tues/thurs) - Clinton City Parks & Recreation
LOCATION:Civic Center Park - West Field
CATEGORIES:QuickScores, Soccer - Youth Game
TRANSP:OPAQUE
BEGIN:VALARM
TRIGGER:-PT2H
ACTION:DISPLAY
DESCRIPTION:Practice: Bateman vs. Simmons
END:VALARM
END:VEVENT
BEGIN:VEVENT
UID:clintoncity-73239037-20260319T190000@quickscores.com
DTSTAMP:20260424T024900Z
DTSTART;TZID=America/Denver:20260319T190000
DURATION:PT1H0M0S
SUMMARY:Practice: Berardi vs. Flores, Seeds
DESCRIPTION:PRACTICE NUMBER 2 --- 5th/6th Grade Co-ed Soccer (tues/thurs) - Clinton City Parks & Recreation
LOCATION:Civic Center Park - West Field
CATEGORIES:QuickScores, Soccer - Youth Game
TRANSP:OPAQUE
BEGIN:VALARM
TRIGGER:-PT2H
ACTION:DISPLAY
DESCRIPTION:Practice: Berardi vs. Flores, Seeds
END:VALARM
END:VEVENT
BEGIN:VEVENT
UID:clintoncity-73239223-20260324T170000@quickscores.com
DTSTAMP:20260424T024900Z
DTSTART;TZID=America/Denver:20260324T170000
DURATION:PT1H0M0S
SUMMARY:Berardi vs. Flores, Seeds
DESCRIPTION:GAME NUMBER 1 & PICTURE DAY Home Listed First Wears Red Away Listed Second Wears White --- 5th/6th Grade Co-ed Soccer (tues/thurs) - Clinton City Parks & Recreation
LOCATION:Civic Center Park - West Field
CATEGORIES:QuickScores, Soccer - Youth Game
TRANSP:OPAQUE
BEGIN:VALARM
TRIGGER:-PT2H
ACTION:DISPLAY
DESCRIPTION:Berardi vs. Flores, Seeds
END:VALARM
END:VEVENT
BEGIN:VEVENT
UID:clintoncity-73239222-20260324T180000@quickscores.com
DTSTAMP:20260424T024900Z
DTSTART;TZID=America/Denver:20260324T180000
DURATION:PT1H0M0S
SUMMARY:Bedell vs. Hill
DESCRIPTION:GAME NUMBER 1 & PICTURE DAY Home Listed First Wears Red Away Listed Second Wears White --- 5th/6th Grade Co-ed Soccer (tues/thurs) - Clinton City Parks & Recreation
LOCATION:Civic Center Park - West Field
CATEGORIES:QuickScores, Soccer - Youth Game
TRANSP:OPAQUE
BEGIN:VALARM
TRIGGER:-PT2H
ACTION:DISPLAY
DESCRIPTION:Bedell vs. Hill
END:VALARM
END:VEVENT
BEGIN:VEVENT
UID:clintoncity-73239221-20260324T190000@quickscores.com
DTSTAMP:20260424T024900Z
DTSTART;TZID=America/Denver:20260324T190000
DURATION:PT1H0M0S
SUMMARY:Simmons vs. Bateman
DESCRIPTION:GAME NUMBER 1 & PICTURE DAY Home Listed First Wears Red Away Listed Second Wears White --- 5th/6th Grade Co-ed Soccer (tues/thurs) - Clinton City Parks & Recreation
LOCATION:Civic Center Park - West Field
CATEGORIES:QuickScores, Soccer - Youth Game
TRANSP:OPAQUE
BEGIN:VALARM
TRIGGER:-PT2H
ACTION:DISPLAY
DESCRIPTION:Simmons vs. Bateman
END:VALARM
END:VEVENT
BEGIN:VEVENT
UID:clintoncity-73239225-20260326T170000@quickscores.com
DTSTAMP:20260424T024900Z
DTSTART;TZID=America/Denver:20260326T170000
DURATION:PT1H0M0S
SUMMARY:Berardi vs. Bateman
DESCRIPTION:GAME NUMBER 2 Home Listed First Wears Red Away Listed Second Wears White --- 5th/6th Grade Co-ed Soccer (tues/thurs) - Clinton City Parks & Recreation
LOCATION:Civic Center Park - West Field
CATEGORIES:QuickScores, Soccer - Youth Game
TRANSP:OPAQUE
BEGIN:VALARM
TRIGGER:-PT2H
ACTION:DISPLAY
DESCRIPTION:Berardi vs. Bateman
END:VALARM
END:VEVENT
BEGIN:VEVENT
UID:clintoncity-73239224-20260326T180000@quickscores.com
DTSTAMP:20260424T024900Z
DTSTART;TZID=America/Denver:20260326T180000
DURATION:PT1H0M0S
SUMMARY:Simmons vs. Bedell
DESCRIPTION:GAME NUMBER 2 Home Listed First Wears Red Away Listed Second Wears White --- 5th/6th Grade Co-ed Soccer (tues/thurs) - Clinton City Parks & Recreation
LOCATION:Civic Center Park - West Field
CATEGORIES:QuickScores, Soccer - Youth Game
TRANSP:OPAQUE
BEGIN:VALARM
TRIGGER:-PT2H
ACTION:DISPLAY
DESCRIPTION:Simmons vs. Bedell
END:VALARM
END:VEVENT
BEGIN:VEVENT
UID:clintoncity-73239226-20260326T190000@quickscores.com
DTSTAMP:20260424T024900Z
DTSTART;TZID=America/Denver:20260326T190000
DURATION:PT1H0M0S
SUMMARY:Flores, Seeds vs. Hill
DESCRIPTION:GAME NUMBER 2 Home Listed First Wears Red Away Listed Second Wears White --- 5th/6th Grade Co-ed Soccer (tues/thurs) - Clinton City Parks & Recreation
LOCATION:Civic Center Park - West Field
CATEGORIES:QuickScores, Soccer - Youth Game
TRANSP:OPAQUE
BEGIN:VALARM
TRIGGER:-PT2H
ACTION:DISPLAY
DESCRIPTION:Flores, Seeds vs. Hill
END:VALARM
END:VEVENT
BEGIN:VEVENT
UID:clintoncity-73239044-20260407T170000@quickscores.com
DTSTAMP:20260424T024900Z
DTSTART;TZID=America/Denver:20260407T170000
DURATION:PT1H0M0S
SUMMARY:Practice: Simmons vs. Bateman
DESCRIPTION:PRACTICE NUMBER 3 --- 5th/6th Grade Co-ed Soccer (tues/thurs) - Clinton City Parks & Recreation
LOCATION:Civic Center Park - West Field
CATEGORIES:QuickScores, Soccer - Youth Game
TRANSP:OPAQUE
BEGIN:VALARM
TRIGGER:-PT2H
ACTION:DISPLAY
DESCRIPTION:Practice: Simmons vs. Bateman
END:VALARM
END:VEVENT
BEGIN:VEVENT
UID:clintoncity-73239042-20260407T180000@quickscores.com
DTSTAMP:20260424T024900Z
DTSTART;TZID=America/Denver:20260407T180000
DURATION:PT1H0M0S
SUMMARY:Practice: Flores, Seeds vs. Bedell
DESCRIPTION:PRACTICE NUMBER 3 --- 5th/6th Grade Co-ed Soccer (tues/thurs) - Clinton City Parks & Recreation
LOCATION:Civic Center Park - West Field
CATEGORIES:QuickScores, Soccer - Youth Game
TRANSP:OPAQUE
BEGIN:VALARM
TRIGGER:-PT2H
ACTION:DISPLAY
DESCRIPTION:Practice: Flores, Seeds vs. Bedell
END:VALARM
END:VEVENT
BEGIN:VEVENT
UID:clintoncity-73239043-20260407T190000@quickscores.com
DTSTAMP:20260424T024900Z
DTSTART;TZID=America/Denver:20260407T190000
DURATION:PT1H0M0S
SUMMARY:Practice: Berardi vs. Hill
DESCRIPTION:PRACTICE NUMBER 3 --- 5th/6th Grade Co-ed Soccer (tues/thurs) - Clinton City Parks & Recreation
LOCATION:Civic Center Park - West Field
CATEGORIES:QuickScores, Soccer - Youth Game
TRANSP:OPAQUE
BEGIN:VALARM
TRIGGER:-PT2H
ACTION:DISPLAY
DESCRIPTION:Practice: Berardi vs. Hill
END:VALARM
END:VEVENT
BEGIN:VEVENT
UID:clintoncity-73239229-20260409T170000@quickscores.com
DTSTAMP:20260424T024900Z
DTSTART;TZID=America/Denver:20260409T170000
DURATION:PT1H0M0S
SUMMARY:Bedell vs. Berardi
DESCRIPTION:GAME NUMBER 3 Home Listed First Wears Red Away Listed Second Wears White --- 5th/6th Grade Co-ed Soccer (tues/thurs) - Clinton City Parks & Recreation
LOCATION:Civic Center Park - West Field
CATEGORIES:QuickScores, Soccer - Youth Game
TRANSP:OPAQUE
BEGIN:VALARM
TRIGGER:-PT2H
ACTION:DISPLAY
DESCRIPTION:Bedell vs. Berardi
END:VALARM
END:VEVENT
BEGIN:VEVENT
UID:clintoncity-73239228-20260409T180000@quickscores.com
DTSTAMP:20260424T024900Z
DTSTART;TZID=America/Denver:20260409T180000
DURATION:PT1H0M0S
SUMMARY:Bateman vs. Flores, Seeds
DESCRIPTION:GAME NUMBER 3 Home Listed First Wears Red Away Listed Second Wears White --- 5th/6th Grade Co-ed Soccer (tues/thurs) - Clinton City Parks & Recreation
LOCATION:Civic Center Park - West Field
CATEGORIES:QuickScores, Soccer - Youth Game
TRANSP:OPAQUE
BEGIN:VALARM
TRIGGER:-PT2H
ACTION:DISPLAY
DESCRIPTION:Bateman vs. Flores, Seeds
END:VALARM
END:VEVENT
BEGIN:VEVENT
UID:clintoncity-73239227-20260409T190000@quickscores.com
DTSTAMP:20260424T024900Z
DTSTART;TZID=America/Denver:20260409T190000
DURATION:PT1H0M0S
SUMMARY:Simmons vs. Hill
DESCRIPTION:GAME NUMBER 3 Home Listed First Wears Red Away Listed Second Wears White --- 5th/6th Grade Co-ed Soccer (tues/thurs) - Clinton City Parks & Recreation
LOCATION:Civic Center Park - West Field
CATEGORIES:QuickScores, Soccer - Youth Game
TRANSP:OPAQUE
BEGIN:VALARM
TRIGGER:-PT2H
ACTION:DISPLAY
DESCRIPTION:Simmons vs. Hill
END:VALARM
END:VEVENT
BEGIN:VEVENT
UID:clintoncity-73239047-20260414T170000@quickscores.com
DTSTAMP:20260424T024900Z
DTSTART;TZID=America/Denver:20260414T170000
DURATION:PT1H0M0S
SUMMARY:Practice: Bedell vs. Berardi
DESCRIPTION:PRACTICE NUMBER 4 --- 5th/6th Grade Co-ed Soccer (tues/thurs) - Clinton City Parks & Recreation
LOCATION:Civic Center Park - West Field
CATEGORIES:QuickScores, Soccer - Youth Game
TRANSP:OPAQUE
BEGIN:VALARM
TRIGGER:-PT2H
ACTION:DISPLAY
DESCRIPTION:Practice: Bedell vs. Berardi
END:VALARM
END:VEVENT
BEGIN:VEVENT
UID:clintoncity-73239046-20260414T180000@quickscores.com
DTSTAMP:20260424T024900Z
DTSTART;TZID=America/Denver:20260414T180000
DURATION:PT1H0M0S
SUMMARY:Practice: Hill vs. Bateman
DESCRIPTION:PRACTICE NUMBER 4 --- 5th/6th Grade Co-ed Soccer (tues/thurs) - Clinton City Parks & Recreation
LOCATION:Civic Center Park - West Field
CATEGORIES:QuickScores, Soccer - Youth Game
TRANSP:OPAQUE
BEGIN:VALARM
TRIGGER:-PT2H
ACTION:DISPLAY
DESCRIPTION:Practice: Hill vs. Bateman
END:VALARM
END:VEVENT
BEGIN:VEVENT
UID:clintoncity-73239045-20260414T190000@quickscores.com
DTSTAMP:20260424T024900Z
DTSTART;TZID=America/Denver:20260414T190000
DURATION:PT1H0M0S
SUMMARY:Practice: Simmons vs. Flores, Seeds
DESCRIPTION:PRACTICE NUMBER 4 --- 5th/6th Grade Co-ed Soccer (tues/thurs) - Clinton City Parks & Recreation
LOCATION:Civic Center Park - West Field
CATEGORIES:QuickScores, Soccer - Youth Game
TRANSP:OPAQUE
BEGIN:VALARM
TRIGGER:-PT2H
ACTION:DISPLAY
DESCRIPTION:Practice: Simmons vs. Flores, Seeds
END:VALARM
END:VEVENT
BEGIN:VEVENT
UID:clintoncity-73239231-20260416T170000@quickscores.com
DTSTAMP:20260424T024900Z
DTSTART;TZID=America/Denver:20260416T170000
DURATION:PT1H0M0S
SUMMARY:Flores, Seeds vs. Bedell
DESCRIPTION:GAME NUMBER 4 Home Listed First Wears Red Away Listed Second Wears White --- 5th/6th Grade Co-ed Soccer (tues/thurs) - Clinton City Parks & Recreation
LOCATION:Civic Center Park - West Field
CATEGORIES:QuickScores, Soccer - Youth Game
TRANSP:OPAQUE
BEGIN:VALARM
TRIGGER:-PT2H
ACTION:DISPLAY
DESCRIPTION:Flores, Seeds vs. Bedell
END:VALARM
END:VEVENT
BEGIN:VEVENT
UID:clintoncity-73239230-20260416T180000@quickscores.com
DTSTAMP:20260424T024900Z
DTSTART;TZID=America/Denver:20260416T180000
DURATION:PT1H0M0S
SUMMARY:Berardi vs. Simmons
DESCRIPTION:GAME NUMBER 4 Home Listed First Wears Red Away Listed Second Wears White --- 5th/6th Grade Co-ed Soccer (tues/thurs) - Clinton City Parks & Recreation
LOCATION:Civic Center Park - West Field
CATEGORIES:QuickScores, Soccer - Youth Game
TRANSP:OPAQUE
BEGIN:VALARM
TRIGGER:-PT2H
ACTION:DISPLAY
DESCRIPTION:Berardi vs. Simmons
END:VALARM
END:VEVENT
BEGIN:VEVENT
UID:clintoncity-73239232-20260416T190000@quickscores.com
DTSTAMP:20260424T024900Z
DTSTART;TZID=America/Denver:20260416T190000
DURATION:PT1H0M0S
SUMMARY:Bateman vs. Hill
DESCRIPTION:GAME NUMBER 4 Home Listed First Wears Red Away Listed Second Wears White --- 5th/6th Grade Co-ed Soccer (tues/thurs) - Clinton City Parks & Recreation
LOCATION:Civic Center Park - West Field
CATEGORIES:QuickScores, Soccer - Youth Game
TRANSP:OPAQUE
BEGIN:VALARM
TRIGGER:-PT2H
ACTION:DISPLAY
DESCRIPTION:Bateman vs. Hill
END:VALARM
END:VEVENT
BEGIN:VEVENT
UID:clintoncity-73239048-20260421T170000@quickscores.com
DTSTAMP:20260424T024900Z
DTSTART;TZID=America/Denver:20260421T170000
DURATION:PT1H0M0S
SUMMARY:Practice: Flores, Seeds vs. Hill
DESCRIPTION:PRACTICE NUMBER 5 --- 5th/6th Grade Co-ed Soccer (tues/thurs) - Clinton City Parks & Recreation
LOCATION:Civic Center Park - West Field
CATEGORIES:QuickScores, Soccer - Youth Game
TRANSP:OPAQUE
BEGIN:VALARM
TRIGGER:-PT2H
ACTION:DISPLAY
DESCRIPTION:Practice: Flores, Seeds vs. Hill
END:VALARM
END:VEVENT
BEGIN:VEVENT
UID:clintoncity-73239049-20260421T180000@quickscores.com
DTSTAMP:20260424T024900Z
DTSTART;TZID=America/Denver:20260421T180000
DURATION:PT1H0M0S
SUMMARY:Practice: Bedell vs. Simmons
DESCRIPTION:PRACTICE NUMBER 5 --- 5th/6th Grade Co-ed Soccer (tues/thurs) - Clinton City Parks & Recreation
LOCATION:Civic Center Park - West Field
CATEGORIES:QuickScores, Soccer - Youth Game
TRANSP:OPAQUE
BEGIN:VALARM
TRIGGER:-PT2H
ACTION:DISPLAY
DESCRIPTION:Practice: Bedell vs. Simmons
END:VALARM
END:VEVENT
BEGIN:VEVENT
UID:clintoncity-73239050-20260421T190000@quickscores.com
DTSTAMP:20260424T024900Z
DTSTART;TZID=America/Denver:20260421T190000
DURATION:PT1H0M0S
SUMMARY:Practice: Bateman vs. Berardi
DESCRIPTION:PRACTICE NUMBER 5 --- 5th/6th Grade Co-ed Soccer (tues/thurs) - Clinton City Parks & Recreation
LOCATION:Civic Center Park - West Field
CATEGORIES:QuickScores, Soccer - Youth Game
TRANSP:OPAQUE
BEGIN:VALARM
TRIGGER:-PT2H
ACTION:DISPLAY
DESCRIPTION:Practice: Bateman vs. Berardi
END:VALARM
END:VEVENT
BEGIN:VEVENT
UID:clintoncity-73239233-20260423T170000@quickscores.com
DTSTAMP:20260424T024900Z
DTSTART;TZID=America/Denver:20260423T170000
DURATION:PT1H0M0S
SUMMARY:Simmons vs. Flores, Seeds
DESCRIPTION:GAME NUMBER 5 Home Listed First Wears Red Away Listed Second Wears White --- 5th/6th Grade Co-ed Soccer (tues/thurs) - Clinton City Parks & Recreation
LOCATION:Civic Center Park - West Field
CATEGORIES:QuickScores, Soccer - Youth Game
TRANSP:OPAQUE
BEGIN:VALARM
TRIGGER:-PT2H
ACTION:DISPLAY
DESCRIPTION:Simmons vs. Flores, Seeds
END:VALARM
END:VEVENT
BEGIN:VEVENT
UID:clintoncity-73239234-20260423T180000@quickscores.com
DTSTAMP:20260424T024900Z
DTSTART;TZID=America/Denver:20260423T180000
DURATION:PT1H0M0S
SUMMARY:Hill vs. Berardi
DESCRIPTION:GAME NUMBER 5 Home Listed First Wears Red Away Listed Second Wears White --- 5th/6th Grade Co-ed Soccer (tues/thurs) - Clinton City Parks & Recreation
LOCATION:Civic Center Park - West Field
CATEGORIES:QuickScores, Soccer - Youth Game
TRANSP:OPAQUE
BEGIN:VALARM
TRIGGER:-PT2H
ACTION:DISPLAY
DESCRIPTION:Hill vs. Berardi
END:VALARM
END:VEVENT
BEGIN:VEVENT
UID:clintoncity-73239235-20260423T190000@quickscores.com
DTSTAMP:20260424T024900Z
DTSTART;TZID=America/Denver:20260423T190000
DURATION:PT1H0M0S
SUMMARY:Bedell vs. Bateman
DESCRIPTION:GAME NUMBER 5 Home Listed First Wears Red Away Listed Second Wears White --- 5th/6th Grade Co-ed Soccer (tues/thurs) - Clinton City Parks & Recreation
LOCATION:Civic Center Park - West Field
CATEGORIES:QuickScores, Soccer - Youth Game
TRANSP:OPAQUE
BEGIN:VALARM
TRIGGER:-PT2H
ACTION:DISPLAY
DESCRIPTION:Bedell vs. Bateman
END:VALARM
END:VEVENT
BEGIN:VEVENT
UID:clintoncity-73239051-20260428T170000@quickscores.com
DTSTAMP:20260424T024900Z
DTSTART;TZID=America/Denver:20260428T170000
DURATION:PT1H0M0S
SUMMARY:Practice: Berardi vs. Flores, Seeds
DESCRIPTION:PRACTICE NUMBER 6 --- 5th/6th Grade Co-ed Soccer (tues/thurs) - Clinton City Parks & Recreation
LOCATION:Civic Center Park - West Field
CATEGORIES:QuickScores, Soccer - Youth Game
TRANSP:OPAQUE
BEGIN:VALARM
TRIGGER:-PT2H
ACTION:DISPLAY
DESCRIPTION:Practice: Berardi vs. Flores, Seeds
END:VALARM
END:VEVENT
BEGIN:VEVENT
UID:clintoncity-73239053-20260428T180000@quickscores.com
DTSTAMP:20260424T024900Z
DTSTART;TZID=America/Denver:20260428T180000
DURATION:PT1H0M0S
SUMMARY:Practice: Hill vs. Simmons
DESCRIPTION:PRACTICE NUMBER 6 --- 5th/6th Grade Co-ed Soccer (tues/thurs) - Clinton City Parks & Recreation
LOCATION:Civic Center Park - West Field
CATEGORIES:QuickScores, Soccer - Youth Game
TRANSP:OPAQUE
BEGIN:VALARM
TRIGGER:-PT2H
ACTION:DISPLAY
DESCRIPTION:Practice: Hill vs. Simmons
END:VALARM
END:VEVENT
BEGIN:VEVENT
UID:clintoncity-73239052-20260428T190000@quickscores.com
DTSTAMP:20260424T024900Z
DTSTART;TZID=America/Denver:20260428T190000
DURATION:PT1H0M0S
SUMMARY:Practice: Bedell vs. Bateman
DESCRIPTION:PRACTICE NUMBER 6 --- 5th/6th Grade Co-ed Soccer (tues/thurs) - Clinton City Parks & Recreation
LOCATION:Civic Center Park - West Field
CATEGORIES:QuickScores, Soccer - Youth Game
TRANSP:OPAQUE
BEGIN:VALARM
TRIGGER:-PT2H
ACTION:DISPLAY
DESCRIPTION:Practice: Bedell vs. Bateman
END:VALARM
END:VEVENT
BEGIN:VEVENT
UID:clintoncity-73239236-20260430T170000@quickscores.com
DTSTAMP:20260424T024900Z
DTSTART;TZID=America/Denver:20260430T170000
DURATION:PT1H0M0S
SUMMARY:Bateman vs. Simmons
DESCRIPTION:GAME NUMBER 6 Home Listed First Wears Red Away Listed Second Wears White --- 5th/6th Grade Co-ed Soccer (tues/thurs) - Clinton City Parks & Recreation
LOCATION:Civic Center Park - West Field
CATEGORIES:QuickScores, Soccer - Youth Game
TRANSP:OPAQUE
BEGIN:VALARM
TRIGGER:-PT2H
ACTION:DISPLAY
DESCRIPTION:Bateman vs. Simmons
END:VALARM
END:VEVENT
BEGIN:VEVENT
UID:clintoncity-73239237-20260430T180000@quickscores.com
DTSTAMP:20260424T024900Z
DTSTART;TZID=America/Denver:20260430T180000
DURATION:PT1H0M0S
SUMMARY:Hill vs. Bedell
DESCRIPTION:GAME NUMBER 6 Home Listed First Wears Red Away Listed Second Wears White --- 5th/6th Grade Co-ed Soccer (tues/thurs) - Clinton City Parks & Recreation
LOCATION:Civic Center Park - West Field
CATEGORIES:QuickScores, Soccer - Youth Game
TRANSP:OPAQUE
BEGIN:VALARM
TRIGGER:-PT2H
ACTION:DISPLAY
DESCRIPTION:Hill vs. Bedell
END:VALARM
END:VEVENT
BEGIN:VEVENT
UID:clintoncity-73239238-20260430T190000@quickscores.com
DTSTAMP:20260424T024900Z
DTSTART;TZID=America/Denver:20260430T190000
DURATION:PT1H0M0S
SUMMARY:Flores, Seeds vs. Berardi
DESCRIPTION:GAME NUMBER 6 Home Listed First Wears Red Away Listed Second Wears White --- 5th/6th Grade Co-ed Soccer (tues/thurs) - Clinton City Parks & Recreation
LOCATION:Civic Center Park - West Field
CATEGORIES:QuickScores, Soccer - Youth Game
TRANSP:OPAQUE
BEGIN:VALARM
TRIGGER:-PT2H
ACTION:DISPLAY
DESCRIPTION:Flores, Seeds vs. Berardi
END:VALARM
END:VEVENT
BEGIN:VEVENT
UID:clintoncity-73239239-20260505T170000@quickscores.com
DTSTAMP:20260424T024900Z
DTSTART;TZID=America/Denver:20260505T170000
DURATION:PT1H0M0S
SUMMARY:Bedell vs. Simmons
DESCRIPTION:GAME NUMBER 7 Home Listed First Wears Red Away Listed Second Wears White --- 5th/6th Grade Co-ed Soccer (tues/thurs) - Clinton City Parks & Recreation
LOCATION:Civic Center Park - West Field
CATEGORIES:QuickScores, Soccer - Youth Game
TRANSP:OPAQUE
BEGIN:VALARM
TRIGGER:-PT2H
ACTION:DISPLAY
DESCRIPTION:Bedell vs. Simmons
END:VALARM
END:VEVENT
BEGIN:VEVENT
UID:clintoncity-73239240-20260505T180000@quickscores.com
DTSTAMP:20260424T024900Z
DTSTART;TZID=America/Denver:20260505T180000
DURATION:PT1H0M0S
SUMMARY:Bateman vs. Berardi
DESCRIPTION:GAME NUMBER 7 Home Listed First Wears Red Away Listed Second Wears White --- 5th/6th Grade Co-ed Soccer (tues/thurs) - Clinton City Parks & Recreation
LOCATION:Civic Center Park - West Field
CATEGORIES:QuickScores, Soccer - Youth Game
TRANSP:OPAQUE
BEGIN:VALARM
TRIGGER:-PT2H
ACTION:DISPLAY
DESCRIPTION:Bateman vs. Berardi
END:VALARM
END:VEVENT
BEGIN:VEVENT
UID:clintoncity-73239241-20260505T190000@quickscores.com
DTSTAMP:20260424T024900Z
DTSTART;TZID=America/Denver:20260505T190000
DURATION:PT1H0M0S
SUMMARY:Hill vs. Flores, Seeds
DESCRIPTION:GAME NUMBER 7 Home Listed First Wears Red Away Listed Second Wears White --- 5th/6th Grade Co-ed Soccer (tues/thurs) - Clinton City Parks & Recreation
LOCATION:Civic Center Park - West Field
CATEGORIES:QuickScores, Soccer - Youth Game
TRANSP:OPAQUE
BEGIN:VALARM
TRIGGER:-PT2H
ACTION:DISPLAY
DESCRIPTION:Hill vs. Flores, Seeds
END:VALARM
END:VEVENT
BEGIN:VEVENT
UID:clintoncity-73239242-20260507T170000@quickscores.com
DTSTAMP:20260424T024900Z
DTSTART;TZID=America/Denver:20260507T170000
DURATION:PT1H0M0S
SUMMARY:Hill vs. Simmons
DESCRIPTION:GAME NUMBER 8 Home Listed First Wears Red Away Listed Second Wears White --- 5th/6th Grade Co-ed Soccer (tues/thurs) - Clinton City Parks & Recreation
LOCATION:Civic Center Park - West Field
CATEGORIES:QuickScores, Soccer - Youth Game
TRANSP:OPAQUE
BEGIN:VALARM
TRIGGER:-PT2H
ACTION:DISPLAY
DESCRIPTION:Hill vs. Simmons
END:VALARM
END:VEVENT
BEGIN:VEVENT
UID:clintoncity-73239243-20260507T180000@quickscores.com
DTSTAMP:20260424T024900Z
DTSTART;TZID=America/Denver:20260507T180000
DURATION:PT1H0M0S
SUMMARY:Flores, Seeds vs. Bateman
DESCRIPTION:GAME NUMBER 8 Home Listed First Wears Red Away Listed Second Wears White --- 5th/6th Grade Co-ed Soccer (tues/thurs) - Clinton City Parks & Recreation
LOCATION:Civic Center Park - West Field
CATEGORIES:QuickScores, Soccer - Youth Game
TRANSP:OPAQUE
BEGIN:VALARM
TRIGGER:-PT2H
ACTION:DISPLAY
DESCRIPTION:Flores, Seeds vs. Bateman
END:VALARM
END:VEVENT
BEGIN:VEVENT
UID:clintoncity-73239244-20260507T190000@quickscores.com
DTSTAMP:20260424T024900Z
DTSTART;TZID=America/Denver:20260507T190000
DURATION:PT1H0M0S
SUMMARY:Berardi vs. Bedell
DESCRIPTION:GAME NUMBER 8 Home Listed First Wears Red Away Listed Second Wears White --- 5th/6th Grade Co-ed Soccer (tues/thurs) - Clinton City Parks & Recreation
LOCATION:Civic Center Park - West Field
CATEGORIES:QuickScores, Soccer - Youth Game
TRANSP:OPAQUE
BEGIN:VALARM
TRIGGER:-PT2H
ACTION:DISPLAY
DESCRIPTION:Berardi vs. Bedell
END:VALARM
END:VEVENT
END:VCALENDAR
