BEGIN:VCALENDAR
VERSION:2.0
PRODID:-//QuickScores.com//BQ Dynamic iCal Creator//EN
METHOD:PUBLISH
X-WR-CALNAME:Upper Division - 2026 Spring Basketball League
X-WR-CALDESC:QuickScores game calendar
X-PUBLISHED-TTL:PT24H
REFRESH-INTERVAL;VALUE=DURATION:PT24H
CALSCALE:GREGORIAN
BEGIN:VTIMEZONE
TZID:America/Los_Angeles
X-LIC-LOCATION:America/Los_Angeles
BEGIN:DAYLIGHT
TZNAME:PDT
TZOFFSETFROM:-0800
TZOFFSETTO:-0700
DTSTART:19700308T020000
RRULE:FREQ=YEARLY;BYMONTH=3;BYDAY=2SU
END:DAYLIGHT
BEGIN:STANDARD
TZNAME:PST
TZOFFSETFROM:-0700
TZOFFSETTO:-0800
DTSTART:19701101T020000
RRULE:FREQ=YEARLY;BYMONTH=11;BYDAY=1SU
END:STANDARD
END:VTIMEZONE
BEGIN:VEVENT
UID:crpd-72794931-20260514T193000@quickscores.com
DTSTAMP:20260424T051900Z
DTSTART;TZID=America/Los_Angeles:20260514T193000
DURATION:PT1H0M0S
SUMMARY:#2 Seed vs. #3 Seed
DESCRIPTION:Upper Division - Conejo Recreation and Park District
LOCATION:Thousand Oaks Community Center
CATEGORIES:QuickScores, Basketball - Adult Game
TRANSP:OPAQUE
BEGIN:VALARM
TRIGGER:-PT2H
ACTION:DISPLAY
DESCRIPTION:#2 Seed vs. #3 Seed
END:VALARM
END:VEVENT
BEGIN:VEVENT
UID:crpd-72794930-20260514T213000@quickscores.com
DTSTAMP:20260424T051900Z
DTSTART;TZID=America/Los_Angeles:20260514T213000
DURATION:PT1H0M0S
SUMMARY:#1 Seed vs. #4 Seed
DESCRIPTION:Upper Division - Conejo Recreation and Park District
LOCATION:Thousand Oaks Community Center
CATEGORIES:QuickScores, Basketball - Adult Game
TRANSP:OPAQUE
BEGIN:VALARM
TRIGGER:-PT2H
ACTION:DISPLAY
DESCRIPTION:#1 Seed vs. #4 Seed
END:VALARM
END:VEVENT
BEGIN:VEVENT
UID:crpd-72794932-20260521T193000@quickscores.com
DTSTAMP:20260424T051900Z
DTSTART;TZID=America/Los_Angeles:20260521T193000
DURATION:PT1H0M0S
SUMMARY:Loser of Game 1 vs. Loser of Game 2
DESCRIPTION:Upper Division - Conejo Recreation and Park District
LOCATION:Thousand Oaks Community Center
CATEGORIES:QuickScores, Basketball - Adult Game
TRANSP:OPAQUE
BEGIN:VALARM
TRIGGER:-PT2H
ACTION:DISPLAY
DESCRIPTION:Loser of Game 1 vs. Loser of Game 2
END:VALARM
END:VEVENT
BEGIN:VEVENT
UID:crpd-72794933-20260521T203000@quickscores.com
DTSTAMP:20260424T051900Z
DTSTART;TZID=America/Los_Angeles:20260521T203000
DURATION:PT1H0M0S
SUMMARY:Winner of Game 1 vs. Winner of Game 2
DESCRIPTION:Upper Division - Conejo Recreation and Park District
LOCATION:Thousand Oaks Community Center
CATEGORIES:QuickScores, Basketball - Adult Game
TRANSP:OPAQUE
BEGIN:VALARM
TRIGGER:-PT2H
ACTION:DISPLAY
DESCRIPTION:Winner of Game 1 vs. Winner of Game 2
END:VALARM
END:VEVENT
END:VCALENDAR
