BEGIN:VCALENDAR
VERSION:2.0
PRODID:-//QuickScores.com//BQ Dynamic iCal Creator//EN
METHOD:PUBLISH
X-WR-CALNAME:Silver Bracket (7/8g) - Winter 2026
X-WR-CALDESC:QuickScores game calendar
X-PUBLISHED-TTL:PT24H
REFRESH-INTERVAL;VALUE=DURATION:PT24H
CALSCALE:GREGORIAN
BEGIN:VTIMEZONE
TZID:America/Chicago
X-LIC-LOCATION:America/Chicago
BEGIN:DAYLIGHT
TZNAME:CDT
TZOFFSETFROM:-0600
TZOFFSETTO:-0500
DTSTART:19700308T020000
RRULE:FREQ=YEARLY;BYMONTH=3;BYDAY=2SU
END:DAYLIGHT
BEGIN:STANDARD
TZNAME:CST
TZOFFSETFROM:-0500
TZOFFSETTO:-0600
DTSTART:19701101T020000
RRULE:FREQ=YEARLY;BYMONTH=11;BYDAY=1SU
END:STANDARD
END:VTIMEZONE
BEGIN:VEVENT
UID:csparks-72793843-20260306T203000@quickscores.com
DTSTAMP:20260423T235400Z
DTSTART;TZID=America/Chicago:20260306T203000
DURATION:PT1H0M0S
SUMMARY:[ 7 ] AYS 1 Juan vs. [ 14 ] Glen Ellyn - Cox
DESCRIPTION:Silver Bracket (7/8g) - Carol Stream Park District
LOCATION:Indian Trail Jr High School
CATEGORIES:QuickScores, Basketball - Youth Game
TRANSP:OPAQUE
BEGIN:VALARM
TRIGGER:-PT2H
ACTION:DISPLAY
DESCRIPTION:[ 7 ] AYS 1 Juan vs. [ 14 ] Glen Ellyn - Cox
END:VALARM
END:VEVENT
BEGIN:VEVENT
UID:csparks-72793845-20260307T142500@quickscores.com
DTSTAMP:20260423T235400Z
DTSTART;TZID=America/Chicago:20260307T142500
DURATION:PT1H15M0S
SUMMARY:[ 8 ] Lombard - Suns vs. [ 13 ] Bartlett - Blue Devils
DESCRIPTION:Silver Bracket (7/8g) - Carol Stream Park District
LOCATION:Lombard - Pleasant Lane School
CATEGORIES:QuickScores, Basketball - Youth Game
TRANSP:OPAQUE
BEGIN:VALARM
TRIGGER:-PT2H
ACTION:DISPLAY
DESCRIPTION:[ 8 ] Lombard - Suns vs. [ 13 ] Bartlett - Blue Devils
END:VALARM
END:VEVENT
BEGIN:VEVENT
UID:csparks-72793846-20260307T153000@quickscores.com
DTSTAMP:20260423T235400Z
DTSTART;TZID=America/Chicago:20260307T153000
DURATION:PT1H0M0S
SUMMARY:[ 9 ] Villa Park - Payton vs. [ 12 ] Carol Stream - Fever
DESCRIPTION:Silver Bracket (7/8g) - Carol Stream Park District
LOCATION:Villa Park Recreation Center
CATEGORIES:QuickScores, Basketball - Youth Game
TRANSP:OPAQUE
BEGIN:VALARM
TRIGGER:-PT2H
ACTION:DISPLAY
DESCRIPTION:[ 9 ] Villa Park - Payton vs. [ 12 ] Carol Stream - Fever
END:VALARM
END:VEVENT
BEGIN:VEVENT
UID:csparks-72793844-20260307T181500@quickscores.com
DTSTAMP:20260423T235400Z
DTSTART;TZID=America/Chicago:20260307T181500
DURATION:PT1H0M0S
SUMMARY:[ 10 ] Schaumburg - Damhauser vs. [ 11] Schaumburg - Berg
DESCRIPTION:Silver Bracket (7/8g) - Carol Stream Park District
LOCATION:Schaumburg-Eisenhower Jr. High
CATEGORIES:QuickScores, Basketball - Youth Game
TRANSP:OPAQUE
BEGIN:VALARM
TRIGGER:-PT2H
ACTION:DISPLAY
DESCRIPTION:[ 10 ] Schaumburg - Damhauser vs. [ 11] Schaumburg - Berg
END:VALARM
END:VEVENT
BEGIN:VEVENT
UID:csparks-72793847-20260313T183000@quickscores.com
DTSTAMP:20260423T235400Z
DTSTART;TZID=America/Chicago:20260313T183000
DURATION:PT1H0M0S
SUMMARY:[ 7 ] AYS 1 Juan vs. [ 10 ] Schaumburg - Damhauser
DESCRIPTION:Silver Bracket (7/8g) - Carol Stream Park District
LOCATION:Indian Trail Jr High School
CATEGORIES:QuickScores, Basketball - Youth Game
TRANSP:OPAQUE
BEGIN:VALARM
TRIGGER:-PT2H
ACTION:DISPLAY
DESCRIPTION:[ 7 ] AYS 1 Juan vs. [ 10 ] Schaumburg - Damhauser
END:VALARM
END:VEVENT
BEGIN:VEVENT
UID:csparks-72793848-20260314T140000@quickscores.com
DTSTAMP:20260423T235400Z
DTSTART;TZID=America/Chicago:20260314T140000
DURATION:PT1H0M0S
SUMMARY:[ 13 ] Bartlett - Blue Devils vs. [ 9 ] Villa Park - Payton
DESCRIPTION:Silver Bracket (7/8g) - Carol Stream Park District
LOCATION:Villa Park Recreation Center
CATEGORIES:QuickScores, Basketball - Youth Game
TRANSP:OPAQUE
BEGIN:VALARM
TRIGGER:-PT2H
ACTION:DISPLAY
DESCRIPTION:[ 13 ] Bartlett - Blue Devils vs. [ 9 ] Villa Park - Payton
END:VALARM
END:VEVENT
BEGIN:VEVENT
UID:csparks-72793849-20260315T123000@quickscores.com
DTSTAMP:20260423T235400Z
DTSTART;TZID=America/Chicago:20260315T123000
DURATION:PT1H0M0S
SUMMARY:[ 10 ] Schaumburg - Damhauser vs. [ 9 ] Villa Park - Payton
DESCRIPTION:Silver Bracket (7/8g) - Carol Stream Park District
LOCATION:Addison Trail High School - Main Gym
CATEGORIES:QuickScores, Basketball - Youth Game
TRANSP:OPAQUE
BEGIN:VALARM
TRIGGER:-PT2H
ACTION:DISPLAY
DESCRIPTION:[ 10 ] Schaumburg - Damhauser vs. [ 9 ] Villa Park - Payton
END:VALARM
END:VEVENT
END:VCALENDAR
