BEGIN:VCALENDAR
VERSION:2.0
PRODID:-//QuickScores.com//BQ Dynamic iCal Creator//EN
METHOD:PUBLISH
X-WR-CALNAME:Lower Division - 2026 Spring Basketball League
X-WR-CALDESC:QuickScores game calendar
X-PUBLISHED-TTL:PT24H
REFRESH-INTERVAL;VALUE=DURATION:PT24H
CALSCALE:GREGORIAN
BEGIN:VTIMEZONE
TZID:America/Los_Angeles
X-LIC-LOCATION:America/Los_Angeles
BEGIN:DAYLIGHT
TZNAME:PDT
TZOFFSETFROM:-0800
TZOFFSETTO:-0700
DTSTART:19700308T020000
RRULE:FREQ=YEARLY;BYMONTH=3;BYDAY=2SU
END:DAYLIGHT
BEGIN:STANDARD
TZNAME:PST
TZOFFSETFROM:-0700
TZOFFSETTO:-0800
DTSTART:19701101T020000
RRULE:FREQ=YEARLY;BYMONTH=11;BYDAY=1SU
END:STANDARD
END:VTIMEZONE
BEGIN:VEVENT
UID:crpd-72790923-20260413T183000@quickscores.com
DTSTAMP:20260422T213500Z
DTSTART;TZID=America/Los_Angeles:20260413T183000
DURATION:PT1H0M0S
SUMMARY:[6] Flashes vs. [7] The Boyz
DESCRIPTION:Lower Division - Conejo Recreation and Park District
LOCATION:Thousand Oaks Community Center
CATEGORIES:QuickScores, Basketball - Adult Game
TRANSP:OPAQUE
BEGIN:VALARM
TRIGGER:-PT2H
ACTION:DISPLAY
DESCRIPTION:[6] Flashes vs. [7] The Boyz
END:VALARM
END:VEVENT
BEGIN:VEVENT
UID:crpd-72790922-20260413T203000@quickscores.com
DTSTAMP:20260422T213500Z
DTSTART;TZID=America/Los_Angeles:20260413T203000
DURATION:PT1H0M0S
SUMMARY:[5] Ball Don't Lie vs. [8] The Stretch Marks
DESCRIPTION:Lower Division - Conejo Recreation and Park District
LOCATION:Thousand Oaks Community Center
CATEGORIES:QuickScores, Basketball - Adult Game
TRANSP:OPAQUE
BEGIN:VALARM
TRIGGER:-PT2H
ACTION:DISPLAY
DESCRIPTION:[5] Ball Don't Lie vs. [8] The Stretch Marks
END:VALARM
END:VEVENT
BEGIN:VEVENT
UID:crpd-72790926-20260420T183000@quickscores.com
DTSTAMP:20260422T213500Z
DTSTART;TZID=America/Los_Angeles:20260420T183000
DURATION:PT1H0M0S
SUMMARY:[8] The Stretch Marks vs. [7] The Boyz
DESCRIPTION:Lower Division - Conejo Recreation and Park District
LOCATION:Thousand Oaks Community Center
CATEGORIES:QuickScores, Basketball - Adult Game
TRANSP:OPAQUE
BEGIN:VALARM
TRIGGER:-PT2H
ACTION:DISPLAY
DESCRIPTION:[8] The Stretch Marks vs. [7] The Boyz
END:VALARM
END:VEVENT
BEGIN:VEVENT
UID:crpd-72790924-20260420T213000@quickscores.com
DTSTAMP:20260422T213500Z
DTSTART;TZID=America/Los_Angeles:20260420T213000
DURATION:PT1H0M0S
SUMMARY:[5] Ball Don't Lie vs. [6] Flashes
DESCRIPTION:Lower Division - Conejo Recreation and Park District
LOCATION:Thousand Oaks Community Center
CATEGORIES:QuickScores, Basketball - Adult Game
TRANSP:OPAQUE
BEGIN:VALARM
TRIGGER:-PT2H
ACTION:DISPLAY
DESCRIPTION:[5] Ball Don't Lie vs. [6] Flashes
END:VALARM
END:VEVENT
END:VCALENDAR
