BEGIN:VCALENDAR
VERSION:2.0
PRODID:-//QuickScores.com//BQ Dynamic iCal Creator//EN
METHOD:PUBLISH
X-WR-CALNAME:7th Grade Travel Consolation Bracket - Winter 2025-2026
X-WR-CALDESC:QuickScores game calendar
X-PUBLISHED-TTL:PT24H
REFRESH-INTERVAL;VALUE=DURATION:PT24H
CALSCALE:GREGORIAN
BEGIN:VTIMEZONE
TZID:America/Chicago
X-LIC-LOCATION:America/Chicago
BEGIN:DAYLIGHT
TZNAME:CDT
TZOFFSETFROM:-0600
TZOFFSETTO:-0500
DTSTART:19700308T020000
RRULE:FREQ=YEARLY;BYMONTH=3;BYDAY=2SU
END:DAYLIGHT
BEGIN:STANDARD
TZNAME:CST
TZOFFSETFROM:-0500
TZOFFSETTO:-0600
DTSTART:19701101T020000
RRULE:FREQ=YEARLY;BYMONTH=11;BYDAY=1SU
END:STANDARD
END:VTIMEZONE
BEGIN:VEVENT
UID:rochelleparkdistrict-72778054-20260228T150000@quickscores.com
DTSTAMP:20260422T195800Z
DTSTART;TZID=America/Chicago:20260228T150000
DURATION:PT1H0M0S
SUMMARY:[5] Dekalb vs. [8] Genoa Jr. Cogs
DESCRIPTION:7th Grade Travel Consolation Bracket - Flagg-Rochelle Community Park District
LOCATION:The REC-Court C
CATEGORIES:QuickScores, Basketball - Youth Game
TRANSP:OPAQUE
BEGIN:VALARM
TRIGGER:-PT2H
ACTION:DISPLAY
DESCRIPTION:[5] Dekalb vs. [8] Genoa Jr. Cogs
END:VALARM
END:VEVENT
BEGIN:VEVENT
UID:rochelleparkdistrict-72778055-20260228T150000@quickscores.com
DTSTAMP:20260422T195800Z
DTSTART;TZID=America/Chicago:20260228T150000
DURATION:PT1H0M0S
SUMMARY:[6] Amboy vs. [7] Oregon
DESCRIPTION:7th Grade Travel Consolation Bracket - Flagg-Rochelle Community Park District
LOCATION:The REC-Court A
CATEGORIES:QuickScores, Basketball - Youth Game
TRANSP:OPAQUE
BEGIN:VALARM
TRIGGER:-PT2H
ACTION:DISPLAY
DESCRIPTION:[6] Amboy vs. [7] Oregon
END:VALARM
END:VEVENT
BEGIN:VEVENT
UID:rochelleparkdistrict-72778056-20260228T160000@quickscores.com
DTSTAMP:20260422T195800Z
DTSTART;TZID=America/Chicago:20260228T160000
DURATION:PT1H0M0S
SUMMARY:[5] Dekalb vs. [6] Amboy
DESCRIPTION:7th Grade Travel Consolation Bracket - Flagg-Rochelle Community Park District
LOCATION:The REC-Court C
CATEGORIES:QuickScores, Basketball - Youth Game
TRANSP:OPAQUE
BEGIN:VALARM
TRIGGER:-PT2H
ACTION:DISPLAY
DESCRIPTION:[5] Dekalb vs. [6] Amboy
END:VALARM
END:VEVENT
END:VCALENDAR
