BEGIN:VCALENDAR
VERSION:2.0
PRODID:-//QuickScores.com//BQ Dynamic iCal Creator//EN
METHOD:PUBLISH
X-WR-CALNAME:Tuesday Women&#039;s A/bb Volleyball League - Spring 2026
X-WR-CALDESC:QuickScores game calendar
X-PUBLISHED-TTL:PT24H
REFRESH-INTERVAL;VALUE=DURATION:PT24H
CALSCALE:GREGORIAN
BEGIN:VTIMEZONE
TZID:America/New_York
X-LIC-LOCATION:America/New_York
BEGIN:DAYLIGHT
TZNAME:EDT
TZOFFSETFROM:-0500
TZOFFSETTO:-0400
DTSTART:19700308T020000
RRULE:FREQ=YEARLY;BYMONTH=3;BYDAY=2SU
END:DAYLIGHT
BEGIN:STANDARD
TZNAME:EST
TZOFFSETFROM:-0400
TZOFFSETTO:-0500
DTSTART:19701101T020000
RRULE:FREQ=YEARLY;BYMONTH=11;BYDAY=1SU
END:STANDARD
END:VTIMEZONE
BEGIN:VEVENT
UID:cobbcounty-73400188-20260310T190000@quickscores.com
DTSTAMP:20260424T052000Z
DTSTART;TZID=America/New_York:20260310T190000
DURATION:PT1H0M0S
SUMMARY:Spike Girls vs. Block Party
DESCRIPTION:Tuesday Women's A/bb Volleyball League - Cobb County PARKS
LOCATION:Fair Oaks Volleyball Court 2
CATEGORIES:QuickScores, Volleyball - Adult Game
TRANSP:OPAQUE
BEGIN:VALARM
TRIGGER:-PT2H
ACTION:DISPLAY
DESCRIPTION:Spike Girls vs. Block Party
END:VALARM
END:VEVENT
BEGIN:VEVENT
UID:cobbcounty-73400190-20260310T200000@quickscores.com
DTSTAMP:20260424T052000Z
DTSTART;TZID=America/New_York:20260310T200000
DURATION:PT1H0M0S
SUMMARY:Golden Girls vs. Spike Girls
DESCRIPTION:Tuesday Women's A/bb Volleyball League - Cobb County PARKS
LOCATION:Fair Oaks Volleyball Court 2
CATEGORIES:QuickScores, Volleyball - Adult Game
TRANSP:OPAQUE
BEGIN:VALARM
TRIGGER:-PT2H
ACTION:DISPLAY
DESCRIPTION:Golden Girls vs. Spike Girls
END:VALARM
END:VEVENT
BEGIN:VEVENT
UID:cobbcounty-73400189-20260310T210000@quickscores.com
DTSTAMP:20260424T052000Z
DTSTART;TZID=America/New_York:20260310T210000
DURATION:PT1H0M0S
SUMMARY:5 Hitters and 1 Setter vs. Team 1
DESCRIPTION:Tuesday Women's A/bb Volleyball League - Cobb County PARKS
LOCATION:Fair Oaks Volleyball Court 2
CATEGORIES:QuickScores, Volleyball - Adult Game
TRANSP:OPAQUE
BEGIN:VALARM
TRIGGER:-PT2H
ACTION:DISPLAY
DESCRIPTION:5 Hitters and 1 Setter vs. Team 1
END:VALARM
END:VEVENT
BEGIN:VEVENT
UID:cobbcounty-73400191-20260317T190000@quickscores.com
DTSTAMP:20260424T052000Z
DTSTART;TZID=America/New_York:20260317T190000
DURATION:PT1H0M0S
SUMMARY:5 Hitters and 1 Setter vs. Golden Girls
DESCRIPTION:Tuesday Women's A/bb Volleyball League - Cobb County PARKS
LOCATION:Fair Oaks Volleyball Court 2
CATEGORIES:QuickScores, Volleyball - Adult Game
TRANSP:OPAQUE
BEGIN:VALARM
TRIGGER:-PT2H
ACTION:DISPLAY
DESCRIPTION:5 Hitters and 1 Setter vs. Golden Girls
END:VALARM
END:VEVENT
BEGIN:VEVENT
UID:cobbcounty-73400193-20260317T200000@quickscores.com
DTSTAMP:20260424T052000Z
DTSTART;TZID=America/New_York:20260317T200000
DURATION:PT1H0M0S
SUMMARY:Team 1 vs. Spike Girls
DESCRIPTION:Tuesday Women's A/bb Volleyball League - Cobb County PARKS
LOCATION:Fair Oaks Volleyball Court 2
CATEGORIES:QuickScores, Volleyball - Adult Game
TRANSP:OPAQUE
BEGIN:VALARM
TRIGGER:-PT2H
ACTION:DISPLAY
DESCRIPTION:Team 1 vs. Spike Girls
END:VALARM
END:VEVENT
BEGIN:VEVENT
UID:cobbcounty-73400192-20260317T210000@quickscores.com
DTSTAMP:20260424T052000Z
DTSTART;TZID=America/New_York:20260317T210000
DURATION:PT1H0M0S
SUMMARY:Team 1 vs. Block Party
DESCRIPTION:Tuesday Women's A/bb Volleyball League - Cobb County PARKS
LOCATION:Fair Oaks Volleyball Court 2
CATEGORIES:QuickScores, Volleyball - Adult Game
TRANSP:OPAQUE
BEGIN:VALARM
TRIGGER:-PT2H
ACTION:DISPLAY
DESCRIPTION:Team 1 vs. Block Party
END:VALARM
END:VEVENT
BEGIN:VEVENT
UID:cobbcounty-73400194-20260324T190000@quickscores.com
DTSTAMP:20260424T052000Z
DTSTART;TZID=America/New_York:20260324T190000
DURATION:PT1H0M0S
SUMMARY:Golden Girls vs. Team 1
DESCRIPTION:Tuesday Women's A/bb Volleyball League - Cobb County PARKS
LOCATION:Fair Oaks Volleyball Court 2
CATEGORIES:QuickScores, Volleyball - Adult Game
TRANSP:OPAQUE
BEGIN:VALARM
TRIGGER:-PT2H
ACTION:DISPLAY
DESCRIPTION:Golden Girls vs. Team 1
END:VALARM
END:VEVENT
BEGIN:VEVENT
UID:cobbcounty-73400196-20260324T200000@quickscores.com
DTSTAMP:20260424T052000Z
DTSTART;TZID=America/New_York:20260324T200000
DURATION:PT1H0M0S
SUMMARY:Block Party vs. 5 Hitters and 1 Setter
DESCRIPTION:Tuesday Women's A/bb Volleyball League - Cobb County PARKS
LOCATION:Fair Oaks Volleyball Court 2
CATEGORIES:QuickScores, Volleyball - Adult Game
TRANSP:OPAQUE
BEGIN:VALARM
TRIGGER:-PT2H
ACTION:DISPLAY
DESCRIPTION:Block Party vs. 5 Hitters and 1 Setter
END:VALARM
END:VEVENT
BEGIN:VEVENT
UID:cobbcounty-73400195-20260324T210000@quickscores.com
DTSTAMP:20260424T052000Z
DTSTART;TZID=America/New_York:20260324T210000
DURATION:PT1H0M0S
SUMMARY:Spike Girls vs. 5 Hitters and 1 Setter
DESCRIPTION:Tuesday Women's A/bb Volleyball League - Cobb County PARKS
LOCATION:Fair Oaks Volleyball Court 2
CATEGORIES:QuickScores, Volleyball - Adult Game
TRANSP:OPAQUE
BEGIN:VALARM
TRIGGER:-PT2H
ACTION:DISPLAY
DESCRIPTION:Spike Girls vs. 5 Hitters and 1 Setter
END:VALARM
END:VEVENT
BEGIN:VEVENT
UID:cobbcounty-73400197-20260331T190000@quickscores.com
DTSTAMP:20260424T052000Z
DTSTART;TZID=America/New_York:20260331T190000
DURATION:PT1H0M0S
SUMMARY:Spike Girls vs. Team 1
DESCRIPTION:Tuesday Women's A/bb Volleyball League - Cobb County PARKS
LOCATION:Fair Oaks Volleyball Court 2
CATEGORIES:QuickScores, Volleyball - Adult Game
TRANSP:OPAQUE
BEGIN:VALARM
TRIGGER:-PT2H
ACTION:DISPLAY
DESCRIPTION:Spike Girls vs. Team 1
END:VALARM
END:VEVENT
BEGIN:VEVENT
UID:cobbcounty-73400198-20260331T200000@quickscores.com
DTSTAMP:20260424T052000Z
DTSTART;TZID=America/New_York:20260331T200000
DURATION:PT1H0M0S
SUMMARY:Block Party vs. Spike Girls
DESCRIPTION:Tuesday Women's A/bb Volleyball League - Cobb County PARKS
LOCATION:Fair Oaks Volleyball Court 2
CATEGORIES:QuickScores, Volleyball - Adult Game
TRANSP:OPAQUE
BEGIN:VALARM
TRIGGER:-PT2H
ACTION:DISPLAY
DESCRIPTION:Block Party vs. Spike Girls
END:VALARM
END:VEVENT
BEGIN:VEVENT
UID:cobbcounty-73400199-20260331T210000@quickscores.com
DTSTAMP:20260424T052000Z
DTSTART;TZID=America/New_York:20260331T210000
DURATION:PT1H0M0S
SUMMARY:5 Hitters and 1 Setter vs. Golden Girls
DESCRIPTION:Tuesday Women's A/bb Volleyball League - Cobb County PARKS
LOCATION:Fair Oaks Volleyball Court 2
CATEGORIES:QuickScores, Volleyball - Adult Game
TRANSP:OPAQUE
BEGIN:VALARM
TRIGGER:-PT2H
ACTION:DISPLAY
DESCRIPTION:5 Hitters and 1 Setter vs. Golden Girls
END:VALARM
END:VEVENT
BEGIN:VEVENT
UID:cobbcounty-73400202-20260414T190000@quickscores.com
DTSTAMP:20260424T052000Z
DTSTART;TZID=America/New_York:20260414T190000
DURATION:PT1H0M0S
SUMMARY:5 Hitters and 1 Setter vs. Block Party
DESCRIPTION:Tuesday Women's A/bb Volleyball League - Cobb County PARKS
LOCATION:Fair Oaks Volleyball Court 2
CATEGORIES:QuickScores, Volleyball - Adult Game
TRANSP:OPAQUE
BEGIN:VALARM
TRIGGER:-PT2H
ACTION:DISPLAY
DESCRIPTION:5 Hitters and 1 Setter vs. Block Party
END:VALARM
END:VEVENT
BEGIN:VEVENT
UID:cobbcounty-73400201-20260414T200000@quickscores.com
DTSTAMP:20260424T052000Z
DTSTART;TZID=America/New_York:20260414T200000
DURATION:PT1H0M0S
SUMMARY:Team 1 vs. Golden Girls
DESCRIPTION:Tuesday Women's A/bb Volleyball League - Cobb County PARKS
LOCATION:Fair Oaks Volleyball Court 2
CATEGORIES:QuickScores, Volleyball - Adult Game
TRANSP:OPAQUE
BEGIN:VALARM
TRIGGER:-PT2H
ACTION:DISPLAY
DESCRIPTION:Team 1 vs. Golden Girls
END:VALARM
END:VEVENT
BEGIN:VEVENT
UID:cobbcounty-73400200-20260414T210000@quickscores.com
DTSTAMP:20260424T052000Z
DTSTART;TZID=America/New_York:20260414T210000
DURATION:PT1H0M0S
SUMMARY:Spike Girls vs. Golden Girls
DESCRIPTION:Tuesday Women's A/bb Volleyball League - Cobb County PARKS
LOCATION:Fair Oaks Volleyball Court 2
CATEGORIES:QuickScores, Volleyball - Adult Game
TRANSP:OPAQUE
BEGIN:VALARM
TRIGGER:-PT2H
ACTION:DISPLAY
DESCRIPTION:Spike Girls vs. Golden Girls
END:VALARM
END:VEVENT
BEGIN:VEVENT
UID:cobbcounty-73400203-20260421T190000@quickscores.com
DTSTAMP:20260424T052000Z
DTSTART;TZID=America/New_York:20260421T190000
DURATION:PT1H0M0S
SUMMARY:Block Party vs. Spike Girls
DESCRIPTION:Tuesday Women's A/bb Volleyball League - Cobb County PARKS
LOCATION:Fair Oaks Volleyball Court 2
CATEGORIES:QuickScores, Volleyball - Adult Game
TRANSP:OPAQUE
BEGIN:VALARM
TRIGGER:-PT2H
ACTION:DISPLAY
DESCRIPTION:Block Party vs. Spike Girls
END:VALARM
END:VEVENT
BEGIN:VEVENT
UID:cobbcounty-73400205-20260421T200000@quickscores.com
DTSTAMP:20260424T052000Z
DTSTART;TZID=America/New_York:20260421T200000
DURATION:PT1H0M0S
SUMMARY:Golden Girls vs. Block Party
DESCRIPTION:Tuesday Women's A/bb Volleyball League - Cobb County PARKS
LOCATION:Fair Oaks Volleyball Court 2
CATEGORIES:QuickScores, Volleyball - Adult Game
TRANSP:OPAQUE
BEGIN:VALARM
TRIGGER:-PT2H
ACTION:DISPLAY
DESCRIPTION:Golden Girls vs. Block Party
END:VALARM
END:VEVENT
BEGIN:VEVENT
UID:cobbcounty-73400204-20260421T210000@quickscores.com
DTSTAMP:20260424T052000Z
DTSTART;TZID=America/New_York:20260421T210000
DURATION:PT1H0M0S
SUMMARY:Team 1 vs. 5 Hitters and 1 Setter
DESCRIPTION:Tuesday Women's A/bb Volleyball League - Cobb County PARKS
LOCATION:Fair Oaks Volleyball Court 2
CATEGORIES:QuickScores, Volleyball - Adult Game
TRANSP:OPAQUE
BEGIN:VALARM
TRIGGER:-PT2H
ACTION:DISPLAY
DESCRIPTION:Team 1 vs. 5 Hitters and 1 Setter
END:VALARM
END:VEVENT
BEGIN:VEVENT
UID:cobbcounty-73400206-20260428T190000@quickscores.com
DTSTAMP:20260424T052000Z
DTSTART;TZID=America/New_York:20260428T190000
DURATION:PT1H0M0S
SUMMARY:Golden Girls vs. 5 Hitters and 1 Setter
DESCRIPTION:Tuesday Women's A/bb Volleyball League - Cobb County PARKS
LOCATION:Fair Oaks Volleyball Court 2
CATEGORIES:QuickScores, Volleyball - Adult Game
TRANSP:OPAQUE
BEGIN:VALARM
TRIGGER:-PT2H
ACTION:DISPLAY
DESCRIPTION:Golden Girls vs. 5 Hitters and 1 Setter
END:VALARM
END:VEVENT
BEGIN:VEVENT
UID:cobbcounty-73400207-20260428T200000@quickscores.com
DTSTAMP:20260424T052000Z
DTSTART;TZID=America/New_York:20260428T200000
DURATION:PT1H0M0S
SUMMARY:Block Party vs. Team 1
DESCRIPTION:Tuesday Women's A/bb Volleyball League - Cobb County PARKS
LOCATION:Fair Oaks Volleyball Court 2
CATEGORIES:QuickScores, Volleyball - Adult Game
TRANSP:OPAQUE
BEGIN:VALARM
TRIGGER:-PT2H
ACTION:DISPLAY
DESCRIPTION:Block Party vs. Team 1
END:VALARM
END:VEVENT
END:VCALENDAR
