BEGIN:VCALENDAR
VERSION:2.0
PRODID:-//QuickScores.com//BQ Dynamic iCal Creator//EN
METHOD:PUBLISH
X-WR-CALNAME:Lsl Wednesday Low Int Doubles Tm. Lg. - Winter 26 - Completed Leagues 2026
X-WR-CALDESC:QuickScores game calendar
X-PUBLISHED-TTL:PT24H
REFRESH-INTERVAL;VALUE=DURATION:PT24H
CALSCALE:GREGORIAN
BEGIN:VTIMEZONE
TZID:America/Chicago
X-LIC-LOCATION:America/Chicago
BEGIN:DAYLIGHT
TZNAME:CDT
TZOFFSETFROM:-0600
TZOFFSETTO:-0500
DTSTART:19700308T020000
RRULE:FREQ=YEARLY;BYMONTH=3;BYDAY=2SU
END:DAYLIGHT
BEGIN:STANDARD
TZNAME:CST
TZOFFSETFROM:-0500
TZOFFSETTO:-0600
DTSTART:19701101T020000
RRULE:FREQ=YEARLY;BYMONTH=11;BYDAY=1SU
END:STANDARD
END:VTIMEZONE
BEGIN:VEVENT
UID:pupc-72371109-20260107T180000@quickscores.com
DTSTAMP:20260421T184200Z
DTSTART;TZID=America/Chicago:20260107T180000
DURATION:PT0H40M0S
SUMMARY:Wolf/Albietz vs. Donovan/Snell
DESCRIPTION:Lsl Wednesday Low Int Doubles Tm. Lg. - Winter 26 - Paddle Up Pickleball Club
LOCATION:Court 6
CATEGORIES:QuickScores, Pickleball Game
TRANSP:OPAQUE
BEGIN:VALARM
TRIGGER:-PT2H
ACTION:DISPLAY
DESCRIPTION:Wolf/Albietz vs. Donovan/Snell
END:VALARM
END:VEVENT
BEGIN:VEVENT
UID:pupc-72371110-20260107T184000@quickscores.com
DTSTAMP:20260421T184200Z
DTSTART;TZID=America/Chicago:20260107T184000
DURATION:PT0H40M0S
SUMMARY:Huff/Huff vs. Donovan/Snell
DESCRIPTION:Lsl Wednesday Low Int Doubles Tm. Lg. - Winter 26 - Paddle Up Pickleball Club
LOCATION:Court 6
CATEGORIES:QuickScores, Pickleball Game
TRANSP:OPAQUE
BEGIN:VALARM
TRIGGER:-PT2H
ACTION:DISPLAY
DESCRIPTION:Huff/Huff vs. Donovan/Snell
END:VALARM
END:VEVENT
BEGIN:VEVENT
UID:pupc-72371114-20260107T192000@quickscores.com
DTSTAMP:20260421T184200Z
DTSTART;TZID=America/Chicago:20260107T192000
DURATION:PT0H40M0S
SUMMARY:Wolf/Albietz vs. Buenger/Hamilton
DESCRIPTION:Lsl Wednesday Low Int Doubles Tm. Lg. - Winter 26 - Paddle Up Pickleball Club
LOCATION:Court 7
CATEGORIES:QuickScores, Pickleball Game
TRANSP:OPAQUE
BEGIN:VALARM
TRIGGER:-PT2H
ACTION:DISPLAY
DESCRIPTION:Wolf/Albietz vs. Buenger/Hamilton
END:VALARM
END:VEVENT
BEGIN:VEVENT
UID:pupc-72371111-20260107T192000@quickscores.com
DTSTAMP:20260421T184200Z
DTSTART;TZID=America/Chicago:20260107T192000
DURATION:PT0H40M0S
SUMMARY:Huff/Huff vs. Hull/Deatherage
DESCRIPTION:Lsl Wednesday Low Int Doubles Tm. Lg. - Winter 26 - Paddle Up Pickleball Club
LOCATION:Court 6
CATEGORIES:QuickScores, Pickleball Game
TRANSP:OPAQUE
BEGIN:VALARM
TRIGGER:-PT2H
ACTION:DISPLAY
DESCRIPTION:Huff/Huff vs. Hull/Deatherage
END:VALARM
END:VEVENT
BEGIN:VEVENT
UID:pupc-72371112-20260107T200000@quickscores.com
DTSTAMP:20260421T184200Z
DTSTART;TZID=America/Chicago:20260107T200000
DURATION:PT0H40M0S
SUMMARY:Hull/Deatherage vs. Roppa/Roppa
DESCRIPTION:Lsl Wednesday Low Int Doubles Tm. Lg. - Winter 26 - Paddle Up Pickleball Club
LOCATION:Court 6
CATEGORIES:QuickScores, Pickleball Game
TRANSP:OPAQUE
BEGIN:VALARM
TRIGGER:-PT2H
ACTION:DISPLAY
DESCRIPTION:Hull/Deatherage vs. Roppa/Roppa
END:VALARM
END:VEVENT
BEGIN:VEVENT
UID:pupc-72371113-20260107T204000@quickscores.com
DTSTAMP:20260421T184200Z
DTSTART;TZID=America/Chicago:20260107T204000
DURATION:PT0H40M0S
SUMMARY:Buenger/Hamilton vs. Roppa/Roppa
DESCRIPTION:Lsl Wednesday Low Int Doubles Tm. Lg. - Winter 26 - Paddle Up Pickleball Club
LOCATION:Court 6
CATEGORIES:QuickScores, Pickleball Game
TRANSP:OPAQUE
BEGIN:VALARM
TRIGGER:-PT2H
ACTION:DISPLAY
DESCRIPTION:Buenger/Hamilton vs. Roppa/Roppa
END:VALARM
END:VEVENT
BEGIN:VEVENT
UID:pupc-72371117-20260114T180000@quickscores.com
DTSTAMP:20260421T184200Z
DTSTART;TZID=America/Chicago:20260114T180000
DURATION:PT0H40M0S
SUMMARY:Donovan/Snell vs. Hull/Deatherage
DESCRIPTION:Lsl Wednesday Low Int Doubles Tm. Lg. - Winter 26 - Paddle Up Pickleball Club
LOCATION:Court 6
CATEGORIES:QuickScores, Pickleball Game
TRANSP:OPAQUE
BEGIN:VALARM
TRIGGER:-PT2H
ACTION:DISPLAY
DESCRIPTION:Donovan/Snell vs. Hull/Deatherage
END:VALARM
END:VEVENT
BEGIN:VEVENT
UID:pupc-72371118-20260114T184000@quickscores.com
DTSTAMP:20260421T184200Z
DTSTART;TZID=America/Chicago:20260114T184000
DURATION:PT0H40M0S
SUMMARY:Hull/Deatherage vs. Buenger/Hamilton
DESCRIPTION:Lsl Wednesday Low Int Doubles Tm. Lg. - Winter 26 - Paddle Up Pickleball Club
LOCATION:Court 6
CATEGORIES:QuickScores, Pickleball Game
TRANSP:OPAQUE
BEGIN:VALARM
TRIGGER:-PT2H
ACTION:DISPLAY
DESCRIPTION:Hull/Deatherage vs. Buenger/Hamilton
END:VALARM
END:VEVENT
BEGIN:VEVENT
UID:pupc-72371116-20260114T192000@quickscores.com
DTSTAMP:20260421T184200Z
DTSTART;TZID=America/Chicago:20260114T192000
DURATION:PT0H40M0S
SUMMARY:Roppa/Roppa vs. Donovan/Snell
DESCRIPTION:Lsl Wednesday Low Int Doubles Tm. Lg. - Winter 26 - Paddle Up Pickleball Club
LOCATION:Court 7
CATEGORIES:QuickScores, Pickleball Game
TRANSP:OPAQUE
BEGIN:VALARM
TRIGGER:-PT2H
ACTION:DISPLAY
DESCRIPTION:Roppa/Roppa vs. Donovan/Snell
END:VALARM
END:VEVENT
BEGIN:VEVENT
UID:pupc-72371119-20260114T192000@quickscores.com
DTSTAMP:20260421T184200Z
DTSTART;TZID=America/Chicago:20260114T192000
DURATION:PT0H40M0S
SUMMARY:Buenger/Hamilton vs. Huff/Huff
DESCRIPTION:Lsl Wednesday Low Int Doubles Tm. Lg. - Winter 26 - Paddle Up Pickleball Club
LOCATION:Court 6
CATEGORIES:QuickScores, Pickleball Game
TRANSP:OPAQUE
BEGIN:VALARM
TRIGGER:-PT2H
ACTION:DISPLAY
DESCRIPTION:Buenger/Hamilton vs. Huff/Huff
END:VALARM
END:VEVENT
BEGIN:VEVENT
UID:pupc-72519734-20260114T200000@quickscores.com
DTSTAMP:20260421T184200Z
DTSTART;TZID=America/Chicago:20260114T200000
DURATION:PT0H40M0S
SUMMARY:Hollander/Lee2 vs. Roppa/Roppa
DESCRIPTION:Lsl Wednesday Low Int Doubles Tm. Lg. - Winter 26 - Paddle Up Pickleball Club
LOCATION:Court 9
CATEGORIES:QuickScores, Pickleball Game
TRANSP:OPAQUE
BEGIN:VALARM
TRIGGER:-PT2H
ACTION:DISPLAY
DESCRIPTION:Hollander/Lee2 vs. Roppa/Roppa
END:VALARM
END:VEVENT
BEGIN:VEVENT
UID:pupc-72371120-20260114T200000@quickscores.com
DTSTAMP:20260421T184200Z
DTSTART;TZID=America/Chicago:20260114T200000
DURATION:PT0H40M0S
SUMMARY:Wolf/Albietz vs. Huff/Huff
DESCRIPTION:Lsl Wednesday Low Int Doubles Tm. Lg. - Winter 26 - Paddle Up Pickleball Club
LOCATION:Court 6
CATEGORIES:QuickScores, Pickleball Game
TRANSP:OPAQUE
BEGIN:VALARM
TRIGGER:-PT2H
ACTION:DISPLAY
DESCRIPTION:Wolf/Albietz vs. Huff/Huff
END:VALARM
END:VEVENT
BEGIN:VEVENT
UID:pupc-72371115-20260114T204000@quickscores.com
DTSTAMP:20260421T184200Z
DTSTART;TZID=America/Chicago:20260114T204000
DURATION:PT0H40M0S
SUMMARY:Wolf/Albietz vs. Hollander/Lee2
DESCRIPTION:Lsl Wednesday Low Int Doubles Tm. Lg. - Winter 26 - Paddle Up Pickleball Club
LOCATION:Court 6
CATEGORIES:QuickScores, Pickleball Game
TRANSP:OPAQUE
BEGIN:VALARM
TRIGGER:-PT2H
ACTION:DISPLAY
DESCRIPTION:Wolf/Albietz vs. Hollander/Lee2
END:VALARM
END:VEVENT
BEGIN:VEVENT
UID:pupc-72519735-20260121T180000@quickscores.com
DTSTAMP:20260421T184200Z
DTSTART;TZID=America/Chicago:20260121T180000
DURATION:PT0H40M0S
SUMMARY:Hollander/Lee2 vs. Wolf/Albietz
DESCRIPTION:Lsl Wednesday Low Int Doubles Tm. Lg. - Winter 26 - Paddle Up Pickleball Club
LOCATION:Court 8
CATEGORIES:QuickScores, Pickleball Game
TRANSP:OPAQUE
BEGIN:VALARM
TRIGGER:-PT2H
ACTION:DISPLAY
DESCRIPTION:Hollander/Lee2 vs. Wolf/Albietz
END:VALARM
END:VEVENT
BEGIN:VEVENT
UID:pupc-72371126-20260121T180000@quickscores.com
DTSTAMP:20260421T184200Z
DTSTART;TZID=America/Chicago:20260121T180000
DURATION:PT0H40M0S
SUMMARY:Donovan/Snell vs. Buenger/Hamilton
DESCRIPTION:Lsl Wednesday Low Int Doubles Tm. Lg. - Winter 26 - Paddle Up Pickleball Club
LOCATION:Court 6
CATEGORIES:QuickScores, Pickleball Game
TRANSP:OPAQUE
BEGIN:VALARM
TRIGGER:-PT2H
ACTION:DISPLAY
DESCRIPTION:Donovan/Snell vs. Buenger/Hamilton
END:VALARM
END:VEVENT
BEGIN:VEVENT
UID:pupc-72371121-20260121T184000@quickscores.com
DTSTAMP:20260421T184200Z
DTSTART;TZID=America/Chicago:20260121T184000
DURATION:PT0H40M0S
SUMMARY:Donovan/Snell vs. Wolf/Albietz
DESCRIPTION:Lsl Wednesday Low Int Doubles Tm. Lg. - Winter 26 - Paddle Up Pickleball Club
LOCATION:Court 6
CATEGORIES:QuickScores, Pickleball Game
TRANSP:OPAQUE
BEGIN:VALARM
TRIGGER:-PT2H
ACTION:DISPLAY
DESCRIPTION:Donovan/Snell vs. Wolf/Albietz
END:VALARM
END:VEVENT
BEGIN:VEVENT
UID:pupc-72371124-20260121T192000@quickscores.com
DTSTAMP:20260421T184200Z
DTSTART;TZID=America/Chicago:20260121T192000
DURATION:PT0H40M0S
SUMMARY:Hollander/Lee2 vs. Hull/Deatherage
DESCRIPTION:Lsl Wednesday Low Int Doubles Tm. Lg. - Winter 26 - Paddle Up Pickleball Club
LOCATION:Court 6
CATEGORIES:QuickScores, Pickleball Game
TRANSP:OPAQUE
BEGIN:VALARM
TRIGGER:-PT2H
ACTION:DISPLAY
DESCRIPTION:Hollander/Lee2 vs. Hull/Deatherage
END:VALARM
END:VEVENT
BEGIN:VEVENT
UID:pupc-72371123-20260121T192000@quickscores.com
DTSTAMP:20260421T184200Z
DTSTART;TZID=America/Chicago:20260121T192000
DURATION:PT0H40M0S
SUMMARY:Roppa/Roppa vs. Buenger/Hamilton
DESCRIPTION:Lsl Wednesday Low Int Doubles Tm. Lg. - Winter 26 - Paddle Up Pickleball Club
LOCATION:Court 7
CATEGORIES:QuickScores, Pickleball Game
TRANSP:OPAQUE
BEGIN:VALARM
TRIGGER:-PT2H
ACTION:DISPLAY
DESCRIPTION:Roppa/Roppa vs. Buenger/Hamilton
END:VALARM
END:VEVENT
BEGIN:VEVENT
UID:pupc-72371122-20260121T200000@quickscores.com
DTSTAMP:20260421T184200Z
DTSTART;TZID=America/Chicago:20260121T200000
DURATION:PT0H40M0S
SUMMARY:Hull/Deatherage vs. Huff/Huff
DESCRIPTION:Lsl Wednesday Low Int Doubles Tm. Lg. - Winter 26 - Paddle Up Pickleball Club
LOCATION:Court 6
CATEGORIES:QuickScores, Pickleball Game
TRANSP:OPAQUE
BEGIN:VALARM
TRIGGER:-PT2H
ACTION:DISPLAY
DESCRIPTION:Hull/Deatherage vs. Huff/Huff
END:VALARM
END:VEVENT
BEGIN:VEVENT
UID:pupc-72371125-20260121T204000@quickscores.com
DTSTAMP:20260421T184200Z
DTSTART;TZID=America/Chicago:20260121T204000
DURATION:PT0H40M0S
SUMMARY:Roppa/Roppa vs. Huff/Huff
DESCRIPTION:Lsl Wednesday Low Int Doubles Tm. Lg. - Winter 26 - Paddle Up Pickleball Club
LOCATION:Court 6
CATEGORIES:QuickScores, Pickleball Game
TRANSP:OPAQUE
BEGIN:VALARM
TRIGGER:-PT2H
ACTION:DISPLAY
DESCRIPTION:Roppa/Roppa vs. Huff/Huff
END:VALARM
END:VEVENT
BEGIN:VEVENT
UID:pupc-72371131-20260128T180000@quickscores.com
DTSTAMP:20260421T184200Z
DTSTART;TZID=America/Chicago:20260128T180000
DURATION:PT0H40M0S
SUMMARY:Hull/Deatherage vs. Donovan/Snell
DESCRIPTION:Lsl Wednesday Low Int Doubles Tm. Lg. - Winter 26 - Paddle Up Pickleball Club
LOCATION:Court 6
CATEGORIES:QuickScores, Pickleball Game
TRANSP:OPAQUE
BEGIN:VALARM
TRIGGER:-PT2H
ACTION:DISPLAY
DESCRIPTION:Hull/Deatherage vs. Donovan/Snell
END:VALARM
END:VEVENT
BEGIN:VEVENT
UID:pupc-72371128-20260128T184000@quickscores.com
DTSTAMP:20260421T184200Z
DTSTART;TZID=America/Chicago:20260128T184000
DURATION:PT0H40M0S
SUMMARY:Roppa/Roppa vs. Hull/Deatherage
DESCRIPTION:Lsl Wednesday Low Int Doubles Tm. Lg. - Winter 26 - Paddle Up Pickleball Club
LOCATION:Court 6
CATEGORIES:QuickScores, Pickleball Game
TRANSP:OPAQUE
BEGIN:VALARM
TRIGGER:-PT2H
ACTION:DISPLAY
DESCRIPTION:Roppa/Roppa vs. Hull/Deatherage
END:VALARM
END:VEVENT
BEGIN:VEVENT
UID:pupc-72371130-20260128T192000@quickscores.com
DTSTAMP:20260421T184200Z
DTSTART;TZID=America/Chicago:20260128T192000
DURATION:PT0H40M0S
SUMMARY:Roppa/Roppa vs. Wolf/Albietz
DESCRIPTION:Lsl Wednesday Low Int Doubles Tm. Lg. - Winter 26 - Paddle Up Pickleball Club
LOCATION:Court 6
CATEGORIES:QuickScores, Pickleball Game
TRANSP:OPAQUE
BEGIN:VALARM
TRIGGER:-PT2H
ACTION:DISPLAY
DESCRIPTION:Roppa/Roppa vs. Wolf/Albietz
END:VALARM
END:VEVENT
BEGIN:VEVENT
UID:pupc-72371127-20260128T192000@quickscores.com
DTSTAMP:20260421T184200Z
DTSTART;TZID=America/Chicago:20260128T192000
DURATION:PT0H40M0S
SUMMARY:Donovan/Snell vs. Hollander/Lee2
DESCRIPTION:Lsl Wednesday Low Int Doubles Tm. Lg. - Winter 26 - Paddle Up Pickleball Club
LOCATION:Court 7
CATEGORIES:QuickScores, Pickleball Game
TRANSP:OPAQUE
BEGIN:VALARM
TRIGGER:-PT2H
ACTION:DISPLAY
DESCRIPTION:Donovan/Snell vs. Hollander/Lee2
END:VALARM
END:VEVENT
BEGIN:VEVENT
UID:pupc-72519736-20260128T200000@quickscores.com
DTSTAMP:20260421T184200Z
DTSTART;TZID=America/Chicago:20260128T200000
DURATION:PT0H40M0S
SUMMARY:Huff/Huff vs. Hollander/Lee2
DESCRIPTION:Lsl Wednesday Low Int Doubles Tm. Lg. - Winter 26 - Paddle Up Pickleball Club
LOCATION:Court 7
CATEGORIES:QuickScores, Pickleball Game
TRANSP:OPAQUE
BEGIN:VALARM
TRIGGER:-PT2H
ACTION:DISPLAY
DESCRIPTION:Huff/Huff vs. Hollander/Lee2
END:VALARM
END:VEVENT
BEGIN:VEVENT
UID:pupc-72371129-20260128T200000@quickscores.com
DTSTAMP:20260421T184200Z
DTSTART;TZID=America/Chicago:20260128T200000
DURATION:PT0H40M0S
SUMMARY:Buenger/Hamilton vs. Wolf/Albietz
DESCRIPTION:Lsl Wednesday Low Int Doubles Tm. Lg. - Winter 26 - Paddle Up Pickleball Club
LOCATION:Court 6
CATEGORIES:QuickScores, Pickleball Game
TRANSP:OPAQUE
BEGIN:VALARM
TRIGGER:-PT2H
ACTION:DISPLAY
DESCRIPTION:Buenger/Hamilton vs. Wolf/Albietz
END:VALARM
END:VEVENT
BEGIN:VEVENT
UID:pupc-72371132-20260128T204000@quickscores.com
DTSTAMP:20260421T184200Z
DTSTART;TZID=America/Chicago:20260128T204000
DURATION:PT0H40M0S
SUMMARY:Huff/Huff vs. Buenger/Hamilton
DESCRIPTION:Lsl Wednesday Low Int Doubles Tm. Lg. - Winter 26 - Paddle Up Pickleball Club
LOCATION:Court 6
CATEGORIES:QuickScores, Pickleball Game
TRANSP:OPAQUE
BEGIN:VALARM
TRIGGER:-PT2H
ACTION:DISPLAY
DESCRIPTION:Huff/Huff vs. Buenger/Hamilton
END:VALARM
END:VEVENT
BEGIN:VEVENT
UID:pupc-72371133-20260204T180000@quickscores.com
DTSTAMP:20260421T184200Z
DTSTART;TZID=America/Chicago:20260204T180000
DURATION:PT0H40M0S
SUMMARY:Donovan/Snell vs. Buenger/Hamilton
DESCRIPTION:Lsl Wednesday Low Int Doubles Tm. Lg. - Winter 26 - Paddle Up Pickleball Club
LOCATION:Court 6
CATEGORIES:QuickScores, Pickleball Game
TRANSP:OPAQUE
BEGIN:VALARM
TRIGGER:-PT2H
ACTION:DISPLAY
DESCRIPTION:Donovan/Snell vs. Buenger/Hamilton
END:VALARM
END:VEVENT
BEGIN:VEVENT
UID:pupc-72371138-20260204T184000@quickscores.com
DTSTAMP:20260421T184200Z
DTSTART;TZID=America/Chicago:20260204T184000
DURATION:PT0H40M0S
SUMMARY:Roppa/Roppa vs. Donovan/Snell
DESCRIPTION:Lsl Wednesday Low Int Doubles Tm. Lg. - Winter 26 - Paddle Up Pickleball Club
LOCATION:Court 6
CATEGORIES:QuickScores, Pickleball Game
TRANSP:OPAQUE
BEGIN:VALARM
TRIGGER:-PT2H
ACTION:DISPLAY
DESCRIPTION:Roppa/Roppa vs. Donovan/Snell
END:VALARM
END:VEVENT
BEGIN:VEVENT
UID:pupc-72371134-20260204T192000@quickscores.com
DTSTAMP:20260421T184200Z
DTSTART;TZID=America/Chicago:20260204T192000
DURATION:PT0H40M0S
SUMMARY:Buenger/Hamilton vs. Hollander/Lee2
DESCRIPTION:Lsl Wednesday Low Int Doubles Tm. Lg. - Winter 26 - Paddle Up Pickleball Club
LOCATION:Court 6
CATEGORIES:QuickScores, Pickleball Game
TRANSP:OPAQUE
BEGIN:VALARM
TRIGGER:-PT2H
ACTION:DISPLAY
DESCRIPTION:Buenger/Hamilton vs. Hollander/Lee2
END:VALARM
END:VEVENT
BEGIN:VEVENT
UID:pupc-72371137-20260204T192000@quickscores.com
DTSTAMP:20260421T184200Z
DTSTART;TZID=America/Chicago:20260204T192000
DURATION:PT0H40M0S
SUMMARY:Huff/Huff vs. Roppa/Roppa
DESCRIPTION:Lsl Wednesday Low Int Doubles Tm. Lg. - Winter 26 - Paddle Up Pickleball Club
LOCATION:Court 7
CATEGORIES:QuickScores, Pickleball Game
TRANSP:OPAQUE
BEGIN:VALARM
TRIGGER:-PT2H
ACTION:DISPLAY
DESCRIPTION:Huff/Huff vs. Roppa/Roppa
END:VALARM
END:VEVENT
BEGIN:VEVENT
UID:pupc-72371136-20260204T200000@quickscores.com
DTSTAMP:20260421T184200Z
DTSTART;TZID=America/Chicago:20260204T200000
DURATION:PT0H40M0S
SUMMARY:Hull/Deatherage vs. Wolf/Albietz
DESCRIPTION:Lsl Wednesday Low Int Doubles Tm. Lg. - Winter 26 - Paddle Up Pickleball Club
LOCATION:Court 6
CATEGORIES:QuickScores, Pickleball Game
TRANSP:OPAQUE
BEGIN:VALARM
TRIGGER:-PT2H
ACTION:DISPLAY
DESCRIPTION:Hull/Deatherage vs. Wolf/Albietz
END:VALARM
END:VEVENT
BEGIN:VEVENT
UID:pupc-72519737-20260204T204000@quickscores.com
DTSTAMP:20260421T184200Z
DTSTART;TZID=America/Chicago:20260204T204000
DURATION:PT0H40M0S
SUMMARY:Hollander/Lee2 vs. Hull/Deatherage
DESCRIPTION:Lsl Wednesday Low Int Doubles Tm. Lg. - Winter 26 - Paddle Up Pickleball Club
LOCATION:Court 3
CATEGORIES:QuickScores, Pickleball Game
TRANSP:OPAQUE
BEGIN:VALARM
TRIGGER:-PT2H
ACTION:DISPLAY
DESCRIPTION:Hollander/Lee2 vs. Hull/Deatherage
END:VALARM
END:VEVENT
BEGIN:VEVENT
UID:pupc-72371135-20260204T204000@quickscores.com
DTSTAMP:20260421T184200Z
DTSTART;TZID=America/Chicago:20260204T204000
DURATION:PT0H40M0S
SUMMARY:Huff/Huff vs. Wolf/Albietz
DESCRIPTION:Lsl Wednesday Low Int Doubles Tm. Lg. - Winter 26 - Paddle Up Pickleball Club
LOCATION:Court 6
CATEGORIES:QuickScores, Pickleball Game
TRANSP:OPAQUE
BEGIN:VALARM
TRIGGER:-PT2H
ACTION:DISPLAY
DESCRIPTION:Huff/Huff vs. Wolf/Albietz
END:VALARM
END:VEVENT
BEGIN:VEVENT
UID:pupc-72969491-20260211T180000@quickscores.com
DTSTAMP:20260421T184200Z
DTSTART;TZID=America/Chicago:20260211T180000
DURATION:PT0H30M0S
SUMMARY:[4] Hollander/Lee2 vs. [5] Roppa/Brengarth
DESCRIPTION:Lsl Wednesday Low Int Doubles Tm. Lg. - Winter 26 - Paddle Up Pickleball Club
LOCATION:Court 6
CATEGORIES:QuickScores, Pickleball Game
TRANSP:OPAQUE
BEGIN:VALARM
TRIGGER:-PT2H
ACTION:DISPLAY
DESCRIPTION:[4] Hollander/Lee2 vs. [5] Roppa/Brengarth
END:VALARM
END:VEVENT
BEGIN:VEVENT
UID:pupc-72969492-20260211T180000@quickscores.com
DTSTAMP:20260421T184200Z
DTSTART;TZID=America/Chicago:20260211T180000
DURATION:PT0H30M0S
SUMMARY:[2] Hull/Deatherage vs. [7] Wolf/Albietz
DESCRIPTION:Lsl Wednesday Low Int Doubles Tm. Lg. - Winter 26 - Paddle Up Pickleball Club
LOCATION:Court 7
CATEGORIES:QuickScores, Pickleball Game
TRANSP:OPAQUE
BEGIN:VALARM
TRIGGER:-PT2H
ACTION:DISPLAY
DESCRIPTION:[2] Hull/Deatherage vs. [7] Wolf/Albietz
END:VALARM
END:VEVENT
BEGIN:VEVENT
UID:pupc-72969493-20260211T180000@quickscores.com
DTSTAMP:20260421T184200Z
DTSTART;TZID=America/Chicago:20260211T180000
DURATION:PT0H30M0S
SUMMARY:[3] Huff/Huff vs. [6] Buenger/Hamilton
DESCRIPTION:Lsl Wednesday Low Int Doubles Tm. Lg. - Winter 26 - Paddle Up Pickleball Club
LOCATION:Court 8
CATEGORIES:QuickScores, Pickleball Game
TRANSP:OPAQUE
BEGIN:VALARM
TRIGGER:-PT2H
ACTION:DISPLAY
DESCRIPTION:[3] Huff/Huff vs. [6] Buenger/Hamilton
END:VALARM
END:VEVENT
BEGIN:VEVENT
UID:pupc-72969494-20260211T183000@quickscores.com
DTSTAMP:20260421T184200Z
DTSTART;TZID=America/Chicago:20260211T183000
DURATION:PT0H30M0S
SUMMARY:[1] Donovan/Snell vs. Winner of Game 1
DESCRIPTION:Lsl Wednesday Low Int Doubles Tm. Lg. - Winter 26 - Paddle Up Pickleball Club
LOCATION:Court 6
CATEGORIES:QuickScores, Pickleball Game
TRANSP:OPAQUE
BEGIN:VALARM
TRIGGER:-PT2H
ACTION:DISPLAY
DESCRIPTION:[1] Donovan/Snell vs. Winner of Game 1
END:VALARM
END:VEVENT
BEGIN:VEVENT
UID:pupc-72969495-20260211T190000@quickscores.com
DTSTAMP:20260421T184200Z
DTSTART;TZID=America/Chicago:20260211T190000
DURATION:PT0H30M0S
SUMMARY:Winner of Game 2 vs. Winner of Game 3
DESCRIPTION:Lsl Wednesday Low Int Doubles Tm. Lg. - Winter 26 - Paddle Up Pickleball Club
LOCATION:Court 6
CATEGORIES:QuickScores, Pickleball Game
TRANSP:OPAQUE
BEGIN:VALARM
TRIGGER:-PT2H
ACTION:DISPLAY
DESCRIPTION:Winner of Game 2 vs. Winner of Game 3
END:VALARM
END:VEVENT
BEGIN:VEVENT
UID:pupc-72969498-20260211T193000@quickscores.com
DTSTAMP:20260421T184200Z
DTSTART;TZID=America/Chicago:20260211T193000
DURATION:PT0H30M0S
SUMMARY:Winner of Game 4 vs. Winner of Game 5
DESCRIPTION:Lsl Wednesday Low Int Doubles Tm. Lg. - Winter 26 - Paddle Up Pickleball Club
LOCATION:Court 6
CATEGORIES:QuickScores, Pickleball Game
TRANSP:OPAQUE
BEGIN:VALARM
TRIGGER:-PT2H
ACTION:DISPLAY
DESCRIPTION:Winner of Game 4 vs. Winner of Game 5
END:VALARM
END:VEVENT
BEGIN:VEVENT
UID:pupc-72969496-20260211T200000@quickscores.com
DTSTAMP:20260421T184200Z
DTSTART;TZID=America/Chicago:20260211T200000
DURATION:PT0H30M0S
SUMMARY:Loser of Game 4 vs. Loser of Game 5
DESCRIPTION:Lsl Wednesday Low Int Doubles Tm. Lg. - Winter 26 - Paddle Up Pickleball Club
LOCATION:Court 6
CATEGORIES:QuickScores, Pickleball Game
TRANSP:OPAQUE
BEGIN:VALARM
TRIGGER:-PT2H
ACTION:DISPLAY
DESCRIPTION:Loser of Game 4 vs. Loser of Game 5
END:VALARM
END:VEVENT
END:VCALENDAR
