BEGIN:VCALENDAR
VERSION:2.0
PRODID:-//QuickScores.com//BQ Dynamic iCal Creator//EN
METHOD:PUBLISH
X-WR-CALNAME:8u Soccer - Spring 2026
X-WR-CALDESC:QuickScores game calendar
X-PUBLISHED-TTL:PT24H
REFRESH-INTERVAL;VALUE=DURATION:PT24H
CALSCALE:GREGORIAN
BEGIN:VTIMEZONE
TZID:America/Chicago
X-LIC-LOCATION:America/Chicago
BEGIN:DAYLIGHT
TZNAME:CDT
TZOFFSETFROM:-0600
TZOFFSETTO:-0500
DTSTART:19700308T020000
RRULE:FREQ=YEARLY;BYMONTH=3;BYDAY=2SU
END:DAYLIGHT
BEGIN:STANDARD
TZNAME:CST
TZOFFSETFROM:-0500
TZOFFSETTO:-0600
DTSTART:19701101T020000
RRULE:FREQ=YEARLY;BYMONTH=11;BYDAY=1SU
END:STANDARD
END:VTIMEZONE
BEGIN:VEVENT
UID:fbc-73465315-20260324T173000@quickscores.com
DTSTAMP:20260422T094200Z
DTSTART;TZID=America/Chicago:20260324T173000
DURATION:PT1H0M0S
SUMMARY:Practice: Faith Dodson
DESCRIPTION:8u Soccer - Faith Baptist Church Recreation Ministry
LOCATION:8U Soccer Field 4
CATEGORIES:QuickScores, Soccer - Youth Game
TRANSP:OPAQUE
BEGIN:VALARM
TRIGGER:-PT2H
ACTION:DISPLAY
DESCRIPTION:Practice: Faith Dodson
END:VALARM
END:VEVENT
BEGIN:VEVENT
UID:fbc-73465319-20260324T180000@quickscores.com
DTSTAMP:20260422T094200Z
DTSTART;TZID=America/Chicago:20260324T180000
DURATION:PT1H0M0S
SUMMARY:Practice: Faith Mobley
DESCRIPTION:8u Soccer - Faith Baptist Church Recreation Ministry
LOCATION:8U Soccer Field 3
CATEGORIES:QuickScores, Soccer - Youth Game
TRANSP:OPAQUE
BEGIN:VALARM
TRIGGER:-PT2H
ACTION:DISPLAY
DESCRIPTION:Practice: Faith Mobley
END:VALARM
END:VEVENT
BEGIN:VEVENT
UID:fbc-73465323-20260324T190000@quickscores.com
DTSTAMP:20260422T094200Z
DTSTART;TZID=America/Chicago:20260324T190000
DURATION:PT1H0M0S
SUMMARY:Practice: Faith Horn
DESCRIPTION:8u Soccer - Faith Baptist Church Recreation Ministry
LOCATION:8U Soccer Field 3
CATEGORIES:QuickScores, Soccer - Youth Game
TRANSP:OPAQUE
BEGIN:VALARM
TRIGGER:-PT2H
ACTION:DISPLAY
DESCRIPTION:Practice: Faith Horn
END:VALARM
END:VEVENT
BEGIN:VEVENT
UID:fbc-73465327-20260326T180000@quickscores.com
DTSTAMP:20260422T094200Z
DTSTART;TZID=America/Chicago:20260326T180000
DURATION:PT1H0M0S
SUMMARY:Practice: Faith Bailey
DESCRIPTION:8u Soccer - Faith Baptist Church Recreation Ministry
LOCATION:8U Soccer Field 4
CATEGORIES:QuickScores, Soccer - Youth Game
TRANSP:OPAQUE
BEGIN:VALARM
TRIGGER:-PT2H
ACTION:DISPLAY
DESCRIPTION:Practice: Faith Bailey
END:VALARM
END:VEVENT
BEGIN:VEVENT
UID:fbc-73465331-20260328T090000@quickscores.com
DTSTAMP:20260422T094200Z
DTSTART;TZID=America/Chicago:20260328T090000
DURATION:PT1H0M0S
SUMMARY:Practice: Faith Mobley
DESCRIPTION:8u Soccer - Faith Baptist Church Recreation Ministry
LOCATION:8U Soccer Field 3
CATEGORIES:QuickScores, Soccer - Youth Game
TRANSP:OPAQUE
BEGIN:VALARM
TRIGGER:-PT2H
ACTION:DISPLAY
DESCRIPTION:Practice: Faith Mobley
END:VALARM
END:VEVENT
BEGIN:VEVENT
UID:fbc-73465337-20260328T100000@quickscores.com
DTSTAMP:20260422T094200Z
DTSTART;TZID=America/Chicago:20260328T100000
DURATION:PT1H0M0S
SUMMARY:Practice: Faith Dodson
DESCRIPTION:8u Soccer - Faith Baptist Church Recreation Ministry
LOCATION:8U Soccer Field 4
CATEGORIES:QuickScores, Soccer - Youth Game
TRANSP:OPAQUE
BEGIN:VALARM
TRIGGER:-PT2H
ACTION:DISPLAY
DESCRIPTION:Practice: Faith Dodson
END:VALARM
END:VEVENT
BEGIN:VEVENT
UID:fbc-73465334-20260328T100000@quickscores.com
DTSTAMP:20260422T094200Z
DTSTART;TZID=America/Chicago:20260328T100000
DURATION:PT1H0M0S
SUMMARY:Practice: Faith Horn
DESCRIPTION:8u Soccer - Faith Baptist Church Recreation Ministry
LOCATION:8U Soccer Field 3
CATEGORIES:QuickScores, Soccer - Youth Game
TRANSP:OPAQUE
BEGIN:VALARM
TRIGGER:-PT2H
ACTION:DISPLAY
DESCRIPTION:Practice: Faith Horn
END:VALARM
END:VEVENT
BEGIN:VEVENT
UID:fbc-73465340-20260328T110000@quickscores.com
DTSTAMP:20260422T094200Z
DTSTART;TZID=America/Chicago:20260328T110000
DURATION:PT1H0M0S
SUMMARY:Practice: Faith Bailey
DESCRIPTION:8u Soccer - Faith Baptist Church Recreation Ministry
LOCATION:8U Soccer Field 4
CATEGORIES:QuickScores, Soccer - Youth Game
TRANSP:OPAQUE
BEGIN:VALARM
TRIGGER:-PT2H
ACTION:DISPLAY
DESCRIPTION:Practice: Faith Bailey
END:VALARM
END:VEVENT
BEGIN:VEVENT
UID:fbc-73465316-20260331T173000@quickscores.com
DTSTAMP:20260422T094200Z
DTSTART;TZID=America/Chicago:20260331T173000
DURATION:PT1H0M0S
SUMMARY:Practice: Faith Dodson
DESCRIPTION:8u Soccer - Faith Baptist Church Recreation Ministry
LOCATION:8U Soccer Field 4
CATEGORIES:QuickScores, Soccer - Youth Game
TRANSP:OPAQUE
BEGIN:VALARM
TRIGGER:-PT2H
ACTION:DISPLAY
DESCRIPTION:Practice: Faith Dodson
END:VALARM
END:VEVENT
BEGIN:VEVENT
UID:fbc-73465320-20260331T180000@quickscores.com
DTSTAMP:20260422T094200Z
DTSTART;TZID=America/Chicago:20260331T180000
DURATION:PT1H0M0S
SUMMARY:Practice: Faith Mobley
DESCRIPTION:8u Soccer - Faith Baptist Church Recreation Ministry
LOCATION:8U Soccer Field 3
CATEGORIES:QuickScores, Soccer - Youth Game
TRANSP:OPAQUE
BEGIN:VALARM
TRIGGER:-PT2H
ACTION:DISPLAY
DESCRIPTION:Practice: Faith Mobley
END:VALARM
END:VEVENT
BEGIN:VEVENT
UID:fbc-73465324-20260331T190000@quickscores.com
DTSTAMP:20260422T094200Z
DTSTART;TZID=America/Chicago:20260331T190000
DURATION:PT1H0M0S
SUMMARY:Practice: Faith Horn
DESCRIPTION:8u Soccer - Faith Baptist Church Recreation Ministry
LOCATION:8U Soccer Field 3
CATEGORIES:QuickScores, Soccer - Youth Game
TRANSP:OPAQUE
BEGIN:VALARM
TRIGGER:-PT2H
ACTION:DISPLAY
DESCRIPTION:Practice: Faith Horn
END:VALARM
END:VEVENT
BEGIN:VEVENT
UID:fbc-73465328-20260402T180000@quickscores.com
DTSTAMP:20260422T094200Z
DTSTART;TZID=America/Chicago:20260402T180000
DURATION:PT1H0M0S
SUMMARY:Practice: Faith Bailey
DESCRIPTION:8u Soccer - Faith Baptist Church Recreation Ministry
LOCATION:8U Soccer Field 4
CATEGORIES:QuickScores, Soccer - Youth Game
TRANSP:OPAQUE
BEGIN:VALARM
TRIGGER:-PT2H
ACTION:DISPLAY
DESCRIPTION:Practice: Faith Bailey
END:VALARM
END:VEVENT
BEGIN:VEVENT
UID:fbc-73465317-20260407T173000@quickscores.com
DTSTAMP:20260422T094200Z
DTSTART;TZID=America/Chicago:20260407T173000
DURATION:PT1H0M0S
SUMMARY:Practice: Faith Dodson
DESCRIPTION:8u Soccer - Faith Baptist Church Recreation Ministry
LOCATION:8U Soccer Field 4
CATEGORIES:QuickScores, Soccer - Youth Game
TRANSP:OPAQUE
BEGIN:VALARM
TRIGGER:-PT2H
ACTION:DISPLAY
DESCRIPTION:Practice: Faith Dodson
END:VALARM
END:VEVENT
BEGIN:VEVENT
UID:fbc-73465321-20260407T180000@quickscores.com
DTSTAMP:20260422T094200Z
DTSTART;TZID=America/Chicago:20260407T180000
DURATION:PT1H0M0S
SUMMARY:Practice: Faith Mobley
DESCRIPTION:8u Soccer - Faith Baptist Church Recreation Ministry
LOCATION:8U Soccer Field 3
CATEGORIES:QuickScores, Soccer - Youth Game
TRANSP:OPAQUE
BEGIN:VALARM
TRIGGER:-PT2H
ACTION:DISPLAY
DESCRIPTION:Practice: Faith Mobley
END:VALARM
END:VEVENT
BEGIN:VEVENT
UID:fbc-73465325-20260407T190000@quickscores.com
DTSTAMP:20260422T094200Z
DTSTART;TZID=America/Chicago:20260407T190000
DURATION:PT1H0M0S
SUMMARY:Practice: Faith Horn
DESCRIPTION:8u Soccer - Faith Baptist Church Recreation Ministry
LOCATION:8U Soccer Field 3
CATEGORIES:QuickScores, Soccer - Youth Game
TRANSP:OPAQUE
BEGIN:VALARM
TRIGGER:-PT2H
ACTION:DISPLAY
DESCRIPTION:Practice: Faith Horn
END:VALARM
END:VEVENT
BEGIN:VEVENT
UID:fbc-73465329-20260409T180000@quickscores.com
DTSTAMP:20260422T094200Z
DTSTART;TZID=America/Chicago:20260409T180000
DURATION:PT1H0M0S
SUMMARY:Practice: Faith Bailey
DESCRIPTION:8u Soccer - Faith Baptist Church Recreation Ministry
LOCATION:8U Soccer Field 4
CATEGORIES:QuickScores, Soccer - Youth Game
TRANSP:OPAQUE
BEGIN:VALARM
TRIGGER:-PT2H
ACTION:DISPLAY
DESCRIPTION:Practice: Faith Bailey
END:VALARM
END:VEVENT
BEGIN:VEVENT
UID:fbc-73465333-20260411T090000@quickscores.com
DTSTAMP:20260422T094200Z
DTSTART;TZID=America/Chicago:20260411T090000
DURATION:PT1H0M0S
SUMMARY:Practice: Faith Mobley
DESCRIPTION:8u Soccer - Faith Baptist Church Recreation Ministry
LOCATION:8U Soccer Field 3
CATEGORIES:QuickScores, Soccer - Youth Game
TRANSP:OPAQUE
BEGIN:VALARM
TRIGGER:-PT2H
ACTION:DISPLAY
DESCRIPTION:Practice: Faith Mobley
END:VALARM
END:VEVENT
BEGIN:VEVENT
UID:fbc-73465336-20260411T100000@quickscores.com
DTSTAMP:20260422T094200Z
DTSTART;TZID=America/Chicago:20260411T100000
DURATION:PT1H0M0S
SUMMARY:Practice: Faith Horn
DESCRIPTION:8u Soccer - Faith Baptist Church Recreation Ministry
LOCATION:8U Soccer Field 3
CATEGORIES:QuickScores, Soccer - Youth Game
TRANSP:OPAQUE
BEGIN:VALARM
TRIGGER:-PT2H
ACTION:DISPLAY
DESCRIPTION:Practice: Faith Horn
END:VALARM
END:VEVENT
BEGIN:VEVENT
UID:fbc-73465339-20260411T100000@quickscores.com
DTSTAMP:20260422T094200Z
DTSTART;TZID=America/Chicago:20260411T100000
DURATION:PT1H0M0S
SUMMARY:Practice: Faith Dodson
DESCRIPTION:8u Soccer - Faith Baptist Church Recreation Ministry
LOCATION:8U Soccer Field 4
CATEGORIES:QuickScores, Soccer - Youth Game
TRANSP:OPAQUE
BEGIN:VALARM
TRIGGER:-PT2H
ACTION:DISPLAY
DESCRIPTION:Practice: Faith Dodson
END:VALARM
END:VEVENT
BEGIN:VEVENT
UID:fbc-73465342-20260411T110000@quickscores.com
DTSTAMP:20260422T094200Z
DTSTART;TZID=America/Chicago:20260411T110000
DURATION:PT1H0M0S
SUMMARY:Practice: Faith Bailey
DESCRIPTION:8u Soccer - Faith Baptist Church Recreation Ministry
LOCATION:8U Soccer Field 4
CATEGORIES:QuickScores, Soccer - Youth Game
TRANSP:OPAQUE
BEGIN:VALARM
TRIGGER:-PT2H
ACTION:DISPLAY
DESCRIPTION:Practice: Faith Bailey
END:VALARM
END:VEVENT
BEGIN:VEVENT
UID:fbc-73465318-20260414T173000@quickscores.com
DTSTAMP:20260422T094200Z
DTSTART;TZID=America/Chicago:20260414T173000
DURATION:PT1H0M0S
SUMMARY:Practice: Faith Dodson
DESCRIPTION:8u Soccer - Faith Baptist Church Recreation Ministry
LOCATION:8U Soccer Field 4
CATEGORIES:QuickScores, Soccer - Youth Game
TRANSP:OPAQUE
BEGIN:VALARM
TRIGGER:-PT2H
ACTION:DISPLAY
DESCRIPTION:Practice: Faith Dodson
END:VALARM
END:VEVENT
BEGIN:VEVENT
UID:fbc-73465322-20260414T180000@quickscores.com
DTSTAMP:20260422T094200Z
DTSTART;TZID=America/Chicago:20260414T180000
DURATION:PT1H0M0S
SUMMARY:Practice: Faith Mobley
DESCRIPTION:8u Soccer - Faith Baptist Church Recreation Ministry
LOCATION:8U Soccer Field 3
CATEGORIES:QuickScores, Soccer - Youth Game
TRANSP:OPAQUE
BEGIN:VALARM
TRIGGER:-PT2H
ACTION:DISPLAY
DESCRIPTION:Practice: Faith Mobley
END:VALARM
END:VEVENT
BEGIN:VEVENT
UID:fbc-73465326-20260414T190000@quickscores.com
DTSTAMP:20260422T094200Z
DTSTART;TZID=America/Chicago:20260414T190000
DURATION:PT1H0M0S
SUMMARY:Practice: Faith Horn
DESCRIPTION:8u Soccer - Faith Baptist Church Recreation Ministry
LOCATION:8U Soccer Field 3
CATEGORIES:QuickScores, Soccer - Youth Game
TRANSP:OPAQUE
BEGIN:VALARM
TRIGGER:-PT2H
ACTION:DISPLAY
DESCRIPTION:Practice: Faith Horn
END:VALARM
END:VEVENT
BEGIN:VEVENT
UID:fbc-73465330-20260416T180000@quickscores.com
DTSTAMP:20260422T094200Z
DTSTART;TZID=America/Chicago:20260416T180000
DURATION:PT1H0M0S
SUMMARY:Practice: Faith Bailey
DESCRIPTION:8u Soccer - Faith Baptist Church Recreation Ministry
LOCATION:8U Soccer Field 4
CATEGORIES:QuickScores, Soccer - Youth Game
TRANSP:OPAQUE
BEGIN:VALARM
TRIGGER:-PT2H
ACTION:DISPLAY
DESCRIPTION:Practice: Faith Bailey
END:VALARM
END:VEVENT
BEGIN:VEVENT
UID:fbc-73773731-20260418T093000@quickscores.com
DTSTAMP:20260422T094200Z
DTSTART;TZID=America/Chicago:20260418T093000
DURATION:PT1H0M0S
SUMMARY:Faith Bailey vs. Faith Mobley
DESCRIPTION:8u Soccer - Faith Baptist Church Recreation Ministry
LOCATION:8U Soccer Field 3
CATEGORIES:QuickScores, Soccer - Youth Game
TRANSP:OPAQUE
BEGIN:VALARM
TRIGGER:-PT2H
ACTION:DISPLAY
DESCRIPTION:Faith Bailey vs. Faith Mobley
END:VALARM
END:VEVENT
BEGIN:VEVENT
UID:fbc-73773732-20260418T103000@quickscores.com
DTSTAMP:20260422T094200Z
DTSTART;TZID=America/Chicago:20260418T103000
DURATION:PT1H0M0S
SUMMARY:Faith Horn vs. Faith Dodson
DESCRIPTION:8u Soccer - Faith Baptist Church Recreation Ministry
LOCATION:8U Soccer Field 3
CATEGORIES:QuickScores, Soccer - Youth Game
TRANSP:OPAQUE
BEGIN:VALARM
TRIGGER:-PT2H
ACTION:DISPLAY
DESCRIPTION:Faith Horn vs. Faith Dodson
END:VALARM
END:VEVENT
BEGIN:VEVENT
UID:fbc-73773734-20260421T180000@quickscores.com
DTSTAMP:20260422T094200Z
DTSTART;TZID=America/Chicago:20260421T180000
DURATION:PT1H0M0S
SUMMARY:Faith Dodson vs. Faith Mobley
DESCRIPTION:8u Soccer - Faith Baptist Church Recreation Ministry
LOCATION:8U Soccer Field 4
CATEGORIES:QuickScores, Soccer - Youth Game
TRANSP:OPAQUE
BEGIN:VALARM
TRIGGER:-PT2H
ACTION:DISPLAY
DESCRIPTION:Faith Dodson vs. Faith Mobley
END:VALARM
END:VEVENT
BEGIN:VEVENT
UID:fbc-73773733-20260421T190000@quickscores.com
DTSTAMP:20260422T094200Z
DTSTART;TZID=America/Chicago:20260421T190000
DURATION:PT1H0M0S
SUMMARY:Faith Bailey vs. Faith Horn
DESCRIPTION:8u Soccer - Faith Baptist Church Recreation Ministry
LOCATION:8U Soccer Field 4
CATEGORIES:QuickScores, Soccer - Youth Game
TRANSP:OPAQUE
BEGIN:VALARM
TRIGGER:-PT2H
ACTION:DISPLAY
DESCRIPTION:Faith Bailey vs. Faith Horn
END:VALARM
END:VEVENT
BEGIN:VEVENT
UID:fbc-73773735-20260425T093000@quickscores.com
DTSTAMP:20260422T094200Z
DTSTART;TZID=America/Chicago:20260425T093000
DURATION:PT1H0M0S
SUMMARY:Faith Bailey vs. Faith Dodson
DESCRIPTION:8u Soccer - Faith Baptist Church Recreation Ministry
LOCATION:8U Soccer Field 3
CATEGORIES:QuickScores, Soccer - Youth Game
TRANSP:OPAQUE
BEGIN:VALARM
TRIGGER:-PT2H
ACTION:DISPLAY
DESCRIPTION:Faith Bailey vs. Faith Dodson
END:VALARM
END:VEVENT
BEGIN:VEVENT
UID:fbc-73773736-20260425T103000@quickscores.com
DTSTAMP:20260422T094200Z
DTSTART;TZID=America/Chicago:20260425T103000
DURATION:PT1H0M0S
SUMMARY:Faith Mobley vs. Faith Horn
DESCRIPTION:8u Soccer - Faith Baptist Church Recreation Ministry
LOCATION:8U Soccer Field 3
CATEGORIES:QuickScores, Soccer - Youth Game
TRANSP:OPAQUE
BEGIN:VALARM
TRIGGER:-PT2H
ACTION:DISPLAY
DESCRIPTION:Faith Mobley vs. Faith Horn
END:VALARM
END:VEVENT
BEGIN:VEVENT
UID:fbc-73773737-20260428T180000@quickscores.com
DTSTAMP:20260422T094200Z
DTSTART;TZID=America/Chicago:20260428T180000
DURATION:PT1H0M0S
SUMMARY:Faith Mobley vs. Faith Bailey
DESCRIPTION:8u Soccer - Faith Baptist Church Recreation Ministry
LOCATION:8U Soccer Field 4
CATEGORIES:QuickScores, Soccer - Youth Game
TRANSP:OPAQUE
BEGIN:VALARM
TRIGGER:-PT2H
ACTION:DISPLAY
DESCRIPTION:Faith Mobley vs. Faith Bailey
END:VALARM
END:VEVENT
BEGIN:VEVENT
UID:fbc-73773738-20260428T190000@quickscores.com
DTSTAMP:20260422T094200Z
DTSTART;TZID=America/Chicago:20260428T190000
DURATION:PT1H0M0S
SUMMARY:Faith Dodson vs. Faith Horn
DESCRIPTION:8u Soccer - Faith Baptist Church Recreation Ministry
LOCATION:8U Soccer Field 4
CATEGORIES:QuickScores, Soccer - Youth Game
TRANSP:OPAQUE
BEGIN:VALARM
TRIGGER:-PT2H
ACTION:DISPLAY
DESCRIPTION:Faith Dodson vs. Faith Horn
END:VALARM
END:VEVENT
BEGIN:VEVENT
UID:fbc-73773739-20260502T093000@quickscores.com
DTSTAMP:20260422T094200Z
DTSTART;TZID=America/Chicago:20260502T093000
DURATION:PT1H0M0S
SUMMARY:Faith Horn vs. Faith Bailey
DESCRIPTION:Picture day! Schedule tba --- 8u Soccer - Faith Baptist Church Recreation Ministry
LOCATION:8U Soccer Field 3
CATEGORIES:QuickScores, Soccer - Youth Game
TRANSP:OPAQUE
BEGIN:VALARM
TRIGGER:-PT2H
ACTION:DISPLAY
DESCRIPTION:Faith Horn vs. Faith Bailey
END:VALARM
END:VEVENT
BEGIN:VEVENT
UID:fbc-73773740-20260502T103000@quickscores.com
DTSTAMP:20260422T094200Z
DTSTART;TZID=America/Chicago:20260502T103000
DURATION:PT1H0M0S
SUMMARY:Faith Mobley vs. Faith Dodson
DESCRIPTION:Picture day! Schedule tba --- 8u Soccer - Faith Baptist Church Recreation Ministry
LOCATION:8U Soccer Field 3
CATEGORIES:QuickScores, Soccer - Youth Game
TRANSP:OPAQUE
BEGIN:VALARM
TRIGGER:-PT2H
ACTION:DISPLAY
DESCRIPTION:Faith Mobley vs. Faith Dodson
END:VALARM
END:VEVENT
BEGIN:VEVENT
UID:fbc-73773744-20260505T180000@quickscores.com
DTSTAMP:20260422T094200Z
DTSTART;TZID=America/Chicago:20260505T180000
DURATION:PT1H0M0S
SUMMARY:Faith Horn vs. Faith Mobley
DESCRIPTION:8u Soccer - Faith Baptist Church Recreation Ministry
LOCATION:8U Soccer Field 4
CATEGORIES:QuickScores, Soccer - Youth Game
TRANSP:OPAQUE
BEGIN:VALARM
TRIGGER:-PT2H
ACTION:DISPLAY
DESCRIPTION:Faith Horn vs. Faith Mobley
END:VALARM
END:VEVENT
BEGIN:VEVENT
UID:fbc-73773743-20260505T190000@quickscores.com
DTSTAMP:20260422T094200Z
DTSTART;TZID=America/Chicago:20260505T190000
DURATION:PT1H0M0S
SUMMARY:Faith Dodson vs. Faith Bailey
DESCRIPTION:8u Soccer - Faith Baptist Church Recreation Ministry
LOCATION:8U Soccer Field 4
CATEGORIES:QuickScores, Soccer - Youth Game
TRANSP:OPAQUE
BEGIN:VALARM
TRIGGER:-PT2H
ACTION:DISPLAY
DESCRIPTION:Faith Dodson vs. Faith Bailey
END:VALARM
END:VEVENT
BEGIN:VEVENT
UID:fbc-73773742-20260509T093000@quickscores.com
DTSTAMP:20260422T094200Z
DTSTART;TZID=America/Chicago:20260509T093000
DURATION:PT1H0M0S
SUMMARY:Faith Horn vs. Faith Dodson
DESCRIPTION:8u Soccer - Faith Baptist Church Recreation Ministry
LOCATION:8U Soccer Field 3
CATEGORIES:QuickScores, Soccer - Youth Game
TRANSP:OPAQUE
BEGIN:VALARM
TRIGGER:-PT2H
ACTION:DISPLAY
DESCRIPTION:Faith Horn vs. Faith Dodson
END:VALARM
END:VEVENT
BEGIN:VEVENT
UID:fbc-73773741-20260509T103000@quickscores.com
DTSTAMP:20260422T094200Z
DTSTART;TZID=America/Chicago:20260509T103000
DURATION:PT1H0M0S
SUMMARY:Faith Mobley vs. Faith Bailey
DESCRIPTION:8u Soccer - Faith Baptist Church Recreation Ministry
LOCATION:8U Soccer Field 3
CATEGORIES:QuickScores, Soccer - Youth Game
TRANSP:OPAQUE
BEGIN:VALARM
TRIGGER:-PT2H
ACTION:DISPLAY
DESCRIPTION:Faith Mobley vs. Faith Bailey
END:VALARM
END:VEVENT
BEGIN:VEVENT
UID:fbc-73773745-20260512T180000@quickscores.com
DTSTAMP:20260422T094200Z
DTSTART;TZID=America/Chicago:20260512T180000
DURATION:PT1H0M0S
SUMMARY:Faith Bailey vs. Faith Horn
DESCRIPTION:8u Soccer - Faith Baptist Church Recreation Ministry
LOCATION:8U Soccer Field 4
CATEGORIES:QuickScores, Soccer - Youth Game
TRANSP:OPAQUE
BEGIN:VALARM
TRIGGER:-PT2H
ACTION:DISPLAY
DESCRIPTION:Faith Bailey vs. Faith Horn
END:VALARM
END:VEVENT
BEGIN:VEVENT
UID:fbc-73773746-20260512T190000@quickscores.com
DTSTAMP:20260422T094200Z
DTSTART;TZID=America/Chicago:20260512T190000
DURATION:PT1H0M0S
SUMMARY:Faith Dodson vs. Faith Mobley
DESCRIPTION:8u Soccer - Faith Baptist Church Recreation Ministry
LOCATION:8U Soccer Field 4
CATEGORIES:QuickScores, Soccer - Youth Game
TRANSP:OPAQUE
BEGIN:VALARM
TRIGGER:-PT2H
ACTION:DISPLAY
DESCRIPTION:Faith Dodson vs. Faith Mobley
END:VALARM
END:VEVENT
END:VCALENDAR
