BEGIN:VCALENDAR
VERSION:2.0
PRODID:-//QuickScores.com//BQ Dynamic iCal Creator//EN
METHOD:PUBLISH
X-WR-CALNAME:Monday D - 2026 Spring Basketball League
X-WR-CALDESC:QuickScores game calendar
X-PUBLISHED-TTL:PT24H
REFRESH-INTERVAL;VALUE=DURATION:PT24H
CALSCALE:GREGORIAN
BEGIN:VTIMEZONE
TZID:America/Los_Angeles
X-LIC-LOCATION:America/Los_Angeles
BEGIN:DAYLIGHT
TZNAME:PDT
TZOFFSETFROM:-0800
TZOFFSETTO:-0700
DTSTART:19700308T020000
RRULE:FREQ=YEARLY;BYMONTH=3;BYDAY=2SU
END:DAYLIGHT
BEGIN:STANDARD
TZNAME:PST
TZOFFSETFROM:-0700
TZOFFSETTO:-0800
DTSTART:19701101T020000
RRULE:FREQ=YEARLY;BYMONTH=11;BYDAY=1SU
END:STANDARD
END:VTIMEZONE
BEGIN:VEVENT
UID:crpd-72802326-20260202T183000@quickscores.com
DTSTAMP:20260425T192700Z
DTSTART;TZID=America/Los_Angeles:20260202T183000
DURATION:PT1H0M0S
SUMMARY:Ball Don't Lie vs. The Stretch Marks
DESCRIPTION:Monday D - Conejo Recreation and Park District
LOCATION:Thousand Oaks Community Center
CATEGORIES:QuickScores, Basketball - Adult Game
TRANSP:OPAQUE
BEGIN:VALARM
TRIGGER:-PT2H
ACTION:DISPLAY
DESCRIPTION:Ball Don't Lie vs. The Stretch Marks
END:VALARM
END:VEVENT
BEGIN:VEVENT
UID:crpd-72802325-20260202T193000@quickscores.com
DTSTAMP:20260425T192700Z
DTSTART;TZID=America/Los_Angeles:20260202T193000
DURATION:PT1H0M0S
SUMMARY:Eagles vs. Legends
DESCRIPTION:Monday D - Conejo Recreation and Park District
LOCATION:Thousand Oaks Community Center
CATEGORIES:QuickScores, Basketball - Adult Game
TRANSP:OPAQUE
BEGIN:VALARM
TRIGGER:-PT2H
ACTION:DISPLAY
DESCRIPTION:Eagles vs. Legends
END:VALARM
END:VEVENT
BEGIN:VEVENT
UID:crpd-72802327-20260202T203000@quickscores.com
DTSTAMP:20260425T192700Z
DTSTART;TZID=America/Los_Angeles:20260202T203000
DURATION:PT1H0M0S
SUMMARY:The Boyz vs. Rim Rattlers
DESCRIPTION:Monday D - Conejo Recreation and Park District
LOCATION:Thousand Oaks Community Center
CATEGORIES:QuickScores, Basketball - Adult Game
TRANSP:OPAQUE
BEGIN:VALARM
TRIGGER:-PT2H
ACTION:DISPLAY
DESCRIPTION:The Boyz vs. Rim Rattlers
END:VALARM
END:VEVENT
BEGIN:VEVENT
UID:crpd-72802324-20260202T213000@quickscores.com
DTSTAMP:20260425T192700Z
DTSTART;TZID=America/Los_Angeles:20260202T213000
DURATION:PT1H0M0S
SUMMARY:Beerlicious vs. Flashes
DESCRIPTION:Monday D - Conejo Recreation and Park District
LOCATION:Thousand Oaks Community Center
CATEGORIES:QuickScores, Basketball - Adult Game
TRANSP:OPAQUE
BEGIN:VALARM
TRIGGER:-PT2H
ACTION:DISPLAY
DESCRIPTION:Beerlicious vs. Flashes
END:VALARM
END:VEVENT
BEGIN:VEVENT
UID:crpd-72802329-20260209T183000@quickscores.com
DTSTAMP:20260425T192700Z
DTSTART;TZID=America/Los_Angeles:20260209T183000
DURATION:PT1H0M0S
SUMMARY:Ball Don't Lie vs. Flashes
DESCRIPTION:Monday D - Conejo Recreation and Park District
LOCATION:Thousand Oaks Community Center
CATEGORIES:QuickScores, Basketball - Adult Game
TRANSP:OPAQUE
BEGIN:VALARM
TRIGGER:-PT2H
ACTION:DISPLAY
DESCRIPTION:Ball Don't Lie vs. Flashes
END:VALARM
END:VEVENT
BEGIN:VEVENT
UID:crpd-72802328-20260209T193000@quickscores.com
DTSTAMP:20260425T192700Z
DTSTART;TZID=America/Los_Angeles:20260209T193000
DURATION:PT1H0M0S
SUMMARY:Beerlicious vs. The Boyz
DESCRIPTION:Monday D - Conejo Recreation and Park District
LOCATION:Thousand Oaks Community Center
CATEGORIES:QuickScores, Basketball - Adult Game
TRANSP:OPAQUE
BEGIN:VALARM
TRIGGER:-PT2H
ACTION:DISPLAY
DESCRIPTION:Beerlicious vs. The Boyz
END:VALARM
END:VEVENT
BEGIN:VEVENT
UID:crpd-72802330-20260209T203000@quickscores.com
DTSTAMP:20260425T192700Z
DTSTART;TZID=America/Los_Angeles:20260209T203000
DURATION:PT1H0M0S
SUMMARY:Eagles vs. Rim Rattlers
DESCRIPTION:Monday D - Conejo Recreation and Park District
LOCATION:Thousand Oaks Community Center
CATEGORIES:QuickScores, Basketball - Adult Game
TRANSP:OPAQUE
BEGIN:VALARM
TRIGGER:-PT2H
ACTION:DISPLAY
DESCRIPTION:Eagles vs. Rim Rattlers
END:VALARM
END:VEVENT
BEGIN:VEVENT
UID:crpd-72802331-20260209T213000@quickscores.com
DTSTAMP:20260425T192700Z
DTSTART;TZID=America/Los_Angeles:20260209T213000
DURATION:PT1H0M0S
SUMMARY:Legends vs. The Stretch Marks
DESCRIPTION:Monday D - Conejo Recreation and Park District
LOCATION:Thousand Oaks Community Center
CATEGORIES:QuickScores, Basketball - Adult Game
TRANSP:OPAQUE
BEGIN:VALARM
TRIGGER:-PT2H
ACTION:DISPLAY
DESCRIPTION:Legends vs. The Stretch Marks
END:VALARM
END:VEVENT
BEGIN:VEVENT
UID:crpd-72802332-20260223T183000@quickscores.com
DTSTAMP:20260425T192700Z
DTSTART;TZID=America/Los_Angeles:20260223T183000
DURATION:PT1H0M0S
SUMMARY:Rim Rattlers vs. Beerlicious
DESCRIPTION:Monday D - Conejo Recreation and Park District
LOCATION:Thousand Oaks Community Center
CATEGORIES:QuickScores, Basketball - Adult Game
TRANSP:OPAQUE
BEGIN:VALARM
TRIGGER:-PT2H
ACTION:DISPLAY
DESCRIPTION:Rim Rattlers vs. Beerlicious
END:VALARM
END:VEVENT
BEGIN:VEVENT
UID:crpd-72802334-20260223T193000@quickscores.com
DTSTAMP:20260425T192700Z
DTSTART;TZID=America/Los_Angeles:20260223T193000
DURATION:PT1H0M0S
SUMMARY:The Boyz vs. Legends
DESCRIPTION:Monday D - Conejo Recreation and Park District
LOCATION:Thousand Oaks Community Center
CATEGORIES:QuickScores, Basketball - Adult Game
TRANSP:OPAQUE
BEGIN:VALARM
TRIGGER:-PT2H
ACTION:DISPLAY
DESCRIPTION:The Boyz vs. Legends
END:VALARM
END:VEVENT
BEGIN:VEVENT
UID:crpd-72802333-20260223T203000@quickscores.com
DTSTAMP:20260425T192700Z
DTSTART;TZID=America/Los_Angeles:20260223T203000
DURATION:PT1H0M0S
SUMMARY:Flashes vs. The Stretch Marks
DESCRIPTION:Monday D - Conejo Recreation and Park District
LOCATION:Thousand Oaks Community Center
CATEGORIES:QuickScores, Basketball - Adult Game
TRANSP:OPAQUE
BEGIN:VALARM
TRIGGER:-PT2H
ACTION:DISPLAY
DESCRIPTION:Flashes vs. The Stretch Marks
END:VALARM
END:VEVENT
BEGIN:VEVENT
UID:crpd-72802335-20260223T213000@quickscores.com
DTSTAMP:20260425T192700Z
DTSTART;TZID=America/Los_Angeles:20260223T213000
DURATION:PT1H0M0S
SUMMARY:Ball Don't Lie vs. Eagles
DESCRIPTION:Monday D - Conejo Recreation and Park District
LOCATION:Thousand Oaks Community Center
CATEGORIES:QuickScores, Basketball - Adult Game
TRANSP:OPAQUE
BEGIN:VALARM
TRIGGER:-PT2H
ACTION:DISPLAY
DESCRIPTION:Ball Don't Lie vs. Eagles
END:VALARM
END:VEVENT
BEGIN:VEVENT
UID:crpd-72802337-20260302T183000@quickscores.com
DTSTAMP:20260425T192700Z
DTSTART;TZID=America/Los_Angeles:20260302T183000
DURATION:PT1H0M0S
SUMMARY:Eagles vs. The Boyz
DESCRIPTION:Monday D - Conejo Recreation and Park District
LOCATION:Thousand Oaks Community Center
CATEGORIES:QuickScores, Basketball - Adult Game
TRANSP:OPAQUE
BEGIN:VALARM
TRIGGER:-PT2H
ACTION:DISPLAY
DESCRIPTION:Eagles vs. The Boyz
END:VALARM
END:VEVENT
BEGIN:VEVENT
UID:crpd-72802338-20260302T193000@quickscores.com
DTSTAMP:20260425T192700Z
DTSTART;TZID=America/Los_Angeles:20260302T193000
DURATION:PT1H0M0S
SUMMARY:Legends vs. Flashes
DESCRIPTION:Monday D - Conejo Recreation and Park District
LOCATION:Thousand Oaks Community Center
CATEGORIES:QuickScores, Basketball - Adult Game
TRANSP:OPAQUE
BEGIN:VALARM
TRIGGER:-PT2H
ACTION:DISPLAY
DESCRIPTION:Legends vs. Flashes
END:VALARM
END:VEVENT
BEGIN:VEVENT
UID:crpd-72802336-20260302T203000@quickscores.com
DTSTAMP:20260425T192700Z
DTSTART;TZID=America/Los_Angeles:20260302T203000
DURATION:PT1H0M0S
SUMMARY:Ball Don't Lie vs. Beerlicious
DESCRIPTION:Monday D - Conejo Recreation and Park District
LOCATION:Thousand Oaks Community Center
CATEGORIES:QuickScores, Basketball - Adult Game
TRANSP:OPAQUE
BEGIN:VALARM
TRIGGER:-PT2H
ACTION:DISPLAY
DESCRIPTION:Ball Don't Lie vs. Beerlicious
END:VALARM
END:VEVENT
BEGIN:VEVENT
UID:crpd-72802339-20260302T213000@quickscores.com
DTSTAMP:20260425T192700Z
DTSTART;TZID=America/Los_Angeles:20260302T213000
DURATION:PT1H0M0S
SUMMARY:The Stretch Marks vs. Rim Rattlers
DESCRIPTION:Monday D - Conejo Recreation and Park District
LOCATION:Thousand Oaks Community Center
CATEGORIES:QuickScores, Basketball - Adult Game
TRANSP:OPAQUE
BEGIN:VALARM
TRIGGER:-PT2H
ACTION:DISPLAY
DESCRIPTION:The Stretch Marks vs. Rim Rattlers
END:VALARM
END:VEVENT
BEGIN:VEVENT
UID:crpd-72802341-20260309T183000@quickscores.com
DTSTAMP:20260425T192700Z
DTSTART;TZID=America/Los_Angeles:20260309T183000
DURATION:PT1H0M0S
SUMMARY:Rim Rattlers vs. Legends
DESCRIPTION:Monday D - Conejo Recreation and Park District
LOCATION:Thousand Oaks Community Center
CATEGORIES:QuickScores, Basketball - Adult Game
TRANSP:OPAQUE
BEGIN:VALARM
TRIGGER:-PT2H
ACTION:DISPLAY
DESCRIPTION:Rim Rattlers vs. Legends
END:VALARM
END:VEVENT
BEGIN:VEVENT
UID:crpd-72802342-20260309T193000@quickscores.com
DTSTAMP:20260425T192700Z
DTSTART;TZID=America/Los_Angeles:20260309T193000
DURATION:PT1H0M0S
SUMMARY:Flashes vs. Eagles
DESCRIPTION:Monday D - Conejo Recreation and Park District
LOCATION:Thousand Oaks Community Center
CATEGORIES:QuickScores, Basketball - Adult Game
TRANSP:OPAQUE
BEGIN:VALARM
TRIGGER:-PT2H
ACTION:DISPLAY
DESCRIPTION:Flashes vs. Eagles
END:VALARM
END:VEVENT
BEGIN:VEVENT
UID:crpd-72802340-20260309T203000@quickscores.com
DTSTAMP:20260425T192700Z
DTSTART;TZID=America/Los_Angeles:20260309T203000
DURATION:PT1H0M0S
SUMMARY:Beerlicious vs. The Stretch Marks
DESCRIPTION:Monday D - Conejo Recreation and Park District
LOCATION:Thousand Oaks Community Center
CATEGORIES:QuickScores, Basketball - Adult Game
TRANSP:OPAQUE
BEGIN:VALARM
TRIGGER:-PT2H
ACTION:DISPLAY
DESCRIPTION:Beerlicious vs. The Stretch Marks
END:VALARM
END:VEVENT
BEGIN:VEVENT
UID:crpd-72802343-20260309T213000@quickscores.com
DTSTAMP:20260425T192700Z
DTSTART;TZID=America/Los_Angeles:20260309T213000
DURATION:PT1H0M0S
SUMMARY:The Boyz vs. Ball Don't Lie
DESCRIPTION:Monday D - Conejo Recreation and Park District
LOCATION:Thousand Oaks Community Center
CATEGORIES:QuickScores, Basketball - Adult Game
TRANSP:OPAQUE
BEGIN:VALARM
TRIGGER:-PT2H
ACTION:DISPLAY
DESCRIPTION:The Boyz vs. Ball Don't Lie
END:VALARM
END:VEVENT
BEGIN:VEVENT
UID:crpd-72802346-20260316T183000@quickscores.com
DTSTAMP:20260425T192700Z
DTSTART;TZID=America/Los_Angeles:20260316T183000
DURATION:PT1H0M0S
SUMMARY:The Stretch Marks vs. The Boyz
DESCRIPTION:Monday D - Conejo Recreation and Park District
LOCATION:Thousand Oaks Community Center
CATEGORIES:QuickScores, Basketball - Adult Game
TRANSP:OPAQUE
BEGIN:VALARM
TRIGGER:-PT2H
ACTION:DISPLAY
DESCRIPTION:The Stretch Marks vs. The Boyz
END:VALARM
END:VEVENT
BEGIN:VEVENT
UID:crpd-72802344-20260316T193000@quickscores.com
DTSTAMP:20260425T192700Z
DTSTART;TZID=America/Los_Angeles:20260316T193000
DURATION:PT1H0M0S
SUMMARY:Eagles vs. Beerlicious
DESCRIPTION:Monday D - Conejo Recreation and Park District
LOCATION:Thousand Oaks Community Center
CATEGORIES:QuickScores, Basketball - Adult Game
TRANSP:OPAQUE
BEGIN:VALARM
TRIGGER:-PT2H
ACTION:DISPLAY
DESCRIPTION:Eagles vs. Beerlicious
END:VALARM
END:VEVENT
BEGIN:VEVENT
UID:crpd-72802345-20260316T203000@quickscores.com
DTSTAMP:20260425T192700Z
DTSTART;TZID=America/Los_Angeles:20260316T203000
DURATION:PT1H0M0S
SUMMARY:Legends vs. Ball Don't Lie
DESCRIPTION:Monday D - Conejo Recreation and Park District
LOCATION:Thousand Oaks Community Center
CATEGORIES:QuickScores, Basketball - Adult Game
TRANSP:OPAQUE
BEGIN:VALARM
TRIGGER:-PT2H
ACTION:DISPLAY
DESCRIPTION:Legends vs. Ball Don't Lie
END:VALARM
END:VEVENT
BEGIN:VEVENT
UID:crpd-72802347-20260316T213000@quickscores.com
DTSTAMP:20260425T192700Z
DTSTART;TZID=America/Los_Angeles:20260316T213000
DURATION:PT1H0M0S
SUMMARY:Flashes vs. Rim Rattlers
DESCRIPTION:Monday D - Conejo Recreation and Park District
LOCATION:Thousand Oaks Community Center
CATEGORIES:QuickScores, Basketball - Adult Game
TRANSP:OPAQUE
BEGIN:VALARM
TRIGGER:-PT2H
ACTION:DISPLAY
DESCRIPTION:Flashes vs. Rim Rattlers
END:VALARM
END:VEVENT
BEGIN:VEVENT
UID:crpd-72802349-20260323T183000@quickscores.com
DTSTAMP:20260425T192700Z
DTSTART;TZID=America/Los_Angeles:20260323T183000
DURATION:PT1H0M0S
SUMMARY:The Stretch Marks vs. Eagles
DESCRIPTION:Monday D - Conejo Recreation and Park District
LOCATION:Thousand Oaks Community Center
CATEGORIES:QuickScores, Basketball - Adult Game
TRANSP:OPAQUE
BEGIN:VALARM
TRIGGER:-PT2H
ACTION:DISPLAY
DESCRIPTION:The Stretch Marks vs. Eagles
END:VALARM
END:VEVENT
BEGIN:VEVENT
UID:crpd-72802350-20260323T193000@quickscores.com
DTSTAMP:20260425T192700Z
DTSTART;TZID=America/Los_Angeles:20260323T193000
DURATION:PT1H0M0S
SUMMARY:Rim Rattlers vs. Ball Don't Lie
DESCRIPTION:Monday D - Conejo Recreation and Park District
LOCATION:Thousand Oaks Community Center
CATEGORIES:QuickScores, Basketball - Adult Game
TRANSP:OPAQUE
BEGIN:VALARM
TRIGGER:-PT2H
ACTION:DISPLAY
DESCRIPTION:Rim Rattlers vs. Ball Don't Lie
END:VALARM
END:VEVENT
BEGIN:VEVENT
UID:crpd-72802351-20260323T203000@quickscores.com
DTSTAMP:20260425T192700Z
DTSTART;TZID=America/Los_Angeles:20260323T203000
DURATION:PT1H0M0S
SUMMARY:The Boyz vs. Flashes
DESCRIPTION:Monday D - Conejo Recreation and Park District
LOCATION:Thousand Oaks Community Center
CATEGORIES:QuickScores, Basketball - Adult Game
TRANSP:OPAQUE
BEGIN:VALARM
TRIGGER:-PT2H
ACTION:DISPLAY
DESCRIPTION:The Boyz vs. Flashes
END:VALARM
END:VEVENT
BEGIN:VEVENT
UID:crpd-72802348-20260323T213000@quickscores.com
DTSTAMP:20260425T192700Z
DTSTART;TZID=America/Los_Angeles:20260323T213000
DURATION:PT1H0M0S
SUMMARY:Beerlicious vs. Legends
DESCRIPTION:Monday D - Conejo Recreation and Park District
LOCATION:Thousand Oaks Community Center
CATEGORIES:QuickScores, Basketball - Adult Game
TRANSP:OPAQUE
BEGIN:VALARM
TRIGGER:-PT2H
ACTION:DISPLAY
DESCRIPTION:Beerlicious vs. Legends
END:VALARM
END:VEVENT
BEGIN:VEVENT
UID:crpd-72802352-20260330T183000@quickscores.com
DTSTAMP:20260425T192700Z
DTSTART;TZID=America/Los_Angeles:20260330T183000
DURATION:PT1H0M0S
SUMMARY:Flashes vs. Beerlicious
DESCRIPTION:Monday D - Conejo Recreation and Park District
LOCATION:Thousand Oaks Community Center
CATEGORIES:QuickScores, Basketball - Adult Game
TRANSP:OPAQUE
BEGIN:VALARM
TRIGGER:-PT2H
ACTION:DISPLAY
DESCRIPTION:Flashes vs. Beerlicious
END:VALARM
END:VEVENT
BEGIN:VEVENT
UID:crpd-72802354-20260330T193000@quickscores.com
DTSTAMP:20260425T192700Z
DTSTART;TZID=America/Los_Angeles:20260330T193000
DURATION:PT1H0M0S
SUMMARY:The Stretch Marks vs. Ball Don't Lie
DESCRIPTION:Monday D - Conejo Recreation and Park District
LOCATION:Thousand Oaks Community Center
CATEGORIES:QuickScores, Basketball - Adult Game
TRANSP:OPAQUE
BEGIN:VALARM
TRIGGER:-PT2H
ACTION:DISPLAY
DESCRIPTION:The Stretch Marks vs. Ball Don't Lie
END:VALARM
END:VEVENT
BEGIN:VEVENT
UID:crpd-72802353-20260330T203000@quickscores.com
DTSTAMP:20260425T192700Z
DTSTART;TZID=America/Los_Angeles:20260330T203000
DURATION:PT1H0M0S
SUMMARY:Rim Rattlers vs. The Boyz
DESCRIPTION:Monday D - Conejo Recreation and Park District
LOCATION:Thousand Oaks Community Center
CATEGORIES:QuickScores, Basketball - Adult Game
TRANSP:OPAQUE
BEGIN:VALARM
TRIGGER:-PT2H
ACTION:DISPLAY
DESCRIPTION:Rim Rattlers vs. The Boyz
END:VALARM
END:VEVENT
BEGIN:VEVENT
UID:crpd-72802355-20260330T213000@quickscores.com
DTSTAMP:20260425T192700Z
DTSTART;TZID=America/Los_Angeles:20260330T213000
DURATION:PT1H0M0S
SUMMARY:Legends vs. Eagles
DESCRIPTION:Monday D - Conejo Recreation and Park District
LOCATION:Thousand Oaks Community Center
CATEGORIES:QuickScores, Basketball - Adult Game
TRANSP:OPAQUE
BEGIN:VALARM
TRIGGER:-PT2H
ACTION:DISPLAY
DESCRIPTION:Legends vs. Eagles
END:VALARM
END:VEVENT
END:VCALENDAR
