BEGIN:VCALENDAR
VERSION:2.0
PRODID:-//QuickScores.com//BQ Dynamic iCal Creator//EN
METHOD:PUBLISH
X-WR-CALNAME:Wednesday Coed C1 - 2026 Winter Volleyball League
X-WR-CALDESC:QuickScores game calendar
X-PUBLISHED-TTL:PT24H
REFRESH-INTERVAL;VALUE=DURATION:PT24H
CALSCALE:GREGORIAN
BEGIN:VTIMEZONE
TZID:America/Los_Angeles
X-LIC-LOCATION:America/Los_Angeles
BEGIN:DAYLIGHT
TZNAME:PDT
TZOFFSETFROM:-0800
TZOFFSETTO:-0700
DTSTART:19700308T020000
RRULE:FREQ=YEARLY;BYMONTH=3;BYDAY=2SU
END:DAYLIGHT
BEGIN:STANDARD
TZNAME:PST
TZOFFSETFROM:-0700
TZOFFSETTO:-0800
DTSTART:19701101T020000
RRULE:FREQ=YEARLY;BYMONTH=11;BYDAY=1SU
END:STANDARD
END:VTIMEZONE
BEGIN:VEVENT
UID:crpd-72470585-20260114T190000@quickscores.com
DTSTAMP:20260424T162100Z
DTSTART;TZID=America/Los_Angeles:20260114T190000
DURATION:PT1H0M0S
SUMMARY:Diggin 'Em vs. You Go!
DESCRIPTION:Wednesday Coed C1 - Conejo Recreation and Park District
LOCATION:Thousand Oaks Community Center Court #1
CATEGORIES:QuickScores, Volleyball - Adult Game
TRANSP:OPAQUE
BEGIN:VALARM
TRIGGER:-PT2H
ACTION:DISPLAY
DESCRIPTION:Diggin 'Em vs. You Go!
END:VALARM
END:VEVENT
BEGIN:VEVENT
UID:crpd-72470586-20260114T190000@quickscores.com
DTSTAMP:20260424T162100Z
DTSTART;TZID=America/Los_Angeles:20260114T190000
DURATION:PT1H0M0S
SUMMARY:Deja Vu vs. Bag of Digs
DESCRIPTION:Wednesday Coed C1 - Conejo Recreation and Park District
LOCATION:Thousand Oaks Community Center Court #2
CATEGORIES:QuickScores, Volleyball - Adult Game
TRANSP:OPAQUE
BEGIN:VALARM
TRIGGER:-PT2H
ACTION:DISPLAY
DESCRIPTION:Deja Vu vs. Bag of Digs
END:VALARM
END:VEVENT
BEGIN:VEVENT
UID:crpd-72470583-20260114T200000@quickscores.com
DTSTAMP:20260424T162100Z
DTSTART;TZID=America/Los_Angeles:20260114T200000
DURATION:PT1H0M0S
SUMMARY:Negma vs. Net Gains
DESCRIPTION:Wednesday Coed C1 - Conejo Recreation and Park District
LOCATION:Thousand Oaks Community Center Court #1
CATEGORIES:QuickScores, Volleyball - Adult Game
TRANSP:OPAQUE
BEGIN:VALARM
TRIGGER:-PT2H
ACTION:DISPLAY
DESCRIPTION:Negma vs. Net Gains
END:VALARM
END:VEVENT
BEGIN:VEVENT
UID:crpd-72470584-20260114T200000@quickscores.com
DTSTAMP:20260424T162100Z
DTSTART;TZID=America/Los_Angeles:20260114T200000
DURATION:PT1H0M0S
SUMMARY:Deja Vu vs. Ace Holes
DESCRIPTION:Wednesday Coed C1 - Conejo Recreation and Park District
LOCATION:Thousand Oaks Community Center Court #2
CATEGORIES:QuickScores, Volleyball - Adult Game
TRANSP:OPAQUE
BEGIN:VALARM
TRIGGER:-PT2H
ACTION:DISPLAY
DESCRIPTION:Deja Vu vs. Ace Holes
END:VALARM
END:VEVENT
BEGIN:VEVENT
UID:crpd-72470587-20260121T190000@quickscores.com
DTSTAMP:20260424T162100Z
DTSTART;TZID=America/Los_Angeles:20260121T190000
DURATION:PT1H0M0S
SUMMARY:Bag of Digs vs. Deja Vu
DESCRIPTION:Wednesday Coed C1 - Conejo Recreation and Park District
LOCATION:Thousand Oaks Community Center Court #1
CATEGORIES:QuickScores, Volleyball - Adult Game
TRANSP:OPAQUE
BEGIN:VALARM
TRIGGER:-PT2H
ACTION:DISPLAY
DESCRIPTION:Bag of Digs vs. Deja Vu
END:VALARM
END:VEVENT
BEGIN:VEVENT
UID:crpd-72470588-20260121T190000@quickscores.com
DTSTAMP:20260424T162100Z
DTSTART;TZID=America/Los_Angeles:20260121T190000
DURATION:PT1H0M0S
SUMMARY:Diggin 'Em vs. Net Gains
DESCRIPTION:Wednesday Coed C1 - Conejo Recreation and Park District
LOCATION:Thousand Oaks Community Center Court #2
CATEGORIES:QuickScores, Volleyball - Adult Game
TRANSP:OPAQUE
BEGIN:VALARM
TRIGGER:-PT2H
ACTION:DISPLAY
DESCRIPTION:Diggin 'Em vs. Net Gains
END:VALARM
END:VEVENT
BEGIN:VEVENT
UID:crpd-72470589-20260121T200000@quickscores.com
DTSTAMP:20260424T162100Z
DTSTART;TZID=America/Los_Angeles:20260121T200000
DURATION:PT1H0M0S
SUMMARY:You Go! vs. Ace Holes
DESCRIPTION:Wednesday Coed C1 - Conejo Recreation and Park District
LOCATION:Thousand Oaks Community Center Court #1
CATEGORIES:QuickScores, Volleyball - Adult Game
TRANSP:OPAQUE
BEGIN:VALARM
TRIGGER:-PT2H
ACTION:DISPLAY
DESCRIPTION:You Go! vs. Ace Holes
END:VALARM
END:VEVENT
BEGIN:VEVENT
UID:crpd-72470590-20260121T200000@quickscores.com
DTSTAMP:20260424T162100Z
DTSTART;TZID=America/Los_Angeles:20260121T200000
DURATION:PT1H0M0S
SUMMARY:Diggin 'Em vs. Negma
DESCRIPTION:Wednesday Coed C1 - Conejo Recreation and Park District
LOCATION:Thousand Oaks Community Center Court #2
CATEGORIES:QuickScores, Volleyball - Adult Game
TRANSP:OPAQUE
BEGIN:VALARM
TRIGGER:-PT2H
ACTION:DISPLAY
DESCRIPTION:Diggin 'Em vs. Negma
END:VALARM
END:VEVENT
BEGIN:VEVENT
UID:crpd-72470593-20260128T190000@quickscores.com
DTSTAMP:20260424T162100Z
DTSTART;TZID=America/Los_Angeles:20260128T190000
DURATION:PT1H0M0S
SUMMARY:Deja Vu vs. Diggin 'Em
DESCRIPTION:Wednesday Coed C1 - Conejo Recreation and Park District
LOCATION:Thousand Oaks Community Center Court #1
CATEGORIES:QuickScores, Volleyball - Adult Game
TRANSP:OPAQUE
BEGIN:VALARM
TRIGGER:-PT2H
ACTION:DISPLAY
DESCRIPTION:Deja Vu vs. Diggin 'Em
END:VALARM
END:VEVENT
BEGIN:VEVENT
UID:crpd-72470592-20260128T190000@quickscores.com
DTSTAMP:20260424T162100Z
DTSTART;TZID=America/Los_Angeles:20260128T190000
DURATION:PT1H0M0S
SUMMARY:Negma vs. You Go!
DESCRIPTION:Wednesday Coed C1 - Conejo Recreation and Park District
LOCATION:Thousand Oaks Community Center Court #2
CATEGORIES:QuickScores, Volleyball - Adult Game
TRANSP:OPAQUE
BEGIN:VALARM
TRIGGER:-PT2H
ACTION:DISPLAY
DESCRIPTION:Negma vs. You Go!
END:VALARM
END:VEVENT
BEGIN:VEVENT
UID:crpd-72470591-20260128T200000@quickscores.com
DTSTAMP:20260424T162100Z
DTSTART;TZID=America/Los_Angeles:20260128T200000
DURATION:PT1H0M0S
SUMMARY:Bag of Digs vs. Ace Holes
DESCRIPTION:Wednesday Coed C1 - Conejo Recreation and Park District
LOCATION:Thousand Oaks Community Center Court #2
CATEGORIES:QuickScores, Volleyball - Adult Game
TRANSP:OPAQUE
BEGIN:VALARM
TRIGGER:-PT2H
ACTION:DISPLAY
DESCRIPTION:Bag of Digs vs. Ace Holes
END:VALARM
END:VEVENT
BEGIN:VEVENT
UID:crpd-72470594-20260128T200000@quickscores.com
DTSTAMP:20260424T162100Z
DTSTART;TZID=America/Los_Angeles:20260128T200000
DURATION:PT1H0M0S
SUMMARY:Net Gains vs. Deja Vu
DESCRIPTION:Wednesday Coed C1 - Conejo Recreation and Park District
LOCATION:Thousand Oaks Community Center Court #1
CATEGORIES:QuickScores, Volleyball - Adult Game
TRANSP:OPAQUE
BEGIN:VALARM
TRIGGER:-PT2H
ACTION:DISPLAY
DESCRIPTION:Net Gains vs. Deja Vu
END:VALARM
END:VEVENT
BEGIN:VEVENT
UID:crpd-72470596-20260204T190000@quickscores.com
DTSTAMP:20260424T162100Z
DTSTART;TZID=America/Los_Angeles:20260204T190000
DURATION:PT1H0M0S
SUMMARY:Diggin 'Em vs. Deja Vu
DESCRIPTION:Wednesday Coed C1 - Conejo Recreation and Park District
LOCATION:Thousand Oaks Community Center Court #2
CATEGORIES:QuickScores, Volleyball - Adult Game
TRANSP:OPAQUE
BEGIN:VALARM
TRIGGER:-PT2H
ACTION:DISPLAY
DESCRIPTION:Diggin 'Em vs. Deja Vu
END:VALARM
END:VEVENT
BEGIN:VEVENT
UID:crpd-72470597-20260204T190000@quickscores.com
DTSTAMP:20260424T162100Z
DTSTART;TZID=America/Los_Angeles:20260204T190000
DURATION:PT1H0M0S
SUMMARY:You Go! vs. Bag of Digs
DESCRIPTION:Wednesday Coed C1 - Conejo Recreation and Park District
LOCATION:Thousand Oaks Community Center Court #1
CATEGORIES:QuickScores, Volleyball - Adult Game
TRANSP:OPAQUE
BEGIN:VALARM
TRIGGER:-PT2H
ACTION:DISPLAY
DESCRIPTION:You Go! vs. Bag of Digs
END:VALARM
END:VEVENT
BEGIN:VEVENT
UID:crpd-72470595-20260204T200000@quickscores.com
DTSTAMP:20260424T162100Z
DTSTART;TZID=America/Los_Angeles:20260204T200000
DURATION:PT1H0M0S
SUMMARY:Negma vs. Diggin 'Em
DESCRIPTION:Wednesday Coed C1 - Conejo Recreation and Park District
LOCATION:Thousand Oaks Community Center Court #2
CATEGORIES:QuickScores, Volleyball - Adult Game
TRANSP:OPAQUE
BEGIN:VALARM
TRIGGER:-PT2H
ACTION:DISPLAY
DESCRIPTION:Negma vs. Diggin 'Em
END:VALARM
END:VEVENT
BEGIN:VEVENT
UID:crpd-72470598-20260204T200000@quickscores.com
DTSTAMP:20260424T162100Z
DTSTART;TZID=America/Los_Angeles:20260204T200000
DURATION:PT1H0M0S
SUMMARY:Ace Holes vs. Net Gains
DESCRIPTION:Wednesday Coed C1 - Conejo Recreation and Park District
LOCATION:Thousand Oaks Community Center Court #1
CATEGORIES:QuickScores, Volleyball - Adult Game
TRANSP:OPAQUE
BEGIN:VALARM
TRIGGER:-PT2H
ACTION:DISPLAY
DESCRIPTION:Ace Holes vs. Net Gains
END:VALARM
END:VEVENT
BEGIN:VEVENT
UID:crpd-72470602-20260211T190000@quickscores.com
DTSTAMP:20260424T162100Z
DTSTART;TZID=America/Los_Angeles:20260211T190000
DURATION:PT1H0M0S
SUMMARY:Net Gains vs. Ace Holes
DESCRIPTION:Wednesday Coed C1 - Conejo Recreation and Park District
LOCATION:Thousand Oaks Community Center Court #2
CATEGORIES:QuickScores, Volleyball - Adult Game
TRANSP:OPAQUE
BEGIN:VALARM
TRIGGER:-PT2H
ACTION:DISPLAY
DESCRIPTION:Net Gains vs. Ace Holes
END:VALARM
END:VEVENT
BEGIN:VEVENT
UID:crpd-72470601-20260211T190000@quickscores.com
DTSTAMP:20260424T162100Z
DTSTART;TZID=America/Los_Angeles:20260211T190000
DURATION:PT1H0M0S
SUMMARY:Negma vs. Deja Vu
DESCRIPTION:Wednesday Coed C1 - Conejo Recreation and Park District
LOCATION:Thousand Oaks Community Center Court #1
CATEGORIES:QuickScores, Volleyball - Adult Game
TRANSP:OPAQUE
BEGIN:VALARM
TRIGGER:-PT2H
ACTION:DISPLAY
DESCRIPTION:Negma vs. Deja Vu
END:VALARM
END:VEVENT
BEGIN:VEVENT
UID:crpd-72470600-20260211T200000@quickscores.com
DTSTAMP:20260424T162100Z
DTSTART;TZID=America/Los_Angeles:20260211T200000
DURATION:PT1H0M0S
SUMMARY:Bag of Digs vs. Diggin 'Em
DESCRIPTION:Wednesday Coed C1 - Conejo Recreation and Park District
LOCATION:Thousand Oaks Community Center Court #1
CATEGORIES:QuickScores, Volleyball - Adult Game
TRANSP:OPAQUE
BEGIN:VALARM
TRIGGER:-PT2H
ACTION:DISPLAY
DESCRIPTION:Bag of Digs vs. Diggin 'Em
END:VALARM
END:VEVENT
BEGIN:VEVENT
UID:crpd-72470599-20260211T200000@quickscores.com
DTSTAMP:20260424T162100Z
DTSTART;TZID=America/Los_Angeles:20260211T200000
DURATION:PT1H0M0S
SUMMARY:You Go! vs. Net Gains
DESCRIPTION:Wednesday Coed C1 - Conejo Recreation and Park District
LOCATION:Thousand Oaks Community Center Court #2
CATEGORIES:QuickScores, Volleyball - Adult Game
TRANSP:OPAQUE
BEGIN:VALARM
TRIGGER:-PT2H
ACTION:DISPLAY
DESCRIPTION:You Go! vs. Net Gains
END:VALARM
END:VEVENT
BEGIN:VEVENT
UID:crpd-72470604-20260218T190000@quickscores.com
DTSTAMP:20260424T162100Z
DTSTART;TZID=America/Los_Angeles:20260218T190000
DURATION:PT1H0M0S
SUMMARY:Ace Holes vs. Negma
DESCRIPTION:Wednesday Coed C1 - Conejo Recreation and Park District
LOCATION:Thousand Oaks Community Center Court #1
CATEGORIES:QuickScores, Volleyball - Adult Game
TRANSP:OPAQUE
BEGIN:VALARM
TRIGGER:-PT2H
ACTION:DISPLAY
DESCRIPTION:Ace Holes vs. Negma
END:VALARM
END:VEVENT
BEGIN:VEVENT
UID:crpd-72470605-20260218T190000@quickscores.com
DTSTAMP:20260424T162100Z
DTSTART;TZID=America/Los_Angeles:20260218T190000
DURATION:PT1H0M0S
SUMMARY:Net Gains vs. Bag of Digs
DESCRIPTION:Wednesday Coed C1 - Conejo Recreation and Park District
LOCATION:Thousand Oaks Community Center Court #2
CATEGORIES:QuickScores, Volleyball - Adult Game
TRANSP:OPAQUE
BEGIN:VALARM
TRIGGER:-PT2H
ACTION:DISPLAY
DESCRIPTION:Net Gains vs. Bag of Digs
END:VALARM
END:VEVENT
BEGIN:VEVENT
UID:crpd-72470603-20260218T200000@quickscores.com
DTSTAMP:20260424T162100Z
DTSTART;TZID=America/Los_Angeles:20260218T200000
DURATION:PT1H0M0S
SUMMARY:Deja Vu vs. You Go!
DESCRIPTION:Wednesday Coed C1 - Conejo Recreation and Park District
LOCATION:Thousand Oaks Community Center Court #1
CATEGORIES:QuickScores, Volleyball - Adult Game
TRANSP:OPAQUE
BEGIN:VALARM
TRIGGER:-PT2H
ACTION:DISPLAY
DESCRIPTION:Deja Vu vs. You Go!
END:VALARM
END:VEVENT
BEGIN:VEVENT
UID:crpd-72470606-20260218T200000@quickscores.com
DTSTAMP:20260424T162100Z
DTSTART;TZID=America/Los_Angeles:20260218T200000
DURATION:PT1H0M0S
SUMMARY:Net Gains vs. Diggin 'Em
DESCRIPTION:Wednesday Coed C1 - Conejo Recreation and Park District
LOCATION:Thousand Oaks Community Center Court #2
CATEGORIES:QuickScores, Volleyball - Adult Game
TRANSP:OPAQUE
BEGIN:VALARM
TRIGGER:-PT2H
ACTION:DISPLAY
DESCRIPTION:Net Gains vs. Diggin 'Em
END:VALARM
END:VEVENT
BEGIN:VEVENT
UID:crpd-72470609-20260225T190000@quickscores.com
DTSTAMP:20260424T162100Z
DTSTART;TZID=America/Los_Angeles:20260225T190000
DURATION:PT1H0M0S
SUMMARY:Bag of Digs vs. You Go!
DESCRIPTION:Wednesday Coed C1 - Conejo Recreation and Park District
LOCATION:Thousand Oaks Community Center Court #1
CATEGORIES:QuickScores, Volleyball - Adult Game
TRANSP:OPAQUE
BEGIN:VALARM
TRIGGER:-PT2H
ACTION:DISPLAY
DESCRIPTION:Bag of Digs vs. You Go!
END:VALARM
END:VEVENT
BEGIN:VEVENT
UID:crpd-72470607-20260225T190000@quickscores.com
DTSTAMP:20260424T162100Z
DTSTART;TZID=America/Los_Angeles:20260225T190000
DURATION:PT1H0M0S
SUMMARY:Diggin 'Em vs. Ace Holes
DESCRIPTION:Wednesday Coed C1 - Conejo Recreation and Park District
LOCATION:Thousand Oaks Community Center Court #2
CATEGORIES:QuickScores, Volleyball - Adult Game
TRANSP:OPAQUE
BEGIN:VALARM
TRIGGER:-PT2H
ACTION:DISPLAY
DESCRIPTION:Diggin 'Em vs. Ace Holes
END:VALARM
END:VEVENT
BEGIN:VEVENT
UID:crpd-72470608-20260225T200000@quickscores.com
DTSTAMP:20260424T162100Z
DTSTART;TZID=America/Los_Angeles:20260225T200000
DURATION:PT1H0M0S
SUMMARY:Deja Vu vs. Net Gains
DESCRIPTION:Wednesday Coed C1 - Conejo Recreation and Park District
LOCATION:Thousand Oaks Community Center Court #2
CATEGORIES:QuickScores, Volleyball - Adult Game
TRANSP:OPAQUE
BEGIN:VALARM
TRIGGER:-PT2H
ACTION:DISPLAY
DESCRIPTION:Deja Vu vs. Net Gains
END:VALARM
END:VEVENT
BEGIN:VEVENT
UID:crpd-72470610-20260225T200000@quickscores.com
DTSTAMP:20260424T162100Z
DTSTART;TZID=America/Los_Angeles:20260225T200000
DURATION:PT1H0M0S
SUMMARY:Bag of Digs vs. Negma
DESCRIPTION:Wednesday Coed C1 - Conejo Recreation and Park District
LOCATION:Thousand Oaks Community Center Court #1
CATEGORIES:QuickScores, Volleyball - Adult Game
TRANSP:OPAQUE
BEGIN:VALARM
TRIGGER:-PT2H
ACTION:DISPLAY
DESCRIPTION:Bag of Digs vs. Negma
END:VALARM
END:VEVENT
BEGIN:VEVENT
UID:crpd-72470611-20260304T190000@quickscores.com
DTSTAMP:20260424T162100Z
DTSTART;TZID=America/Los_Angeles:20260304T190000
DURATION:PT1H0M0S
SUMMARY:Net Gains vs. Negma
DESCRIPTION:Wednesday Coed C1 - Conejo Recreation and Park District
LOCATION:Thousand Oaks Community Center Court #1
CATEGORIES:QuickScores, Volleyball - Adult Game
TRANSP:OPAQUE
BEGIN:VALARM
TRIGGER:-PT2H
ACTION:DISPLAY
DESCRIPTION:Net Gains vs. Negma
END:VALARM
END:VEVENT
BEGIN:VEVENT
UID:crpd-72470612-20260304T190000@quickscores.com
DTSTAMP:20260424T162100Z
DTSTART;TZID=America/Los_Angeles:20260304T190000
DURATION:PT1H0M0S
SUMMARY:Ace Holes vs. Deja Vu
DESCRIPTION:Wednesday Coed C1 - Conejo Recreation and Park District
LOCATION:Thousand Oaks Community Center Court #2
CATEGORIES:QuickScores, Volleyball - Adult Game
TRANSP:OPAQUE
BEGIN:VALARM
TRIGGER:-PT2H
ACTION:DISPLAY
DESCRIPTION:Ace Holes vs. Deja Vu
END:VALARM
END:VEVENT
BEGIN:VEVENT
UID:crpd-72470614-20260304T200000@quickscores.com
DTSTAMP:20260424T162100Z
DTSTART;TZID=America/Los_Angeles:20260304T200000
DURATION:PT1H0M0S
SUMMARY:Ace Holes vs. Bag of Digs
DESCRIPTION:Wednesday Coed C1 - Conejo Recreation and Park District
LOCATION:Thousand Oaks Community Center Court #2
CATEGORIES:QuickScores, Volleyball - Adult Game
TRANSP:OPAQUE
BEGIN:VALARM
TRIGGER:-PT2H
ACTION:DISPLAY
DESCRIPTION:Ace Holes vs. Bag of Digs
END:VALARM
END:VEVENT
BEGIN:VEVENT
UID:crpd-72470613-20260304T200000@quickscores.com
DTSTAMP:20260424T162100Z
DTSTART;TZID=America/Los_Angeles:20260304T200000
DURATION:PT1H0M0S
SUMMARY:You Go! vs. Diggin 'Em
DESCRIPTION:Wednesday Coed C1 - Conejo Recreation and Park District
LOCATION:Thousand Oaks Community Center Court #1
CATEGORIES:QuickScores, Volleyball - Adult Game
TRANSP:OPAQUE
BEGIN:VALARM
TRIGGER:-PT2H
ACTION:DISPLAY
DESCRIPTION:You Go! vs. Diggin 'Em
END:VALARM
END:VEVENT
BEGIN:VEVENT
UID:crpd-72470615-20260311T190000@quickscores.com
DTSTAMP:20260424T162100Z
DTSTART;TZID=America/Los_Angeles:20260311T190000
DURATION:PT1H0M0S
SUMMARY:Ace Holes vs. You Go!
DESCRIPTION:Wednesday Coed C1 - Conejo Recreation and Park District
LOCATION:Thousand Oaks Community Center Court #1
CATEGORIES:QuickScores, Volleyball - Adult Game
TRANSP:OPAQUE
BEGIN:VALARM
TRIGGER:-PT2H
ACTION:DISPLAY
DESCRIPTION:Ace Holes vs. You Go!
END:VALARM
END:VEVENT
BEGIN:VEVENT
UID:crpd-72470617-20260311T190000@quickscores.com
DTSTAMP:20260424T162100Z
DTSTART;TZID=America/Los_Angeles:20260311T190000
DURATION:PT1H0M0S
SUMMARY:Negma vs. Bag of Digs
DESCRIPTION:Wednesday Coed C1 - Conejo Recreation and Park District
LOCATION:Thousand Oaks Community Center Court #2
CATEGORIES:QuickScores, Volleyball - Adult Game
TRANSP:OPAQUE
BEGIN:VALARM
TRIGGER:-PT2H
ACTION:DISPLAY
DESCRIPTION:Negma vs. Bag of Digs
END:VALARM
END:VEVENT
BEGIN:VEVENT
UID:crpd-72470616-20260311T200000@quickscores.com
DTSTAMP:20260424T162100Z
DTSTART;TZID=America/Los_Angeles:20260311T200000
DURATION:PT1H0M0S
SUMMARY:You Go! vs. Negma
DESCRIPTION:Wednesday Coed C1 - Conejo Recreation and Park District
LOCATION:Thousand Oaks Community Center Court #1
CATEGORIES:QuickScores, Volleyball - Adult Game
TRANSP:OPAQUE
BEGIN:VALARM
TRIGGER:-PT2H
ACTION:DISPLAY
DESCRIPTION:You Go! vs. Negma
END:VALARM
END:VEVENT
END:VCALENDAR
