BEGIN:VCALENDAR
VERSION:2.0
PRODID:-//QuickScores.com//BQ Dynamic iCal Creator//EN
METHOD:PUBLISH
X-WR-CALNAME:8u - Spring 2026
X-WR-CALDESC:QuickScores game calendar
X-PUBLISHED-TTL:PT24H
REFRESH-INTERVAL;VALUE=DURATION:PT24H
CALSCALE:GREGORIAN
BEGIN:VTIMEZONE
TZID:America/Chicago
X-LIC-LOCATION:America/Chicago
BEGIN:DAYLIGHT
TZNAME:CDT
TZOFFSETFROM:-0600
TZOFFSETTO:-0500
DTSTART:19700308T020000
RRULE:FREQ=YEARLY;BYMONTH=3;BYDAY=2SU
END:DAYLIGHT
BEGIN:STANDARD
TZNAME:CST
TZOFFSETFROM:-0500
TZOFFSETTO:-0600
DTSTART:19701101T020000
RRULE:FREQ=YEARLY;BYMONTH=11;BYDAY=1SU
END:STANDARD
END:VTIMEZONE
BEGIN:VEVENT
UID:cpyl-72472126-20260214T124500@quickscores.com
DTSTAMP:20260423T063900Z
DTSTART;TZID=America/Chicago:20260214T124500
DURATION:PT1H15M0S
SUMMARY:Practice: Lady Wild Things vs. Warhawks
DESCRIPTION:Scrimmage Day --- 8u - Cedar Park Youth League
LOCATION:CPYL Little Field
CATEGORIES:QuickScores, Softball Game
TRANSP:OPAQUE
BEGIN:VALARM
TRIGGER:-PT2H
ACTION:DISPLAY
DESCRIPTION:Practice: Lady Wild Things vs. Warhawks
END:VALARM
END:VEVENT
BEGIN:VEVENT
UID:cpyl-72472127-20260214T140000@quickscores.com
DTSTAMP:20260423T063900Z
DTSTART;TZID=America/Chicago:20260214T140000
DURATION:PT1H15M0S
SUMMARY:Practice: Timberwolves vs. Warhawks
DESCRIPTION:Scrimmage Day --- 8u - Cedar Park Youth League
LOCATION:CPYL Little Field
CATEGORIES:QuickScores, Softball Game
TRANSP:OPAQUE
BEGIN:VALARM
TRIGGER:-PT2H
ACTION:DISPLAY
DESCRIPTION:Practice: Timberwolves vs. Warhawks
END:VALARM
END:VEVENT
BEGIN:VEVENT
UID:cpyl-72472128-20260214T151500@quickscores.com
DTSTAMP:20260423T063900Z
DTSTART;TZID=America/Chicago:20260214T151500
DURATION:PT1H15M0S
SUMMARY:Practice: Sirens vs. Thunder
DESCRIPTION:Scrimmage Day --- 8u - Cedar Park Youth League
LOCATION:CPYL Little Field
CATEGORIES:QuickScores, Softball Game
TRANSP:OPAQUE
BEGIN:VALARM
TRIGGER:-PT2H
ACTION:DISPLAY
DESCRIPTION:Practice: Sirens vs. Thunder
END:VALARM
END:VEVENT
BEGIN:VEVENT
UID:cpyl-72472087-20260216T190000@quickscores.com
DTSTAMP:20260423T063900Z
DTSTART;TZID=America/Chicago:20260216T190000
DURATION:PT1H0M0S
SUMMARY:Sirens vs. Timberwolves
DESCRIPTION:8u - Cedar Park Youth League
LOCATION:CPYL Little Field
CATEGORIES:QuickScores, Softball Game
TRANSP:OPAQUE
BEGIN:VALARM
TRIGGER:-PT2H
ACTION:DISPLAY
DESCRIPTION:Sirens vs. Timberwolves
END:VALARM
END:VEVENT
BEGIN:VEVENT
UID:cpyl-72472088-20260218T190000@quickscores.com
DTSTAMP:20260423T063900Z
DTSTART;TZID=America/Chicago:20260218T190000
DURATION:PT1H0M0S
SUMMARY:Thunder vs. Lady Wild Things
DESCRIPTION:8u - Cedar Park Youth League
LOCATION:CPYL Little Field
CATEGORIES:QuickScores, Softball Game
TRANSP:OPAQUE
BEGIN:VALARM
TRIGGER:-PT2H
ACTION:DISPLAY
DESCRIPTION:Thunder vs. Lady Wild Things
END:VALARM
END:VEVENT
BEGIN:VEVENT
UID:cpyl-72472085-20260221T120000@quickscores.com
DTSTAMP:20260423T063900Z
DTSTART;TZID=America/Chicago:20260221T120000
DURATION:PT1H0M0S
SUMMARY:Thunder vs. Sirens
DESCRIPTION:8u - Cedar Park Youth League
LOCATION:CPYL Little Field
CATEGORIES:QuickScores, Softball Game
TRANSP:OPAQUE
BEGIN:VALARM
TRIGGER:-PT2H
ACTION:DISPLAY
DESCRIPTION:Thunder vs. Sirens
END:VALARM
END:VEVENT
BEGIN:VEVENT
UID:cpyl-72472086-20260221T131500@quickscores.com
DTSTAMP:20260423T063900Z
DTSTART;TZID=America/Chicago:20260221T131500
DURATION:PT1H0M0S
SUMMARY:Warhawks vs. Timberwolves
DESCRIPTION:8u - Cedar Park Youth League
LOCATION:CPYL Little Field
CATEGORIES:QuickScores, Softball Game
TRANSP:OPAQUE
BEGIN:VALARM
TRIGGER:-PT2H
ACTION:DISPLAY
DESCRIPTION:Warhawks vs. Timberwolves
END:VALARM
END:VEVENT
BEGIN:VEVENT
UID:cpyl-72472091-20260223T190000@quickscores.com
DTSTAMP:20260423T063900Z
DTSTART;TZID=America/Chicago:20260223T190000
DURATION:PT1H0M0S
SUMMARY:Timberwolves vs. Lady Wild Things
DESCRIPTION:8u - Cedar Park Youth League
LOCATION:CPYL Little Field
CATEGORIES:QuickScores, Softball Game
TRANSP:OPAQUE
BEGIN:VALARM
TRIGGER:-PT2H
ACTION:DISPLAY
DESCRIPTION:Timberwolves vs. Lady Wild Things
END:VALARM
END:VEVENT
BEGIN:VEVENT
UID:cpyl-72472092-20260225T190000@quickscores.com
DTSTAMP:20260423T063900Z
DTSTART;TZID=America/Chicago:20260225T190000
DURATION:PT1H0M0S
SUMMARY:Sirens vs. Warhawks
DESCRIPTION:8u - Cedar Park Youth League
LOCATION:CPYL Little Field
CATEGORIES:QuickScores, Softball Game
TRANSP:OPAQUE
BEGIN:VALARM
TRIGGER:-PT2H
ACTION:DISPLAY
DESCRIPTION:Sirens vs. Warhawks
END:VALARM
END:VEVENT
BEGIN:VEVENT
UID:cpyl-72472090-20260228T093000@quickscores.com
DTSTAMP:20260423T063900Z
DTSTART;TZID=America/Chicago:20260228T093000
DURATION:PT1H0M0S
SUMMARY:Warhawks vs. Thunder
DESCRIPTION:8u - Cedar Park Youth League
LOCATION:CPYL Little Field
CATEGORIES:QuickScores, Softball Game
TRANSP:OPAQUE
BEGIN:VALARM
TRIGGER:-PT2H
ACTION:DISPLAY
DESCRIPTION:Warhawks vs. Thunder
END:VALARM
END:VEVENT
BEGIN:VEVENT
UID:cpyl-72472089-20260228T104500@quickscores.com
DTSTAMP:20260423T063900Z
DTSTART;TZID=America/Chicago:20260228T104500
DURATION:PT1H0M0S
SUMMARY:Lady Wild Things vs. Sirens
DESCRIPTION:8u - Cedar Park Youth League
LOCATION:CPYL Little Field
CATEGORIES:QuickScores, Softball Game
TRANSP:OPAQUE
BEGIN:VALARM
TRIGGER:-PT2H
ACTION:DISPLAY
DESCRIPTION:Lady Wild Things vs. Sirens
END:VALARM
END:VEVENT
BEGIN:VEVENT
UID:cpyl-72472093-20260302T190000@quickscores.com
DTSTAMP:20260423T063900Z
DTSTART;TZID=America/Chicago:20260302T190000
DURATION:PT1H0M0S
SUMMARY:Timberwolves vs. Warhawks
DESCRIPTION:8u - Cedar Park Youth League
LOCATION:CPYL Little Field
CATEGORIES:QuickScores, Softball Game
TRANSP:OPAQUE
BEGIN:VALARM
TRIGGER:-PT2H
ACTION:DISPLAY
DESCRIPTION:Timberwolves vs. Warhawks
END:VALARM
END:VEVENT
BEGIN:VEVENT
UID:cpyl-72472094-20260304T190000@quickscores.com
DTSTAMP:20260423T063900Z
DTSTART;TZID=America/Chicago:20260304T190000
DURATION:PT1H0M0S
SUMMARY:Sirens vs. Thunder
DESCRIPTION:8u - Cedar Park Youth League
LOCATION:CPYL Little Field
CATEGORIES:QuickScores, Softball Game
TRANSP:OPAQUE
BEGIN:VALARM
TRIGGER:-PT2H
ACTION:DISPLAY
DESCRIPTION:Sirens vs. Thunder
END:VALARM
END:VEVENT
BEGIN:VEVENT
UID:cpyl-72472097-20260309T190000@quickscores.com
DTSTAMP:20260423T063900Z
DTSTART;TZID=America/Chicago:20260309T190000
DURATION:PT1H0M0S
SUMMARY:Timberwolves vs. Sirens
DESCRIPTION:8u - Cedar Park Youth League
LOCATION:CPYL Little Field
CATEGORIES:QuickScores, Softball Game
TRANSP:OPAQUE
BEGIN:VALARM
TRIGGER:-PT2H
ACTION:DISPLAY
DESCRIPTION:Timberwolves vs. Sirens
END:VALARM
END:VEVENT
BEGIN:VEVENT
UID:cpyl-72472098-20260311T190000@quickscores.com
DTSTAMP:20260423T063900Z
DTSTART;TZID=America/Chicago:20260311T190000
DURATION:PT1H0M0S
SUMMARY:Lady Wild Things vs. Thunder
DESCRIPTION:8u - Cedar Park Youth League
LOCATION:CPYL Little Field
CATEGORIES:QuickScores, Softball Game
TRANSP:OPAQUE
BEGIN:VALARM
TRIGGER:-PT2H
ACTION:DISPLAY
DESCRIPTION:Lady Wild Things vs. Thunder
END:VALARM
END:VEVENT
BEGIN:VEVENT
UID:cpyl-72472103-20260323T190000@quickscores.com
DTSTAMP:20260423T063900Z
DTSTART;TZID=America/Chicago:20260323T190000
DURATION:PT1H0M0S
SUMMARY:Lady Wild Things vs. Timberwolves
DESCRIPTION:8u - Cedar Park Youth League
LOCATION:CPYL Little Field
CATEGORIES:QuickScores, Softball Game
TRANSP:OPAQUE
BEGIN:VALARM
TRIGGER:-PT2H
ACTION:DISPLAY
DESCRIPTION:Lady Wild Things vs. Timberwolves
END:VALARM
END:VEVENT
BEGIN:VEVENT
UID:cpyl-72472102-20260325T190000@quickscores.com
DTSTAMP:20260423T063900Z
DTSTART;TZID=America/Chicago:20260325T190000
DURATION:PT1H0M0S
SUMMARY:Warhawks vs. Sirens
DESCRIPTION:8u - Cedar Park Youth League
LOCATION:CPYL Little Field
CATEGORIES:QuickScores, Softball Game
TRANSP:OPAQUE
BEGIN:VALARM
TRIGGER:-PT2H
ACTION:DISPLAY
DESCRIPTION:Warhawks vs. Sirens
END:VALARM
END:VEVENT
BEGIN:VEVENT
UID:cpyl-72472100-20260328T093000@quickscores.com
DTSTAMP:20260423T063900Z
DTSTART;TZID=America/Chicago:20260328T093000
DURATION:PT1H0M0S
SUMMARY:Sirens vs. Lady Wild Things
DESCRIPTION:8u - Cedar Park Youth League
LOCATION:CPYL Little Field
CATEGORIES:QuickScores, Softball Game
TRANSP:OPAQUE
BEGIN:VALARM
TRIGGER:-PT2H
ACTION:DISPLAY
DESCRIPTION:Sirens vs. Lady Wild Things
END:VALARM
END:VEVENT
BEGIN:VEVENT
UID:cpyl-72472101-20260328T104500@quickscores.com
DTSTAMP:20260423T063900Z
DTSTART;TZID=America/Chicago:20260328T104500
DURATION:PT1H0M0S
SUMMARY:Thunder vs. Warhawks
DESCRIPTION:8u - Cedar Park Youth League
LOCATION:CPYL Little Field
CATEGORIES:QuickScores, Softball Game
TRANSP:OPAQUE
BEGIN:VALARM
TRIGGER:-PT2H
ACTION:DISPLAY
DESCRIPTION:Thunder vs. Warhawks
END:VALARM
END:VEVENT
BEGIN:VEVENT
UID:cpyl-72472104-20260330T190000@quickscores.com
DTSTAMP:20260423T063900Z
DTSTART;TZID=America/Chicago:20260330T190000
DURATION:PT1H0M0S
SUMMARY:Thunder vs. Timberwolves
DESCRIPTION:8u - Cedar Park Youth League
LOCATION:CPYL Little Field
CATEGORIES:QuickScores, Softball Game
TRANSP:OPAQUE
BEGIN:VALARM
TRIGGER:-PT2H
ACTION:DISPLAY
DESCRIPTION:Thunder vs. Timberwolves
END:VALARM
END:VEVENT
BEGIN:VEVENT
UID:cpyl-72472105-20260401T190000@quickscores.com
DTSTAMP:20260423T063900Z
DTSTART;TZID=America/Chicago:20260401T190000
DURATION:PT1H0M0S
SUMMARY:Warhawks vs. Lady Wild Things
DESCRIPTION:8u - Cedar Park Youth League
LOCATION:CPYL Little Field
CATEGORIES:QuickScores, Softball Game
TRANSP:OPAQUE
BEGIN:VALARM
TRIGGER:-PT2H
ACTION:DISPLAY
DESCRIPTION:Warhawks vs. Lady Wild Things
END:VALARM
END:VEVENT
BEGIN:VEVENT
UID:cpyl-72472107-20260406T190000@quickscores.com
DTSTAMP:20260423T063900Z
DTSTART;TZID=America/Chicago:20260406T190000
DURATION:PT1H0M0S
SUMMARY:Warhawks vs. Timberwolves
DESCRIPTION:8u - Cedar Park Youth League
LOCATION:CPYL Little Field
CATEGORIES:QuickScores, Softball Game
TRANSP:OPAQUE
BEGIN:VALARM
TRIGGER:-PT2H
ACTION:DISPLAY
DESCRIPTION:Warhawks vs. Timberwolves
END:VALARM
END:VEVENT
BEGIN:VEVENT
UID:cpyl-72472108-20260408T190000@quickscores.com
DTSTAMP:20260423T063900Z
DTSTART;TZID=America/Chicago:20260408T190000
DURATION:PT1H0M0S
SUMMARY:Thunder vs. Sirens
DESCRIPTION:8u - Cedar Park Youth League
LOCATION:CPYL Little Field
CATEGORIES:QuickScores, Softball Game
TRANSP:OPAQUE
BEGIN:VALARM
TRIGGER:-PT2H
ACTION:DISPLAY
DESCRIPTION:Thunder vs. Sirens
END:VALARM
END:VEVENT
BEGIN:VEVENT
UID:cpyl-72620385-20260411T090000@quickscores.com
DTSTAMP:20260423T063900Z
DTSTART;TZID=America/Chicago:20260411T090000
DURATION:PT1H0M0S
SUMMARY:Practice: Lago Vista Vikings 8U vs. Lady Wild Things
DESCRIPTION:Sunset Park: 21817 RM 1431, Lago Vista, TX 78645 --- 8u - Cedar Park Youth League
LOCATION:Lago Vista
CATEGORIES:QuickScores, Softball Game
TRANSP:OPAQUE
BEGIN:VALARM
TRIGGER:-PT2H
ACTION:DISPLAY
DESCRIPTION:Practice: Lago Vista Vikings 8U vs. Lady Wild Things
END:VALARM
END:VEVENT
BEGIN:VEVENT
UID:cpyl-72620386-20260411T103000@quickscores.com
DTSTAMP:20260423T063900Z
DTSTART;TZID=America/Chicago:20260411T103000
DURATION:PT1H0M0S
SUMMARY:Practice: Lago Vista Vikings 8U vs. Timberwolves
DESCRIPTION:Sunset Park: 21817 RM 1431, Lago Vista, TX 78645 --- 8u - Cedar Park Youth League
LOCATION:Lago Vista
CATEGORIES:QuickScores, Softball Game
TRANSP:OPAQUE
BEGIN:VALARM
TRIGGER:-PT2H
ACTION:DISPLAY
DESCRIPTION:Practice: Lago Vista Vikings 8U vs. Timberwolves
END:VALARM
END:VEVENT
BEGIN:VEVENT
UID:cpyl-72620387-20260411T151500@quickscores.com
DTSTAMP:20260423T063900Z
DTSTART;TZID=America/Chicago:20260411T151500
DURATION:PT1H0M0S
SUMMARY:Practice: Northwest 8U Team 1 vs. Sirens
DESCRIPTION:NAO Field 5: 1105 Morrow St --- 8u - Cedar Park Youth League
LOCATION:North Austin Optimist
CATEGORIES:QuickScores, Softball Game
TRANSP:OPAQUE
BEGIN:VALARM
TRIGGER:-PT2H
ACTION:DISPLAY
DESCRIPTION:Practice: Northwest 8U Team 1 vs. Sirens
END:VALARM
END:VEVENT
BEGIN:VEVENT
UID:cpyl-72472111-20260413T190000@quickscores.com
DTSTAMP:20260423T063900Z
DTSTART;TZID=America/Chicago:20260413T190000
DURATION:PT1H0M0S
SUMMARY:Sirens vs. Timberwolves
DESCRIPTION:8u - Cedar Park Youth League
LOCATION:CPYL Little Field
CATEGORIES:QuickScores, Softball Game
TRANSP:OPAQUE
BEGIN:VALARM
TRIGGER:-PT2H
ACTION:DISPLAY
DESCRIPTION:Sirens vs. Timberwolves
END:VALARM
END:VEVENT
BEGIN:VEVENT
UID:cpyl-72472095-20260414T174500@quickscores.com
DTSTAMP:20260423T063900Z
DTSTART;TZID=America/Chicago:20260414T174500
DURATION:PT1H0M0S
SUMMARY:Lady Wild Things vs. Warhawks
DESCRIPTION:Game rescheduled from Sat 3/7/26, 12:00 PM at CPYL Little Field due to weather --- 8u - Cedar Park Youth League
LOCATION:CPYL Little Field
CATEGORIES:QuickScores, Softball Game
TRANSP:OPAQUE
BEGIN:VALARM
TRIGGER:-PT2H
ACTION:DISPLAY
DESCRIPTION:Lady Wild Things vs. Warhawks
END:VALARM
END:VEVENT
BEGIN:VEVENT
UID:cpyl-72472096-20260414T190000@quickscores.com
DTSTAMP:20260423T063900Z
DTSTART;TZID=America/Chicago:20260414T190000
DURATION:PT1H0M0S
SUMMARY:Timberwolves vs. Thunder
DESCRIPTION:Game rescheduled from Sat 3/7/26, 1:15 PM at CPYL Little Field due to weather --- 8u - Cedar Park Youth League
LOCATION:CPYL Little Field
CATEGORIES:QuickScores, Softball Game
TRANSP:OPAQUE
BEGIN:VALARM
TRIGGER:-PT2H
ACTION:DISPLAY
DESCRIPTION:Timberwolves vs. Thunder
END:VALARM
END:VEVENT
BEGIN:VEVENT
UID:cpyl-72472110-20260415T190000@quickscores.com
DTSTAMP:20260423T063900Z
DTSTART;TZID=America/Chicago:20260415T190000
DURATION:PT1H0M0S
SUMMARY:Thunder vs. Lady Wild Things
DESCRIPTION:8u - Cedar Park Youth League
LOCATION:CPYL Little Field
CATEGORIES:QuickScores, Softball Game
TRANSP:OPAQUE
BEGIN:VALARM
TRIGGER:-PT2H
ACTION:DISPLAY
DESCRIPTION:Thunder vs. Lady Wild Things
END:VALARM
END:VEVENT
BEGIN:VEVENT
UID:cpyl-72620388-20260418T090000@quickscores.com
DTSTAMP:20260423T063900Z
DTSTART;TZID=America/Chicago:20260418T090000
DURATION:PT1H0M0S
SUMMARY:Practice: Lago Vista Vikings 8U vs. Thunder
DESCRIPTION:Sunset Park: 21817 RM 1431, Lago Vista, TX 78645 --- 8u - Cedar Park Youth League
LOCATION:Lago Vista
CATEGORIES:QuickScores, Softball Game
TRANSP:OPAQUE
BEGIN:VALARM
TRIGGER:-PT2H
ACTION:DISPLAY
DESCRIPTION:Practice: Lago Vista Vikings 8U vs. Thunder
END:VALARM
END:VEVENT
BEGIN:VEVENT
UID:cpyl-72620389-20260418T103000@quickscores.com
DTSTAMP:20260423T063900Z
DTSTART;TZID=America/Chicago:20260418T103000
DURATION:PT1H0M0S
SUMMARY:Practice: Lago Vista Vikings 8U vs. Warhawks
DESCRIPTION:Sunset Park: 21817 RM 1431, Lago Vista, TX 78645 --- 8u - Cedar Park Youth League
LOCATION:Lago Vista
CATEGORIES:QuickScores, Softball Game
TRANSP:OPAQUE
BEGIN:VALARM
TRIGGER:-PT2H
ACTION:DISPLAY
DESCRIPTION:Practice: Lago Vista Vikings 8U vs. Warhawks
END:VALARM
END:VEVENT
BEGIN:VEVENT
UID:cpyl-72472114-20260422T190000@quickscores.com
DTSTAMP:20260423T063900Z
DTSTART;TZID=America/Chicago:20260422T190000
DURATION:PT1H0M0S
SUMMARY:Warhawks vs. Thunder
DESCRIPTION:8u - Cedar Park Youth League
LOCATION:CPYL Little Field
CATEGORIES:QuickScores, Softball Game
TRANSP:OPAQUE
BEGIN:VALARM
TRIGGER:-PT2H
ACTION:DISPLAY
DESCRIPTION:Warhawks vs. Thunder
END:VALARM
END:VEVENT
BEGIN:VEVENT
UID:cpyl-72472113-20260424T190000@quickscores.com
DTSTAMP:20260423T063900Z
DTSTART;TZID=America/Chicago:20260424T190000
DURATION:PT1H0M0S
SUMMARY:Lady Wild Things vs. Sirens
DESCRIPTION:Rescheduled from 4/20 --- 8u - Cedar Park Youth League
LOCATION:CPYL Little Field
CATEGORIES:QuickScores, Softball Game
TRANSP:OPAQUE
BEGIN:VALARM
TRIGGER:-PT2H
ACTION:DISPLAY
DESCRIPTION:Lady Wild Things vs. Sirens
END:VALARM
END:VEVENT
BEGIN:VEVENT
UID:cpyl-72472116-20260427T190000@quickscores.com
DTSTAMP:20260423T063900Z
DTSTART;TZID=America/Chicago:20260427T190000
DURATION:PT1H0M0S
SUMMARY:Timberwolves vs. Lady Wild Things
DESCRIPTION:8u - Cedar Park Youth League
LOCATION:CPYL Little Field
CATEGORIES:QuickScores, Softball Game
TRANSP:OPAQUE
BEGIN:VALARM
TRIGGER:-PT2H
ACTION:DISPLAY
DESCRIPTION:Timberwolves vs. Lady Wild Things
END:VALARM
END:VEVENT
BEGIN:VEVENT
UID:cpyl-72472117-20260429T190000@quickscores.com
DTSTAMP:20260423T063900Z
DTSTART;TZID=America/Chicago:20260429T190000
DURATION:PT1H0M0S
SUMMARY:Sirens vs. Warhawks
DESCRIPTION:8u - Cedar Park Youth League
LOCATION:CPYL Little Field
CATEGORIES:QuickScores, Softball Game
TRANSP:OPAQUE
BEGIN:VALARM
TRIGGER:-PT2H
ACTION:DISPLAY
DESCRIPTION:Sirens vs. Warhawks
END:VALARM
END:VEVENT
BEGIN:VEVENT
UID:cpyl-72472119-20260504T190000@quickscores.com
DTSTAMP:20260423T063900Z
DTSTART;TZID=America/Chicago:20260504T190000
DURATION:PT1H0M0S
SUMMARY:Timberwolves vs. Thunder
DESCRIPTION:8u - Cedar Park Youth League
LOCATION:CPYL Little Field
CATEGORIES:QuickScores, Softball Game
TRANSP:OPAQUE
BEGIN:VALARM
TRIGGER:-PT2H
ACTION:DISPLAY
DESCRIPTION:Timberwolves vs. Thunder
END:VALARM
END:VEVENT
BEGIN:VEVENT
UID:cpyl-72472120-20260506T190000@quickscores.com
DTSTAMP:20260423T063900Z
DTSTART;TZID=America/Chicago:20260506T190000
DURATION:PT1H0M0S
SUMMARY:Lady Wild Things vs. Warhawks
DESCRIPTION:8u - Cedar Park Youth League
LOCATION:CPYL Little Field
CATEGORIES:QuickScores, Softball Game
TRANSP:OPAQUE
BEGIN:VALARM
TRIGGER:-PT2H
ACTION:DISPLAY
DESCRIPTION:Lady Wild Things vs. Warhawks
END:VALARM
END:VEVENT
BEGIN:VEVENT
UID:cpyl-74233214-20260509T131500@quickscores.com
DTSTAMP:20260423T063900Z
DTSTART;TZID=America/Chicago:20260509T131500
DURATION:PT1H0M0S
SUMMARY:#4 Seed vs. #5 Seed
DESCRIPTION:8u - Cedar Park Youth League
LOCATION:CPYL Little Field
CATEGORIES:QuickScores, Softball Game
TRANSP:OPAQUE
BEGIN:VALARM
TRIGGER:-PT2H
ACTION:DISPLAY
DESCRIPTION:#4 Seed vs. #5 Seed
END:VALARM
END:VEVENT
BEGIN:VEVENT
UID:cpyl-74233217-20260509T143000@quickscores.com
DTSTAMP:20260423T063900Z
DTSTART;TZID=America/Chicago:20260509T143000
DURATION:PT1H0M0S
SUMMARY:#1 Seed vs. Winner of Game 1
DESCRIPTION:8u - Cedar Park Youth League
LOCATION:CPYL Little Field
CATEGORIES:QuickScores, Softball Game
TRANSP:OPAQUE
BEGIN:VALARM
TRIGGER:-PT2H
ACTION:DISPLAY
DESCRIPTION:#1 Seed vs. Winner of Game 1
END:VALARM
END:VEVENT
BEGIN:VEVENT
UID:cpyl-74233218-20260509T154500@quickscores.com
DTSTAMP:20260423T063900Z
DTSTART;TZID=America/Chicago:20260509T154500
DURATION:PT1H0M0S
SUMMARY:#2 Seed vs. #3 Seed
DESCRIPTION:8u - Cedar Park Youth League
LOCATION:CPYL Little Field
CATEGORIES:QuickScores, Softball Game
TRANSP:OPAQUE
BEGIN:VALARM
TRIGGER:-PT2H
ACTION:DISPLAY
DESCRIPTION:#2 Seed vs. #3 Seed
END:VALARM
END:VEVENT
BEGIN:VEVENT
UID:cpyl-74233219-20260511T190000@quickscores.com
DTSTAMP:20260423T063900Z
DTSTART;TZID=America/Chicago:20260511T190000
DURATION:PT1H0M0S
SUMMARY:Winner of Game 3 vs. Winner of Game 2
DESCRIPTION:8u - Cedar Park Youth League
LOCATION:CPYL Little Field
CATEGORIES:QuickScores, Softball Game
TRANSP:OPAQUE
BEGIN:VALARM
TRIGGER:-PT2H
ACTION:DISPLAY
DESCRIPTION:Winner of Game 3 vs. Winner of Game 2
END:VALARM
END:VEVENT
END:VCALENDAR
