BEGIN:VCALENDAR
VERSION:2.0
PRODID:-//QuickScores.com//BQ Dynamic iCal Creator//EN
METHOD:PUBLISH
X-WR-CALNAME:Monday Corec B - Winter 2026
X-WR-CALDESC:QuickScores game calendar
X-PUBLISHED-TTL:PT24H
REFRESH-INTERVAL;VALUE=DURATION:PT24H
CALSCALE:GREGORIAN
BEGIN:VTIMEZONE
TZID:America/Chicago
X-LIC-LOCATION:America/Chicago
BEGIN:DAYLIGHT
TZNAME:CDT
TZOFFSETFROM:-0600
TZOFFSETTO:-0500
DTSTART:19700308T020000
RRULE:FREQ=YEARLY;BYMONTH=3;BYDAY=2SU
END:DAYLIGHT
BEGIN:STANDARD
TZNAME:CST
TZOFFSETFROM:-0500
TZOFFSETTO:-0600
DTSTART:19701101T020000
RRULE:FREQ=YEARLY;BYMONTH=11;BYDAY=1SU
END:STANDARD
END:VTIMEZONE
BEGIN:VEVENT
UID:ahpd-72287567-20260105T183000@quickscores.com
DTSTAMP:20260424T080100Z
DTSTART;TZID=America/Chicago:20260105T183000
DURATION:PT0H45M0S
SUMMARY:Hot Shots vs. Balls Deep
DESCRIPTION:Monday Corec B - Arlington Heights Park District
LOCATION:Betsy Ross (East)
CATEGORIES:QuickScores, Volleyball - Adult Game
TRANSP:OPAQUE
BEGIN:VALARM
TRIGGER:-PT2H
ACTION:DISPLAY
DESCRIPTION:Hot Shots vs. Balls Deep
END:VALARM
END:VEVENT
BEGIN:VEVENT
UID:ahpd-72287566-20260105T193000@quickscores.com
DTSTAMP:20260424T080100Z
DTSTART;TZID=America/Chicago:20260105T193000
DURATION:PT0H45M0S
SUMMARY:Globo Gym Purple Cobras vs. Just the Tip
DESCRIPTION:Monday Corec B - Arlington Heights Park District
LOCATION:Betsy Ross (West)
CATEGORIES:QuickScores, Volleyball - Adult Game
TRANSP:OPAQUE
BEGIN:VALARM
TRIGGER:-PT2H
ACTION:DISPLAY
DESCRIPTION:Globo Gym Purple Cobras vs. Just the Tip
END:VALARM
END:VEVENT
BEGIN:VEVENT
UID:ahpd-72287565-20260105T213000@quickscores.com
DTSTAMP:20260424T080100Z
DTSTART;TZID=America/Chicago:20260105T213000
DURATION:PT0H45M0S
SUMMARY:Kevin and the Tip-munks vs. Setting Ducks
DESCRIPTION:Monday Corec B - Arlington Heights Park District
LOCATION:Betsy Ross (West)
CATEGORIES:QuickScores, Volleyball - Adult Game
TRANSP:OPAQUE
BEGIN:VALARM
TRIGGER:-PT2H
ACTION:DISPLAY
DESCRIPTION:Kevin and the Tip-munks vs. Setting Ducks
END:VALARM
END:VEVENT
BEGIN:VEVENT
UID:ahpd-72287569-20260112T183000@quickscores.com
DTSTAMP:20260424T080100Z
DTSTART;TZID=America/Chicago:20260112T183000
DURATION:PT0H45M0S
SUMMARY:Hot Shots vs. Setting Ducks
DESCRIPTION:Monday Corec B - Arlington Heights Park District
LOCATION:Betsy Ross (East)
CATEGORIES:QuickScores, Volleyball - Adult Game
TRANSP:OPAQUE
BEGIN:VALARM
TRIGGER:-PT2H
ACTION:DISPLAY
DESCRIPTION:Hot Shots vs. Setting Ducks
END:VALARM
END:VEVENT
BEGIN:VEVENT
UID:ahpd-72287568-20260112T193000@quickscores.com
DTSTAMP:20260424T080100Z
DTSTART;TZID=America/Chicago:20260112T193000
DURATION:PT0H45M0S
SUMMARY:Kevin and the Tip-munks vs. Globo Gym Purple Cobras
DESCRIPTION:Monday Corec B - Arlington Heights Park District
LOCATION:Betsy Ross (West)
CATEGORIES:QuickScores, Volleyball - Adult Game
TRANSP:OPAQUE
BEGIN:VALARM
TRIGGER:-PT2H
ACTION:DISPLAY
DESCRIPTION:Kevin and the Tip-munks vs. Globo Gym Purple Cobras
END:VALARM
END:VEVENT
BEGIN:VEVENT
UID:ahpd-72287570-20260112T213000@quickscores.com
DTSTAMP:20260424T080100Z
DTSTART;TZID=America/Chicago:20260112T213000
DURATION:PT0H45M0S
SUMMARY:Balls Deep vs. Just the Tip
DESCRIPTION:Monday Corec B - Arlington Heights Park District
LOCATION:Betsy Ross (West)
CATEGORIES:QuickScores, Volleyball - Adult Game
TRANSP:OPAQUE
BEGIN:VALARM
TRIGGER:-PT2H
ACTION:DISPLAY
DESCRIPTION:Balls Deep vs. Just the Tip
END:VALARM
END:VEVENT
BEGIN:VEVENT
UID:ahpd-72287576-20260126T183000@quickscores.com
DTSTAMP:20260424T080100Z
DTSTART;TZID=America/Chicago:20260126T183000
DURATION:PT0H45M0S
SUMMARY:Just the Tip vs. Setting Ducks
DESCRIPTION:Monday Corec B - Arlington Heights Park District
LOCATION:Betsy Ross (East)
CATEGORIES:QuickScores, Volleyball - Adult Game
TRANSP:OPAQUE
BEGIN:VALARM
TRIGGER:-PT2H
ACTION:DISPLAY
DESCRIPTION:Just the Tip vs. Setting Ducks
END:VALARM
END:VEVENT
BEGIN:VEVENT
UID:ahpd-72287574-20260126T193000@quickscores.com
DTSTAMP:20260424T080100Z
DTSTART;TZID=America/Chicago:20260126T193000
DURATION:PT0H45M0S
SUMMARY:Kevin and the Tip-munks vs. Hot Shots
DESCRIPTION:Monday Corec B - Arlington Heights Park District
LOCATION:Betsy Ross (West)
CATEGORIES:QuickScores, Volleyball - Adult Game
TRANSP:OPAQUE
BEGIN:VALARM
TRIGGER:-PT2H
ACTION:DISPLAY
DESCRIPTION:Kevin and the Tip-munks vs. Hot Shots
END:VALARM
END:VEVENT
BEGIN:VEVENT
UID:ahpd-72287575-20260126T213000@quickscores.com
DTSTAMP:20260424T080100Z
DTSTART;TZID=America/Chicago:20260126T213000
DURATION:PT0H45M0S
SUMMARY:Balls Deep vs. Globo Gym Purple Cobras
DESCRIPTION:Monday Corec B - Arlington Heights Park District
LOCATION:Betsy Ross (West)
CATEGORIES:QuickScores, Volleyball - Adult Game
TRANSP:OPAQUE
BEGIN:VALARM
TRIGGER:-PT2H
ACTION:DISPLAY
DESCRIPTION:Balls Deep vs. Globo Gym Purple Cobras
END:VALARM
END:VEVENT
BEGIN:VEVENT
UID:ahpd-72287578-20260202T183000@quickscores.com
DTSTAMP:20260424T080100Z
DTSTART;TZID=America/Chicago:20260202T183000
DURATION:PT0H45M0S
SUMMARY:Just the Tip vs. Hot Shots
DESCRIPTION:Monday Corec B - Arlington Heights Park District
LOCATION:Betsy Ross (East)
CATEGORIES:QuickScores, Volleyball - Adult Game
TRANSP:OPAQUE
BEGIN:VALARM
TRIGGER:-PT2H
ACTION:DISPLAY
DESCRIPTION:Just the Tip vs. Hot Shots
END:VALARM
END:VEVENT
BEGIN:VEVENT
UID:ahpd-72287577-20260202T193000@quickscores.com
DTSTAMP:20260424T080100Z
DTSTART;TZID=America/Chicago:20260202T193000
DURATION:PT0H45M0S
SUMMARY:Kevin and the Tip-munks vs. Balls Deep
DESCRIPTION:Monday Corec B - Arlington Heights Park District
LOCATION:Betsy Ross (West)
CATEGORIES:QuickScores, Volleyball - Adult Game
TRANSP:OPAQUE
BEGIN:VALARM
TRIGGER:-PT2H
ACTION:DISPLAY
DESCRIPTION:Kevin and the Tip-munks vs. Balls Deep
END:VALARM
END:VEVENT
BEGIN:VEVENT
UID:ahpd-72287579-20260202T213000@quickscores.com
DTSTAMP:20260424T080100Z
DTSTART;TZID=America/Chicago:20260202T213000
DURATION:PT0H45M0S
SUMMARY:Setting Ducks vs. Globo Gym Purple Cobras
DESCRIPTION:Monday Corec B - Arlington Heights Park District
LOCATION:Betsy Ross (West)
CATEGORIES:QuickScores, Volleyball - Adult Game
TRANSP:OPAQUE
BEGIN:VALARM
TRIGGER:-PT2H
ACTION:DISPLAY
DESCRIPTION:Setting Ducks vs. Globo Gym Purple Cobras
END:VALARM
END:VEVENT
BEGIN:VEVENT
UID:ahpd-72287581-20260209T183000@quickscores.com
DTSTAMP:20260424T080100Z
DTSTART;TZID=America/Chicago:20260209T183000
DURATION:PT0H45M0S
SUMMARY:Just the Tip vs. Globo Gym Purple Cobras
DESCRIPTION:Monday Corec B - Arlington Heights Park District
LOCATION:Betsy Ross (East)
CATEGORIES:QuickScores, Volleyball - Adult Game
TRANSP:OPAQUE
BEGIN:VALARM
TRIGGER:-PT2H
ACTION:DISPLAY
DESCRIPTION:Just the Tip vs. Globo Gym Purple Cobras
END:VALARM
END:VEVENT
BEGIN:VEVENT
UID:ahpd-72287582-20260209T193000@quickscores.com
DTSTAMP:20260424T080100Z
DTSTART;TZID=America/Chicago:20260209T193000
DURATION:PT0H45M0S
SUMMARY:Balls Deep vs. Hot Shots
DESCRIPTION:Monday Corec B - Arlington Heights Park District
LOCATION:Betsy Ross (West)
CATEGORIES:QuickScores, Volleyball - Adult Game
TRANSP:OPAQUE
BEGIN:VALARM
TRIGGER:-PT2H
ACTION:DISPLAY
DESCRIPTION:Balls Deep vs. Hot Shots
END:VALARM
END:VEVENT
BEGIN:VEVENT
UID:ahpd-72287580-20260209T213000@quickscores.com
DTSTAMP:20260424T080100Z
DTSTART;TZID=America/Chicago:20260209T213000
DURATION:PT0H45M0S
SUMMARY:Setting Ducks vs. Kevin and the Tip-munks
DESCRIPTION:Monday Corec B - Arlington Heights Park District
LOCATION:Betsy Ross (West)
CATEGORIES:QuickScores, Volleyball - Adult Game
TRANSP:OPAQUE
BEGIN:VALARM
TRIGGER:-PT2H
ACTION:DISPLAY
DESCRIPTION:Setting Ducks vs. Kevin and the Tip-munks
END:VALARM
END:VEVENT
BEGIN:VEVENT
UID:ahpd-72287588-20260223T183000@quickscores.com
DTSTAMP:20260424T080100Z
DTSTART;TZID=America/Chicago:20260223T183000
DURATION:PT0H45M0S
SUMMARY:Hot Shots vs. Globo Gym Purple Cobras
DESCRIPTION:Monday Corec B - Arlington Heights Park District
LOCATION:Betsy Ross (East)
CATEGORIES:QuickScores, Volleyball - Adult Game
TRANSP:OPAQUE
BEGIN:VALARM
TRIGGER:-PT2H
ACTION:DISPLAY
DESCRIPTION:Hot Shots vs. Globo Gym Purple Cobras
END:VALARM
END:VEVENT
BEGIN:VEVENT
UID:ahpd-72287587-20260223T193000@quickscores.com
DTSTAMP:20260424T080100Z
DTSTART;TZID=America/Chicago:20260223T193000
DURATION:PT0H45M0S
SUMMARY:Balls Deep vs. Setting Ducks
DESCRIPTION:Monday Corec B - Arlington Heights Park District
LOCATION:Betsy Ross (West)
CATEGORIES:QuickScores, Volleyball - Adult Game
TRANSP:OPAQUE
BEGIN:VALARM
TRIGGER:-PT2H
ACTION:DISPLAY
DESCRIPTION:Balls Deep vs. Setting Ducks
END:VALARM
END:VEVENT
BEGIN:VEVENT
UID:ahpd-72287586-20260223T213000@quickscores.com
DTSTAMP:20260424T080100Z
DTSTART;TZID=America/Chicago:20260223T213000
DURATION:PT0H45M0S
SUMMARY:Just the Tip vs. Kevin and the Tip-munks
DESCRIPTION:Monday Corec B - Arlington Heights Park District
LOCATION:Betsy Ross (West)
CATEGORIES:QuickScores, Volleyball - Adult Game
TRANSP:OPAQUE
BEGIN:VALARM
TRIGGER:-PT2H
ACTION:DISPLAY
DESCRIPTION:Just the Tip vs. Kevin and the Tip-munks
END:VALARM
END:VEVENT
BEGIN:VEVENT
UID:ahpd-72287591-20260302T183000@quickscores.com
DTSTAMP:20260424T080100Z
DTSTART;TZID=America/Chicago:20260302T183000
DURATION:PT0H45M0S
SUMMARY:Setting Ducks vs. Just the Tip
DESCRIPTION:Monday Corec B - Arlington Heights Park District
LOCATION:Betsy Ross (East)
CATEGORIES:QuickScores, Volleyball - Adult Game
TRANSP:OPAQUE
BEGIN:VALARM
TRIGGER:-PT2H
ACTION:DISPLAY
DESCRIPTION:Setting Ducks vs. Just the Tip
END:VALARM
END:VEVENT
BEGIN:VEVENT
UID:ahpd-72287590-20260302T193000@quickscores.com
DTSTAMP:20260424T080100Z
DTSTART;TZID=America/Chicago:20260302T193000
DURATION:PT0H45M0S
SUMMARY:Globo Gym Purple Cobras vs. Balls Deep
DESCRIPTION:Monday Corec B - Arlington Heights Park District
LOCATION:Betsy Ross (West)
CATEGORIES:QuickScores, Volleyball - Adult Game
TRANSP:OPAQUE
BEGIN:VALARM
TRIGGER:-PT2H
ACTION:DISPLAY
DESCRIPTION:Globo Gym Purple Cobras vs. Balls Deep
END:VALARM
END:VEVENT
BEGIN:VEVENT
UID:ahpd-72287589-20260302T213000@quickscores.com
DTSTAMP:20260424T080100Z
DTSTART;TZID=America/Chicago:20260302T213000
DURATION:PT0H45M0S
SUMMARY:Hot Shots vs. Kevin and the Tip-munks
DESCRIPTION:Monday Corec B - Arlington Heights Park District
LOCATION:Betsy Ross (West)
CATEGORIES:QuickScores, Volleyball - Adult Game
TRANSP:OPAQUE
BEGIN:VALARM
TRIGGER:-PT2H
ACTION:DISPLAY
DESCRIPTION:Hot Shots vs. Kevin and the Tip-munks
END:VALARM
END:VEVENT
BEGIN:VEVENT
UID:ahpd-72287595-20260316T183000@quickscores.com
DTSTAMP:20260424T080100Z
DTSTART;TZID=America/Chicago:20260316T183000
DURATION:PT0H45M0S
SUMMARY:Kevin and the Tip-munks vs. Setting Ducks
DESCRIPTION:Monday Corec B - Arlington Heights Park District
LOCATION:Betsy Ross (East)
CATEGORIES:QuickScores, Volleyball - Adult Game
TRANSP:OPAQUE
BEGIN:VALARM
TRIGGER:-PT2H
ACTION:DISPLAY
DESCRIPTION:Kevin and the Tip-munks vs. Setting Ducks
END:VALARM
END:VEVENT
BEGIN:VEVENT
UID:ahpd-72287596-20260316T193000@quickscores.com
DTSTAMP:20260424T080100Z
DTSTART;TZID=America/Chicago:20260316T193000
DURATION:PT0H45M0S
SUMMARY:Just the Tip vs. Globo Gym Purple Cobras
DESCRIPTION:Monday Corec B - Arlington Heights Park District
LOCATION:Betsy Ross (West)
CATEGORIES:QuickScores, Volleyball - Adult Game
TRANSP:OPAQUE
BEGIN:VALARM
TRIGGER:-PT2H
ACTION:DISPLAY
DESCRIPTION:Just the Tip vs. Globo Gym Purple Cobras
END:VALARM
END:VEVENT
BEGIN:VEVENT
UID:ahpd-72287597-20260316T213000@quickscores.com
DTSTAMP:20260424T080100Z
DTSTART;TZID=America/Chicago:20260316T213000
DURATION:PT0H45M0S
SUMMARY:Hot Shots vs. Balls Deep
DESCRIPTION:Monday Corec B - Arlington Heights Park District
LOCATION:Betsy Ross (West)
CATEGORIES:QuickScores, Volleyball - Adult Game
TRANSP:OPAQUE
BEGIN:VALARM
TRIGGER:-PT2H
ACTION:DISPLAY
DESCRIPTION:Hot Shots vs. Balls Deep
END:VALARM
END:VEVENT
BEGIN:VEVENT
UID:ahpd-72287598-20260330T183000@quickscores.com
DTSTAMP:20260424T080100Z
DTSTART;TZID=America/Chicago:20260330T183000
DURATION:PT0H45M0S
SUMMARY:Globo Gym Purple Cobras vs. Kevin and the Tip-munks
DESCRIPTION:Monday Corec B - Arlington Heights Park District
LOCATION:Betsy Ross (East)
CATEGORIES:QuickScores, Volleyball - Adult Game
TRANSP:OPAQUE
BEGIN:VALARM
TRIGGER:-PT2H
ACTION:DISPLAY
DESCRIPTION:Globo Gym Purple Cobras vs. Kevin and the Tip-munks
END:VALARM
END:VEVENT
BEGIN:VEVENT
UID:ahpd-72287599-20260330T193000@quickscores.com
DTSTAMP:20260424T080100Z
DTSTART;TZID=America/Chicago:20260330T193000
DURATION:PT0H45M0S
SUMMARY:Setting Ducks vs. Hot Shots
DESCRIPTION:Monday Corec B - Arlington Heights Park District
LOCATION:Betsy Ross (West)
CATEGORIES:QuickScores, Volleyball - Adult Game
TRANSP:OPAQUE
BEGIN:VALARM
TRIGGER:-PT2H
ACTION:DISPLAY
DESCRIPTION:Setting Ducks vs. Hot Shots
END:VALARM
END:VEVENT
BEGIN:VEVENT
UID:ahpd-72287600-20260330T213000@quickscores.com
DTSTAMP:20260424T080100Z
DTSTART;TZID=America/Chicago:20260330T213000
DURATION:PT0H45M0S
SUMMARY:Balls Deep vs. Just the Tip
DESCRIPTION:Monday Corec B - Arlington Heights Park District
LOCATION:Betsy Ross (West)
CATEGORIES:QuickScores, Volleyball - Adult Game
TRANSP:OPAQUE
BEGIN:VALARM
TRIGGER:-PT2H
ACTION:DISPLAY
DESCRIPTION:Balls Deep vs. Just the Tip
END:VALARM
END:VEVENT
BEGIN:VEVENT
UID:ahpd-72287592-20260406T183000@quickscores.com
DTSTAMP:20260424T080100Z
DTSTART;TZID=America/Chicago:20260406T183000
DURATION:PT0H45M0S
SUMMARY:Balls Deep vs. Kevin and the Tip-munks
DESCRIPTION:Monday Corec B - Arlington Heights Park District
LOCATION:Betsy Ross (East)
CATEGORIES:QuickScores, Volleyball - Adult Game
TRANSP:OPAQUE
BEGIN:VALARM
TRIGGER:-PT2H
ACTION:DISPLAY
DESCRIPTION:Balls Deep vs. Kevin and the Tip-munks
END:VALARM
END:VEVENT
BEGIN:VEVENT
UID:ahpd-72287593-20260406T193000@quickscores.com
DTSTAMP:20260424T080100Z
DTSTART;TZID=America/Chicago:20260406T193000
DURATION:PT0H45M0S
SUMMARY:Hot Shots vs. Just the Tip
DESCRIPTION:Monday Corec B - Arlington Heights Park District
LOCATION:Betsy Ross (West)
CATEGORIES:QuickScores, Volleyball - Adult Game
TRANSP:OPAQUE
BEGIN:VALARM
TRIGGER:-PT2H
ACTION:DISPLAY
DESCRIPTION:Hot Shots vs. Just the Tip
END:VALARM
END:VEVENT
BEGIN:VEVENT
UID:ahpd-72287594-20260406T213000@quickscores.com
DTSTAMP:20260424T080100Z
DTSTART;TZID=America/Chicago:20260406T213000
DURATION:PT0H45M0S
SUMMARY:Globo Gym Purple Cobras vs. Setting Ducks
DESCRIPTION:Monday Corec B - Arlington Heights Park District
LOCATION:Betsy Ross (West)
CATEGORIES:QuickScores, Volleyball - Adult Game
TRANSP:OPAQUE
BEGIN:VALARM
TRIGGER:-PT2H
ACTION:DISPLAY
DESCRIPTION:Globo Gym Purple Cobras vs. Setting Ducks
END:VALARM
END:VEVENT
BEGIN:VEVENT
UID:ahpd-72287572-20260413T183000@quickscores.com
DTSTAMP:20260424T080100Z
DTSTART;TZID=America/Chicago:20260413T183000
DURATION:PT0H45M0S
SUMMARY:Setting Ducks vs. Balls Deep
DESCRIPTION:Monday Corec B - Arlington Heights Park District
LOCATION:Betsy Ross (East)
CATEGORIES:QuickScores, Volleyball - Adult Game
TRANSP:OPAQUE
BEGIN:VALARM
TRIGGER:-PT2H
ACTION:DISPLAY
DESCRIPTION:Setting Ducks vs. Balls Deep
END:VALARM
END:VEVENT
BEGIN:VEVENT
UID:ahpd-72287571-20260413T193000@quickscores.com
DTSTAMP:20260424T080100Z
DTSTART;TZID=America/Chicago:20260413T193000
DURATION:PT0H45M0S
SUMMARY:Kevin and the Tip-munks vs. Just the Tip
DESCRIPTION:Monday Corec B - Arlington Heights Park District
LOCATION:Betsy Ross (West)
CATEGORIES:QuickScores, Volleyball - Adult Game
TRANSP:OPAQUE
BEGIN:VALARM
TRIGGER:-PT2H
ACTION:DISPLAY
DESCRIPTION:Kevin and the Tip-munks vs. Just the Tip
END:VALARM
END:VEVENT
BEGIN:VEVENT
UID:ahpd-72287573-20260413T213000@quickscores.com
DTSTAMP:20260424T080100Z
DTSTART;TZID=America/Chicago:20260413T213000
DURATION:PT0H45M0S
SUMMARY:Globo Gym Purple Cobras vs. Hot Shots
DESCRIPTION:Monday Corec B - Arlington Heights Park District
LOCATION:Betsy Ross (West)
CATEGORIES:QuickScores, Volleyball - Adult Game
TRANSP:OPAQUE
BEGIN:VALARM
TRIGGER:-PT2H
ACTION:DISPLAY
DESCRIPTION:Globo Gym Purple Cobras vs. Hot Shots
END:VALARM
END:VEVENT
BEGIN:VEVENT
UID:ahpd-72287583-20260420T183000@quickscores.com
DTSTAMP:20260424T080100Z
DTSTART;TZID=America/Chicago:20260420T183000
DURATION:PT0H45M0S
SUMMARY:Globo Gym Purple Cobras vs. Kevin and the Tip-munks
DESCRIPTION:Monday Corec B - Arlington Heights Park District
LOCATION:Betsy Ross (East)
CATEGORIES:QuickScores, Volleyball - Adult Game
TRANSP:OPAQUE
BEGIN:VALARM
TRIGGER:-PT2H
ACTION:DISPLAY
DESCRIPTION:Globo Gym Purple Cobras vs. Kevin and the Tip-munks
END:VALARM
END:VEVENT
BEGIN:VEVENT
UID:ahpd-72287584-20260420T193000@quickscores.com
DTSTAMP:20260424T080100Z
DTSTART;TZID=America/Chicago:20260420T193000
DURATION:PT0H45M0S
SUMMARY:Setting Ducks vs. Hot Shots
DESCRIPTION:Monday Corec B - Arlington Heights Park District
LOCATION:Betsy Ross (West)
CATEGORIES:QuickScores, Volleyball - Adult Game
TRANSP:OPAQUE
BEGIN:VALARM
TRIGGER:-PT2H
ACTION:DISPLAY
DESCRIPTION:Setting Ducks vs. Hot Shots
END:VALARM
END:VEVENT
BEGIN:VEVENT
UID:ahpd-72287585-20260420T213000@quickscores.com
DTSTAMP:20260424T080100Z
DTSTART;TZID=America/Chicago:20260420T213000
DURATION:PT0H45M0S
SUMMARY:Just the Tip vs. Balls Deep
DESCRIPTION:Monday Corec B - Arlington Heights Park District
LOCATION:Betsy Ross (West)
CATEGORIES:QuickScores, Volleyball - Adult Game
TRANSP:OPAQUE
BEGIN:VALARM
TRIGGER:-PT2H
ACTION:DISPLAY
DESCRIPTION:Just the Tip vs. Balls Deep
END:VALARM
END:VEVENT
BEGIN:VEVENT
UID:ahpd-72157671-20260427T193000@quickscores.com
DTSTAMP:20260424T080100Z
DTSTART;TZID=America/Chicago:20260427T193000
DURATION:PT1H0M0S
SUMMARY:[3] Just the Tip vs. [6] Balls Deep
DESCRIPTION:Monday Corec B - Arlington Heights Park District
LOCATION:Betsy Ross (West)
CATEGORIES:QuickScores, Volleyball - Adult Game
TRANSP:OPAQUE
BEGIN:VALARM
TRIGGER:-PT2H
ACTION:DISPLAY
DESCRIPTION:[3] Just the Tip vs. [6] Balls Deep
END:VALARM
END:VEVENT
BEGIN:VEVENT
UID:ahpd-72157669-20260427T203000@quickscores.com
DTSTAMP:20260424T080100Z
DTSTART;TZID=America/Chicago:20260427T203000
DURATION:PT1H0M0S
SUMMARY:[4] Setting Ducks vs. [5] Globo Gym Purple Cobras
DESCRIPTION:Monday Corec B - Arlington Heights Park District
LOCATION:Betsy Ross (West)
CATEGORIES:QuickScores, Volleyball - Adult Game
TRANSP:OPAQUE
BEGIN:VALARM
TRIGGER:-PT2H
ACTION:DISPLAY
DESCRIPTION:[4] Setting Ducks vs. [5] Globo Gym Purple Cobras
END:VALARM
END:VEVENT
BEGIN:VEVENT
UID:ahpd-72157673-20260504T193000@quickscores.com
DTSTAMP:20260424T080100Z
DTSTART;TZID=America/Chicago:20260504T193000
DURATION:PT1H0M0S
SUMMARY:[2] Kevin and the Tip-munks vs. Winner of Game 2
DESCRIPTION:Monday Corec B - Arlington Heights Park District
LOCATION:Betsy Ross (West)
CATEGORIES:QuickScores, Volleyball - Adult Game
TRANSP:OPAQUE
BEGIN:VALARM
TRIGGER:-PT2H
ACTION:DISPLAY
DESCRIPTION:[2] Kevin and the Tip-munks vs. Winner of Game 2
END:VALARM
END:VEVENT
BEGIN:VEVENT
UID:ahpd-72157672-20260504T203000@quickscores.com
DTSTAMP:20260424T080100Z
DTSTART;TZID=America/Chicago:20260504T203000
DURATION:PT1H0M0S
SUMMARY:[1] Hot Shots vs. Winner of Game 1
DESCRIPTION:Monday Corec B - Arlington Heights Park District
LOCATION:Betsy Ross (West)
CATEGORIES:QuickScores, Volleyball - Adult Game
TRANSP:OPAQUE
BEGIN:VALARM
TRIGGER:-PT2H
ACTION:DISPLAY
DESCRIPTION:[1] Hot Shots vs. Winner of Game 1
END:VALARM
END:VEVENT
BEGIN:VEVENT
UID:ahpd-72157674-20260511T183000@quickscores.com
DTSTAMP:20260424T080100Z
DTSTART;TZID=America/Chicago:20260511T183000
DURATION:PT1H0M0S
SUMMARY:Winner of Game 3 vs. Winner of Game 4
DESCRIPTION:Monday Corec B - Arlington Heights Park District
LOCATION:Betsy Ross (West)
CATEGORIES:QuickScores, Volleyball - Adult Game
TRANSP:OPAQUE
BEGIN:VALARM
TRIGGER:-PT2H
ACTION:DISPLAY
DESCRIPTION:Winner of Game 3 vs. Winner of Game 4
END:VALARM
END:VEVENT
END:VCALENDAR
