BEGIN:VCALENDAR
VERSION:2.0
PRODID:-//QuickScores.com//BQ Dynamic iCal Creator//EN
METHOD:PUBLISH
X-WR-CALNAME:Adult Pickleball - Thursday League Recreation Red Division - Fall 2025
X-WR-CALDESC:QuickScores game calendar
X-PUBLISHED-TTL:PT24H
REFRESH-INTERVAL;VALUE=DURATION:PT24H
CALSCALE:GREGORIAN
BEGIN:VTIMEZONE
TZID:America/Chicago
X-LIC-LOCATION:America/Chicago
BEGIN:DAYLIGHT
TZNAME:CDT
TZOFFSETFROM:-0600
TZOFFSETTO:-0500
DTSTART:19700308T020000
RRULE:FREQ=YEARLY;BYMONTH=3;BYDAY=2SU
END:DAYLIGHT
BEGIN:STANDARD
TZNAME:CST
TZOFFSETFROM:-0500
TZOFFSETTO:-0600
DTSTART:19701101T020000
RRULE:FREQ=YEARLY;BYMONTH=11;BYDAY=1SU
END:STANDARD
END:VTIMEZONE
BEGIN:VEVENT
UID:csparks-71506950-20251023T190000@quickscores.com
DTSTAMP:20260423T182100Z
DTSTART;TZID=America/Chicago:20251023T190000
DURATION:PT0H45M0S
SUMMARY:Red Dirt vs. Pickle Pair
DESCRIPTION:Adult Pickleball - Thursday League Recreation Red Division - Carol Stream Park District
LOCATION:Fountain View - Court 3 - Pickleball 2
CATEGORIES:QuickScores, Pickleball Game
TRANSP:OPAQUE
BEGIN:VALARM
TRIGGER:-PT2H
ACTION:DISPLAY
DESCRIPTION:Red Dirt vs. Pickle Pair
END:VALARM
END:VEVENT
BEGIN:VEVENT
UID:csparks-71506952-20251030T173000@quickscores.com
DTSTAMP:20260423T182100Z
DTSTART;TZID=America/Chicago:20251030T173000
DURATION:PT0H45M0S
SUMMARY:Sno Leo vs. Paddle up buttercup
DESCRIPTION:Adult Pickleball - Thursday League Recreation Red Division - Carol Stream Park District
LOCATION:Fountain View - Court 3 - Pickleball 3
CATEGORIES:QuickScores, Pickleball Game
TRANSP:OPAQUE
BEGIN:VALARM
TRIGGER:-PT2H
ACTION:DISPLAY
DESCRIPTION:Sno Leo vs. Paddle up buttercup
END:VALARM
END:VEVENT
BEGIN:VEVENT
UID:csparks-71506953-20251030T181500@quickscores.com
DTSTAMP:20260423T182100Z
DTSTART;TZID=America/Chicago:20251030T181500
DURATION:PT0H45M0S
SUMMARY:Pickle Pair vs. Close Call
DESCRIPTION:Adult Pickleball - Thursday League Recreation Red Division - Carol Stream Park District
LOCATION:Fountain View - Court 3 - Pickleball 3
CATEGORIES:QuickScores, Pickleball Game
TRANSP:OPAQUE
BEGIN:VALARM
TRIGGER:-PT2H
ACTION:DISPLAY
DESCRIPTION:Pickle Pair vs. Close Call
END:VALARM
END:VEVENT
BEGIN:VEVENT
UID:csparks-71506954-20251030T190000@quickscores.com
DTSTAMP:20260423T182100Z
DTSTART;TZID=America/Chicago:20251030T190000
DURATION:PT0H45M0S
SUMMARY:Paddle Punks vs. Red Dirt
DESCRIPTION:Adult Pickleball - Thursday League Recreation Red Division - Carol Stream Park District
LOCATION:Fountain View - Court 3 - Pickleball 3
CATEGORIES:QuickScores, Pickleball Game
TRANSP:OPAQUE
BEGIN:VALARM
TRIGGER:-PT2H
ACTION:DISPLAY
DESCRIPTION:Paddle Punks vs. Red Dirt
END:VALARM
END:VEVENT
BEGIN:VEVENT
UID:csparks-71506958-20251106T173000@quickscores.com
DTSTAMP:20260423T182100Z
DTSTART;TZID=America/Chicago:20251106T173000
DURATION:PT0H45M0S
SUMMARY:Sno Leo vs. Pickle Pair
DESCRIPTION:Adult Pickleball - Thursday League Recreation Red Division - Carol Stream Park District
LOCATION:Fountain View - Court 3 - Pickleball 2
CATEGORIES:QuickScores, Pickleball Game
TRANSP:OPAQUE
BEGIN:VALARM
TRIGGER:-PT2H
ACTION:DISPLAY
DESCRIPTION:Sno Leo vs. Pickle Pair
END:VALARM
END:VEVENT
BEGIN:VEVENT
UID:csparks-71506957-20251106T181500@quickscores.com
DTSTAMP:20260423T182100Z
DTSTART;TZID=America/Chicago:20251106T181500
DURATION:PT0H45M0S
SUMMARY:Net Results (Michalakes) vs. Paddle Punks
DESCRIPTION:Adult Pickleball - Thursday League Recreation Red Division - Carol Stream Park District
LOCATION:Fountain View - Court 3 - Pickleball 2
CATEGORIES:QuickScores, Pickleball Game
TRANSP:OPAQUE
BEGIN:VALARM
TRIGGER:-PT2H
ACTION:DISPLAY
DESCRIPTION:Net Results (Michalakes) vs. Paddle Punks
END:VALARM
END:VEVENT
BEGIN:VEVENT
UID:csparks-71506956-20251106T190000@quickscores.com
DTSTAMP:20260423T182100Z
DTSTART;TZID=America/Chicago:20251106T190000
DURATION:PT0H45M0S
SUMMARY:Paddle up buttercup vs. Red Dirt
DESCRIPTION:Adult Pickleball - Thursday League Recreation Red Division - Carol Stream Park District
LOCATION:Fountain View - Court 3 - Pickleball 2
CATEGORIES:QuickScores, Pickleball Game
TRANSP:OPAQUE
BEGIN:VALARM
TRIGGER:-PT2H
ACTION:DISPLAY
DESCRIPTION:Paddle up buttercup vs. Red Dirt
END:VALARM
END:VEVENT
BEGIN:VEVENT
UID:csparks-71506962-20251113T173000@quickscores.com
DTSTAMP:20260423T182100Z
DTSTART;TZID=America/Chicago:20251113T173000
DURATION:PT0H45M0S
SUMMARY:Red Dirt vs. Close Call
DESCRIPTION:Adult Pickleball - Thursday League Recreation Red Division - Carol Stream Park District
LOCATION:Fountain View - Court 3 - Pickleball 3
CATEGORIES:QuickScores, Pickleball Game
TRANSP:OPAQUE
BEGIN:VALARM
TRIGGER:-PT2H
ACTION:DISPLAY
DESCRIPTION:Red Dirt vs. Close Call
END:VALARM
END:VEVENT
BEGIN:VEVENT
UID:csparks-71506961-20251113T181500@quickscores.com
DTSTAMP:20260423T182100Z
DTSTART;TZID=America/Chicago:20251113T181500
DURATION:PT0H45M0S
SUMMARY:Paddle Punks vs. Paddle up buttercup
DESCRIPTION:Adult Pickleball - Thursday League Recreation Red Division - Carol Stream Park District
LOCATION:Fountain View - Court 3 - Pickleball 3
CATEGORIES:QuickScores, Pickleball Game
TRANSP:OPAQUE
BEGIN:VALARM
TRIGGER:-PT2H
ACTION:DISPLAY
DESCRIPTION:Paddle Punks vs. Paddle up buttercup
END:VALARM
END:VEVENT
BEGIN:VEVENT
UID:csparks-71506960-20251113T190000@quickscores.com
DTSTAMP:20260423T182100Z
DTSTART;TZID=America/Chicago:20251113T190000
DURATION:PT0H45M0S
SUMMARY:Pickle Pair vs. Net Results (Michalakes)
DESCRIPTION:Adult Pickleball - Thursday League Recreation Red Division - Carol Stream Park District
LOCATION:Fountain View - Court 3 - Pickleball 3
CATEGORIES:QuickScores, Pickleball Game
TRANSP:OPAQUE
BEGIN:VALARM
TRIGGER:-PT2H
ACTION:DISPLAY
DESCRIPTION:Pickle Pair vs. Net Results (Michalakes)
END:VALARM
END:VEVENT
BEGIN:VEVENT
UID:csparks-71506964-20251120T173000@quickscores.com
DTSTAMP:20260423T182100Z
DTSTART;TZID=America/Chicago:20251120T173000
DURATION:PT0H45M0S
SUMMARY:Close Call vs. Paddle Punks
DESCRIPTION:Adult Pickleball - Thursday League Recreation Red Division - Carol Stream Park District
LOCATION:Fountain View - Court 3 - Pickleball 2
CATEGORIES:QuickScores, Pickleball Game
TRANSP:OPAQUE
BEGIN:VALARM
TRIGGER:-PT2H
ACTION:DISPLAY
DESCRIPTION:Close Call vs. Paddle Punks
END:VALARM
END:VEVENT
BEGIN:VEVENT
UID:csparks-71506965-20251120T181500@quickscores.com
DTSTAMP:20260423T182100Z
DTSTART;TZID=America/Chicago:20251120T181500
DURATION:PT0H45M0S
SUMMARY:Paddle up buttercup vs. Pickle Pair
DESCRIPTION:Adult Pickleball - Thursday League Recreation Red Division - Carol Stream Park District
LOCATION:Fountain View - Court 3 - Pickleball 2
CATEGORIES:QuickScores, Pickleball Game
TRANSP:OPAQUE
BEGIN:VALARM
TRIGGER:-PT2H
ACTION:DISPLAY
DESCRIPTION:Paddle up buttercup vs. Pickle Pair
END:VALARM
END:VEVENT
BEGIN:VEVENT
UID:csparks-71506966-20251120T190000@quickscores.com
DTSTAMP:20260423T182100Z
DTSTART;TZID=America/Chicago:20251120T190000
DURATION:PT0H45M0S
SUMMARY:Net Results (Michalakes) vs. Sno Leo
DESCRIPTION:Adult Pickleball - Thursday League Recreation Red Division - Carol Stream Park District
LOCATION:Fountain View - Court 3 - Pickleball 2
CATEGORIES:QuickScores, Pickleball Game
TRANSP:OPAQUE
BEGIN:VALARM
TRIGGER:-PT2H
ACTION:DISPLAY
DESCRIPTION:Net Results (Michalakes) vs. Sno Leo
END:VALARM
END:VEVENT
BEGIN:VEVENT
UID:csparks-71506968-20251204T173000@quickscores.com
DTSTAMP:20260423T182100Z
DTSTART;TZID=America/Chicago:20251204T173000
DURATION:PT0H45M0S
SUMMARY:Paddle Punks vs. Sno Leo
DESCRIPTION:Moved to Simkus --- Adult Pickleball - Thursday League Recreation Red Division - Carol Stream Park District
LOCATION:Simkus - Court 2 (West) - Pickleball 1
CATEGORIES:QuickScores, Pickleball Game
TRANSP:OPAQUE
BEGIN:VALARM
TRIGGER:-PT2H
ACTION:DISPLAY
DESCRIPTION:Paddle Punks vs. Sno Leo
END:VALARM
END:VEVENT
BEGIN:VEVENT
UID:csparks-71506969-20251204T181500@quickscores.com
DTSTAMP:20260423T182100Z
DTSTART;TZID=America/Chicago:20251204T181500
DURATION:PT0H45M0S
SUMMARY:Red Dirt vs. Net Results (Michalakes)
DESCRIPTION:Moved to Simkus --- Adult Pickleball - Thursday League Recreation Red Division - Carol Stream Park District
LOCATION:Simkus - Court 2 (West) - Pickleball 1
CATEGORIES:QuickScores, Pickleball Game
TRANSP:OPAQUE
BEGIN:VALARM
TRIGGER:-PT2H
ACTION:DISPLAY
DESCRIPTION:Red Dirt vs. Net Results (Michalakes)
END:VALARM
END:VEVENT
BEGIN:VEVENT
UID:csparks-71506970-20251204T190000@quickscores.com
DTSTAMP:20260423T182100Z
DTSTART;TZID=America/Chicago:20251204T190000
DURATION:PT0H45M0S
SUMMARY:Close Call vs. Paddle up buttercup
DESCRIPTION:Moved to Simkus --- Adult Pickleball - Thursday League Recreation Red Division - Carol Stream Park District
LOCATION:Simkus - Court 2 (West) - Pickleball 1
CATEGORIES:QuickScores, Pickleball Game
TRANSP:OPAQUE
BEGIN:VALARM
TRIGGER:-PT2H
ACTION:DISPLAY
DESCRIPTION:Close Call vs. Paddle up buttercup
END:VALARM
END:VEVENT
BEGIN:VEVENT
UID:csparks-71506974-20251211T173000@quickscores.com
DTSTAMP:20260423T182100Z
DTSTART;TZID=America/Chicago:20251211T173000
DURATION:PT0H45M0S
SUMMARY:Sno Leo vs. Red Dirt
DESCRIPTION:Moved to Simkus --- Adult Pickleball - Thursday League Recreation Red Division - Carol Stream Park District
LOCATION:Simkus - Court 2 (West) - Pickleball 2
CATEGORIES:QuickScores, Pickleball Game
TRANSP:OPAQUE
BEGIN:VALARM
TRIGGER:-PT2H
ACTION:DISPLAY
DESCRIPTION:Sno Leo vs. Red Dirt
END:VALARM
END:VEVENT
BEGIN:VEVENT
UID:csparks-71506949-20251211T173000@quickscores.com
DTSTAMP:20260423T182100Z
DTSTART;TZID=America/Chicago:20251211T173000
DURATION:PT0H45M0S
SUMMARY:Pickle Pair vs. Paddle Punks
DESCRIPTION:Moved to Simkus --- Adult Pickleball - Thursday League Recreation Red Division - Carol Stream Park District
LOCATION:Simkus - Court 2 (West) - Pickleball 1
CATEGORIES:QuickScores, Pickleball Game
TRANSP:OPAQUE
BEGIN:VALARM
TRIGGER:-PT2H
ACTION:DISPLAY
DESCRIPTION:Pickle Pair vs. Paddle Punks
END:VALARM
END:VEVENT
BEGIN:VEVENT
UID:csparks-71506972-20251211T181500@quickscores.com
DTSTAMP:20260423T182100Z
DTSTART;TZID=America/Chicago:20251211T181500
DURATION:PT0H45M0S
SUMMARY:Close Call vs. Sno Leo
DESCRIPTION:Moved to Simkus --- Adult Pickleball - Thursday League Recreation Red Division - Carol Stream Park District
LOCATION:Simkus - Court 2 (West) - Pickleball 2
CATEGORIES:QuickScores, Pickleball Game
TRANSP:OPAQUE
BEGIN:VALARM
TRIGGER:-PT2H
ACTION:DISPLAY
DESCRIPTION:Close Call vs. Sno Leo
END:VALARM
END:VEVENT
BEGIN:VEVENT
UID:csparks-71506948-20251211T181500@quickscores.com
DTSTAMP:20260423T182100Z
DTSTART;TZID=America/Chicago:20251211T181500
DURATION:PT0H45M0S
SUMMARY:Paddle up buttercup vs. Net Results (Michalakes)
DESCRIPTION:Moved to Simkus --- Adult Pickleball - Thursday League Recreation Red Division - Carol Stream Park District
LOCATION:Simkus - Court 2 (West) - Pickleball 1
CATEGORIES:QuickScores, Pickleball Game
TRANSP:OPAQUE
BEGIN:VALARM
TRIGGER:-PT2H
ACTION:DISPLAY
DESCRIPTION:Paddle up buttercup vs. Net Results (Michalakes)
END:VALARM
END:VEVENT
BEGIN:VEVENT
UID:csparks-71506973-20251211T190000@quickscores.com
DTSTAMP:20260423T182100Z
DTSTART;TZID=America/Chicago:20251211T190000
DURATION:PT0H45M0S
SUMMARY:Net Results (Michalakes) vs. Close Call
DESCRIPTION:Moved to Simkus --- Adult Pickleball - Thursday League Recreation Red Division - Carol Stream Park District
LOCATION:Simkus - Court 2 (West) - Pickleball 2
CATEGORIES:QuickScores, Pickleball Game
TRANSP:OPAQUE
BEGIN:VALARM
TRIGGER:-PT2H
ACTION:DISPLAY
DESCRIPTION:Net Results (Michalakes) vs. Close Call
END:VALARM
END:VEVENT
BEGIN:VEVENT
UID:csparks-71656130-20251218T191500@quickscores.com
DTSTAMP:20260423T182100Z
DTSTART;TZID=America/Chicago:20251218T191500
DURATION:PT0H15M0S
SUMMARY:[3] Paddle Punks vs. [6] Net Results (Michalakes)
DESCRIPTION:Adult Pickleball - Thursday League Recreation Red Division - Carol Stream Park District
LOCATION:Simkus - Court 1 (East) - Pickleball 3
CATEGORIES:QuickScores, Pickleball Game
TRANSP:OPAQUE
BEGIN:VALARM
TRIGGER:-PT2H
ACTION:DISPLAY
DESCRIPTION:[3] Paddle Punks vs. [6] Net Results (Michalakes)
END:VALARM
END:VEVENT
BEGIN:VEVENT
UID:csparks-71656129-20251218T191500@quickscores.com
DTSTAMP:20260423T182100Z
DTSTART;TZID=America/Chicago:20251218T191500
DURATION:PT0H15M0S
SUMMARY:[2] Close Call vs. [7] Sno Leo
DESCRIPTION:Adult Pickleball - Thursday League Recreation Red Division - Carol Stream Park District
LOCATION:Simkus - Court 2 (West) - Pickleball 2
CATEGORIES:QuickScores, Pickleball Game
TRANSP:OPAQUE
BEGIN:VALARM
TRIGGER:-PT2H
ACTION:DISPLAY
DESCRIPTION:[2] Close Call vs. [7] Sno Leo
END:VALARM
END:VEVENT
BEGIN:VEVENT
UID:csparks-71656128-20251218T191500@quickscores.com
DTSTAMP:20260423T182100Z
DTSTART;TZID=America/Chicago:20251218T191500
DURATION:PT0H15M0S
SUMMARY:[4] Pickle Pair vs. [5] Paddle up buttercup
DESCRIPTION:Adult Pickleball - Thursday League Recreation Red Division - Carol Stream Park District
LOCATION:Simkus - Court 2 (West) - Pickleball 1
CATEGORIES:QuickScores, Pickleball Game
TRANSP:OPAQUE
BEGIN:VALARM
TRIGGER:-PT2H
ACTION:DISPLAY
DESCRIPTION:[4] Pickle Pair vs. [5] Paddle up buttercup
END:VALARM
END:VEVENT
BEGIN:VEVENT
UID:csparks-71656131-20251218T193000@quickscores.com
DTSTAMP:20260423T182100Z
DTSTART;TZID=America/Chicago:20251218T193000
DURATION:PT0H15M0S
SUMMARY:[1] Red Dirt vs. [5] Paddle up buttercup
DESCRIPTION:Adult Pickleball - Thursday League Recreation Red Division - Carol Stream Park District
LOCATION:Simkus - Court 2 (West) - Pickleball 1
CATEGORIES:QuickScores, Pickleball Game
TRANSP:OPAQUE
BEGIN:VALARM
TRIGGER:-PT2H
ACTION:DISPLAY
DESCRIPTION:[1] Red Dirt vs. [5] Paddle up buttercup
END:VALARM
END:VEVENT
BEGIN:VEVENT
UID:csparks-71656132-20251218T193000@quickscores.com
DTSTAMP:20260423T182100Z
DTSTART;TZID=America/Chicago:20251218T193000
DURATION:PT0H15M0S
SUMMARY:[2] Close Call vs. [3] Paddle Punks
DESCRIPTION:Adult Pickleball - Thursday League Recreation Red Division - Carol Stream Park District
LOCATION:Simkus - Court 2 (West) - Pickleball 2
CATEGORIES:QuickScores, Pickleball Game
TRANSP:OPAQUE
BEGIN:VALARM
TRIGGER:-PT2H
ACTION:DISPLAY
DESCRIPTION:[2] Close Call vs. [3] Paddle Punks
END:VALARM
END:VEVENT
BEGIN:VEVENT
UID:csparks-71656134-20251218T193000@quickscores.com
DTSTAMP:20260423T182100Z
DTSTART;TZID=America/Chicago:20251218T193000
DURATION:PT0H15M0S
SUMMARY:[7] Sno Leo vs. [6] Net Results (Michalakes)
DESCRIPTION:Adult Pickleball - Thursday League Recreation Red Division - Carol Stream Park District
LOCATION:Simkus - Court 1 (East) - Pickleball 3
CATEGORIES:QuickScores, Pickleball Game
TRANSP:OPAQUE
BEGIN:VALARM
TRIGGER:-PT2H
ACTION:DISPLAY
DESCRIPTION:[7] Sno Leo vs. [6] Net Results (Michalakes)
END:VALARM
END:VEVENT
BEGIN:VEVENT
UID:csparks-71656137-20251218T194500@quickscores.com
DTSTAMP:20260423T182100Z
DTSTART;TZID=America/Chicago:20251218T194500
DURATION:PT0H15M0S
SUMMARY:[1] Red Dirt vs. [3] Paddle Punks
DESCRIPTION:Adult Pickleball - Thursday League Recreation Red Division - Carol Stream Park District
LOCATION:Simkus - Court 2 (West) - Pickleball 1
CATEGORIES:QuickScores, Pickleball Game
TRANSP:OPAQUE
BEGIN:VALARM
TRIGGER:-PT2H
ACTION:DISPLAY
DESCRIPTION:[1] Red Dirt vs. [3] Paddle Punks
END:VALARM
END:VEVENT
BEGIN:VEVENT
UID:csparks-71656136-20251218T194500@quickscores.com
DTSTAMP:20260423T182100Z
DTSTART;TZID=America/Chicago:20251218T194500
DURATION:PT0H15M0S
SUMMARY:[5] Paddle up buttercup vs. [6] Net Results (Michalakes)
DESCRIPTION:Adult Pickleball - Thursday League Recreation Red Division - Carol Stream Park District
LOCATION:Simkus - Court 1 (East) - Pickleball 3
CATEGORIES:QuickScores, Pickleball Game
TRANSP:OPAQUE
BEGIN:VALARM
TRIGGER:-PT2H
ACTION:DISPLAY
DESCRIPTION:[5] Paddle up buttercup vs. [6] Net Results (Michalakes)
END:VALARM
END:VEVENT
BEGIN:VEVENT
UID:csparks-71656135-20251218T194500@quickscores.com
DTSTAMP:20260423T182100Z
DTSTART;TZID=America/Chicago:20251218T194500
DURATION:PT0H15M0S
SUMMARY:[2] Close Call vs. [4] Pickle Pair
DESCRIPTION:Adult Pickleball - Thursday League Recreation Red Division - Carol Stream Park District
LOCATION:Simkus - Court 2 (West) - Pickleball 2
CATEGORIES:QuickScores, Pickleball Game
TRANSP:OPAQUE
BEGIN:VALARM
TRIGGER:-PT2H
ACTION:DISPLAY
DESCRIPTION:[2] Close Call vs. [4] Pickle Pair
END:VALARM
END:VEVENT
BEGIN:VEVENT
UID:csparks-71656138-20251218T200000@quickscores.com
DTSTAMP:20260423T182100Z
DTSTART;TZID=America/Chicago:20251218T200000
DURATION:PT0H15M0S
SUMMARY:[2] Close Call vs. [6] Net Results (Michalakes)
DESCRIPTION:Adult Pickleball - Thursday League Recreation Red Division - Carol Stream Park District
LOCATION:Simkus - Court 1 (East) - Pickleball 3
CATEGORIES:QuickScores, Pickleball Game
TRANSP:OPAQUE
BEGIN:VALARM
TRIGGER:-PT2H
ACTION:DISPLAY
DESCRIPTION:[2] Close Call vs. [6] Net Results (Michalakes)
END:VALARM
END:VEVENT
BEGIN:VEVENT
UID:csparks-71656139-20251218T201500@quickscores.com
DTSTAMP:20260423T182100Z
DTSTART;TZID=America/Chicago:20251218T201500
DURATION:PT0H15M0S
SUMMARY:[3] Paddle Punks vs. [2] Close Call
DESCRIPTION:Adult Pickleball - Thursday League Recreation Red Division - Carol Stream Park District
LOCATION:Simkus - Court 2 (West) - Pickleball 2
CATEGORIES:QuickScores, Pickleball Game
TRANSP:OPAQUE
BEGIN:VALARM
TRIGGER:-PT2H
ACTION:DISPLAY
DESCRIPTION:[3] Paddle Punks vs. [2] Close Call
END:VALARM
END:VEVENT
BEGIN:VEVENT
UID:csparks-71656140-20251218T203000@quickscores.com
DTSTAMP:20260423T182100Z
DTSTART;TZID=America/Chicago:20251218T203000
DURATION:PT0H15M0S
SUMMARY:[1] Red Dirt vs. [3] Paddle Punks
DESCRIPTION:Adult Pickleball - Thursday League Recreation Red Division - Carol Stream Park District
LOCATION:Simkus - Court 2 (West) - Pickleball 2
CATEGORIES:QuickScores, Pickleball Game
TRANSP:OPAQUE
BEGIN:VALARM
TRIGGER:-PT2H
ACTION:DISPLAY
DESCRIPTION:[1] Red Dirt vs. [3] Paddle Punks
END:VALARM
END:VEVENT
END:VCALENDAR
