BEGIN:VCALENDAR
VERSION:2.0
PRODID:-//QuickScores.com//BQ Dynamic iCal Creator//EN
METHOD:PUBLISH
X-WR-CALNAME:Tuesday D Playoffs-lower Division - 2025 Fall Basketball League
X-WR-CALDESC:QuickScores game calendar
X-PUBLISHED-TTL:PT24H
REFRESH-INTERVAL;VALUE=DURATION:PT24H
CALSCALE:GREGORIAN
BEGIN:VTIMEZONE
TZID:America/Los_Angeles
X-LIC-LOCATION:America/Los_Angeles
BEGIN:DAYLIGHT
TZNAME:PDT
TZOFFSETFROM:-0800
TZOFFSETTO:-0700
DTSTART:19700308T020000
RRULE:FREQ=YEARLY;BYMONTH=3;BYDAY=2SU
END:DAYLIGHT
BEGIN:STANDARD
TZNAME:PST
TZOFFSETFROM:-0700
TZOFFSETTO:-0800
DTSTART:19701101T020000
RRULE:FREQ=YEARLY;BYMONTH=11;BYDAY=1SU
END:STANDARD
END:VTIMEZONE
BEGIN:VEVENT
UID:crpd-71384580-20251021T183000@quickscores.com
DTSTAMP:20260422T004200Z
DTSTART;TZID=America/Los_Angeles:20251021T183000
DURATION:PT1H0M0S
SUMMARY:[6] Musotic vs. [7] Over The Hill
DESCRIPTION:Tuesday D Playoffs-lower Division - Conejo Recreation and Park District
LOCATION:Borchard Community Center
CATEGORIES:QuickScores, Basketball - Adult Game
TRANSP:OPAQUE
BEGIN:VALARM
TRIGGER:-PT2H
ACTION:DISPLAY
DESCRIPTION:[6] Musotic vs. [7] Over The Hill
END:VALARM
END:VEVENT
BEGIN:VEVENT
UID:crpd-71384579-20251021T203000@quickscores.com
DTSTAMP:20260422T004200Z
DTSTART;TZID=America/Los_Angeles:20251021T203000
DURATION:PT1H0M0S
SUMMARY:[5] Fat Heads vs. [8] We Believe
DESCRIPTION:Tuesday D Playoffs-lower Division - Conejo Recreation and Park District
LOCATION:Borchard Community Center
CATEGORIES:QuickScores, Basketball - Adult Game
TRANSP:OPAQUE
BEGIN:VALARM
TRIGGER:-PT2H
ACTION:DISPLAY
DESCRIPTION:[5] Fat Heads vs. [8] We Believe
END:VALARM
END:VEVENT
BEGIN:VEVENT
UID:crpd-71384583-20251028T193000@quickscores.com
DTSTAMP:20260422T004200Z
DTSTART;TZID=America/Los_Angeles:20251028T193000
DURATION:PT1H0M0S
SUMMARY:[5] Fat Heads vs. [6] Musotic
DESCRIPTION:Tuesday D Playoffs-lower Division - Conejo Recreation and Park District
LOCATION:Borchard Community Center
CATEGORIES:QuickScores, Basketball - Adult Game
TRANSP:OPAQUE
BEGIN:VALARM
TRIGGER:-PT2H
ACTION:DISPLAY
DESCRIPTION:[5] Fat Heads vs. [6] Musotic
END:VALARM
END:VEVENT
BEGIN:VEVENT
UID:crpd-71384581-20251028T213000@quickscores.com
DTSTAMP:20260422T004200Z
DTSTART;TZID=America/Los_Angeles:20251028T213000
DURATION:PT1H0M0S
SUMMARY:[8] We Believe vs. [7] Over The Hill
DESCRIPTION:Tuesday D Playoffs-lower Division - Conejo Recreation and Park District
LOCATION:Borchard Community Center
CATEGORIES:QuickScores, Basketball - Adult Game
TRANSP:OPAQUE
BEGIN:VALARM
TRIGGER:-PT2H
ACTION:DISPLAY
DESCRIPTION:[8] We Believe vs. [7] Over The Hill
END:VALARM
END:VEVENT
END:VCALENDAR
