BEGIN:VCALENDAR
VERSION:2.0
PRODID:-//QuickScores.com//BQ Dynamic iCal Creator//EN
METHOD:PUBLISH
X-WR-CALNAME:Tuesday D Playoffs-upper Division - 2025 Fall Basketball League
X-WR-CALDESC:QuickScores game calendar
X-PUBLISHED-TTL:PT24H
REFRESH-INTERVAL;VALUE=DURATION:PT24H
CALSCALE:GREGORIAN
BEGIN:VTIMEZONE
TZID:America/Los_Angeles
X-LIC-LOCATION:America/Los_Angeles
BEGIN:DAYLIGHT
TZNAME:PDT
TZOFFSETFROM:-0800
TZOFFSETTO:-0700
DTSTART:19700308T020000
RRULE:FREQ=YEARLY;BYMONTH=3;BYDAY=2SU
END:DAYLIGHT
BEGIN:STANDARD
TZNAME:PST
TZOFFSETFROM:-0700
TZOFFSETTO:-0800
DTSTART:19701101T020000
RRULE:FREQ=YEARLY;BYMONTH=11;BYDAY=1SU
END:STANDARD
END:VTIMEZONE
BEGIN:VEVENT
UID:crpd-71384540-20251021T193000@quickscores.com
DTSTAMP:20260422T160200Z
DTSTART;TZID=America/Los_Angeles:20251021T193000
DURATION:PT1H0M0S
SUMMARY:[1] 5 Star Recruits vs. [4] Brick City
DESCRIPTION:Tuesday D Playoffs-upper Division - Conejo Recreation and Park District
LOCATION:Borchard Community Center
CATEGORIES:QuickScores, Basketball - Adult Game
TRANSP:OPAQUE
BEGIN:VALARM
TRIGGER:-PT2H
ACTION:DISPLAY
DESCRIPTION:[1] 5 Star Recruits vs. [4] Brick City
END:VALARM
END:VEVENT
BEGIN:VEVENT
UID:crpd-71384541-20251021T213000@quickscores.com
DTSTAMP:20260422T160200Z
DTSTART;TZID=America/Los_Angeles:20251021T213000
DURATION:PT1H0M0S
SUMMARY:[2] Taco Tuesday vs. [3] Team TBD
DESCRIPTION:Tuesday D Playoffs-upper Division - Conejo Recreation and Park District
LOCATION:Borchard Community Center
CATEGORIES:QuickScores, Basketball - Adult Game
TRANSP:OPAQUE
BEGIN:VALARM
TRIGGER:-PT2H
ACTION:DISPLAY
DESCRIPTION:[2] Taco Tuesday vs. [3] Team TBD
END:VALARM
END:VEVENT
BEGIN:VEVENT
UID:crpd-71384542-20251028T183000@quickscores.com
DTSTAMP:20260422T160200Z
DTSTART;TZID=America/Los_Angeles:20251028T183000
DURATION:PT1H0M0S
SUMMARY:[4] Brick City vs. [3] Team TBD
DESCRIPTION:Tuesday D Playoffs-upper Division - Conejo Recreation and Park District
LOCATION:Borchard Community Center
CATEGORIES:QuickScores, Basketball - Adult Game
TRANSP:OPAQUE
BEGIN:VALARM
TRIGGER:-PT2H
ACTION:DISPLAY
DESCRIPTION:[4] Brick City vs. [3] Team TBD
END:VALARM
END:VEVENT
BEGIN:VEVENT
UID:crpd-71384544-20251028T203000@quickscores.com
DTSTAMP:20260422T160200Z
DTSTART;TZID=America/Los_Angeles:20251028T203000
DURATION:PT1H0M0S
SUMMARY:[1] 5 Star Recruits vs. [2] Taco Tuesday
DESCRIPTION:Tuesday D Playoffs-upper Division - Conejo Recreation and Park District
LOCATION:Borchard Community Center
CATEGORIES:QuickScores, Basketball - Adult Game
TRANSP:OPAQUE
BEGIN:VALARM
TRIGGER:-PT2H
ACTION:DISPLAY
DESCRIPTION:[1] 5 Star Recruits vs. [2] Taco Tuesday
END:VALARM
END:VEVENT
END:VCALENDAR
