BEGIN:VCALENDAR
VERSION:2.0
PRODID:-//QuickScores.com//BQ Dynamic iCal Creator//EN
METHOD:PUBLISH
X-WR-CALNAME:Komen Pickleball For The Cure Mens Doubles - 10/11 (1:00pm Start) - Completed Tournaments 2025-2026
X-WR-CALDESC:QuickScores game calendar
X-PUBLISHED-TTL:PT24H
REFRESH-INTERVAL;VALUE=DURATION:PT24H
CALSCALE:GREGORIAN
BEGIN:VTIMEZONE
TZID:America/Chicago
X-LIC-LOCATION:America/Chicago
BEGIN:DAYLIGHT
TZNAME:CDT
TZOFFSETFROM:-0600
TZOFFSETTO:-0500
DTSTART:19700308T020000
RRULE:FREQ=YEARLY;BYMONTH=3;BYDAY=2SU
END:DAYLIGHT
BEGIN:STANDARD
TZNAME:CST
TZOFFSETFROM:-0500
TZOFFSETTO:-0600
DTSTART:19701101T020000
RRULE:FREQ=YEARLY;BYMONTH=11;BYDAY=1SU
END:STANDARD
END:VTIMEZONE
BEGIN:VEVENT
UID:pupc-71318626-20251011T131000@quickscores.com
DTSTAMP:20260423T133000Z
DTSTART;TZID=America/Chicago:20251011T131000
DURATION:PT0H20M0S
SUMMARY:KeithFletcher/BrettTaylor vs. TerryAllan/EvanPrice
DESCRIPTION:Komen Pickleball For The Cure Mens Doubles - 10/11 (1:00pm Start) - Paddle Up Pickleball Club
LOCATION:Court 9
CATEGORIES:QuickScores, Pickleball Game
TRANSP:OPAQUE
BEGIN:VALARM
TRIGGER:-PT2H
ACTION:DISPLAY
DESCRIPTION:KeithFletcher/BrettTaylor vs. TerryAllan/EvanPrice
END:VALARM
END:VEVENT
BEGIN:VEVENT
UID:pupc-71318604-20251011T131000@quickscores.com
DTSTAMP:20260423T133000Z
DTSTART;TZID=America/Chicago:20251011T131000
DURATION:PT0H20M0S
SUMMARY:SeanYates/AidanGuion vs. SteveDuBois/LonnieNeckerman
DESCRIPTION:Komen Pickleball For The Cure Mens Doubles - 10/11 (1:00pm Start) - Paddle Up Pickleball Club
LOCATION:Court 2
CATEGORIES:QuickScores, Pickleball Game
TRANSP:OPAQUE
BEGIN:VALARM
TRIGGER:-PT2H
ACTION:DISPLAY
DESCRIPTION:SeanYates/AidanGuion vs. SteveDuBois/LonnieNeckerman
END:VALARM
END:VEVENT
BEGIN:VEVENT
UID:pupc-71318625-20251011T131000@quickscores.com
DTSTAMP:20260423T133000Z
DTSTART;TZID=America/Chicago:20251011T131000
DURATION:PT0H20M0S
SUMMARY:RobertBlick/MyronRoberts vs. JeffBee/KyleGottuso
DESCRIPTION:Komen Pickleball For The Cure Mens Doubles - 10/11 (1:00pm Start) - Paddle Up Pickleball Club
LOCATION:Court 8
CATEGORIES:QuickScores, Pickleball Game
TRANSP:OPAQUE
BEGIN:VALARM
TRIGGER:-PT2H
ACTION:DISPLAY
DESCRIPTION:RobertBlick/MyronRoberts vs. JeffBee/KyleGottuso
END:VALARM
END:VEVENT
BEGIN:VEVENT
UID:pupc-71318618-20251011T131000@quickscores.com
DTSTAMP:20260423T133000Z
DTSTART;TZID=America/Chicago:20251011T131000
DURATION:PT0H20M0S
SUMMARY:TomHollander/StefanMarin vs. BrianMcgee/TonyVaughn
DESCRIPTION:Komen Pickleball For The Cure Mens Doubles - 10/11 (1:00pm Start) - Paddle Up Pickleball Club
LOCATION:Court 4
CATEGORIES:QuickScores, Pickleball Game
TRANSP:OPAQUE
BEGIN:VALARM
TRIGGER:-PT2H
ACTION:DISPLAY
DESCRIPTION:TomHollander/StefanMarin vs. BrianMcgee/TonyVaughn
END:VALARM
END:VEVENT
BEGIN:VEVENT
UID:pupc-71318601-20251011T133000@quickscores.com
DTSTAMP:20260423T133000Z
DTSTART;TZID=America/Chicago:20251011T133000
DURATION:PT0H20M0S
SUMMARY:NickBorger/KevinReque vs. JeffBee/KyleGottuso
DESCRIPTION:Komen Pickleball For The Cure Mens Doubles - 10/11 (1:00pm Start) - Paddle Up Pickleball Club
LOCATION:Court 2
CATEGORIES:QuickScores, Pickleball Game
TRANSP:OPAQUE
BEGIN:VALARM
TRIGGER:-PT2H
ACTION:DISPLAY
DESCRIPTION:NickBorger/KevinReque vs. JeffBee/KyleGottuso
END:VALARM
END:VEVENT
BEGIN:VEVENT
UID:pupc-71318630-20251011T133000@quickscores.com
DTSTAMP:20260423T133000Z
DTSTART;TZID=America/Chicago:20251011T133000
DURATION:PT0H20M0S
SUMMARY:SteveDuBois/LonnieNeckerman vs. BrianMcgee/TonyVaughn
DESCRIPTION:Komen Pickleball For The Cure Mens Doubles - 10/11 (1:00pm Start) - Paddle Up Pickleball Club
LOCATION:Court 8
CATEGORIES:QuickScores, Pickleball Game
TRANSP:OPAQUE
BEGIN:VALARM
TRIGGER:-PT2H
ACTION:DISPLAY
DESCRIPTION:SteveDuBois/LonnieNeckerman vs. BrianMcgee/TonyVaughn
END:VALARM
END:VEVENT
BEGIN:VEVENT
UID:pupc-71318633-20251011T133000@quickscores.com
DTSTAMP:20260423T133000Z
DTSTART;TZID=America/Chicago:20251011T133000
DURATION:PT0H20M0S
SUMMARY:TomHollander/StefanMarin vs. SeanYates/AidanGuion
DESCRIPTION:Komen Pickleball For The Cure Mens Doubles - 10/11 (1:00pm Start) - Paddle Up Pickleball Club
LOCATION:Court 5
CATEGORIES:QuickScores, Pickleball Game
TRANSP:OPAQUE
BEGIN:VALARM
TRIGGER:-PT2H
ACTION:DISPLAY
DESCRIPTION:TomHollander/StefanMarin vs. SeanYates/AidanGuion
END:VALARM
END:VEVENT
BEGIN:VEVENT
UID:pupc-71318602-20251011T133000@quickscores.com
DTSTAMP:20260423T133000Z
DTSTART;TZID=America/Chicago:20251011T133000
DURATION:PT0H20M0S
SUMMARY:KeithFletcher/BrettTaylor vs. BradDonley/PrestonLanglois
DESCRIPTION:Komen Pickleball For The Cure Mens Doubles - 10/11 (1:00pm Start) - Paddle Up Pickleball Club
LOCATION:Court 9
CATEGORIES:QuickScores, Pickleball Game
TRANSP:OPAQUE
BEGIN:VALARM
TRIGGER:-PT2H
ACTION:DISPLAY
DESCRIPTION:KeithFletcher/BrettTaylor vs. BradDonley/PrestonLanglois
END:VALARM
END:VEVENT
BEGIN:VEVENT
UID:pupc-71318603-20251011T133000@quickscores.com
DTSTAMP:20260423T133000Z
DTSTART;TZID=America/Chicago:20251011T133000
DURATION:PT0H20M0S
SUMMARY:TerryAllan/EvanPrice vs. RobertBlick/MyronRoberts
DESCRIPTION:Komen Pickleball For The Cure Mens Doubles - 10/11 (1:00pm Start) - Paddle Up Pickleball Club
LOCATION:Court 4
CATEGORIES:QuickScores, Pickleball Game
TRANSP:OPAQUE
BEGIN:VALARM
TRIGGER:-PT2H
ACTION:DISPLAY
DESCRIPTION:TerryAllan/EvanPrice vs. RobertBlick/MyronRoberts
END:VALARM
END:VEVENT
BEGIN:VEVENT
UID:pupc-71318608-20251011T135000@quickscores.com
DTSTAMP:20260423T133000Z
DTSTART;TZID=America/Chicago:20251011T135000
DURATION:PT0H20M0S
SUMMARY:KeithFletcher/BrettTaylor vs. JeffBee/KyleGottuso
DESCRIPTION:Komen Pickleball For The Cure Mens Doubles - 10/11 (1:00pm Start) - Paddle Up Pickleball Club
LOCATION:Court 2
CATEGORIES:QuickScores, Pickleball Game
TRANSP:OPAQUE
BEGIN:VALARM
TRIGGER:-PT2H
ACTION:DISPLAY
DESCRIPTION:KeithFletcher/BrettTaylor vs. JeffBee/KyleGottuso
END:VALARM
END:VEVENT
BEGIN:VEVENT
UID:pupc-71318632-20251011T135000@quickscores.com
DTSTAMP:20260423T133000Z
DTSTART;TZID=America/Chicago:20251011T135000
DURATION:PT0H20M0S
SUMMARY:SeanYates/AidanGuion vs. TomHollander/StefanMarin
DESCRIPTION:Komen Pickleball For The Cure Mens Doubles - 10/11 (1:00pm Start) - Paddle Up Pickleball Club
LOCATION:Court 9
CATEGORIES:QuickScores, Pickleball Game
TRANSP:OPAQUE
BEGIN:VALARM
TRIGGER:-PT2H
ACTION:DISPLAY
DESCRIPTION:SeanYates/AidanGuion vs. TomHollander/StefanMarin
END:VALARM
END:VEVENT
BEGIN:VEVENT
UID:pupc-71318621-20251011T135000@quickscores.com
DTSTAMP:20260423T133000Z
DTSTART;TZID=America/Chicago:20251011T135000
DURATION:PT0H20M0S
SUMMARY:SteveDuBois/LonnieNeckerman vs. ShivDalla/MichaelRubeiz
DESCRIPTION:Komen Pickleball For The Cure Mens Doubles - 10/11 (1:00pm Start) - Paddle Up Pickleball Club
LOCATION:Court 4
CATEGORIES:QuickScores, Pickleball Game
TRANSP:OPAQUE
BEGIN:VALARM
TRIGGER:-PT2H
ACTION:DISPLAY
DESCRIPTION:SteveDuBois/LonnieNeckerman vs. ShivDalla/MichaelRubeiz
END:VALARM
END:VEVENT
BEGIN:VEVENT
UID:pupc-71318606-20251011T135000@quickscores.com
DTSTAMP:20260423T133000Z
DTSTART;TZID=America/Chicago:20251011T135000
DURATION:PT0H20M0S
SUMMARY:RobertBlick/MyronRoberts vs. NickBorger/KevinReque
DESCRIPTION:Komen Pickleball For The Cure Mens Doubles - 10/11 (1:00pm Start) - Paddle Up Pickleball Club
LOCATION:Court 8
CATEGORIES:QuickScores, Pickleball Game
TRANSP:OPAQUE
BEGIN:VALARM
TRIGGER:-PT2H
ACTION:DISPLAY
DESCRIPTION:RobertBlick/MyronRoberts vs. NickBorger/KevinReque
END:VALARM
END:VEVENT
BEGIN:VEVENT
UID:pupc-71318607-20251011T135000@quickscores.com
DTSTAMP:20260423T133000Z
DTSTART;TZID=America/Chicago:20251011T135000
DURATION:PT0H20M0S
SUMMARY:BradDonley/PrestonLanglois vs. TerryAllan/EvanPrice
DESCRIPTION:Komen Pickleball For The Cure Mens Doubles - 10/11 (1:00pm Start) - Paddle Up Pickleball Club
LOCATION:Court 5
CATEGORIES:QuickScores, Pickleball Game
TRANSP:OPAQUE
BEGIN:VALARM
TRIGGER:-PT2H
ACTION:DISPLAY
DESCRIPTION:BradDonley/PrestonLanglois vs. TerryAllan/EvanPrice
END:VALARM
END:VEVENT
BEGIN:VEVENT
UID:pupc-71318631-20251011T141000@quickscores.com
DTSTAMP:20260423T133000Z
DTSTART;TZID=America/Chicago:20251011T141000
DURATION:PT0H20M0S
SUMMARY:BrianMcgee/TonyVaughn vs. SteveDuBois/LonnieNeckerman
DESCRIPTION:Komen Pickleball For The Cure Mens Doubles - 10/11 (1:00pm Start) - Paddle Up Pickleball Club
LOCATION:Court 9
CATEGORIES:QuickScores, Pickleball Game
TRANSP:OPAQUE
BEGIN:VALARM
TRIGGER:-PT2H
ACTION:DISPLAY
DESCRIPTION:BrianMcgee/TonyVaughn vs. SteveDuBois/LonnieNeckerman
END:VALARM
END:VEVENT
BEGIN:VEVENT
UID:pupc-71318613-20251011T141000@quickscores.com
DTSTAMP:20260423T133000Z
DTSTART;TZID=America/Chicago:20251011T141000
DURATION:PT0H20M0S
SUMMARY:BradDonley/PrestonLanglois vs. RobertBlick/MyronRoberts
DESCRIPTION:Komen Pickleball For The Cure Mens Doubles - 10/11 (1:00pm Start) - Paddle Up Pickleball Club
LOCATION:Court 2
CATEGORIES:QuickScores, Pickleball Game
TRANSP:OPAQUE
BEGIN:VALARM
TRIGGER:-PT2H
ACTION:DISPLAY
DESCRIPTION:BradDonley/PrestonLanglois vs. RobertBlick/MyronRoberts
END:VALARM
END:VEVENT
BEGIN:VEVENT
UID:pupc-71318611-20251011T141000@quickscores.com
DTSTAMP:20260423T133000Z
DTSTART;TZID=America/Chicago:20251011T141000
DURATION:PT0H20M0S
SUMMARY:NickBorger/KevinReque vs. KeithFletcher/BrettTaylor
DESCRIPTION:Komen Pickleball For The Cure Mens Doubles - 10/11 (1:00pm Start) - Paddle Up Pickleball Club
LOCATION:Court 4
CATEGORIES:QuickScores, Pickleball Game
TRANSP:OPAQUE
BEGIN:VALARM
TRIGGER:-PT2H
ACTION:DISPLAY
DESCRIPTION:NickBorger/KevinReque vs. KeithFletcher/BrettTaylor
END:VALARM
END:VEVENT
BEGIN:VEVENT
UID:pupc-71318605-20251011T141000@quickscores.com
DTSTAMP:20260423T133000Z
DTSTART;TZID=America/Chicago:20251011T141000
DURATION:PT0H20M0S
SUMMARY:TomHollander/StefanMarin vs. ShivDalla/MichaelRubeiz
DESCRIPTION:Komen Pickleball For The Cure Mens Doubles - 10/11 (1:00pm Start) - Paddle Up Pickleball Club
LOCATION:Court 8
CATEGORIES:QuickScores, Pickleball Game
TRANSP:OPAQUE
BEGIN:VALARM
TRIGGER:-PT2H
ACTION:DISPLAY
DESCRIPTION:TomHollander/StefanMarin vs. ShivDalla/MichaelRubeiz
END:VALARM
END:VEVENT
BEGIN:VEVENT
UID:pupc-71318612-20251011T141000@quickscores.com
DTSTAMP:20260423T133000Z
DTSTART;TZID=America/Chicago:20251011T141000
DURATION:PT0H20M0S
SUMMARY:JeffBee/KyleGottuso vs. TerryAllan/EvanPrice
DESCRIPTION:Komen Pickleball For The Cure Mens Doubles - 10/11 (1:00pm Start) - Paddle Up Pickleball Club
LOCATION:Court 5
CATEGORIES:QuickScores, Pickleball Game
TRANSP:OPAQUE
BEGIN:VALARM
TRIGGER:-PT2H
ACTION:DISPLAY
DESCRIPTION:JeffBee/KyleGottuso vs. TerryAllan/EvanPrice
END:VALARM
END:VEVENT
BEGIN:VEVENT
UID:pupc-71318615-20251011T143000@quickscores.com
DTSTAMP:20260423T133000Z
DTSTART;TZID=America/Chicago:20251011T143000
DURATION:PT0H20M0S
SUMMARY:TerryAllan/EvanPrice vs. NickBorger/KevinReque
DESCRIPTION:Komen Pickleball For The Cure Mens Doubles - 10/11 (1:00pm Start) - Paddle Up Pickleball Club
LOCATION:Court 4
CATEGORIES:QuickScores, Pickleball Game
TRANSP:OPAQUE
BEGIN:VALARM
TRIGGER:-PT2H
ACTION:DISPLAY
DESCRIPTION:TerryAllan/EvanPrice vs. NickBorger/KevinReque
END:VALARM
END:VEVENT
BEGIN:VEVENT
UID:pupc-71318610-20251011T143000@quickscores.com
DTSTAMP:20260423T133000Z
DTSTART;TZID=America/Chicago:20251011T143000
DURATION:PT0H20M0S
SUMMARY:BrianMcgee/TonyVaughn vs. SeanYates/AidanGuion
DESCRIPTION:Komen Pickleball For The Cure Mens Doubles - 10/11 (1:00pm Start) - Paddle Up Pickleball Club
LOCATION:Court 2
CATEGORIES:QuickScores, Pickleball Game
TRANSP:OPAQUE
BEGIN:VALARM
TRIGGER:-PT2H
ACTION:DISPLAY
DESCRIPTION:BrianMcgee/TonyVaughn vs. SeanYates/AidanGuion
END:VALARM
END:VEVENT
BEGIN:VEVENT
UID:pupc-71318617-20251011T143000@quickscores.com
DTSTAMP:20260423T133000Z
DTSTART;TZID=America/Chicago:20251011T143000
DURATION:PT0H20M0S
SUMMARY:JeffBee/KyleGottuso vs. BradDonley/PrestonLanglois
DESCRIPTION:Komen Pickleball For The Cure Mens Doubles - 10/11 (1:00pm Start) - Paddle Up Pickleball Club
LOCATION:Court 9
CATEGORIES:QuickScores, Pickleball Game
TRANSP:OPAQUE
BEGIN:VALARM
TRIGGER:-PT2H
ACTION:DISPLAY
DESCRIPTION:JeffBee/KyleGottuso vs. BradDonley/PrestonLanglois
END:VALARM
END:VEVENT
BEGIN:VEVENT
UID:pupc-71318620-20251011T143000@quickscores.com
DTSTAMP:20260423T133000Z
DTSTART;TZID=America/Chicago:20251011T143000
DURATION:PT0H20M0S
SUMMARY:ShivDalla/MichaelRubeiz vs. SteveDuBois/LonnieNeckerman
DESCRIPTION:Komen Pickleball For The Cure Mens Doubles - 10/11 (1:00pm Start) - Paddle Up Pickleball Club
LOCATION:Court 8
CATEGORIES:QuickScores, Pickleball Game
TRANSP:OPAQUE
BEGIN:VALARM
TRIGGER:-PT2H
ACTION:DISPLAY
DESCRIPTION:ShivDalla/MichaelRubeiz vs. SteveDuBois/LonnieNeckerman
END:VALARM
END:VEVENT
BEGIN:VEVENT
UID:pupc-71318616-20251011T143000@quickscores.com
DTSTAMP:20260423T133000Z
DTSTART;TZID=America/Chicago:20251011T143000
DURATION:PT0H20M0S
SUMMARY:RobertBlick/MyronRoberts vs. KeithFletcher/BrettTaylor
DESCRIPTION:Komen Pickleball For The Cure Mens Doubles - 10/11 (1:00pm Start) - Paddle Up Pickleball Club
LOCATION:Court 5
CATEGORIES:QuickScores, Pickleball Game
TRANSP:OPAQUE
BEGIN:VALARM
TRIGGER:-PT2H
ACTION:DISPLAY
DESCRIPTION:RobertBlick/MyronRoberts vs. KeithFletcher/BrettTaylor
END:VALARM
END:VEVENT
BEGIN:VEVENT
UID:pupc-71318624-20251011T145000@quickscores.com
DTSTAMP:20260423T133000Z
DTSTART;TZID=America/Chicago:20251011T145000
DURATION:PT0H20M0S
SUMMARY:JeffBee/KyleGottuso vs. RobertBlick/MyronRoberts
DESCRIPTION:Komen Pickleball For The Cure Mens Doubles - 10/11 (1:00pm Start) - Paddle Up Pickleball Club
LOCATION:Court 9
CATEGORIES:QuickScores, Pickleball Game
TRANSP:OPAQUE
BEGIN:VALARM
TRIGGER:-PT2H
ACTION:DISPLAY
DESCRIPTION:JeffBee/KyleGottuso vs. RobertBlick/MyronRoberts
END:VALARM
END:VEVENT
BEGIN:VEVENT
UID:pupc-71318622-20251011T145000@quickscores.com
DTSTAMP:20260423T133000Z
DTSTART;TZID=America/Chicago:20251011T145000
DURATION:PT0H20M0S
SUMMARY:NickBorger/KevinReque vs. BradDonley/PrestonLanglois
DESCRIPTION:Komen Pickleball For The Cure Mens Doubles - 10/11 (1:00pm Start) - Paddle Up Pickleball Club
LOCATION:Court 2
CATEGORIES:QuickScores, Pickleball Game
TRANSP:OPAQUE
BEGIN:VALARM
TRIGGER:-PT2H
ACTION:DISPLAY
DESCRIPTION:NickBorger/KevinReque vs. BradDonley/PrestonLanglois
END:VALARM
END:VEVENT
BEGIN:VEVENT
UID:pupc-71318609-20251011T145000@quickscores.com
DTSTAMP:20260423T133000Z
DTSTART;TZID=America/Chicago:20251011T145000
DURATION:PT0H20M0S
SUMMARY:SteveDuBois/LonnieNeckerman vs. TomHollander/StefanMarin
DESCRIPTION:Komen Pickleball For The Cure Mens Doubles - 10/11 (1:00pm Start) - Paddle Up Pickleball Club
LOCATION:Court 5
CATEGORIES:QuickScores, Pickleball Game
TRANSP:OPAQUE
BEGIN:VALARM
TRIGGER:-PT2H
ACTION:DISPLAY
DESCRIPTION:SteveDuBois/LonnieNeckerman vs. TomHollander/StefanMarin
END:VALARM
END:VEVENT
BEGIN:VEVENT
UID:pupc-71318627-20251011T145000@quickscores.com
DTSTAMP:20260423T133000Z
DTSTART;TZID=America/Chicago:20251011T145000
DURATION:PT0H20M0S
SUMMARY:TerryAllan/EvanPrice vs. KeithFletcher/BrettTaylor
DESCRIPTION:Komen Pickleball For The Cure Mens Doubles - 10/11 (1:00pm Start) - Paddle Up Pickleball Club
LOCATION:Court 8
CATEGORIES:QuickScores, Pickleball Game
TRANSP:OPAQUE
BEGIN:VALARM
TRIGGER:-PT2H
ACTION:DISPLAY
DESCRIPTION:TerryAllan/EvanPrice vs. KeithFletcher/BrettTaylor
END:VALARM
END:VEVENT
BEGIN:VEVENT
UID:pupc-71318614-20251011T145000@quickscores.com
DTSTAMP:20260423T133000Z
DTSTART;TZID=America/Chicago:20251011T145000
DURATION:PT0H20M0S
SUMMARY:ShivDalla/MichaelRubeiz vs. BrianMcgee/TonyVaughn
DESCRIPTION:Komen Pickleball For The Cure Mens Doubles - 10/11 (1:00pm Start) - Paddle Up Pickleball Club
LOCATION:Court 4
CATEGORIES:QuickScores, Pickleball Game
TRANSP:OPAQUE
BEGIN:VALARM
TRIGGER:-PT2H
ACTION:DISPLAY
DESCRIPTION:ShivDalla/MichaelRubeiz vs. BrianMcgee/TonyVaughn
END:VALARM
END:VEVENT
BEGIN:VEVENT
UID:pupc-71318629-20251011T151000@quickscores.com
DTSTAMP:20260423T133000Z
DTSTART;TZID=America/Chicago:20251011T151000
DURATION:PT0H20M0S
SUMMARY:SeanYates/AidanGuion vs. ShivDalla/MichaelRubeiz
DESCRIPTION:Komen Pickleball For The Cure Mens Doubles - 10/11 (1:00pm Start) - Paddle Up Pickleball Club
LOCATION:Court 4
CATEGORIES:QuickScores, Pickleball Game
TRANSP:OPAQUE
BEGIN:VALARM
TRIGGER:-PT2H
ACTION:DISPLAY
DESCRIPTION:SeanYates/AidanGuion vs. ShivDalla/MichaelRubeiz
END:VALARM
END:VEVENT
BEGIN:VEVENT
UID:pupc-71318623-20251011T151000@quickscores.com
DTSTAMP:20260423T133000Z
DTSTART;TZID=America/Chicago:20251011T151000
DURATION:PT0H20M0S
SUMMARY:BradDonley/PrestonLanglois vs. NickBorger/KevinReque
DESCRIPTION:Komen Pickleball For The Cure Mens Doubles - 10/11 (1:00pm Start) - Paddle Up Pickleball Club
LOCATION:Court 2
CATEGORIES:QuickScores, Pickleball Game
TRANSP:OPAQUE
BEGIN:VALARM
TRIGGER:-PT2H
ACTION:DISPLAY
DESCRIPTION:BradDonley/PrestonLanglois vs. NickBorger/KevinReque
END:VALARM
END:VEVENT
BEGIN:VEVENT
UID:pupc-71318619-20251011T151000@quickscores.com
DTSTAMP:20260423T133000Z
DTSTART;TZID=America/Chicago:20251011T151000
DURATION:PT0H20M0S
SUMMARY:BrianMcgee/TonyVaughn vs. TomHollander/StefanMarin
DESCRIPTION:Komen Pickleball For The Cure Mens Doubles - 10/11 (1:00pm Start) - Paddle Up Pickleball Club
LOCATION:Court 5
CATEGORIES:QuickScores, Pickleball Game
TRANSP:OPAQUE
BEGIN:VALARM
TRIGGER:-PT2H
ACTION:DISPLAY
DESCRIPTION:BrianMcgee/TonyVaughn vs. TomHollander/StefanMarin
END:VALARM
END:VEVENT
BEGIN:VEVENT
UID:pupc-71318628-20251011T153000@quickscores.com
DTSTAMP:20260423T133000Z
DTSTART;TZID=America/Chicago:20251011T153000
DURATION:PT0H20M0S
SUMMARY:ShivDalla/MichaelRubeiz vs. SeanYates/AidanGuion
DESCRIPTION:Komen Pickleball For The Cure Mens Doubles - 10/11 (1:00pm Start) - Paddle Up Pickleball Club
LOCATION:Court 5
CATEGORIES:QuickScores, Pickleball Game
TRANSP:OPAQUE
BEGIN:VALARM
TRIGGER:-PT2H
ACTION:DISPLAY
DESCRIPTION:ShivDalla/MichaelRubeiz vs. SeanYates/AidanGuion
END:VALARM
END:VEVENT
END:VCALENDAR
