BEGIN:VCALENDAR
VERSION:2.0
PRODID:-//QuickScores.com//BQ Dynamic iCal Creator//EN
METHOD:PUBLISH
X-WR-CALNAME:2026 Field Hockey (9/25/2025) Approved By Gnac Ad Council - Fall 2026
X-WR-CALDESC:QuickScores game calendar
X-PUBLISHED-TTL:PT24H
REFRESH-INTERVAL;VALUE=DURATION:PT24H
CALSCALE:GREGORIAN
BEGIN:VTIMEZONE
TZID:America/New_York
X-LIC-LOCATION:America/New_York
BEGIN:DAYLIGHT
TZNAME:EDT
TZOFFSETFROM:-0500
TZOFFSETTO:-0400
DTSTART:19700308T020000
RRULE:FREQ=YEARLY;BYMONTH=3;BYDAY=2SU
END:DAYLIGHT
BEGIN:STANDARD
TZNAME:EST
TZOFFSETFROM:-0400
TZOFFSETTO:-0500
DTSTART:19701101T020000
RRULE:FREQ=YEARLY;BYMONTH=11;BYDAY=1SU
END:STANDARD
END:VTIMEZONE
BEGIN:VEVENT
UID:gnac-70997247-20260919@quickscores.com
DTSTAMP:20260425T140200Z
DTSTART;TZID=America/New_York:20260919
SUMMARY:Saint Joseph's ME vs. Albertus Magnus
DESCRIPTION:2026 Field Hockey (9/25/2025) Approved By Gnac Ad Council - Great Northeast Athletic Conference
LOCATION:Standish ME
CATEGORIES:QuickScores, Field Hockey Game
TRANSP:OPAQUE
BEGIN:VALARM
TRIGGER:-PT2H
ACTION:DISPLAY
DESCRIPTION:Saint Joseph's ME vs. Albertus Magnus
END:VALARM
END:VEVENT
BEGIN:VEVENT
UID:gnac-70997272-20260919@quickscores.com
DTSTAMP:20260425T140200Z
DTSTART;TZID=America/New_York:20260919
SUMMARY:Elms vs. Lasell
DESCRIPTION:2026 Field Hockey (9/25/2025) Approved By Gnac Ad Council - Great Northeast Athletic Conference
LOCATION:Timothy J. Leary Field Chicopee MA
CATEGORIES:QuickScores, Field Hockey Game
TRANSP:OPAQUE
BEGIN:VALARM
TRIGGER:-PT2H
ACTION:DISPLAY
DESCRIPTION:Elms vs. Lasell
END:VALARM
END:VEVENT
BEGIN:VEVENT
UID:gnac-70997259-20260919@quickscores.com
DTSTAMP:20260425T140200Z
DTSTART;TZID=America/New_York:20260919
SUMMARY:Saint Joseph CT vs. Regis
DESCRIPTION:2026 Field Hockey (9/25/2025) Approved By Gnac Ad Council - Great Northeast Athletic Conference
LOCATION:W. Hartford, CT
CATEGORIES:QuickScores, Field Hockey Game
TRANSP:OPAQUE
BEGIN:VALARM
TRIGGER:-PT2H
ACTION:DISPLAY
DESCRIPTION:Saint Joseph CT vs. Regis
END:VALARM
END:VEVENT
BEGIN:VEVENT
UID:gnac-70997281-20260919@quickscores.com
DTSTAMP:20260425T140200Z
DTSTART;TZID=America/New_York:20260919
SUMMARY:New England vs. Simmons
DESCRIPTION:2026 Field Hockey (9/25/2025) Approved By Gnac Ad Council - Great Northeast Athletic Conference
LOCATION:Henniker NH
CATEGORIES:QuickScores, Field Hockey Game
TRANSP:OPAQUE
BEGIN:VALARM
TRIGGER:-PT2H
ACTION:DISPLAY
DESCRIPTION:New England vs. Simmons
END:VALARM
END:VEVENT
BEGIN:VEVENT
UID:gnac-70997264-20260919@quickscores.com
DTSTAMP:20260425T140200Z
DTSTART;TZID=America/New_York:20260919
SUMMARY:Dean vs. Rivier
DESCRIPTION:2026 Field Hockey (9/25/2025) Approved By Gnac Ad Council - Great Northeast Athletic Conference
LOCATION:Franklin MA
CATEGORIES:QuickScores, Field Hockey Game
TRANSP:OPAQUE
BEGIN:VALARM
TRIGGER:-PT2H
ACTION:DISPLAY
DESCRIPTION:Dean vs. Rivier
END:VALARM
END:VEVENT
BEGIN:VEVENT
UID:gnac-70997249-20260923@quickscores.com
DTSTAMP:20260425T140200Z
DTSTART;TZID=America/New_York:20260923
SUMMARY:Rivier vs. Colby Sawyer
DESCRIPTION:2026 Field Hockey (9/25/2025) Approved By Gnac Ad Council - Great Northeast Athletic Conference
LOCATION:Nashua, NH
CATEGORIES:QuickScores, Field Hockey Game
TRANSP:OPAQUE
BEGIN:VALARM
TRIGGER:-PT2H
ACTION:DISPLAY
DESCRIPTION:Rivier vs. Colby Sawyer
END:VALARM
END:VEVENT
BEGIN:VEVENT
UID:gnac-70997222-20260923@quickscores.com
DTSTAMP:20260425T140200Z
DTSTART;TZID=America/New_York:20260923
SUMMARY:Simmons vs. Saint Joseph's ME
DESCRIPTION:2026 Field Hockey (9/25/2025) Approved By Gnac Ad Council - Great Northeast Athletic Conference
LOCATION:Daly Field Brighton
CATEGORIES:QuickScores, Field Hockey Game
TRANSP:OPAQUE
BEGIN:VALARM
TRIGGER:-PT2H
ACTION:DISPLAY
DESCRIPTION:Simmons vs. Saint Joseph's ME
END:VALARM
END:VEVENT
BEGIN:VEVENT
UID:gnac-70997279-20260923@quickscores.com
DTSTAMP:20260425T140200Z
DTSTART;TZID=America/New_York:20260923
SUMMARY:Lasell vs. New England
DESCRIPTION:2026 Field Hockey (9/25/2025) Approved By Gnac Ad Council - Great Northeast Athletic Conference
LOCATION:Lasell Newton
CATEGORIES:QuickScores, Field Hockey Game
TRANSP:OPAQUE
BEGIN:VALARM
TRIGGER:-PT2H
ACTION:DISPLAY
DESCRIPTION:Lasell vs. New England
END:VALARM
END:VEVENT
BEGIN:VEVENT
UID:gnac-70997273-20260923@quickscores.com
DTSTAMP:20260425T140200Z
DTSTART;TZID=America/New_York:20260923
SUMMARY:Albertus Magnus vs. Elms
DESCRIPTION:2026 Field Hockey (9/25/2025) Approved By Gnac Ad Council - Great Northeast Athletic Conference
LOCATION:New Haven, CT
CATEGORIES:QuickScores, Field Hockey Game
TRANSP:OPAQUE
BEGIN:VALARM
TRIGGER:-PT2H
ACTION:DISPLAY
DESCRIPTION:Albertus Magnus vs. Elms
END:VALARM
END:VEVENT
BEGIN:VEVENT
UID:gnac-70997266-20260923@quickscores.com
DTSTAMP:20260425T140200Z
DTSTART;TZID=America/New_York:20260923
SUMMARY:Regis vs. Dean
DESCRIPTION:2026 Field Hockey (9/25/2025) Approved By Gnac Ad Council - Great Northeast Athletic Conference
LOCATION:Regis Weston MA
CATEGORIES:QuickScores, Field Hockey Game
TRANSP:OPAQUE
BEGIN:VALARM
TRIGGER:-PT2H
ACTION:DISPLAY
DESCRIPTION:Regis vs. Dean
END:VALARM
END:VEVENT
BEGIN:VEVENT
UID:gnac-70997228-20260926@quickscores.com
DTSTAMP:20260425T140200Z
DTSTART;TZID=America/New_York:20260926
SUMMARY:Rivier vs. Lasell
DESCRIPTION:2026 Field Hockey (9/25/2025) Approved By Gnac Ad Council - Great Northeast Athletic Conference
LOCATION:Nashua, NH
CATEGORIES:QuickScores, Field Hockey Game
TRANSP:OPAQUE
BEGIN:VALARM
TRIGGER:-PT2H
ACTION:DISPLAY
DESCRIPTION:Rivier vs. Lasell
END:VALARM
END:VEVENT
BEGIN:VEVENT
UID:gnac-70997232-20260926@quickscores.com
DTSTAMP:20260425T140200Z
DTSTART;TZID=America/New_York:20260926
SUMMARY:Albertus Magnus vs. Simmons
DESCRIPTION:2026 Field Hockey (9/25/2025) Approved By Gnac Ad Council - Great Northeast Athletic Conference
LOCATION:New Haven, CT
CATEGORIES:QuickScores, Field Hockey Game
TRANSP:OPAQUE
BEGIN:VALARM
TRIGGER:-PT2H
ACTION:DISPLAY
DESCRIPTION:Albertus Magnus vs. Simmons
END:VALARM
END:VEVENT
BEGIN:VEVENT
UID:gnac-70997243-20260926@quickscores.com
DTSTAMP:20260425T140200Z
DTSTART;TZID=America/New_York:20260926
SUMMARY:Saint Joseph's ME vs. Regis
DESCRIPTION:2026 Field Hockey (9/25/2025) Approved By Gnac Ad Council - Great Northeast Athletic Conference
LOCATION:Standish ME
CATEGORIES:QuickScores, Field Hockey Game
TRANSP:OPAQUE
BEGIN:VALARM
TRIGGER:-PT2H
ACTION:DISPLAY
DESCRIPTION:Saint Joseph's ME vs. Regis
END:VALARM
END:VEVENT
BEGIN:VEVENT
UID:gnac-70997265-20260926@quickscores.com
DTSTAMP:20260425T140200Z
DTSTART;TZID=America/New_York:20260926
SUMMARY:Colby Sawyer vs. Dean
DESCRIPTION:2026 Field Hockey (9/25/2025) Approved By Gnac Ad Council - Great Northeast Athletic Conference
LOCATION:New London NH
CATEGORIES:QuickScores, Field Hockey Game
TRANSP:OPAQUE
BEGIN:VALARM
TRIGGER:-PT2H
ACTION:DISPLAY
DESCRIPTION:Colby Sawyer vs. Dean
END:VALARM
END:VEVENT
BEGIN:VEVENT
UID:gnac-70997288-20260926@quickscores.com
DTSTAMP:20260425T140200Z
DTSTART;TZID=America/New_York:20260926
SUMMARY:New England vs. Saint Joseph CT
DESCRIPTION:2026 Field Hockey (9/25/2025) Approved By Gnac Ad Council - Great Northeast Athletic Conference
LOCATION:Henniker NH
CATEGORIES:QuickScores, Field Hockey Game
TRANSP:OPAQUE
BEGIN:VALARM
TRIGGER:-PT2H
ACTION:DISPLAY
DESCRIPTION:New England vs. Saint Joseph CT
END:VALARM
END:VEVENT
BEGIN:VEVENT
UID:gnac-70997225-20260930@quickscores.com
DTSTAMP:20260425T140200Z
DTSTART;TZID=America/New_York:20260930
SUMMARY:Lasell vs. Regis
DESCRIPTION:2026 Field Hockey (9/25/2025) Approved By Gnac Ad Council - Great Northeast Athletic Conference
LOCATION:Lasell Newton
CATEGORIES:QuickScores, Field Hockey Game
TRANSP:OPAQUE
BEGIN:VALARM
TRIGGER:-PT2H
ACTION:DISPLAY
DESCRIPTION:Lasell vs. Regis
END:VALARM
END:VEVENT
BEGIN:VEVENT
UID:gnac-70997248-20260930@quickscores.com
DTSTAMP:20260425T140200Z
DTSTART;TZID=America/New_York:20260930
SUMMARY:Colby Sawyer vs. Albertus Magnus
DESCRIPTION:2026 Field Hockey (9/25/2025) Approved By Gnac Ad Council - Great Northeast Athletic Conference
LOCATION:New London NH
CATEGORIES:QuickScores, Field Hockey Game
TRANSP:OPAQUE
BEGIN:VALARM
TRIGGER:-PT2H
ACTION:DISPLAY
DESCRIPTION:Colby Sawyer vs. Albertus Magnus
END:VALARM
END:VEVENT
BEGIN:VEVENT
UID:gnac-70997262-20260930@quickscores.com
DTSTAMP:20260425T140200Z
DTSTART;TZID=America/New_York:20260930
SUMMARY:Saint Joseph CT vs. Saint Joseph's ME
DESCRIPTION:2026 Field Hockey (9/25/2025) Approved By Gnac Ad Council - Great Northeast Athletic Conference
LOCATION:W. Hartford, CT
CATEGORIES:QuickScores, Field Hockey Game
TRANSP:OPAQUE
BEGIN:VALARM
TRIGGER:-PT2H
ACTION:DISPLAY
DESCRIPTION:Saint Joseph CT vs. Saint Joseph's ME
END:VALARM
END:VEVENT
BEGIN:VEVENT
UID:gnac-70997267-20260930@quickscores.com
DTSTAMP:20260425T140200Z
DTSTART;TZID=America/New_York:20260930
SUMMARY:Dean vs. Simmons
DESCRIPTION:2026 Field Hockey (9/25/2025) Approved By Gnac Ad Council - Great Northeast Athletic Conference
LOCATION:Franklin MA
CATEGORIES:QuickScores, Field Hockey Game
TRANSP:OPAQUE
BEGIN:VALARM
TRIGGER:-PT2H
ACTION:DISPLAY
DESCRIPTION:Dean vs. Simmons
END:VALARM
END:VEVENT
BEGIN:VEVENT
UID:gnac-70997286-20260930@quickscores.com
DTSTAMP:20260425T140200Z
DTSTART;TZID=America/New_York:20260930
SUMMARY:Elms vs. New England
DESCRIPTION:2026 Field Hockey (9/25/2025) Approved By Gnac Ad Council - Great Northeast Athletic Conference
LOCATION:Timothy J. Leary Field Chicopee MA
CATEGORIES:QuickScores, Field Hockey Game
TRANSP:OPAQUE
BEGIN:VALARM
TRIGGER:-PT2H
ACTION:DISPLAY
DESCRIPTION:Elms vs. New England
END:VALARM
END:VEVENT
BEGIN:VEVENT
UID:gnac-70997231-20261003@quickscores.com
DTSTAMP:20260425T140200Z
DTSTART;TZID=America/New_York:20261003
SUMMARY:Simmons vs. Rivier
DESCRIPTION:2026 Field Hockey (9/25/2025) Approved By Gnac Ad Council - Great Northeast Athletic Conference
LOCATION:Daly Field Brighton
CATEGORIES:QuickScores, Field Hockey Game
TRANSP:OPAQUE
BEGIN:VALARM
TRIGGER:-PT2H
ACTION:DISPLAY
DESCRIPTION:Simmons vs. Rivier
END:VALARM
END:VEVENT
BEGIN:VEVENT
UID:gnac-70997263-20261003@quickscores.com
DTSTAMP:20260425T140200Z
DTSTART;TZID=America/New_York:20261003
SUMMARY:Lasell vs. Saint Joseph CT
DESCRIPTION:2026 Field Hockey (9/25/2025) Approved By Gnac Ad Council - Great Northeast Athletic Conference
LOCATION:Lasell Newton
CATEGORIES:QuickScores, Field Hockey Game
TRANSP:OPAQUE
BEGIN:VALARM
TRIGGER:-PT2H
ACTION:DISPLAY
DESCRIPTION:Lasell vs. Saint Joseph CT
END:VALARM
END:VEVENT
BEGIN:VEVENT
UID:gnac-70997282-20261003@quickscores.com
DTSTAMP:20260425T140200Z
DTSTART;TZID=America/New_York:20261003
SUMMARY:New England vs. Albertus Magnus
DESCRIPTION:2026 Field Hockey (9/25/2025) Approved By Gnac Ad Council - Great Northeast Athletic Conference
LOCATION:Henniker NH
CATEGORIES:QuickScores, Field Hockey Game
TRANSP:OPAQUE
BEGIN:VALARM
TRIGGER:-PT2H
ACTION:DISPLAY
DESCRIPTION:New England vs. Albertus Magnus
END:VALARM
END:VEVENT
BEGIN:VEVENT
UID:gnac-70997252-20261003@quickscores.com
DTSTAMP:20260425T140200Z
DTSTART;TZID=America/New_York:20261003
SUMMARY:Regis vs. Colby Sawyer
DESCRIPTION:2026 Field Hockey (9/25/2025) Approved By Gnac Ad Council - Great Northeast Athletic Conference
LOCATION:Regis Weston MA
CATEGORIES:QuickScores, Field Hockey Game
TRANSP:OPAQUE
BEGIN:VALARM
TRIGGER:-PT2H
ACTION:DISPLAY
DESCRIPTION:Regis vs. Colby Sawyer
END:VALARM
END:VEVENT
BEGIN:VEVENT
UID:gnac-70997277-20261003@quickscores.com
DTSTAMP:20260425T140200Z
DTSTART;TZID=America/New_York:20261003
SUMMARY:Elms vs. Saint Joseph's ME
DESCRIPTION:2026 Field Hockey (9/25/2025) Approved By Gnac Ad Council - Great Northeast Athletic Conference
LOCATION:Timothy J. Leary Field Chicopee MA
CATEGORIES:QuickScores, Field Hockey Game
TRANSP:OPAQUE
BEGIN:VALARM
TRIGGER:-PT2H
ACTION:DISPLAY
DESCRIPTION:Elms vs. Saint Joseph's ME
END:VALARM
END:VEVENT
BEGIN:VEVENT
UID:gnac-70997230-20261007@quickscores.com
DTSTAMP:20260425T140200Z
DTSTART;TZID=America/New_York:20261007
SUMMARY:Albertus Magnus vs. Lasell
DESCRIPTION:2026 Field Hockey (9/25/2025) Approved By Gnac Ad Council - Great Northeast Athletic Conference
LOCATION:New Haven, CT
CATEGORIES:QuickScores, Field Hockey Game
TRANSP:OPAQUE
BEGIN:VALARM
TRIGGER:-PT2H
ACTION:DISPLAY
DESCRIPTION:Albertus Magnus vs. Lasell
END:VALARM
END:VEVENT
BEGIN:VEVENT
UID:gnac-70997223-20261007@quickscores.com
DTSTAMP:20260425T140200Z
DTSTART;TZID=America/New_York:20261007
SUMMARY:Regis vs. Rivier
DESCRIPTION:2026 Field Hockey (9/25/2025) Approved By Gnac Ad Council - Great Northeast Athletic Conference
LOCATION:Regis Weston MA
CATEGORIES:QuickScores, Field Hockey Game
TRANSP:OPAQUE
BEGIN:VALARM
TRIGGER:-PT2H
ACTION:DISPLAY
DESCRIPTION:Regis vs. Rivier
END:VALARM
END:VEVENT
BEGIN:VEVENT
UID:gnac-70997268-20261007@quickscores.com
DTSTAMP:20260425T140200Z
DTSTART;TZID=America/New_York:20261007
SUMMARY:Saint Joseph CT vs. Colby Sawyer
DESCRIPTION:2026 Field Hockey (9/25/2025) Approved By Gnac Ad Council - Great Northeast Athletic Conference
LOCATION:W. Hartford, CT
CATEGORIES:QuickScores, Field Hockey Game
TRANSP:OPAQUE
BEGIN:VALARM
TRIGGER:-PT2H
ACTION:DISPLAY
DESCRIPTION:Saint Joseph CT vs. Colby Sawyer
END:VALARM
END:VEVENT
BEGIN:VEVENT
UID:gnac-70997257-20261007@quickscores.com
DTSTAMP:20260425T140200Z
DTSTART;TZID=America/New_York:20261007
SUMMARY:Saint Joseph's ME vs. Dean
DESCRIPTION:2026 Field Hockey (9/25/2025) Approved By Gnac Ad Council - Great Northeast Athletic Conference
LOCATION:Standish ME
CATEGORIES:QuickScores, Field Hockey Game
TRANSP:OPAQUE
BEGIN:VALARM
TRIGGER:-PT2H
ACTION:DISPLAY
DESCRIPTION:Saint Joseph's ME vs. Dean
END:VALARM
END:VEVENT
BEGIN:VEVENT
UID:gnac-70997275-20261007@quickscores.com
DTSTAMP:20260425T140200Z
DTSTART;TZID=America/New_York:20261007
SUMMARY:Simmons vs. Elms
DESCRIPTION:2026 Field Hockey (9/25/2025) Approved By Gnac Ad Council - Great Northeast Athletic Conference
LOCATION:Daly Field Brighton
CATEGORIES:QuickScores, Field Hockey Game
TRANSP:OPAQUE
BEGIN:VALARM
TRIGGER:-PT2H
ACTION:DISPLAY
DESCRIPTION:Simmons vs. Elms
END:VALARM
END:VEVENT
BEGIN:VEVENT
UID:gnac-70997246-20261010@quickscores.com
DTSTAMP:20260425T140200Z
DTSTART;TZID=America/New_York:20261010
SUMMARY:Colby Sawyer vs. Lasell
DESCRIPTION:2026 Field Hockey (9/25/2025) Approved By Gnac Ad Council - Great Northeast Athletic Conference
LOCATION:New London NH
CATEGORIES:QuickScores, Field Hockey Game
TRANSP:OPAQUE
BEGIN:VALARM
TRIGGER:-PT2H
ACTION:DISPLAY
DESCRIPTION:Colby Sawyer vs. Lasell
END:VALARM
END:VEVENT
BEGIN:VEVENT
UID:gnac-70997224-20261010@quickscores.com
DTSTAMP:20260425T140200Z
DTSTART;TZID=America/New_York:20261010
SUMMARY:Rivier vs. Albertus Magnus
DESCRIPTION:2026 Field Hockey (9/25/2025) Approved By Gnac Ad Council - Great Northeast Athletic Conference
LOCATION:Nashua, NH
CATEGORIES:QuickScores, Field Hockey Game
TRANSP:OPAQUE
BEGIN:VALARM
TRIGGER:-PT2H
ACTION:DISPLAY
DESCRIPTION:Rivier vs. Albertus Magnus
END:VALARM
END:VEVENT
BEGIN:VEVENT
UID:gnac-70997269-20261010@quickscores.com
DTSTAMP:20260425T140200Z
DTSTART;TZID=America/New_York:20261010
SUMMARY:Simmons vs. Saint Joseph CT
DESCRIPTION:2026 Field Hockey (9/25/2025) Approved By Gnac Ad Council - Great Northeast Athletic Conference
LOCATION:Daly Field Brighton
CATEGORIES:QuickScores, Field Hockey Game
TRANSP:OPAQUE
BEGIN:VALARM
TRIGGER:-PT2H
ACTION:DISPLAY
DESCRIPTION:Simmons vs. Saint Joseph CT
END:VALARM
END:VEVENT
BEGIN:VEVENT
UID:gnac-70997287-20261010@quickscores.com
DTSTAMP:20260425T140200Z
DTSTART;TZID=America/New_York:20261010
SUMMARY:Saint Joseph's ME vs. New England
DESCRIPTION:2026 Field Hockey (9/25/2025) Approved By Gnac Ad Council - Great Northeast Athletic Conference
LOCATION:Standish ME
CATEGORIES:QuickScores, Field Hockey Game
TRANSP:OPAQUE
BEGIN:VALARM
TRIGGER:-PT2H
ACTION:DISPLAY
DESCRIPTION:Saint Joseph's ME vs. New England
END:VALARM
END:VEVENT
BEGIN:VEVENT
UID:gnac-70997278-20261010@quickscores.com
DTSTAMP:20260425T140200Z
DTSTART;TZID=America/New_York:20261010
SUMMARY:Dean vs. Elms
DESCRIPTION:2026 Field Hockey (9/25/2025) Approved By Gnac Ad Council - Great Northeast Athletic Conference
LOCATION:Franklin MA
CATEGORIES:QuickScores, Field Hockey Game
TRANSP:OPAQUE
BEGIN:VALARM
TRIGGER:-PT2H
ACTION:DISPLAY
DESCRIPTION:Dean vs. Elms
END:VALARM
END:VEVENT
BEGIN:VEVENT
UID:gnac-70997250-20261014@quickscores.com
DTSTAMP:20260425T140200Z
DTSTART;TZID=America/New_York:20261014
SUMMARY:Colby Sawyer vs. Saint Joseph's ME
DESCRIPTION:2026 Field Hockey (9/25/2025) Approved By Gnac Ad Council - Great Northeast Athletic Conference
LOCATION:New London NH
CATEGORIES:QuickScores, Field Hockey Game
TRANSP:OPAQUE
BEGIN:VALARM
TRIGGER:-PT2H
ACTION:DISPLAY
DESCRIPTION:Colby Sawyer vs. Saint Joseph's ME
END:VALARM
END:VEVENT
BEGIN:VEVENT
UID:gnac-70997229-20261014@quickscores.com
DTSTAMP:20260425T140200Z
DTSTART;TZID=America/New_York:20261014
SUMMARY:Lasell vs. Simmons
DESCRIPTION:2026 Field Hockey (9/25/2025) Approved By Gnac Ad Council - Great Northeast Athletic Conference
LOCATION:Lasell Newton
CATEGORIES:QuickScores, Field Hockey Game
TRANSP:OPAQUE
BEGIN:VALARM
TRIGGER:-PT2H
ACTION:DISPLAY
DESCRIPTION:Lasell vs. Simmons
END:VALARM
END:VEVENT
BEGIN:VEVENT
UID:gnac-70997261-20261014@quickscores.com
DTSTAMP:20260425T140200Z
DTSTART;TZID=America/New_York:20261014
SUMMARY:Saint Joseph CT vs. Dean
DESCRIPTION:2026 Field Hockey (9/25/2025) Approved By Gnac Ad Council - Great Northeast Athletic Conference
LOCATION:W. Hartford, CT
CATEGORIES:QuickScores, Field Hockey Game
TRANSP:OPAQUE
BEGIN:VALARM
TRIGGER:-PT2H
ACTION:DISPLAY
DESCRIPTION:Saint Joseph CT vs. Dean
END:VALARM
END:VEVENT
BEGIN:VEVENT
UID:gnac-70997276-20261014@quickscores.com
DTSTAMP:20260425T140200Z
DTSTART;TZID=America/New_York:20261014
SUMMARY:Elms vs. Regis
DESCRIPTION:2026 Field Hockey (9/25/2025) Approved By Gnac Ad Council - Great Northeast Athletic Conference
LOCATION:Timothy J. Leary Field Chicopee MA
CATEGORIES:QuickScores, Field Hockey Game
TRANSP:OPAQUE
BEGIN:VALARM
TRIGGER:-PT2H
ACTION:DISPLAY
DESCRIPTION:Elms vs. Regis
END:VALARM
END:VEVENT
BEGIN:VEVENT
UID:gnac-70997283-20261014@quickscores.com
DTSTAMP:20260425T140200Z
DTSTART;TZID=America/New_York:20261014
SUMMARY:Rivier vs. New England
DESCRIPTION:2026 Field Hockey (9/25/2025) Approved By Gnac Ad Council - Great Northeast Athletic Conference
LOCATION:Nashua, NH
CATEGORIES:QuickScores, Field Hockey Game
TRANSP:OPAQUE
BEGIN:VALARM
TRIGGER:-PT2H
ACTION:DISPLAY
DESCRIPTION:Rivier vs. New England
END:VALARM
END:VEVENT
BEGIN:VEVENT
UID:gnac-70997233-20261017@quickscores.com
DTSTAMP:20260425T140200Z
DTSTART;TZID=America/New_York:20261017
SUMMARY:Saint Joseph's ME vs. Rivier
DESCRIPTION:2026 Field Hockey (9/25/2025) Approved By Gnac Ad Council - Great Northeast Athletic Conference
LOCATION:Standish ME
CATEGORIES:QuickScores, Field Hockey Game
TRANSP:OPAQUE
BEGIN:VALARM
TRIGGER:-PT2H
ACTION:DISPLAY
DESCRIPTION:Saint Joseph's ME vs. Rivier
END:VALARM
END:VEVENT
BEGIN:VEVENT
UID:gnac-70997244-20261017@quickscores.com
DTSTAMP:20260425T140200Z
DTSTART;TZID=America/New_York:20261017
SUMMARY:Albertus Magnus vs. Regis
DESCRIPTION:2026 Field Hockey (9/25/2025) Approved By Gnac Ad Council - Great Northeast Athletic Conference
LOCATION:New Haven, CT
CATEGORIES:QuickScores, Field Hockey Game
TRANSP:OPAQUE
BEGIN:VALARM
TRIGGER:-PT2H
ACTION:DISPLAY
DESCRIPTION:Albertus Magnus vs. Regis
END:VALARM
END:VEVENT
BEGIN:VEVENT
UID:gnac-70997274-20261017@quickscores.com
DTSTAMP:20260425T140200Z
DTSTART;TZID=America/New_York:20261017
SUMMARY:Saint Joseph CT vs. Elms
DESCRIPTION:2026 Field Hockey (9/25/2025) Approved By Gnac Ad Council - Great Northeast Athletic Conference
LOCATION:W. Hartford, CT
CATEGORIES:QuickScores, Field Hockey Game
TRANSP:OPAQUE
BEGIN:VALARM
TRIGGER:-PT2H
ACTION:DISPLAY
DESCRIPTION:Saint Joseph CT vs. Elms
END:VALARM
END:VEVENT
BEGIN:VEVENT
UID:gnac-70997280-20261017@quickscores.com
DTSTAMP:20260425T140200Z
DTSTART;TZID=America/New_York:20261017
SUMMARY:New England vs. Dean
DESCRIPTION:2026 Field Hockey (9/25/2025) Approved By Gnac Ad Council - Great Northeast Athletic Conference
LOCATION:Henniker NH
CATEGORIES:QuickScores, Field Hockey Game
TRANSP:OPAQUE
BEGIN:VALARM
TRIGGER:-PT2H
ACTION:DISPLAY
DESCRIPTION:New England vs. Dean
END:VALARM
END:VEVENT
BEGIN:VEVENT
UID:gnac-70997251-20261017@quickscores.com
DTSTAMP:20260425T140200Z
DTSTART;TZID=America/New_York:20261017
SUMMARY:Simmons vs. Colby Sawyer
DESCRIPTION:2026 Field Hockey (9/25/2025) Approved By Gnac Ad Council - Great Northeast Athletic Conference
LOCATION:Daly Field Brighton
CATEGORIES:QuickScores, Field Hockey Game
TRANSP:OPAQUE
BEGIN:VALARM
TRIGGER:-PT2H
ACTION:DISPLAY
DESCRIPTION:Simmons vs. Colby Sawyer
END:VALARM
END:VEVENT
BEGIN:VEVENT
UID:gnac-70997227-20261021@quickscores.com
DTSTAMP:20260425T140200Z
DTSTART;TZID=America/New_York:20261021
SUMMARY:Regis vs. Simmons
DESCRIPTION:2026 Field Hockey (9/25/2025) Approved By Gnac Ad Council - Great Northeast Athletic Conference
LOCATION:Regis Weston MA
CATEGORIES:QuickScores, Field Hockey Game
TRANSP:OPAQUE
BEGIN:VALARM
TRIGGER:-PT2H
ACTION:DISPLAY
DESCRIPTION:Regis vs. Simmons
END:VALARM
END:VEVENT
BEGIN:VEVENT
UID:gnac-70997256-20261021@quickscores.com
DTSTAMP:20260425T140200Z
DTSTART;TZID=America/New_York:20261021
SUMMARY:Dean vs. Lasell
DESCRIPTION:2026 Field Hockey (9/25/2025) Approved By Gnac Ad Council - Great Northeast Athletic Conference
LOCATION:Franklin MA
CATEGORIES:QuickScores, Field Hockey Game
TRANSP:OPAQUE
BEGIN:VALARM
TRIGGER:-PT2H
ACTION:DISPLAY
DESCRIPTION:Dean vs. Lasell
END:VALARM
END:VEVENT
BEGIN:VEVENT
UID:gnac-70997245-20261021@quickscores.com
DTSTAMP:20260425T140200Z
DTSTART;TZID=America/New_York:20261021
SUMMARY:Elms vs. Rivier
DESCRIPTION:2026 Field Hockey (9/25/2025) Approved By Gnac Ad Council - Great Northeast Athletic Conference
LOCATION:Timothy J. Leary Field Chicopee MA
CATEGORIES:QuickScores, Field Hockey Game
TRANSP:OPAQUE
BEGIN:VALARM
TRIGGER:-PT2H
ACTION:DISPLAY
DESCRIPTION:Elms vs. Rivier
END:VALARM
END:VEVENT
BEGIN:VEVENT
UID:gnac-70997285-20261021@quickscores.com
DTSTAMP:20260425T140200Z
DTSTART;TZID=America/New_York:20261021
SUMMARY:New England vs. Colby Sawyer
DESCRIPTION:2026 Field Hockey (9/25/2025) Approved By Gnac Ad Council - Great Northeast Athletic Conference
LOCATION:Henniker NH
CATEGORIES:QuickScores, Field Hockey Game
TRANSP:OPAQUE
BEGIN:VALARM
TRIGGER:-PT2H
ACTION:DISPLAY
DESCRIPTION:New England vs. Colby Sawyer
END:VALARM
END:VEVENT
BEGIN:VEVENT
UID:gnac-70997270-20261021@quickscores.com
DTSTAMP:20260425T140200Z
DTSTART;TZID=America/New_York:20261021
SUMMARY:Albertus Magnus vs. Saint Joseph CT
DESCRIPTION:2026 Field Hockey (9/25/2025) Approved By Gnac Ad Council - Great Northeast Athletic Conference
LOCATION:New Haven, CT
CATEGORIES:QuickScores, Field Hockey Game
TRANSP:OPAQUE
BEGIN:VALARM
TRIGGER:-PT2H
ACTION:DISPLAY
DESCRIPTION:Albertus Magnus vs. Saint Joseph CT
END:VALARM
END:VEVENT
BEGIN:VEVENT
UID:gnac-70997226-20261024@quickscores.com
DTSTAMP:20260425T140200Z
DTSTART;TZID=America/New_York:20261024
SUMMARY:Lasell vs. Saint Joseph's ME
DESCRIPTION:2026 Field Hockey (9/25/2025) Approved By Gnac Ad Council - Great Northeast Athletic Conference
LOCATION:Lasell Newton
CATEGORIES:QuickScores, Field Hockey Game
TRANSP:OPAQUE
BEGIN:VALARM
TRIGGER:-PT2H
ACTION:DISPLAY
DESCRIPTION:Lasell vs. Saint Joseph's ME
END:VALARM
END:VEVENT
BEGIN:VEVENT
UID:gnac-70997284-20261024@quickscores.com
DTSTAMP:20260425T140200Z
DTSTART;TZID=America/New_York:20261024
SUMMARY:Regis vs. New England
DESCRIPTION:2026 Field Hockey (9/25/2025) Approved By Gnac Ad Council - Great Northeast Athletic Conference
LOCATION:Regis Weston MA
CATEGORIES:QuickScores, Field Hockey Game
TRANSP:OPAQUE
BEGIN:VALARM
TRIGGER:-PT2H
ACTION:DISPLAY
DESCRIPTION:Regis vs. New England
END:VALARM
END:VEVENT
BEGIN:VEVENT
UID:gnac-70997258-20261024@quickscores.com
DTSTAMP:20260425T140200Z
DTSTART;TZID=America/New_York:20261024
SUMMARY:Rivier vs. Saint Joseph CT
DESCRIPTION:2026 Field Hockey (9/25/2025) Approved By Gnac Ad Council - Great Northeast Athletic Conference
LOCATION:Nashua, NH
CATEGORIES:QuickScores, Field Hockey Game
TRANSP:OPAQUE
BEGIN:VALARM
TRIGGER:-PT2H
ACTION:DISPLAY
DESCRIPTION:Rivier vs. Saint Joseph CT
END:VALARM
END:VEVENT
BEGIN:VEVENT
UID:gnac-70997260-20261024@quickscores.com
DTSTAMP:20260425T140200Z
DTSTART;TZID=America/New_York:20261024
SUMMARY:Dean vs. Albertus Magnus
DESCRIPTION:2026 Field Hockey (9/25/2025) Approved By Gnac Ad Council - Great Northeast Athletic Conference
LOCATION:Franklin MA
CATEGORIES:QuickScores, Field Hockey Game
TRANSP:OPAQUE
BEGIN:VALARM
TRIGGER:-PT2H
ACTION:DISPLAY
DESCRIPTION:Dean vs. Albertus Magnus
END:VALARM
END:VEVENT
BEGIN:VEVENT
UID:gnac-70997271-20261024@quickscores.com
DTSTAMP:20260425T140200Z
DTSTART;TZID=America/New_York:20261024
SUMMARY:Colby Sawyer vs. Elms
DESCRIPTION:2026 Field Hockey (9/25/2025) Approved By Gnac Ad Council - Great Northeast Athletic Conference
LOCATION:New London NH
CATEGORIES:QuickScores, Field Hockey Game
TRANSP:OPAQUE
BEGIN:VALARM
TRIGGER:-PT2H
ACTION:DISPLAY
DESCRIPTION:Colby Sawyer vs. Elms
END:VALARM
END:VEVENT
BEGIN:VEVENT
UID:gnac-70997236-20261031@quickscores.com
DTSTAMP:20260425T140200Z
DTSTART;TZID=America/New_York:20261031
SUMMARY:#2 Seed vs. #7 Seed
DESCRIPTION:2026 Field Hockey (9/25/2025) Approved By Gnac Ad Council - Great Northeast Athletic Conference
LOCATION:Field of #2 seed
CATEGORIES:QuickScores, Field Hockey Game
TRANSP:OPAQUE
BEGIN:VALARM
TRIGGER:-PT2H
ACTION:DISPLAY
DESCRIPTION:#2 Seed vs. #7 Seed
END:VALARM
END:VEVENT
BEGIN:VEVENT
UID:gnac-70997237-20261031@quickscores.com
DTSTAMP:20260425T140200Z
DTSTART;TZID=America/New_York:20261031
SUMMARY:#3 Seed vs. #6 Seed
DESCRIPTION:2026 Field Hockey (9/25/2025) Approved By Gnac Ad Council - Great Northeast Athletic Conference
LOCATION:Field of #3 seed
CATEGORIES:QuickScores, Field Hockey Game
TRANSP:OPAQUE
BEGIN:VALARM
TRIGGER:-PT2H
ACTION:DISPLAY
DESCRIPTION:#3 Seed vs. #6 Seed
END:VALARM
END:VEVENT
BEGIN:VEVENT
UID:gnac-70997235-20261031@quickscores.com
DTSTAMP:20260425T140200Z
DTSTART;TZID=America/New_York:20261031
SUMMARY:#4 Seed vs. #5 Seed
DESCRIPTION:2026 Field Hockey (9/25/2025) Approved By Gnac Ad Council - Great Northeast Athletic Conference
LOCATION:Field of #4 seed
CATEGORIES:QuickScores, Field Hockey Game
TRANSP:OPAQUE
BEGIN:VALARM
TRIGGER:-PT2H
ACTION:DISPLAY
DESCRIPTION:#4 Seed vs. #5 Seed
END:VALARM
END:VEVENT
BEGIN:VEVENT
UID:gnac-70997234-20261031@quickscores.com
DTSTAMP:20260425T140200Z
DTSTART;TZID=America/New_York:20261031
SUMMARY:#1 Seed vs. #8 Seed
DESCRIPTION:2026 Field Hockey (9/25/2025) Approved By Gnac Ad Council - Great Northeast Athletic Conference
LOCATION:Field of #1 seed
CATEGORIES:QuickScores, Field Hockey Game
TRANSP:OPAQUE
BEGIN:VALARM
TRIGGER:-PT2H
ACTION:DISPLAY
DESCRIPTION:#1 Seed vs. #8 Seed
END:VALARM
END:VEVENT
BEGIN:VEVENT
UID:gnac-70997238-20261104@quickscores.com
DTSTAMP:20260425T140200Z
DTSTART;TZID=America/New_York:20261104
SUMMARY:Winner of Game 1 vs. Winner of Game 2
DESCRIPTION:2026 Field Hockey (9/25/2025) Approved By Gnac Ad Council - Great Northeast Athletic Conference
LOCATION:Hosted by highest remaining seed
CATEGORIES:QuickScores, Field Hockey Game
TRANSP:OPAQUE
BEGIN:VALARM
TRIGGER:-PT2H
ACTION:DISPLAY
DESCRIPTION:Winner of Game 1 vs. Winner of Game 2
END:VALARM
END:VEVENT
BEGIN:VEVENT
UID:gnac-70997239-20261104@quickscores.com
DTSTAMP:20260425T140200Z
DTSTART;TZID=America/New_York:20261104
SUMMARY:Winner of Game 3 vs. Winner of Game 4
DESCRIPTION:2026 Field Hockey (9/25/2025) Approved By Gnac Ad Council - Great Northeast Athletic Conference
LOCATION:Hosted by highest remaining seed
CATEGORIES:QuickScores, Field Hockey Game
TRANSP:OPAQUE
BEGIN:VALARM
TRIGGER:-PT2H
ACTION:DISPLAY
DESCRIPTION:Winner of Game 3 vs. Winner of Game 4
END:VALARM
END:VEVENT
BEGIN:VEVENT
UID:gnac-70997240-20261107@quickscores.com
DTSTAMP:20260425T140200Z
DTSTART;TZID=America/New_York:20261107
SUMMARY:Winner of Game 5 vs. Winner of Game 6
DESCRIPTION:2026 Field Hockey (9/25/2025) Approved By Gnac Ad Council - Great Northeast Athletic Conference
LOCATION:Hosted by highest remaining seed
CATEGORIES:QuickScores, Field Hockey Game
TRANSP:OPAQUE
BEGIN:VALARM
TRIGGER:-PT2H
ACTION:DISPLAY
DESCRIPTION:Winner of Game 5 vs. Winner of Game 6
END:VALARM
END:VEVENT
END:VCALENDAR
