BEGIN:VCALENDAR
VERSION:2.0
PRODID:-//QuickScores.com//BQ Dynamic iCal Creator//EN
METHOD:PUBLISH
X-WR-CALNAME:Lsl Dupr 18 Mens Squads - 9/22 Start - Completed Leagues 2025
X-WR-CALDESC:QuickScores game calendar
X-PUBLISHED-TTL:PT24H
REFRESH-INTERVAL;VALUE=DURATION:PT24H
CALSCALE:GREGORIAN
BEGIN:VTIMEZONE
TZID:America/Chicago
X-LIC-LOCATION:America/Chicago
BEGIN:DAYLIGHT
TZNAME:CDT
TZOFFSETFROM:-0600
TZOFFSETTO:-0500
DTSTART:19700308T020000
RRULE:FREQ=YEARLY;BYMONTH=3;BYDAY=2SU
END:DAYLIGHT
BEGIN:STANDARD
TZNAME:CST
TZOFFSETFROM:-0500
TZOFFSETTO:-0600
DTSTART:19701101T020000
RRULE:FREQ=YEARLY;BYMONTH=11;BYDAY=1SU
END:STANDARD
END:VTIMEZONE
BEGIN:VEVENT
UID:pupc-71079955-20250922T200000@quickscores.com
DTSTAMP:20260423T145900Z
DTSTART;TZID=America/Chicago:20250922T200000
DURATION:PT0H40M0S
SUMMARY:OrlandoPaez/AndrewLee/AndyBlickhan/JonRichert vs. L2R2
DESCRIPTION:Lsl Dupr 18 Mens Squads - 9/22 Start - Paddle Up Pickleball Club
LOCATION:Court 7
CATEGORIES:QuickScores, Pickleball Game
TRANSP:OPAQUE
BEGIN:VALARM
TRIGGER:-PT2H
ACTION:DISPLAY
DESCRIPTION:OrlandoPaez/AndrewLee/AndyBlickhan/JonRichert vs. L2R2
END:VALARM
END:VEVENT
BEGIN:VEVENT
UID:pupc-71079957-20250922T200000@quickscores.com
DTSTAMP:20260423T145900Z
DTSTART;TZID=America/Chicago:20250922T200000
DURATION:PT0H40M0S
SUMMARY:BrooksToth/Lotfi/JonHarris/DerekDallas vs. ScottMaschmann/JohnCometa/PaigeReque/MatthewStodda
DESCRIPTION:Lsl Dupr 18 Mens Squads - 9/22 Start - Paddle Up Pickleball Club
LOCATION:Court 1
CATEGORIES:QuickScores, Pickleball Game
TRANSP:OPAQUE
BEGIN:VALARM
TRIGGER:-PT2H
ACTION:DISPLAY
DESCRIPTION:BrooksToth/Lotfi/JonHarris/DerekDallas vs. ScottMaschmann/JohnCometa/PaigeReque/MatthewStodda
END:VALARM
END:VEVENT
BEGIN:VEVENT
UID:pupc-71079959-20250922T200000@quickscores.com
DTSTAMP:20260423T145900Z
DTSTART;TZID=America/Chicago:20250922T200000
DURATION:PT0H40M0S
SUMMARY:MatSevilla/JohnPaden/DevoryNewsome/BrianRomine vs. STL Smash
DESCRIPTION:Lsl Dupr 18 Mens Squads - 9/22 Start - Paddle Up Pickleball Club
LOCATION:Court 4
CATEGORIES:QuickScores, Pickleball Game
TRANSP:OPAQUE
BEGIN:VALARM
TRIGGER:-PT2H
ACTION:DISPLAY
DESCRIPTION:MatSevilla/JohnPaden/DevoryNewsome/BrianRomine vs. STL Smash
END:VALARM
END:VEVENT
BEGIN:VEVENT
UID:pupc-71079954-20250922T210000@quickscores.com
DTSTAMP:20260423T145900Z
DTSTART;TZID=America/Chicago:20250922T210000
DURATION:PT0H40M0S
SUMMARY:MatSevilla/JohnPaden/DevoryNewsome/BrianRomine vs. L2R2
DESCRIPTION:Lsl Dupr 18 Mens Squads - 9/22 Start - Paddle Up Pickleball Club
LOCATION:Court 4
CATEGORIES:QuickScores, Pickleball Game
TRANSP:OPAQUE
BEGIN:VALARM
TRIGGER:-PT2H
ACTION:DISPLAY
DESCRIPTION:MatSevilla/JohnPaden/DevoryNewsome/BrianRomine vs. L2R2
END:VALARM
END:VEVENT
BEGIN:VEVENT
UID:pupc-71079956-20250922T210000@quickscores.com
DTSTAMP:20260423T145900Z
DTSTART;TZID=America/Chicago:20250922T210000
DURATION:PT0H40M0S
SUMMARY:OrlandoPaez/AndrewLee/AndyBlickhan/JonRichert vs. BrooksToth/Lotfi/JonHarris/DerekDallas
DESCRIPTION:Lsl Dupr 18 Mens Squads - 9/22 Start - Paddle Up Pickleball Club
LOCATION:Court 7
CATEGORIES:QuickScores, Pickleball Game
TRANSP:OPAQUE
BEGIN:VALARM
TRIGGER:-PT2H
ACTION:DISPLAY
DESCRIPTION:OrlandoPaez/AndrewLee/AndyBlickhan/JonRichert vs. BrooksToth/Lotfi/JonHarris/DerekDallas
END:VALARM
END:VEVENT
BEGIN:VEVENT
UID:pupc-71079958-20250922T210000@quickscores.com
DTSTAMP:20260423T145900Z
DTSTART;TZID=America/Chicago:20250922T210000
DURATION:PT0H40M0S
SUMMARY:STL Smash vs. ScottMaschmann/JohnCometa/PaigeReque/MatthewStodda
DESCRIPTION:Lsl Dupr 18 Mens Squads - 9/22 Start - Paddle Up Pickleball Club
LOCATION:Court 1
CATEGORIES:QuickScores, Pickleball Game
TRANSP:OPAQUE
BEGIN:VALARM
TRIGGER:-PT2H
ACTION:DISPLAY
DESCRIPTION:STL Smash vs. ScottMaschmann/JohnCometa/PaigeReque/MatthewStodda
END:VALARM
END:VEVENT
BEGIN:VEVENT
UID:pupc-71079964-20250929T200000@quickscores.com
DTSTAMP:20260423T145900Z
DTSTART;TZID=America/Chicago:20250929T200000
DURATION:PT0H40M0S
SUMMARY:STL Smash vs. OrlandoPaez/AndrewLee/AndyBlickhan/JonRichert
DESCRIPTION:Lsl Dupr 18 Mens Squads - 9/22 Start - Paddle Up Pickleball Club
LOCATION:Court 4
CATEGORIES:QuickScores, Pickleball Game
TRANSP:OPAQUE
BEGIN:VALARM
TRIGGER:-PT2H
ACTION:DISPLAY
DESCRIPTION:STL Smash vs. OrlandoPaez/AndrewLee/AndyBlickhan/JonRichert
END:VALARM
END:VEVENT
BEGIN:VEVENT
UID:pupc-71079962-20250929T200000@quickscores.com
DTSTAMP:20260423T145900Z
DTSTART;TZID=America/Chicago:20250929T200000
DURATION:PT0H40M0S
SUMMARY:L2R2 vs. BrooksToth/Lotfi/JonHarris/DerekDallas
DESCRIPTION:Lsl Dupr 18 Mens Squads - 9/22 Start - Paddle Up Pickleball Club
LOCATION:Court 1
CATEGORIES:QuickScores, Pickleball Game
TRANSP:OPAQUE
BEGIN:VALARM
TRIGGER:-PT2H
ACTION:DISPLAY
DESCRIPTION:L2R2 vs. BrooksToth/Lotfi/JonHarris/DerekDallas
END:VALARM
END:VEVENT
BEGIN:VEVENT
UID:pupc-71079960-20250929T200000@quickscores.com
DTSTAMP:20260423T145900Z
DTSTART;TZID=America/Chicago:20250929T200000
DURATION:PT0H40M0S
SUMMARY:MatSevilla/JohnPaden/DevoryNewsome/BrianRomine vs. ScottMaschmann/JohnCometa/PaigeReque/MatthewStodda
DESCRIPTION:Lsl Dupr 18 Mens Squads - 9/22 Start - Paddle Up Pickleball Club
LOCATION:Court 7
CATEGORIES:QuickScores, Pickleball Game
TRANSP:OPAQUE
BEGIN:VALARM
TRIGGER:-PT2H
ACTION:DISPLAY
DESCRIPTION:MatSevilla/JohnPaden/DevoryNewsome/BrianRomine vs. ScottMaschmann/JohnCometa/PaigeReque/MatthewStodda
END:VALARM
END:VEVENT
BEGIN:VEVENT
UID:pupc-71079961-20250929T210000@quickscores.com
DTSTAMP:20260423T145900Z
DTSTART;TZID=America/Chicago:20250929T210000
DURATION:PT0H40M0S
SUMMARY:ScottMaschmann/JohnCometa/PaigeReque/MatthewStodda vs. L2R2
DESCRIPTION:Lsl Dupr 18 Mens Squads - 9/22 Start - Paddle Up Pickleball Club
LOCATION:Court 7
CATEGORIES:QuickScores, Pickleball Game
TRANSP:OPAQUE
BEGIN:VALARM
TRIGGER:-PT2H
ACTION:DISPLAY
DESCRIPTION:ScottMaschmann/JohnCometa/PaigeReque/MatthewStodda vs. L2R2
END:VALARM
END:VEVENT
BEGIN:VEVENT
UID:pupc-71079963-20250929T210000@quickscores.com
DTSTAMP:20260423T145900Z
DTSTART;TZID=America/Chicago:20250929T210000
DURATION:PT0H40M0S
SUMMARY:BrooksToth/Lotfi/JonHarris/DerekDallas vs. STL Smash
DESCRIPTION:Lsl Dupr 18 Mens Squads - 9/22 Start - Paddle Up Pickleball Club
LOCATION:Court 1
CATEGORIES:QuickScores, Pickleball Game
TRANSP:OPAQUE
BEGIN:VALARM
TRIGGER:-PT2H
ACTION:DISPLAY
DESCRIPTION:BrooksToth/Lotfi/JonHarris/DerekDallas vs. STL Smash
END:VALARM
END:VEVENT
BEGIN:VEVENT
UID:pupc-71079965-20250929T210000@quickscores.com
DTSTAMP:20260423T145900Z
DTSTART;TZID=America/Chicago:20250929T210000
DURATION:PT0H40M0S
SUMMARY:MatSevilla/JohnPaden/DevoryNewsome/BrianRomine vs. OrlandoPaez/AndrewLee/AndyBlickhan/JonRichert
DESCRIPTION:Lsl Dupr 18 Mens Squads - 9/22 Start - Paddle Up Pickleball Club
LOCATION:Court 4
CATEGORIES:QuickScores, Pickleball Game
TRANSP:OPAQUE
BEGIN:VALARM
TRIGGER:-PT2H
ACTION:DISPLAY
DESCRIPTION:MatSevilla/JohnPaden/DevoryNewsome/BrianRomine vs. OrlandoPaez/AndrewLee/AndyBlickhan/JonRichert
END:VALARM
END:VEVENT
BEGIN:VEVENT
UID:pupc-71079968-20251006T200000@quickscores.com
DTSTAMP:20260423T145900Z
DTSTART;TZID=America/Chicago:20251006T200000
DURATION:PT0H40M0S
SUMMARY:ScottMaschmann/JohnCometa/PaigeReque/MatthewStodda vs. STL Smash
DESCRIPTION:Lsl Dupr 18 Mens Squads - 9/22 Start - Paddle Up Pickleball Club
LOCATION:Court 7
CATEGORIES:QuickScores, Pickleball Game
TRANSP:OPAQUE
BEGIN:VALARM
TRIGGER:-PT2H
ACTION:DISPLAY
DESCRIPTION:ScottMaschmann/JohnCometa/PaigeReque/MatthewStodda vs. STL Smash
END:VALARM
END:VEVENT
BEGIN:VEVENT
UID:pupc-71079967-20251006T200000@quickscores.com
DTSTAMP:20260423T145900Z
DTSTART;TZID=America/Chicago:20251006T200000
DURATION:PT0H40M0S
SUMMARY:BrooksToth/Lotfi/JonHarris/DerekDallas vs. OrlandoPaez/AndrewLee/AndyBlickhan/JonRichert
DESCRIPTION:Lsl Dupr 18 Mens Squads - 9/22 Start - Paddle Up Pickleball Club
LOCATION:Court 4
CATEGORIES:QuickScores, Pickleball Game
TRANSP:OPAQUE
BEGIN:VALARM
TRIGGER:-PT2H
ACTION:DISPLAY
DESCRIPTION:BrooksToth/Lotfi/JonHarris/DerekDallas vs. OrlandoPaez/AndrewLee/AndyBlickhan/JonRichert
END:VALARM
END:VEVENT
BEGIN:VEVENT
UID:pupc-71079966-20251006T200000@quickscores.com
DTSTAMP:20260423T145900Z
DTSTART;TZID=America/Chicago:20251006T200000
DURATION:PT0H40M0S
SUMMARY:L2R2 vs. MatSevilla/JohnPaden/DevoryNewsome/BrianRomine
DESCRIPTION:Lsl Dupr 18 Mens Squads - 9/22 Start - Paddle Up Pickleball Club
LOCATION:Court 1
CATEGORIES:QuickScores, Pickleball Game
TRANSP:OPAQUE
BEGIN:VALARM
TRIGGER:-PT2H
ACTION:DISPLAY
DESCRIPTION:L2R2 vs. MatSevilla/JohnPaden/DevoryNewsome/BrianRomine
END:VALARM
END:VEVENT
BEGIN:VEVENT
UID:pupc-71079969-20251006T210000@quickscores.com
DTSTAMP:20260423T145900Z
DTSTART;TZID=America/Chicago:20251006T210000
DURATION:PT0H40M0S
SUMMARY:MatSevilla/JohnPaden/DevoryNewsome/BrianRomine vs. BrooksToth/Lotfi/JonHarris/DerekDallas
DESCRIPTION:Lsl Dupr 18 Mens Squads - 9/22 Start - Paddle Up Pickleball Club
LOCATION:Court 1
CATEGORIES:QuickScores, Pickleball Game
TRANSP:OPAQUE
BEGIN:VALARM
TRIGGER:-PT2H
ACTION:DISPLAY
DESCRIPTION:MatSevilla/JohnPaden/DevoryNewsome/BrianRomine vs. BrooksToth/Lotfi/JonHarris/DerekDallas
END:VALARM
END:VEVENT
BEGIN:VEVENT
UID:pupc-71079970-20251006T210000@quickscores.com
DTSTAMP:20260423T145900Z
DTSTART;TZID=America/Chicago:20251006T210000
DURATION:PT0H40M0S
SUMMARY:ScottMaschmann/JohnCometa/PaigeReque/MatthewStodda vs. OrlandoPaez/AndrewLee/AndyBlickhan/JonRichert
DESCRIPTION:Lsl Dupr 18 Mens Squads - 9/22 Start - Paddle Up Pickleball Club
LOCATION:Court 4
CATEGORIES:QuickScores, Pickleball Game
TRANSP:OPAQUE
BEGIN:VALARM
TRIGGER:-PT2H
ACTION:DISPLAY
DESCRIPTION:ScottMaschmann/JohnCometa/PaigeReque/MatthewStodda vs. OrlandoPaez/AndrewLee/AndyBlickhan/JonRichert
END:VALARM
END:VEVENT
BEGIN:VEVENT
UID:pupc-71079971-20251006T210000@quickscores.com
DTSTAMP:20260423T145900Z
DTSTART;TZID=America/Chicago:20251006T210000
DURATION:PT0H40M0S
SUMMARY:L2R2 vs. STL Smash
DESCRIPTION:Lsl Dupr 18 Mens Squads - 9/22 Start - Paddle Up Pickleball Club
LOCATION:Court 7
CATEGORIES:QuickScores, Pickleball Game
TRANSP:OPAQUE
BEGIN:VALARM
TRIGGER:-PT2H
ACTION:DISPLAY
DESCRIPTION:L2R2 vs. STL Smash
END:VALARM
END:VEVENT
BEGIN:VEVENT
UID:pupc-71079977-20251013T200000@quickscores.com
DTSTAMP:20260423T145900Z
DTSTART;TZID=America/Chicago:20251013T200000
DURATION:PT0H40M0S
SUMMARY:OrlandoPaez/AndrewLee/AndyBlickhan/JonRichert vs. STL Smash
DESCRIPTION:Lsl Dupr 18 Mens Squads - 9/22 Start - Paddle Up Pickleball Club
LOCATION:Court 1
CATEGORIES:QuickScores, Pickleball Game
TRANSP:OPAQUE
BEGIN:VALARM
TRIGGER:-PT2H
ACTION:DISPLAY
DESCRIPTION:OrlandoPaez/AndrewLee/AndyBlickhan/JonRichert vs. STL Smash
END:VALARM
END:VEVENT
BEGIN:VEVENT
UID:pupc-71079976-20251013T200000@quickscores.com
DTSTAMP:20260423T145900Z
DTSTART;TZID=America/Chicago:20251013T200000
DURATION:PT0H40M0S
SUMMARY:BrooksToth/Lotfi/JonHarris/DerekDallas vs. L2R2
DESCRIPTION:Lsl Dupr 18 Mens Squads - 9/22 Start - Paddle Up Pickleball Club
LOCATION:Court 4
CATEGORIES:QuickScores, Pickleball Game
TRANSP:OPAQUE
BEGIN:VALARM
TRIGGER:-PT2H
ACTION:DISPLAY
DESCRIPTION:BrooksToth/Lotfi/JonHarris/DerekDallas vs. L2R2
END:VALARM
END:VEVENT
BEGIN:VEVENT
UID:pupc-71079975-20251013T200000@quickscores.com
DTSTAMP:20260423T145900Z
DTSTART;TZID=America/Chicago:20251013T200000
DURATION:PT0H40M0S
SUMMARY:ScottMaschmann/JohnCometa/PaigeReque/MatthewStodda vs. MatSevilla/JohnPaden/DevoryNewsome/BrianRomine
DESCRIPTION:Lsl Dupr 18 Mens Squads - 9/22 Start - Paddle Up Pickleball Club
LOCATION:Court 7
CATEGORIES:QuickScores, Pickleball Game
TRANSP:OPAQUE
BEGIN:VALARM
TRIGGER:-PT2H
ACTION:DISPLAY
DESCRIPTION:ScottMaschmann/JohnCometa/PaigeReque/MatthewStodda vs. MatSevilla/JohnPaden/DevoryNewsome/BrianRomine
END:VALARM
END:VEVENT
BEGIN:VEVENT
UID:pupc-71079974-20251013T210000@quickscores.com
DTSTAMP:20260423T145900Z
DTSTART;TZID=America/Chicago:20251013T210000
DURATION:PT0H40M0S
SUMMARY:STL Smash vs. MatSevilla/JohnPaden/DevoryNewsome/BrianRomine
DESCRIPTION:Lsl Dupr 18 Mens Squads - 9/22 Start - Paddle Up Pickleball Club
LOCATION:Court 7
CATEGORIES:QuickScores, Pickleball Game
TRANSP:OPAQUE
BEGIN:VALARM
TRIGGER:-PT2H
ACTION:DISPLAY
DESCRIPTION:STL Smash vs. MatSevilla/JohnPaden/DevoryNewsome/BrianRomine
END:VALARM
END:VEVENT
BEGIN:VEVENT
UID:pupc-71079973-20251013T210000@quickscores.com
DTSTAMP:20260423T145900Z
DTSTART;TZID=America/Chicago:20251013T210000
DURATION:PT0H40M0S
SUMMARY:ScottMaschmann/JohnCometa/PaigeReque/MatthewStodda vs. BrooksToth/Lotfi/JonHarris/DerekDallas
DESCRIPTION:Lsl Dupr 18 Mens Squads - 9/22 Start - Paddle Up Pickleball Club
LOCATION:Court 4
CATEGORIES:QuickScores, Pickleball Game
TRANSP:OPAQUE
BEGIN:VALARM
TRIGGER:-PT2H
ACTION:DISPLAY
DESCRIPTION:ScottMaschmann/JohnCometa/PaigeReque/MatthewStodda vs. BrooksToth/Lotfi/JonHarris/DerekDallas
END:VALARM
END:VEVENT
BEGIN:VEVENT
UID:pupc-71079972-20251013T210000@quickscores.com
DTSTAMP:20260423T145900Z
DTSTART;TZID=America/Chicago:20251013T210000
DURATION:PT0H40M0S
SUMMARY:L2R2 vs. OrlandoPaez/AndrewLee/AndyBlickhan/JonRichert
DESCRIPTION:Lsl Dupr 18 Mens Squads - 9/22 Start - Paddle Up Pickleball Club
LOCATION:Court 1
CATEGORIES:QuickScores, Pickleball Game
TRANSP:OPAQUE
BEGIN:VALARM
TRIGGER:-PT2H
ACTION:DISPLAY
DESCRIPTION:L2R2 vs. OrlandoPaez/AndrewLee/AndyBlickhan/JonRichert
END:VALARM
END:VEVENT
BEGIN:VEVENT
UID:pupc-71079978-20251027T200000@quickscores.com
DTSTAMP:20260423T145900Z
DTSTART;TZID=America/Chicago:20251027T200000
DURATION:PT0H40M0S
SUMMARY:L2R2 vs. ScottMaschmann/JohnCometa/PaigeReque/MatthewStodda
DESCRIPTION:Lsl Dupr 18 Mens Squads - 9/22 Start - Paddle Up Pickleball Club
LOCATION:Court 4
CATEGORIES:QuickScores, Pickleball Game
TRANSP:OPAQUE
BEGIN:VALARM
TRIGGER:-PT2H
ACTION:DISPLAY
DESCRIPTION:L2R2 vs. ScottMaschmann/JohnCometa/PaigeReque/MatthewStodda
END:VALARM
END:VEVENT
BEGIN:VEVENT
UID:pupc-71079979-20251027T200000@quickscores.com
DTSTAMP:20260423T145900Z
DTSTART;TZID=America/Chicago:20251027T200000
DURATION:PT0H40M0S
SUMMARY:STL Smash vs. BrooksToth/Lotfi/JonHarris/DerekDallas
DESCRIPTION:Lsl Dupr 18 Mens Squads - 9/22 Start - Paddle Up Pickleball Club
LOCATION:Court 7
CATEGORIES:QuickScores, Pickleball Game
TRANSP:OPAQUE
BEGIN:VALARM
TRIGGER:-PT2H
ACTION:DISPLAY
DESCRIPTION:STL Smash vs. BrooksToth/Lotfi/JonHarris/DerekDallas
END:VALARM
END:VEVENT
BEGIN:VEVENT
UID:pupc-71079980-20251027T200000@quickscores.com
DTSTAMP:20260423T145900Z
DTSTART;TZID=America/Chicago:20251027T200000
DURATION:PT0H40M0S
SUMMARY:OrlandoPaez/AndrewLee/AndyBlickhan/JonRichert vs. MatSevilla/JohnPaden/DevoryNewsome/BrianRomine
DESCRIPTION:Lsl Dupr 18 Mens Squads - 9/22 Start - Paddle Up Pickleball Club
LOCATION:Court 1
CATEGORIES:QuickScores, Pickleball Game
TRANSP:OPAQUE
BEGIN:VALARM
TRIGGER:-PT2H
ACTION:DISPLAY
DESCRIPTION:OrlandoPaez/AndrewLee/AndyBlickhan/JonRichert vs. MatSevilla/JohnPaden/DevoryNewsome/BrianRomine
END:VALARM
END:VEVENT
BEGIN:VEVENT
UID:pupc-71079983-20251027T210000@quickscores.com
DTSTAMP:20260423T145900Z
DTSTART;TZID=America/Chicago:20251027T210000
DURATION:PT0H40M0S
SUMMARY:STL Smash vs. L2R2
DESCRIPTION:Lsl Dupr 18 Mens Squads - 9/22 Start - Paddle Up Pickleball Club
LOCATION:Court 4
CATEGORIES:QuickScores, Pickleball Game
TRANSP:OPAQUE
BEGIN:VALARM
TRIGGER:-PT2H
ACTION:DISPLAY
DESCRIPTION:STL Smash vs. L2R2
END:VALARM
END:VEVENT
BEGIN:VEVENT
UID:pupc-71079982-20251027T210000@quickscores.com
DTSTAMP:20260423T145900Z
DTSTART;TZID=America/Chicago:20251027T210000
DURATION:PT0H40M0S
SUMMARY:OrlandoPaez/AndrewLee/AndyBlickhan/JonRichert vs. ScottMaschmann/JohnCometa/PaigeReque/MatthewStodda
DESCRIPTION:Lsl Dupr 18 Mens Squads - 9/22 Start - Paddle Up Pickleball Club
LOCATION:Court 1
CATEGORIES:QuickScores, Pickleball Game
TRANSP:OPAQUE
BEGIN:VALARM
TRIGGER:-PT2H
ACTION:DISPLAY
DESCRIPTION:OrlandoPaez/AndrewLee/AndyBlickhan/JonRichert vs. ScottMaschmann/JohnCometa/PaigeReque/MatthewStodda
END:VALARM
END:VEVENT
BEGIN:VEVENT
UID:pupc-71079981-20251027T210000@quickscores.com
DTSTAMP:20260423T145900Z
DTSTART;TZID=America/Chicago:20251027T210000
DURATION:PT0H40M0S
SUMMARY:BrooksToth/Lotfi/JonHarris/DerekDallas vs. MatSevilla/JohnPaden/DevoryNewsome/BrianRomine
DESCRIPTION:Lsl Dupr 18 Mens Squads - 9/22 Start - Paddle Up Pickleball Club
LOCATION:Court 7
CATEGORIES:QuickScores, Pickleball Game
TRANSP:OPAQUE
BEGIN:VALARM
TRIGGER:-PT2H
ACTION:DISPLAY
DESCRIPTION:BrooksToth/Lotfi/JonHarris/DerekDallas vs. MatSevilla/JohnPaden/DevoryNewsome/BrianRomine
END:VALARM
END:VEVENT
BEGIN:VEVENT
UID:pupc-71511989-20251103T200000@quickscores.com
DTSTAMP:20260423T145900Z
DTSTART;TZID=America/Chicago:20251103T200000
DURATION:PT0H45M0S
SUMMARY:[4] BrooksToth/Lotfi/JonHarris/DerekDallas vs. [5] ScottMaschmann/JohnCometa/PaigeReque/MatthewSt
DESCRIPTION:Lsl Dupr 18 Mens Squads - 9/22 Start - Paddle Up Pickleball Club
LOCATION:Court 1
CATEGORIES:QuickScores, Pickleball Game
TRANSP:OPAQUE
BEGIN:VALARM
TRIGGER:-PT2H
ACTION:DISPLAY
DESCRIPTION:[4] BrooksToth/Lotfi/JonHarris/DerekDallas vs. [5] ScottMaschmann/JohnCometa/PaigeReque/MatthewSt
END:VALARM
END:VEVENT
BEGIN:VEVENT
UID:pupc-71511991-20251103T200000@quickscores.com
DTSTAMP:20260423T145900Z
DTSTART;TZID=America/Chicago:20251103T200000
DURATION:PT0H45M0S
SUMMARY:[3] MatSevilla/JohnPaden/DevoryNewsome/BrianRomine vs. [6] OrlandoPaez/AndrewLee/AndyBlickhan/JonRichert
DESCRIPTION:Lsl Dupr 18 Mens Squads - 9/22 Start - Paddle Up Pickleball Club
LOCATION:Court 4
CATEGORIES:QuickScores, Pickleball Game
TRANSP:OPAQUE
BEGIN:VALARM
TRIGGER:-PT2H
ACTION:DISPLAY
DESCRIPTION:[3] MatSevilla/JohnPaden/DevoryNewsome/BrianRomine vs. [6] OrlandoPaez/AndrewLee/AndyBlickhan/JonRichert
END:VALARM
END:VEVENT
BEGIN:VEVENT
UID:pupc-71511992-20251103T204500@quickscores.com
DTSTAMP:20260423T145900Z
DTSTART;TZID=America/Chicago:20251103T204500
DURATION:PT0H45M0S
SUMMARY:[1] L2R2 vs. Winner of Game 1
DESCRIPTION:Lsl Dupr 18 Mens Squads - 9/22 Start - Paddle Up Pickleball Club
LOCATION:Court 1
CATEGORIES:QuickScores, Pickleball Game
TRANSP:OPAQUE
BEGIN:VALARM
TRIGGER:-PT2H
ACTION:DISPLAY
DESCRIPTION:[1] L2R2 vs. Winner of Game 1
END:VALARM
END:VEVENT
BEGIN:VEVENT
UID:pupc-71511993-20251103T204500@quickscores.com
DTSTAMP:20260423T145900Z
DTSTART;TZID=America/Chicago:20251103T204500
DURATION:PT0H45M0S
SUMMARY:[2] STL Smash vs. Winner of Game 2
DESCRIPTION:Lsl Dupr 18 Mens Squads - 9/22 Start - Paddle Up Pickleball Club
LOCATION:Court 4
CATEGORIES:QuickScores, Pickleball Game
TRANSP:OPAQUE
BEGIN:VALARM
TRIGGER:-PT2H
ACTION:DISPLAY
DESCRIPTION:[2] STL Smash vs. Winner of Game 2
END:VALARM
END:VEVENT
BEGIN:VEVENT
UID:pupc-71511994-20251103T213000@quickscores.com
DTSTAMP:20260423T145900Z
DTSTART;TZID=America/Chicago:20251103T213000
DURATION:PT0H45M0S
SUMMARY:Loser of Game 3 vs. Loser of Game 4
DESCRIPTION:Lsl Dupr 18 Mens Squads - 9/22 Start - Paddle Up Pickleball Club
LOCATION:Court 4
CATEGORIES:QuickScores, Pickleball Game
TRANSP:OPAQUE
BEGIN:VALARM
TRIGGER:-PT2H
ACTION:DISPLAY
DESCRIPTION:Loser of Game 3 vs. Loser of Game 4
END:VALARM
END:VEVENT
BEGIN:VEVENT
UID:pupc-71511995-20251103T213000@quickscores.com
DTSTAMP:20260423T145900Z
DTSTART;TZID=America/Chicago:20251103T213000
DURATION:PT0H45M0S
SUMMARY:Winner of Game 3 vs. Winner of Game 4
DESCRIPTION:Lsl Dupr 18 Mens Squads - 9/22 Start - Paddle Up Pickleball Club
LOCATION:Court 1
CATEGORIES:QuickScores, Pickleball Game
TRANSP:OPAQUE
BEGIN:VALARM
TRIGGER:-PT2H
ACTION:DISPLAY
DESCRIPTION:Winner of Game 3 vs. Winner of Game 4
END:VALARM
END:VEVENT
END:VCALENDAR
