BEGIN:VCALENDAR
VERSION:2.0
PRODID:-//QuickScores.com//BQ Dynamic iCal Creator//EN
METHOD:PUBLISH
X-WR-CALNAME:1st/2nd Grade Bgcgs - Fall 2025
X-WR-CALDESC:QuickScores game calendar
X-PUBLISHED-TTL:PT24H
REFRESH-INTERVAL;VALUE=DURATION:PT24H
CALSCALE:GREGORIAN
BEGIN:VTIMEZONE
TZID:America/Los_Angeles
X-LIC-LOCATION:America/Los_Angeles
BEGIN:DAYLIGHT
TZNAME:PDT
TZOFFSETFROM:-0800
TZOFFSETTO:-0700
DTSTART:19700308T020000
RRULE:FREQ=YEARLY;BYMONTH=3;BYDAY=2SU
END:DAYLIGHT
BEGIN:STANDARD
TZNAME:PST
TZOFFSETFROM:-0700
TZOFFSETTO:-0800
DTSTART:19701101T020000
RRULE:FREQ=YEARLY;BYMONTH=11;BYDAY=1SU
END:STANDARD
END:VTIMEZONE
BEGIN:VEVENT
UID:vls-70877610-20250927T090000@quickscores.com
DTSTAMP:20260421T070300Z
DTSTART;TZID=America/Los_Angeles:20250927T090000
DURATION:PT1H0M0S
SUMMARY:Lebanon - King vs. SH - Vineyard
DESCRIPTION:1st/2nd Grade Bgcgs - Valley League Sports
LOCATION:Century Park 3 - Lebanon
CATEGORIES:QuickScores, Flag Football Game
TRANSP:OPAQUE
BEGIN:VALARM
TRIGGER:-PT2H
ACTION:DISPLAY
DESCRIPTION:Lebanon - King vs. SH - Vineyard
END:VALARM
END:VEVENT
BEGIN:VEVENT
UID:vls-70877611-20250927T100000@quickscores.com
DTSTAMP:20260421T070300Z
DTSTART;TZID=America/Los_Angeles:20250927T100000
DURATION:PT1H0M0S
SUMMARY:Lebanon - King vs. Lebanon - Urrutia
DESCRIPTION:1st/2nd Grade Bgcgs - Valley League Sports
LOCATION:Century Park 3 - Lebanon
CATEGORIES:QuickScores, Flag Football Game
TRANSP:OPAQUE
BEGIN:VALARM
TRIGGER:-PT2H
ACTION:DISPLAY
DESCRIPTION:Lebanon - King vs. Lebanon - Urrutia
END:VALARM
END:VEVENT
BEGIN:VEVENT
UID:vls-70877609-20250927T110000@quickscores.com
DTSTAMP:20260421T070300Z
DTSTART;TZID=America/Los_Angeles:20250927T110000
DURATION:PT1H0M0S
SUMMARY:SH - Lopez vs. Lebanon - Urrutia
DESCRIPTION:1st/2nd Grade Bgcgs - Valley League Sports
LOCATION:Century Park 3 - Lebanon
CATEGORIES:QuickScores, Flag Football Game
TRANSP:OPAQUE
BEGIN:VALARM
TRIGGER:-PT2H
ACTION:DISPLAY
DESCRIPTION:SH - Lopez vs. Lebanon - Urrutia
END:VALARM
END:VEVENT
BEGIN:VEVENT
UID:vls-70877616-20251004T090000@quickscores.com
DTSTAMP:20260421T070300Z
DTSTART;TZID=America/Los_Angeles:20251004T090000
DURATION:PT1H0M0S
SUMMARY:Lebanon - King vs. SH - Lopez
DESCRIPTION:1st/2nd Grade Bgcgs - Valley League Sports
LOCATION:Sweet Home HS Varsity
CATEGORIES:QuickScores, Flag Football Game
TRANSP:OPAQUE
BEGIN:VALARM
TRIGGER:-PT2H
ACTION:DISPLAY
DESCRIPTION:Lebanon - King vs. SH - Lopez
END:VALARM
END:VEVENT
BEGIN:VEVENT
UID:vls-70877617-20251004T100000@quickscores.com
DTSTAMP:20260421T070300Z
DTSTART;TZID=America/Los_Angeles:20251004T100000
DURATION:PT1H0M0S
SUMMARY:SH - Vineyard vs. SH - Lopez
DESCRIPTION:1st/2nd Grade Bgcgs - Valley League Sports
LOCATION:Sweet Home HS Varsity
CATEGORIES:QuickScores, Flag Football Game
TRANSP:OPAQUE
BEGIN:VALARM
TRIGGER:-PT2H
ACTION:DISPLAY
DESCRIPTION:SH - Vineyard vs. SH - Lopez
END:VALARM
END:VEVENT
BEGIN:VEVENT
UID:vls-70877615-20251004T110000@quickscores.com
DTSTAMP:20260421T070300Z
DTSTART;TZID=America/Los_Angeles:20251004T110000
DURATION:PT1H0M0S
SUMMARY:Lebanon - Urrutia vs. Lebanon - King
DESCRIPTION:1st/2nd Grade Bgcgs - Valley League Sports
LOCATION:Sweet Home HS Varsity
CATEGORIES:QuickScores, Flag Football Game
TRANSP:OPAQUE
BEGIN:VALARM
TRIGGER:-PT2H
ACTION:DISPLAY
DESCRIPTION:Lebanon - Urrutia vs. Lebanon - King
END:VALARM
END:VEVENT
BEGIN:VEVENT
UID:vls-70877620-20251008T173000@quickscores.com
DTSTAMP:20260421T070300Z
DTSTART;TZID=America/Los_Angeles:20251008T173000
DURATION:PT1H0M0S
SUMMARY:SH - Lopez vs. SH - Vineyard
DESCRIPTION:Time change --- 1st/2nd Grade Bgcgs - Valley League Sports
LOCATION:Hawthorne Field 1 SH
CATEGORIES:QuickScores, Flag Football Game
TRANSP:OPAQUE
BEGIN:VALARM
TRIGGER:-PT2H
ACTION:DISPLAY
DESCRIPTION:SH - Lopez vs. SH - Vineyard
END:VALARM
END:VEVENT
BEGIN:VEVENT
UID:vls-70877612-20251011T090000@quickscores.com
DTSTAMP:20260421T070300Z
DTSTART;TZID=America/Los_Angeles:20251011T090000
DURATION:PT1H0M0S
SUMMARY:SH - Vineyard vs. Lebanon - King
DESCRIPTION:1st/2nd Grade Bgcgs - Valley League Sports
LOCATION:Sweet Home HS Varsity
CATEGORIES:QuickScores, Flag Football Game
TRANSP:OPAQUE
BEGIN:VALARM
TRIGGER:-PT2H
ACTION:DISPLAY
DESCRIPTION:SH - Vineyard vs. Lebanon - King
END:VALARM
END:VEVENT
BEGIN:VEVENT
UID:vls-70877613-20251011T100000@quickscores.com
DTSTAMP:20260421T070300Z
DTSTART;TZID=America/Los_Angeles:20251011T100000
DURATION:PT1H0M0S
SUMMARY:SH - Vineyard vs. Lebanon - Urrutia
DESCRIPTION:1st/2nd Grade Bgcgs - Valley League Sports
LOCATION:Sweet Home HS Varsity
CATEGORIES:QuickScores, Flag Football Game
TRANSP:OPAQUE
BEGIN:VALARM
TRIGGER:-PT2H
ACTION:DISPLAY
DESCRIPTION:SH - Vineyard vs. Lebanon - Urrutia
END:VALARM
END:VEVENT
BEGIN:VEVENT
UID:vls-70877614-20251011T110000@quickscores.com
DTSTAMP:20260421T070300Z
DTSTART;TZID=America/Los_Angeles:20251011T110000
DURATION:PT1H0M0S
SUMMARY:SH - Lopez vs. Lebanon - King
DESCRIPTION:1st/2nd Grade Bgcgs - Valley League Sports
LOCATION:Sweet Home HS Varsity
CATEGORIES:QuickScores, Flag Football Game
TRANSP:OPAQUE
BEGIN:VALARM
TRIGGER:-PT2H
ACTION:DISPLAY
DESCRIPTION:SH - Lopez vs. Lebanon - King
END:VALARM
END:VEVENT
BEGIN:VEVENT
UID:vls-70934651-20251015T173000@quickscores.com
DTSTAMP:20260421T070300Z
DTSTART;TZID=America/Los_Angeles:20251015T173000
DURATION:PT1H0M0S
SUMMARY:SH - Lopez vs. Lebanon - Urrutia
DESCRIPTION:1st/2nd Grade Bgcgs - Valley League Sports
LOCATION:Century Park 3 - Lebanon
CATEGORIES:QuickScores, Flag Football Game
TRANSP:OPAQUE
BEGIN:VALARM
TRIGGER:-PT2H
ACTION:DISPLAY
DESCRIPTION:SH - Lopez vs. Lebanon - Urrutia
END:VALARM
END:VEVENT
BEGIN:VEVENT
UID:vls-70877618-20251018T090000@quickscores.com
DTSTAMP:20260421T070300Z
DTSTART;TZID=America/Los_Angeles:20251018T090000
DURATION:PT1H0M0S
SUMMARY:SH - Vineyard vs. Lebanon - King
DESCRIPTION:1st/2nd Grade Bgcgs - Valley League Sports
LOCATION:Century Park 3 - Lebanon
CATEGORIES:QuickScores, Flag Football Game
TRANSP:OPAQUE
BEGIN:VALARM
TRIGGER:-PT2H
ACTION:DISPLAY
DESCRIPTION:SH - Vineyard vs. Lebanon - King
END:VALARM
END:VEVENT
BEGIN:VEVENT
UID:vls-70877619-20251018T100000@quickscores.com
DTSTAMP:20260421T070300Z
DTSTART;TZID=America/Los_Angeles:20251018T100000
DURATION:PT1H0M0S
SUMMARY:Lebanon - Urrutia vs. SH - Lopez
DESCRIPTION:1st/2nd Grade Bgcgs - Valley League Sports
LOCATION:Century Park 3 - Lebanon
CATEGORIES:QuickScores, Flag Football Game
TRANSP:OPAQUE
BEGIN:VALARM
TRIGGER:-PT2H
ACTION:DISPLAY
DESCRIPTION:Lebanon - Urrutia vs. SH - Lopez
END:VALARM
END:VEVENT
BEGIN:VEVENT
UID:vls-70877621-20251025T090000@quickscores.com
DTSTAMP:20260421T070300Z
DTSTART;TZID=America/Los_Angeles:20251025T090000
DURATION:PT1H0M0S
SUMMARY:Lebanon - King vs. Lebanon - Urrutia
DESCRIPTION:1st/2nd Grade Bgcgs - Valley League Sports
LOCATION:Century Park 3 - Lebanon
CATEGORIES:QuickScores, Flag Football Game
TRANSP:OPAQUE
BEGIN:VALARM
TRIGGER:-PT2H
ACTION:DISPLAY
DESCRIPTION:Lebanon - King vs. Lebanon - Urrutia
END:VALARM
END:VEVENT
BEGIN:VEVENT
UID:vls-70877622-20251025T100000@quickscores.com
DTSTAMP:20260421T070300Z
DTSTART;TZID=America/Los_Angeles:20251025T100000
DURATION:PT1H0M0S
SUMMARY:SH - Lopez vs. SH - Vineyard
DESCRIPTION:1st/2nd Grade Bgcgs - Valley League Sports
LOCATION:Century Park 3 - Lebanon
CATEGORIES:QuickScores, Flag Football Game
TRANSP:OPAQUE
BEGIN:VALARM
TRIGGER:-PT2H
ACTION:DISPLAY
DESCRIPTION:SH - Lopez vs. SH - Vineyard
END:VALARM
END:VEVENT
BEGIN:VEVENT
UID:vls-70877623-20251025T110000@quickscores.com
DTSTAMP:20260421T070300Z
DTSTART;TZID=America/Los_Angeles:20251025T110000
DURATION:PT1H0M0S
SUMMARY:Lebanon - Urrutia vs. SH - Vineyard
DESCRIPTION:1st/2nd Grade Bgcgs - Valley League Sports
LOCATION:Century Park 3 - Lebanon
CATEGORIES:QuickScores, Flag Football Game
TRANSP:OPAQUE
BEGIN:VALARM
TRIGGER:-PT2H
ACTION:DISPLAY
DESCRIPTION:Lebanon - Urrutia vs. SH - Vineyard
END:VALARM
END:VEVENT
END:VCALENDAR
