BEGIN:VCALENDAR
VERSION:2.0
PRODID:-//QuickScores.com//BQ Dynamic iCal Creator//EN
METHOD:PUBLISH
X-WR-CALNAME:Niuyfl-6u - Fall 2025
X-WR-CALDESC:QuickScores game calendar
X-PUBLISHED-TTL:PT24H
REFRESH-INTERVAL;VALUE=DURATION:PT24H
CALSCALE:GREGORIAN
BEGIN:VTIMEZONE
TZID:America/Chicago
X-LIC-LOCATION:America/Chicago
BEGIN:DAYLIGHT
TZNAME:CDT
TZOFFSETFROM:-0600
TZOFFSETTO:-0500
DTSTART:19700308T020000
RRULE:FREQ=YEARLY;BYMONTH=3;BYDAY=2SU
END:DAYLIGHT
BEGIN:STANDARD
TZNAME:CST
TZOFFSETFROM:-0500
TZOFFSETTO:-0600
DTSTART:19701101T020000
RRULE:FREQ=YEARLY;BYMONTH=11;BYDAY=1SU
END:STANDARD
END:VTIMEZONE
BEGIN:VEVENT
UID:niuyfl-70332059-20250823T110000@quickscores.com
DTSTAMP:20260421T051800Z
DTSTART;TZID=America/Chicago:20250823T110000
DURATION:PT1H0M0S
SUMMARY:Matteson Bears 6u vs. 815 United 6u
DESCRIPTION:Niuyfl-6u - Northern Illinois United Youth Football League
LOCATION:Matteson Community Center
CATEGORIES:QuickScores, Football Game
TRANSP:OPAQUE
BEGIN:VALARM
TRIGGER:-PT2H
ACTION:DISPLAY
DESCRIPTION:Matteson Bears 6u vs. 815 United 6u
END:VALARM
END:VEVENT
BEGIN:VEVENT
UID:niuyfl-70332060-20250824T123000@quickscores.com
DTSTAMP:20260421T051800Z
DTSTART;TZID=America/Chicago:20250824T123000
DURATION:PT1H0M0S
SUMMARY:Top Tier 6u vs. Hazel Crest Mustangs 6u
DESCRIPTION:Niuyfl-6u - Northern Illinois United Youth Football League
LOCATION:Joliet (ATI)
CATEGORIES:QuickScores, Football Game
TRANSP:OPAQUE
BEGIN:VALARM
TRIGGER:-PT2H
ACTION:DISPLAY
DESCRIPTION:Top Tier 6u vs. Hazel Crest Mustangs 6u
END:VALARM
END:VEVENT
BEGIN:VEVENT
UID:niuyfl-70369219-20250830T090000@quickscores.com
DTSTAMP:20260421T051800Z
DTSTART;TZID=America/Chicago:20250830T090000
DURATION:PT1H0M0S
SUMMARY:Steger Wildcats 6u vs. Matteson Bears 6u
DESCRIPTION:Niuyfl-6u - Northern Illinois United Youth Football League
LOCATION:steger
CATEGORIES:QuickScores, Football Game
TRANSP:OPAQUE
BEGIN:VALARM
TRIGGER:-PT2H
ACTION:DISPLAY
DESCRIPTION:Steger Wildcats 6u vs. Matteson Bears 6u
END:VALARM
END:VEVENT
BEGIN:VEVENT
UID:niuyfl-70332061-20250830T100000@quickscores.com
DTSTAMP:20260421T051800Z
DTSTART;TZID=America/Chicago:20250830T100000
DURATION:PT1H0M0S
SUMMARY:Joliet Ravens 6u vs. Calumet City Chargers  6u
DESCRIPTION:Niuyfl-6u - Northern Illinois United Youth Football League
LOCATION:steger
CATEGORIES:QuickScores, Football Game
TRANSP:OPAQUE
BEGIN:VALARM
TRIGGER:-PT2H
ACTION:DISPLAY
DESCRIPTION:Joliet Ravens 6u vs. Calumet City Chargers  6u
END:VALARM
END:VEVENT
BEGIN:VEVENT
UID:niuyfl-70332062-20250831T090000@quickscores.com
DTSTAMP:20260421T051800Z
DTSTART;TZID=America/Chicago:20250831T090000
DURATION:PT1H0M0S
SUMMARY:815 United 6u vs. Hazel Crest Mustangs 6u
DESCRIPTION:Niuyfl-6u - Northern Illinois United Youth Football League
LOCATION:815 united (bourbonnais highschool)
CATEGORIES:QuickScores, Football Game
TRANSP:OPAQUE
BEGIN:VALARM
TRIGGER:-PT2H
ACTION:DISPLAY
DESCRIPTION:815 United 6u vs. Hazel Crest Mustangs 6u
END:VALARM
END:VEVENT
BEGIN:VEVENT
UID:niuyfl-70332063-20250831T090000@quickscores.com
DTSTAMP:20260421T051800Z
DTSTART;TZID=America/Chicago:20250831T090000
DURATION:PT1H0M0S
SUMMARY:Calumet City Chargers  6u vs. Top Tier 6u
DESCRIPTION:Niuyfl-6u - Northern Illinois United Youth Football League
LOCATION:Cal City
CATEGORIES:QuickScores, Football Game
TRANSP:OPAQUE
BEGIN:VALARM
TRIGGER:-PT2H
ACTION:DISPLAY
DESCRIPTION:Calumet City Chargers  6u vs. Top Tier 6u
END:VALARM
END:VEVENT
BEGIN:VEVENT
UID:niuyfl-70332064-20250906T090000@quickscores.com
DTSTAMP:20260421T051800Z
DTSTART;TZID=America/Chicago:20250906T090000
DURATION:PT1H0M0S
SUMMARY:Steger Wildcats 6u vs. 815 United 6u
DESCRIPTION:Niuyfl-6u - Northern Illinois United Youth Football League
LOCATION:steger
CATEGORIES:QuickScores, Football Game
TRANSP:OPAQUE
BEGIN:VALARM
TRIGGER:-PT2H
ACTION:DISPLAY
DESCRIPTION:Steger Wildcats 6u vs. 815 United 6u
END:VALARM
END:VEVENT
BEGIN:VEVENT
UID:niuyfl-70332065-20250907T090000@quickscores.com
DTSTAMP:20260421T051800Z
DTSTART;TZID=America/Chicago:20250907T090000
DURATION:PT1H0M0S
SUMMARY:University Park Lions 6u vs. Calumet City Chargers  6u
DESCRIPTION:Niuyfl-6u - Northern Illinois United Youth Football League
LOCATION:Hazel Crest (field 2)
CATEGORIES:QuickScores, Football Game
TRANSP:OPAQUE
BEGIN:VALARM
TRIGGER:-PT2H
ACTION:DISPLAY
DESCRIPTION:University Park Lions 6u vs. Calumet City Chargers  6u
END:VALARM
END:VEVENT
BEGIN:VEVENT
UID:niuyfl-70332067-20250907T090000@quickscores.com
DTSTAMP:20260421T051800Z
DTSTART;TZID=America/Chicago:20250907T090000
DURATION:PT1H0M0S
SUMMARY:Joliet Ravens 6u vs. Top Tier 6u
DESCRIPTION:Niuyfl-6u - Northern Illinois United Youth Football League
LOCATION:Mission Park Field 1
CATEGORIES:QuickScores, Football Game
TRANSP:OPAQUE
BEGIN:VALARM
TRIGGER:-PT2H
ACTION:DISPLAY
DESCRIPTION:Joliet Ravens 6u vs. Top Tier 6u
END:VALARM
END:VEVENT
BEGIN:VEVENT
UID:niuyfl-70332066-20250907T100000@quickscores.com
DTSTAMP:20260421T051800Z
DTSTART;TZID=America/Chicago:20250907T100000
DURATION:PT1H0M0S
SUMMARY:Hazel Crest Mustangs 6u vs. Matteson Bears 6u
DESCRIPTION:Niuyfl-6u - Northern Illinois United Youth Football League
LOCATION:Hazel Crest (field 2)
CATEGORIES:QuickScores, Football Game
TRANSP:OPAQUE
BEGIN:VALARM
TRIGGER:-PT2H
ACTION:DISPLAY
DESCRIPTION:Hazel Crest Mustangs 6u vs. Matteson Bears 6u
END:VALARM
END:VEVENT
BEGIN:VEVENT
UID:niuyfl-70332068-20250913T090000@quickscores.com
DTSTAMP:20260421T051800Z
DTSTART;TZID=America/Chicago:20250913T090000
DURATION:PT1H0M0S
SUMMARY:Matteson Bears 6u vs. Top Tier 6u
DESCRIPTION:Niuyfl-6u - Northern Illinois United Youth Football League
LOCATION:Matteson Community Center
CATEGORIES:QuickScores, Football Game
TRANSP:OPAQUE
BEGIN:VALARM
TRIGGER:-PT2H
ACTION:DISPLAY
DESCRIPTION:Matteson Bears 6u vs. Top Tier 6u
END:VALARM
END:VEVENT
BEGIN:VEVENT
UID:niuyfl-70332071-20250914T090000@quickscores.com
DTSTAMP:20260421T051800Z
DTSTART;TZID=America/Chicago:20250914T090000
DURATION:PT1H0M0S
SUMMARY:Calumet City Chargers  6u vs. Hazel Crest Mustangs 6u
DESCRIPTION:Niuyfl-6u - Northern Illinois United Youth Football League
LOCATION:Cal City
CATEGORIES:QuickScores, Football Game
TRANSP:OPAQUE
BEGIN:VALARM
TRIGGER:-PT2H
ACTION:DISPLAY
DESCRIPTION:Calumet City Chargers  6u vs. Hazel Crest Mustangs 6u
END:VALARM
END:VEVENT
BEGIN:VEVENT
UID:niuyfl-70332070-20250914T100000@quickscores.com
DTSTAMP:20260421T051800Z
DTSTART;TZID=America/Chicago:20250914T100000
DURATION:PT1H0M0S
SUMMARY:University Park Lions 6u vs. Steger Wildcats 6u
DESCRIPTION:Niuyfl-6u - Northern Illinois United Youth Football League
LOCATION:University Park field1
CATEGORIES:QuickScores, Football Game
TRANSP:OPAQUE
BEGIN:VALARM
TRIGGER:-PT2H
ACTION:DISPLAY
DESCRIPTION:University Park Lions 6u vs. Steger Wildcats 6u
END:VALARM
END:VEVENT
BEGIN:VEVENT
UID:niuyfl-70371635-20250914T101500@quickscores.com
DTSTAMP:20260421T051800Z
DTSTART;TZID=America/Chicago:20250914T101500
DURATION:PT1H0M0S
SUMMARY:Joliet Ravens 6u vs. 815 United 6u
DESCRIPTION:Niuyfl-6u - Northern Illinois United Youth Football League
LOCATION:Joliet (Providence Catholic HS)
CATEGORIES:QuickScores, Football Game
TRANSP:OPAQUE
BEGIN:VALARM
TRIGGER:-PT2H
ACTION:DISPLAY
DESCRIPTION:Joliet Ravens 6u vs. 815 United 6u
END:VALARM
END:VEVENT
BEGIN:VEVENT
UID:niuyfl-70332072-20250921T090000@quickscores.com
DTSTAMP:20260421T051800Z
DTSTART;TZID=America/Chicago:20250921T090000
DURATION:PT1H0M0S
SUMMARY:815 United 6u vs. Calumet City Chargers  6u
DESCRIPTION:Niuyfl-6u - Northern Illinois United Youth Football League
LOCATION:815 united (bourbonnais highschool)
CATEGORIES:QuickScores, Football Game
TRANSP:OPAQUE
BEGIN:VALARM
TRIGGER:-PT2H
ACTION:DISPLAY
DESCRIPTION:815 United 6u vs. Calumet City Chargers  6u
END:VALARM
END:VEVENT
BEGIN:VEVENT
UID:niuyfl-70371752-20250921T093000@quickscores.com
DTSTAMP:20260421T051800Z
DTSTART;TZID=America/Chicago:20250921T093000
DURATION:PT1H0M0S
SUMMARY:Top Tier 6u vs. University Park Lions 6u
DESCRIPTION:Niuyfl-6u - Northern Illinois United Youth Football League
LOCATION:Joliet (ATI)
CATEGORIES:QuickScores, Football Game
TRANSP:OPAQUE
BEGIN:VALARM
TRIGGER:-PT2H
ACTION:DISPLAY
DESCRIPTION:Top Tier 6u vs. University Park Lions 6u
END:VALARM
END:VEVENT
BEGIN:VEVENT
UID:niuyfl-70332074-20250921T100000@quickscores.com
DTSTAMP:20260421T051800Z
DTSTART;TZID=America/Chicago:20250921T100000
DURATION:PT1H0M0S
SUMMARY:Hazel Crest Mustangs 6u vs. Steger Wildcats 6u
DESCRIPTION:Niuyfl-6u - Northern Illinois United Youth Football League
LOCATION:Hazel Crest (field 2)
CATEGORIES:QuickScores, Football Game
TRANSP:OPAQUE
BEGIN:VALARM
TRIGGER:-PT2H
ACTION:DISPLAY
DESCRIPTION:Hazel Crest Mustangs 6u vs. Steger Wildcats 6u
END:VALARM
END:VEVENT
BEGIN:VEVENT
UID:niuyfl-70332073-20250921T110000@quickscores.com
DTSTAMP:20260421T051800Z
DTSTART;TZID=America/Chicago:20250921T110000
DURATION:PT1H0M0S
SUMMARY:Matteson Bears 6u vs. Joliet Ravens 6u
DESCRIPTION:Niuyfl-6u - Northern Illinois United Youth Football League
LOCATION:Matteson Community Center
CATEGORIES:QuickScores, Football Game
TRANSP:OPAQUE
BEGIN:VALARM
TRIGGER:-PT2H
ACTION:DISPLAY
DESCRIPTION:Matteson Bears 6u vs. Joliet Ravens 6u
END:VALARM
END:VEVENT
BEGIN:VEVENT
UID:niuyfl-70332082-20250928T090000@quickscores.com
DTSTAMP:20260421T051800Z
DTSTART;TZID=America/Chicago:20250928T090000
DURATION:PT1H0M0S
SUMMARY:815 United 6u vs. Top Tier 6u
DESCRIPTION:Niuyfl-6u - Northern Illinois United Youth Football League
LOCATION:815 united (bourbonnais highschool)
CATEGORIES:QuickScores, Football Game
TRANSP:OPAQUE
BEGIN:VALARM
TRIGGER:-PT2H
ACTION:DISPLAY
DESCRIPTION:815 United 6u vs. Top Tier 6u
END:VALARM
END:VEVENT
BEGIN:VEVENT
UID:niuyfl-70332078-20250928T090000@quickscores.com
DTSTAMP:20260421T051800Z
DTSTART;TZID=America/Chicago:20250928T090000
DURATION:PT1H0M0S
SUMMARY:Joliet Ravens 6u vs. Steger Wildcats 6u
DESCRIPTION:Niuyfl-6u - Northern Illinois United Youth Football League
LOCATION:Joliet (ATI)
CATEGORIES:QuickScores, Football Game
TRANSP:OPAQUE
BEGIN:VALARM
TRIGGER:-PT2H
ACTION:DISPLAY
DESCRIPTION:Joliet Ravens 6u vs. Steger Wildcats 6u
END:VALARM
END:VEVENT
BEGIN:VEVENT
UID:niuyfl-70332076-20250928T090000@quickscores.com
DTSTAMP:20260421T051800Z
DTSTART;TZID=America/Chicago:20250928T090000
DURATION:PT1H0M0S
SUMMARY:Hazel Crest Mustangs 6u vs. Calumet City Chargers  6u
DESCRIPTION:Niuyfl-6u - Northern Illinois United Youth Football League
LOCATION:hazel crest (field 1)
CATEGORIES:QuickScores, Football Game
TRANSP:OPAQUE
BEGIN:VALARM
TRIGGER:-PT2H
ACTION:DISPLAY
DESCRIPTION:Hazel Crest Mustangs 6u vs. Calumet City Chargers  6u
END:VALARM
END:VEVENT
BEGIN:VEVENT
UID:niuyfl-70332075-20250928T100000@quickscores.com
DTSTAMP:20260421T051800Z
DTSTART;TZID=America/Chicago:20250928T100000
DURATION:PT1H0M0S
SUMMARY:University Park Lions 6u vs. Matteson Bears 6u
DESCRIPTION:Niuyfl-6u - Northern Illinois United Youth Football League
LOCATION:University Park field1
CATEGORIES:QuickScores, Football Game
TRANSP:OPAQUE
BEGIN:VALARM
TRIGGER:-PT2H
ACTION:DISPLAY
DESCRIPTION:University Park Lions 6u vs. Matteson Bears 6u
END:VALARM
END:VEVENT
BEGIN:VEVENT
UID:niuyfl-71025510-20251004T100000@quickscores.com
DTSTAMP:20260421T051800Z
DTSTART;TZID=America/Chicago:20251004T100000
DURATION:PT1H0M0S
SUMMARY:Steger Wildcats 6u vs. University Park Lions 6u
DESCRIPTION:Niuyfl-6u - Northern Illinois United Youth Football League
LOCATION:steger
CATEGORIES:QuickScores, Football Game
TRANSP:OPAQUE
BEGIN:VALARM
TRIGGER:-PT2H
ACTION:DISPLAY
DESCRIPTION:Steger Wildcats 6u vs. University Park Lions 6u
END:VALARM
END:VEVENT
BEGIN:VEVENT
UID:niuyfl-71065897-20251005T090000@quickscores.com
DTSTAMP:20260421T051800Z
DTSTART;TZID=America/Chicago:20251005T090000
DURATION:PT1H0M0S
SUMMARY:Practice: Southside Wolfpack - Non Conference vs. Joliet Ravens 6u
DESCRIPTION:Niuyfl-6u - Northern Illinois United Youth Football League
LOCATION:Southside Wolfpak
CATEGORIES:QuickScores, Football Game
TRANSP:OPAQUE
BEGIN:VALARM
TRIGGER:-PT2H
ACTION:DISPLAY
DESCRIPTION:Practice: Southside Wolfpack - Non Conference vs. Joliet Ravens 6u
END:VALARM
END:VEVENT
BEGIN:VEVENT
UID:niuyfl-70332079-20251005T100000@quickscores.com
DTSTAMP:20260421T051800Z
DTSTART;TZID=America/Chicago:20251005T100000
DURATION:PT1H0M0S
SUMMARY:Calumet City Chargers  6u vs. 815 United 6u
DESCRIPTION:Niuyfl-6u - Northern Illinois United Youth Football League
LOCATION:Cal City
CATEGORIES:QuickScores, Football Game
TRANSP:OPAQUE
BEGIN:VALARM
TRIGGER:-PT2H
ACTION:DISPLAY
DESCRIPTION:Calumet City Chargers  6u vs. 815 United 6u
END:VALARM
END:VEVENT
BEGIN:VEVENT
UID:niuyfl-71197949-20251005T100000@quickscores.com
DTSTAMP:20260421T051800Z
DTSTART;TZID=America/Chicago:20251005T100000
DURATION:PT1H0M0S
SUMMARY:Cal City Tbolts - Non Conference vs. Hazel Crest Mustangs 6u
DESCRIPTION:Niuyfl-6u - Northern Illinois United Youth Football League
LOCATION:hazel crest (field 1)
CATEGORIES:QuickScores, Football Game
TRANSP:OPAQUE
BEGIN:VALARM
TRIGGER:-PT2H
ACTION:DISPLAY
DESCRIPTION:Cal City Tbolts - Non Conference vs. Hazel Crest Mustangs 6u
END:VALARM
END:VEVENT
BEGIN:VEVENT
UID:niuyfl-70332081-20251005T113000@quickscores.com
DTSTAMP:20260421T051800Z
DTSTART;TZID=America/Chicago:20251005T113000
DURATION:PT1H0M0S
SUMMARY:Top Tier 6u vs. Steger Wildcats 6u
DESCRIPTION:Niuyfl-6u - Northern Illinois United Youth Football League
LOCATION:Top Tier
CATEGORIES:QuickScores, Football Game
TRANSP:OPAQUE
BEGIN:VALARM
TRIGGER:-PT2H
ACTION:DISPLAY
DESCRIPTION:Top Tier 6u vs. Steger Wildcats 6u
END:VALARM
END:VEVENT
BEGIN:VEVENT
UID:niuyfl-71139314-20251005T143000@quickscores.com
DTSTAMP:20260421T051800Z
DTSTART;TZID=America/Chicago:20251005T143000
DURATION:PT1H0M0S
SUMMARY:University Park Lions 6u vs. Joliet Ravens 6u
DESCRIPTION:Niuyfl-6u - Northern Illinois United Youth Football League
LOCATION:University Park field1
CATEGORIES:QuickScores, Football Game
TRANSP:OPAQUE
BEGIN:VALARM
TRIGGER:-PT2H
ACTION:DISPLAY
DESCRIPTION:University Park Lions 6u vs. Joliet Ravens 6u
END:VALARM
END:VEVENT
BEGIN:VEVENT
UID:niuyfl-71219692-20251011T090000@quickscores.com
DTSTAMP:20260421T051800Z
DTSTART;TZID=America/Chicago:20251011T090000
DURATION:PT1H0M0S
SUMMARY:[4] Joliet Ravens 6u vs. [5] Calumet City Chargers  6u
DESCRIPTION:Niuyfl-6u - Northern Illinois United Youth Football League
LOCATION:Hill Crest HS
CATEGORIES:QuickScores, Football Game
TRANSP:OPAQUE
BEGIN:VALARM
TRIGGER:-PT2H
ACTION:DISPLAY
DESCRIPTION:[4] Joliet Ravens 6u vs. [5] Calumet City Chargers  6u
END:VALARM
END:VEVENT
BEGIN:VEVENT
UID:niuyfl-71219694-20251012T090000@quickscores.com
DTSTAMP:20260421T051800Z
DTSTART;TZID=America/Chicago:20251012T090000
DURATION:PT1H0M0S
SUMMARY:[3] Matteson Bears 6u vs. [6] 815 United 6u
DESCRIPTION:Niuyfl-6u - Northern Illinois United Youth Football League
LOCATION:Kankakee Highschool
CATEGORIES:QuickScores, Football Game
TRANSP:OPAQUE
BEGIN:VALARM
TRIGGER:-PT2H
ACTION:DISPLAY
DESCRIPTION:[3] Matteson Bears 6u vs. [6] 815 United 6u
END:VALARM
END:VEVENT
BEGIN:VEVENT
UID:niuyfl-71219696-20251018T090000@quickscores.com
DTSTAMP:20260421T051800Z
DTSTART;TZID=America/Chicago:20251018T090000
DURATION:PT1H0M0S
SUMMARY:Hazel Crest vs. [3] Matteson Bears 6u
DESCRIPTION:Niuyfl-6u - Northern Illinois United Youth Football League
LOCATION:Naperville (plainfield east highschool)
CATEGORIES:QuickScores, Football Game
TRANSP:OPAQUE
BEGIN:VALARM
TRIGGER:-PT2H
ACTION:DISPLAY
DESCRIPTION:Hazel Crest vs. [3] Matteson Bears 6u
END:VALARM
END:VEVENT
BEGIN:VEVENT
UID:niuyfl-71219695-20251019T090000@quickscores.com
DTSTAMP:20260421T051800Z
DTSTART;TZID=America/Chicago:20251019T090000
DURATION:PT1H0M0S
SUMMARY:Top Tier vs. [4] Joliet Ravens 6u
DESCRIPTION:Niuyfl-6u - Northern Illinois United Youth Football League
LOCATION:St. Rita
CATEGORIES:QuickScores, Football Game
TRANSP:OPAQUE
BEGIN:VALARM
TRIGGER:-PT2H
ACTION:DISPLAY
DESCRIPTION:Top Tier vs. [4] Joliet Ravens 6u
END:VALARM
END:VEVENT
BEGIN:VEVENT
UID:niuyfl-71219697-20251025T160000@quickscores.com
DTSTAMP:20260421T051800Z
DTSTART;TZID=America/Chicago:20251025T160000
DURATION:PT1H0M0S
SUMMARY:Top Tier vs. Hazel Crest
DESCRIPTION:Niuyfl-6u - Northern Illinois United Youth Football League
LOCATION:Joliet (ATI)
CATEGORIES:QuickScores, Football Game
TRANSP:OPAQUE
BEGIN:VALARM
TRIGGER:-PT2H
ACTION:DISPLAY
DESCRIPTION:Top Tier vs. Hazel Crest
END:VALARM
END:VEVENT
END:VCALENDAR
