BEGIN:VCALENDAR
VERSION:2.0
PRODID:-//QuickScores.com//BQ Dynamic iCal Creator//EN
METHOD:PUBLISH
X-WR-CALNAME:Cfl - Fall 2025
X-WR-CALDESC:QuickScores game calendar
X-PUBLISHED-TTL:PT24H
REFRESH-INTERVAL;VALUE=DURATION:PT24H
CALSCALE:GREGORIAN
BEGIN:VTIMEZONE
TZID:America/New_York
X-LIC-LOCATION:America/New_York
BEGIN:DAYLIGHT
TZNAME:EDT
TZOFFSETFROM:-0500
TZOFFSETTO:-0400
DTSTART:19700308T020000
RRULE:FREQ=YEARLY;BYMONTH=3;BYDAY=2SU
END:DAYLIGHT
BEGIN:STANDARD
TZNAME:EST
TZOFFSETFROM:-0400
TZOFFSETTO:-0500
DTSTART:19701101T020000
RRULE:FREQ=YEARLY;BYMONTH=11;BYDAY=1SU
END:STANDARD
END:VTIMEZONE
BEGIN:VEVENT
UID:cartersville-70128779-20250811T180000@quickscores.com
DTSTAMP:20260425T112300Z
DTSTART;TZID=America/New_York:20250811T180000
DURATION:PT2H0M0S
SUMMARY:Practice: 2nd Grade
DESCRIPTION:Cfl - CPRD
LOCATION:Dellinger Park Field 6
CATEGORIES:QuickScores, Football Game
TRANSP:OPAQUE
BEGIN:VALARM
TRIGGER:-PT2H
ACTION:DISPLAY
DESCRIPTION:Practice: 2nd Grade
END:VALARM
END:VEVENT
BEGIN:VEVENT
UID:cartersville-70128783-20250811T183000@quickscores.com
DTSTAMP:20260425T112300Z
DTSTART;TZID=America/New_York:20250811T183000
DURATION:PT2H0M0S
SUMMARY:Practice: 3rd Grade
DESCRIPTION:Cfl - CPRD
LOCATION:Dellinger Park Field 6
CATEGORIES:QuickScores, Football Game
TRANSP:OPAQUE
BEGIN:VALARM
TRIGGER:-PT2H
ACTION:DISPLAY
DESCRIPTION:Practice: 3rd Grade
END:VALARM
END:VEVENT
BEGIN:VEVENT
UID:cartersville-70128787-20250812T180000@quickscores.com
DTSTAMP:20260425T112300Z
DTSTART;TZID=America/New_York:20250812T180000
DURATION:PT2H0M0S
SUMMARY:Practice: 2nd Grade
DESCRIPTION:Cfl - CPRD
LOCATION:Dellinger Football Field
CATEGORIES:QuickScores, Football Game
TRANSP:OPAQUE
BEGIN:VALARM
TRIGGER:-PT2H
ACTION:DISPLAY
DESCRIPTION:Practice: 2nd Grade
END:VALARM
END:VEVENT
BEGIN:VEVENT
UID:cartersville-70128791-20250813T183000@quickscores.com
DTSTAMP:20260425T112300Z
DTSTART;TZID=America/New_York:20250813T183000
DURATION:PT1H30M0S
SUMMARY:Practice: 3rd Grade
DESCRIPTION:Cfl - CPRD
LOCATION:Dellinger Football Field
CATEGORIES:QuickScores, Football Game
TRANSP:OPAQUE
BEGIN:VALARM
TRIGGER:-PT2H
ACTION:DISPLAY
DESCRIPTION:Practice: 3rd Grade
END:VALARM
END:VEVENT
BEGIN:VEVENT
UID:cartersville-70128795-20250814T180000@quickscores.com
DTSTAMP:20260425T112300Z
DTSTART;TZID=America/New_York:20250814T180000
DURATION:PT2H0M0S
SUMMARY:Practice: 2nd Grade
DESCRIPTION:Cfl - CPRD
LOCATION:Dellinger Park Field 5
CATEGORIES:QuickScores, Football Game
TRANSP:OPAQUE
BEGIN:VALARM
TRIGGER:-PT2H
ACTION:DISPLAY
DESCRIPTION:Practice: 2nd Grade
END:VALARM
END:VEVENT
BEGIN:VEVENT
UID:cartersville-70128780-20250818T180000@quickscores.com
DTSTAMP:20260425T112300Z
DTSTART;TZID=America/New_York:20250818T180000
DURATION:PT2H0M0S
SUMMARY:Practice: 2nd Grade
DESCRIPTION:Cfl - CPRD
LOCATION:Dellinger Park Field 6
CATEGORIES:QuickScores, Football Game
TRANSP:OPAQUE
BEGIN:VALARM
TRIGGER:-PT2H
ACTION:DISPLAY
DESCRIPTION:Practice: 2nd Grade
END:VALARM
END:VEVENT
BEGIN:VEVENT
UID:cartersville-70128784-20250818T183000@quickscores.com
DTSTAMP:20260425T112300Z
DTSTART;TZID=America/New_York:20250818T183000
DURATION:PT2H0M0S
SUMMARY:Practice: 3rd Grade
DESCRIPTION:Cfl - CPRD
LOCATION:Dellinger Park Field 6
CATEGORIES:QuickScores, Football Game
TRANSP:OPAQUE
BEGIN:VALARM
TRIGGER:-PT2H
ACTION:DISPLAY
DESCRIPTION:Practice: 3rd Grade
END:VALARM
END:VEVENT
BEGIN:VEVENT
UID:cartersville-70128788-20250819T180000@quickscores.com
DTSTAMP:20260425T112300Z
DTSTART;TZID=America/New_York:20250819T180000
DURATION:PT2H0M0S
SUMMARY:Practice: 2nd Grade
DESCRIPTION:Cfl - CPRD
LOCATION:Dellinger Football Field
CATEGORIES:QuickScores, Football Game
TRANSP:OPAQUE
BEGIN:VALARM
TRIGGER:-PT2H
ACTION:DISPLAY
DESCRIPTION:Practice: 2nd Grade
END:VALARM
END:VEVENT
BEGIN:VEVENT
UID:cartersville-70380968-20250819T190000@quickscores.com
DTSTAMP:20260425T112300Z
DTSTART;TZID=America/New_York:20250819T190000
DURATION:PT1H0M0S
SUMMARY:Practice: 3rd Grade
DESCRIPTION:Cfl - CPRD
LOCATION:Dellinger Park Field 6
CATEGORIES:QuickScores, Football Game
TRANSP:OPAQUE
BEGIN:VALARM
TRIGGER:-PT2H
ACTION:DISPLAY
DESCRIPTION:Practice: 3rd Grade
END:VALARM
END:VEVENT
BEGIN:VEVENT
UID:cartersville-70128792-20250820T183000@quickscores.com
DTSTAMP:20260425T112300Z
DTSTART;TZID=America/New_York:20250820T183000
DURATION:PT1H0M0S
SUMMARY:Practice: 3rd Grade
DESCRIPTION:Cfl - CPRD
LOCATION:Dellinger Football Field
CATEGORIES:QuickScores, Football Game
TRANSP:OPAQUE
BEGIN:VALARM
TRIGGER:-PT2H
ACTION:DISPLAY
DESCRIPTION:Practice: 3rd Grade
END:VALARM
END:VEVENT
BEGIN:VEVENT
UID:cartersville-70128796-20250821T180000@quickscores.com
DTSTAMP:20260425T112300Z
DTSTART;TZID=America/New_York:20250821T180000
DURATION:PT2H0M0S
SUMMARY:Practice: 2nd Grade
DESCRIPTION:Cfl - CPRD
LOCATION:Dellinger Park Field 5
CATEGORIES:QuickScores, Football Game
TRANSP:OPAQUE
BEGIN:VALARM
TRIGGER:-PT2H
ACTION:DISPLAY
DESCRIPTION:Practice: 2nd Grade
END:VALARM
END:VEVENT
BEGIN:VEVENT
UID:cartersville-70128781-20250825T180000@quickscores.com
DTSTAMP:20260425T112300Z
DTSTART;TZID=America/New_York:20250825T180000
DURATION:PT2H0M0S
SUMMARY:Practice: 2nd Grade
DESCRIPTION:Cfl - CPRD
LOCATION:Dellinger Park Field 6
CATEGORIES:QuickScores, Football Game
TRANSP:OPAQUE
BEGIN:VALARM
TRIGGER:-PT2H
ACTION:DISPLAY
DESCRIPTION:Practice: 2nd Grade
END:VALARM
END:VEVENT
BEGIN:VEVENT
UID:cartersville-70128785-20250825T183000@quickscores.com
DTSTAMP:20260425T112300Z
DTSTART;TZID=America/New_York:20250825T183000
DURATION:PT2H0M0S
SUMMARY:Practice: 3rd Grade
DESCRIPTION:Cfl - CPRD
LOCATION:Dellinger Park Field 6
CATEGORIES:QuickScores, Football Game
TRANSP:OPAQUE
BEGIN:VALARM
TRIGGER:-PT2H
ACTION:DISPLAY
DESCRIPTION:Practice: 3rd Grade
END:VALARM
END:VEVENT
BEGIN:VEVENT
UID:cartersville-70128789-20250826T180000@quickscores.com
DTSTAMP:20260425T112300Z
DTSTART;TZID=America/New_York:20250826T180000
DURATION:PT2H0M0S
SUMMARY:Practice: 2nd Grade
DESCRIPTION:Cfl - CPRD
LOCATION:Dellinger Football Field
CATEGORIES:QuickScores, Football Game
TRANSP:OPAQUE
BEGIN:VALARM
TRIGGER:-PT2H
ACTION:DISPLAY
DESCRIPTION:Practice: 2nd Grade
END:VALARM
END:VEVENT
BEGIN:VEVENT
UID:cartersville-70128793-20250827T183000@quickscores.com
DTSTAMP:20260425T112300Z
DTSTART;TZID=America/New_York:20250827T183000
DURATION:PT2H0M0S
SUMMARY:Practice: 3rd Grade
DESCRIPTION:Cfl - CPRD
LOCATION:Dellinger Football Field
CATEGORIES:QuickScores, Football Game
TRANSP:OPAQUE
BEGIN:VALARM
TRIGGER:-PT2H
ACTION:DISPLAY
DESCRIPTION:Practice: 3rd Grade
END:VALARM
END:VEVENT
BEGIN:VEVENT
UID:cartersville-70128797-20250828T180000@quickscores.com
DTSTAMP:20260425T112300Z
DTSTART;TZID=America/New_York:20250828T180000
DURATION:PT2H0M0S
SUMMARY:Practice: 2nd Grade
DESCRIPTION:Cfl - CPRD
LOCATION:Dellinger Park Field 5
CATEGORIES:QuickScores, Football Game
TRANSP:OPAQUE
BEGIN:VALARM
TRIGGER:-PT2H
ACTION:DISPLAY
DESCRIPTION:Practice: 2nd Grade
END:VALARM
END:VEVENT
BEGIN:VEVENT
UID:cartersville-70676627-20250830T090000@quickscores.com
DTSTAMP:20260425T112300Z
DTSTART;TZID=America/New_York:20250830T090000
DURATION:PT2H0M0S
SUMMARY:Practice: 3rd Grade
DESCRIPTION:Cfl - CPRD
LOCATION:Dellinger Football Field
CATEGORIES:QuickScores, Football Game
TRANSP:OPAQUE
BEGIN:VALARM
TRIGGER:-PT2H
ACTION:DISPLAY
DESCRIPTION:Practice: 3rd Grade
END:VALARM
END:VEVENT
BEGIN:VEVENT
UID:cartersville-70128790-20250902T180000@quickscores.com
DTSTAMP:20260425T112300Z
DTSTART;TZID=America/New_York:20250902T180000
DURATION:PT2H0M0S
SUMMARY:Practice: 2nd Grade
DESCRIPTION:Cfl - CPRD
LOCATION:Dellinger Football Field
CATEGORIES:QuickScores, Football Game
TRANSP:OPAQUE
BEGIN:VALARM
TRIGGER:-PT2H
ACTION:DISPLAY
DESCRIPTION:Practice: 2nd Grade
END:VALARM
END:VEVENT
BEGIN:VEVENT
UID:cartersville-70783569-20250903T180000@quickscores.com
DTSTAMP:20260425T112300Z
DTSTART;TZID=America/New_York:20250903T180000
DURATION:PT2H0M0S
SUMMARY:2nd Grade vs. 2nd Grade
DESCRIPTION:Cfl - CPRD
LOCATION:Dellinger Football Field
CATEGORIES:QuickScores, Football Game
TRANSP:OPAQUE
BEGIN:VALARM
TRIGGER:-PT2H
ACTION:DISPLAY
DESCRIPTION:2nd Grade vs. 2nd Grade
END:VALARM
END:VEVENT
BEGIN:VEVENT
UID:cartersville-70128794-20250903T183000@quickscores.com
DTSTAMP:20260425T112300Z
DTSTART;TZID=America/New_York:20250903T183000
DURATION:PT2H0M0S
SUMMARY:Practice: 3rd Grade
DESCRIPTION:Cfl - CPRD
LOCATION:Dellinger Football Field
CATEGORIES:QuickScores, Football Game
TRANSP:OPAQUE
BEGIN:VALARM
TRIGGER:-PT2H
ACTION:DISPLAY
DESCRIPTION:Practice: 3rd Grade
END:VALARM
END:VEVENT
BEGIN:VEVENT
UID:cartersville-70128798-20250904T180000@quickscores.com
DTSTAMP:20260425T112300Z
DTSTART;TZID=America/New_York:20250904T180000
DURATION:PT2H0M0S
SUMMARY:Practice: 2nd Grade
DESCRIPTION:Cfl - CPRD
LOCATION:Dellinger Park Field 5
CATEGORIES:QuickScores, Football Game
TRANSP:OPAQUE
BEGIN:VALARM
TRIGGER:-PT2H
ACTION:DISPLAY
DESCRIPTION:Practice: 2nd Grade
END:VALARM
END:VEVENT
BEGIN:VEVENT
UID:cartersville-70873149-20250908T180000@quickscores.com
DTSTAMP:20260425T112300Z
DTSTART;TZID=America/New_York:20250908T180000
DURATION:PT2H0M0S
SUMMARY:Practice: 2nd Grade
DESCRIPTION:Cfl - CPRD
LOCATION:Dellinger Park Field 5
CATEGORIES:QuickScores, Football Game
TRANSP:OPAQUE
BEGIN:VALARM
TRIGGER:-PT2H
ACTION:DISPLAY
DESCRIPTION:Practice: 2nd Grade
END:VALARM
END:VEVENT
BEGIN:VEVENT
UID:cartersville-70873152-20250908T183000@quickscores.com
DTSTAMP:20260425T112300Z
DTSTART;TZID=America/New_York:20250908T183000
DURATION:PT1H30M0S
SUMMARY:Practice: 3rd Grade
DESCRIPTION:Cfl - CPRD
LOCATION:Dellinger Park Field 5
CATEGORIES:QuickScores, Football Game
TRANSP:OPAQUE
BEGIN:VALARM
TRIGGER:-PT2H
ACTION:DISPLAY
DESCRIPTION:Practice: 3rd Grade
END:VALARM
END:VEVENT
BEGIN:VEVENT
UID:cartersville-70873150-20250909T180000@quickscores.com
DTSTAMP:20260425T112300Z
DTSTART;TZID=America/New_York:20250909T180000
DURATION:PT2H0M0S
SUMMARY:Practice: 2nd Grade
DESCRIPTION:Cfl - CPRD
LOCATION:Sam Smith Lower Soccer #1
CATEGORIES:QuickScores, Football Game
TRANSP:OPAQUE
BEGIN:VALARM
TRIGGER:-PT2H
ACTION:DISPLAY
DESCRIPTION:Practice: 2nd Grade
END:VALARM
END:VEVENT
BEGIN:VEVENT
UID:cartersville-70873153-20250910T183000@quickscores.com
DTSTAMP:20260425T112300Z
DTSTART;TZID=America/New_York:20250910T183000
DURATION:PT1H30M0S
SUMMARY:3rd Grade vs. 3rd Grade
DESCRIPTION:Cfl - CPRD
LOCATION:Dellinger Football Field
CATEGORIES:QuickScores, Football Game
TRANSP:OPAQUE
BEGIN:VALARM
TRIGGER:-PT2H
ACTION:DISPLAY
DESCRIPTION:3rd Grade vs. 3rd Grade
END:VALARM
END:VEVENT
BEGIN:VEVENT
UID:cartersville-70873151-20250911T180000@quickscores.com
DTSTAMP:20260425T112300Z
DTSTART;TZID=America/New_York:20250911T180000
DURATION:PT2H0M0S
SUMMARY:Practice: 2nd Grade
DESCRIPTION:Cfl - CPRD
LOCATION:Sam Smith Lower Soccer #1
CATEGORIES:QuickScores, Football Game
TRANSP:OPAQUE
BEGIN:VALARM
TRIGGER:-PT2H
ACTION:DISPLAY
DESCRIPTION:Practice: 2nd Grade
END:VALARM
END:VEVENT
BEGIN:VEVENT
UID:cartersville-70977820-20250915T180500@quickscores.com
DTSTAMP:20260425T112300Z
DTSTART;TZID=America/New_York:20250915T180500
DURATION:PT2H0M0S
SUMMARY:2nd Grade vs. 2nd Grade
DESCRIPTION:Cfl - CPRD
LOCATION:Sam Smith Lower Soccer #1
CATEGORIES:QuickScores, Football Game
TRANSP:OPAQUE
BEGIN:VALARM
TRIGGER:-PT2H
ACTION:DISPLAY
DESCRIPTION:2nd Grade vs. 2nd Grade
END:VALARM
END:VEVENT
BEGIN:VEVENT
UID:cartersville-70977901-20250915T183000@quickscores.com
DTSTAMP:20260425T112300Z
DTSTART;TZID=America/New_York:20250915T183000
DURATION:PT1H0M0S
SUMMARY:Practice: 3rd Grade
DESCRIPTION:Cfl - CPRD
LOCATION:Sam Smith Lower Soccer #2
CATEGORIES:QuickScores, Football Game
TRANSP:OPAQUE
BEGIN:VALARM
TRIGGER:-PT2H
ACTION:DISPLAY
DESCRIPTION:Practice: 3rd Grade
END:VALARM
END:VEVENT
BEGIN:VEVENT
UID:cartersville-70977821-20250916T180500@quickscores.com
DTSTAMP:20260425T112300Z
DTSTART;TZID=America/New_York:20250916T180500
DURATION:PT2H0M0S
SUMMARY:Practice: 2nd Grade
DESCRIPTION:Cfl - CPRD
LOCATION:Sam Smith Lower Soccer #3
CATEGORIES:QuickScores, Football Game
TRANSP:OPAQUE
BEGIN:VALARM
TRIGGER:-PT2H
ACTION:DISPLAY
DESCRIPTION:Practice: 2nd Grade
END:VALARM
END:VEVENT
BEGIN:VEVENT
UID:cartersville-70977969-20250917T183000@quickscores.com
DTSTAMP:20260425T112300Z
DTSTART;TZID=America/New_York:20250917T183000
DURATION:PT1H0M0S
SUMMARY:Practice: 3rd Grade
DESCRIPTION:Cfl - CPRD
LOCATION:Dellinger Football Field
CATEGORIES:QuickScores, Football Game
TRANSP:OPAQUE
BEGIN:VALARM
TRIGGER:-PT2H
ACTION:DISPLAY
DESCRIPTION:Practice: 3rd Grade
END:VALARM
END:VEVENT
BEGIN:VEVENT
UID:cartersville-70977822-20250918T180000@quickscores.com
DTSTAMP:20260425T112300Z
DTSTART;TZID=America/New_York:20250918T180000
DURATION:PT2H0M0S
SUMMARY:Practice: 2nd Grade
DESCRIPTION:Cfl - CPRD
LOCATION:Sam Smith Lower Soccer #2
CATEGORIES:QuickScores, Football Game
TRANSP:OPAQUE
BEGIN:VALARM
TRIGGER:-PT2H
ACTION:DISPLAY
DESCRIPTION:Practice: 2nd Grade
END:VALARM
END:VEVENT
BEGIN:VEVENT
UID:cartersville-70977849-20250922T180000@quickscores.com
DTSTAMP:20260425T112300Z
DTSTART;TZID=America/New_York:20250922T180000
DURATION:PT2H0M0S
SUMMARY:2nd Grade vs. 2nd Grade
DESCRIPTION:Cfl - CPRD
LOCATION:Sam Smith Lower Soccer #2
CATEGORIES:QuickScores, Football Game
TRANSP:OPAQUE
BEGIN:VALARM
TRIGGER:-PT2H
ACTION:DISPLAY
DESCRIPTION:2nd Grade vs. 2nd Grade
END:VALARM
END:VEVENT
BEGIN:VEVENT
UID:cartersville-70978022-20250922T183000@quickscores.com
DTSTAMP:20260425T112300Z
DTSTART;TZID=America/New_York:20250922T183000
DURATION:PT1H0M0S
SUMMARY:Practice: 3rd Grade
DESCRIPTION:Cfl - CPRD
LOCATION:Deerfield
CATEGORIES:QuickScores, Football Game
TRANSP:OPAQUE
BEGIN:VALARM
TRIGGER:-PT2H
ACTION:DISPLAY
DESCRIPTION:Practice: 3rd Grade
END:VALARM
END:VEVENT
BEGIN:VEVENT
UID:cartersville-70977850-20250923T180000@quickscores.com
DTSTAMP:20260425T112300Z
DTSTART;TZID=America/New_York:20250923T180000
DURATION:PT2H0M0S
SUMMARY:Practice: 2nd Grade
DESCRIPTION:Cfl - CPRD
LOCATION:Sports Complex #1
CATEGORIES:QuickScores, Football Game
TRANSP:OPAQUE
BEGIN:VALARM
TRIGGER:-PT2H
ACTION:DISPLAY
DESCRIPTION:Practice: 2nd Grade
END:VALARM
END:VEVENT
BEGIN:VEVENT
UID:cartersville-70978075-20250924T183000@quickscores.com
DTSTAMP:20260425T112300Z
DTSTART;TZID=America/New_York:20250924T183000
DURATION:PT1H0M0S
SUMMARY:Practice: 3rd Grade
DESCRIPTION:Cfl - CPRD
LOCATION:Dellinger Football Field
CATEGORIES:QuickScores, Football Game
TRANSP:OPAQUE
BEGIN:VALARM
TRIGGER:-PT2H
ACTION:DISPLAY
DESCRIPTION:Practice: 3rd Grade
END:VALARM
END:VEVENT
BEGIN:VEVENT
UID:cartersville-70977851-20250925T180000@quickscores.com
DTSTAMP:20260425T112300Z
DTSTART;TZID=America/New_York:20250925T180000
DURATION:PT2H0M0S
SUMMARY:2nd Grade vs. 2nd Grade
DESCRIPTION:Cfl - CPRD
LOCATION:Sam Smith Lower Soccer #2
CATEGORIES:QuickScores, Football Game
TRANSP:OPAQUE
BEGIN:VALARM
TRIGGER:-PT2H
ACTION:DISPLAY
DESCRIPTION:2nd Grade vs. 2nd Grade
END:VALARM
END:VEVENT
BEGIN:VEVENT
UID:cartersville-70977852-20250929T180000@quickscores.com
DTSTAMP:20260425T112300Z
DTSTART;TZID=America/New_York:20250929T180000
DURATION:PT2H0M0S
SUMMARY:2nd Grade vs. 2nd Grade
DESCRIPTION:Cfl - CPRD
LOCATION:Sam Smith Lower Soccer #1
CATEGORIES:QuickScores, Football Game
TRANSP:OPAQUE
BEGIN:VALARM
TRIGGER:-PT2H
ACTION:DISPLAY
DESCRIPTION:2nd Grade vs. 2nd Grade
END:VALARM
END:VEVENT
BEGIN:VEVENT
UID:cartersville-70978076-20250929T183000@quickscores.com
DTSTAMP:20260425T112300Z
DTSTART;TZID=America/New_York:20250929T183000
DURATION:PT1H0M0S
SUMMARY:Practice: 3rd Grade
DESCRIPTION:Cfl - CPRD
LOCATION:Sam Smith Lower Soccer #2
CATEGORIES:QuickScores, Football Game
TRANSP:OPAQUE
BEGIN:VALARM
TRIGGER:-PT2H
ACTION:DISPLAY
DESCRIPTION:Practice: 3rd Grade
END:VALARM
END:VEVENT
BEGIN:VEVENT
UID:cartersville-70977853-20250930T180000@quickscores.com
DTSTAMP:20260425T112300Z
DTSTART;TZID=America/New_York:20250930T180000
DURATION:PT2H0M0S
SUMMARY:Practice: 2nd Grade
DESCRIPTION:Cfl - CPRD
LOCATION:Sam Smith Lower Soccer #1
CATEGORIES:QuickScores, Football Game
TRANSP:OPAQUE
BEGIN:VALARM
TRIGGER:-PT2H
ACTION:DISPLAY
DESCRIPTION:Practice: 2nd Grade
END:VALARM
END:VEVENT
BEGIN:VEVENT
UID:cartersville-70978077-20251001T183000@quickscores.com
DTSTAMP:20260425T112300Z
DTSTART;TZID=America/New_York:20251001T183000
DURATION:PT1H0M0S
SUMMARY:Practice: 3rd Grade
DESCRIPTION:Cfl - CPRD
LOCATION:Dellinger Football Field
CATEGORIES:QuickScores, Football Game
TRANSP:OPAQUE
BEGIN:VALARM
TRIGGER:-PT2H
ACTION:DISPLAY
DESCRIPTION:Practice: 3rd Grade
END:VALARM
END:VEVENT
BEGIN:VEVENT
UID:cartersville-70977854-20251002T180000@quickscores.com
DTSTAMP:20260425T112300Z
DTSTART;TZID=America/New_York:20251002T180000
DURATION:PT2H0M0S
SUMMARY:Practice: 2nd Grade
DESCRIPTION:Cfl - CPRD
LOCATION:Sam Smith Lower Soccer #1
CATEGORIES:QuickScores, Football Game
TRANSP:OPAQUE
BEGIN:VALARM
TRIGGER:-PT2H
ACTION:DISPLAY
DESCRIPTION:Practice: 2nd Grade
END:VALARM
END:VEVENT
BEGIN:VEVENT
UID:cartersville-70977878-20251006T180000@quickscores.com
DTSTAMP:20260425T112300Z
DTSTART;TZID=America/New_York:20251006T180000
DURATION:PT2H0M0S
SUMMARY:Practice: 2nd Grade
DESCRIPTION:Cfl - CPRD
LOCATION:Sam Smith Lower Soccer #2
CATEGORIES:QuickScores, Football Game
TRANSP:OPAQUE
BEGIN:VALARM
TRIGGER:-PT2H
ACTION:DISPLAY
DESCRIPTION:Practice: 2nd Grade
END:VALARM
END:VEVENT
BEGIN:VEVENT
UID:cartersville-70978078-20251006T183000@quickscores.com
DTSTAMP:20260425T112300Z
DTSTART;TZID=America/New_York:20251006T183000
DURATION:PT1H0M0S
SUMMARY:Practice: 3rd Grade
DESCRIPTION:Cfl - CPRD
LOCATION:Sam Smith Lower Soccer #3
CATEGORIES:QuickScores, Football Game
TRANSP:OPAQUE
BEGIN:VALARM
TRIGGER:-PT2H
ACTION:DISPLAY
DESCRIPTION:Practice: 3rd Grade
END:VALARM
END:VEVENT
BEGIN:VEVENT
UID:cartersville-70977879-20251007T180000@quickscores.com
DTSTAMP:20260425T112300Z
DTSTART;TZID=America/New_York:20251007T180000
DURATION:PT2H0M0S
SUMMARY:Practice: 2nd Grade
DESCRIPTION:Cfl - CPRD
LOCATION:Sam Smith Lower Soccer #1
CATEGORIES:QuickScores, Football Game
TRANSP:OPAQUE
BEGIN:VALARM
TRIGGER:-PT2H
ACTION:DISPLAY
DESCRIPTION:Practice: 2nd Grade
END:VALARM
END:VEVENT
BEGIN:VEVENT
UID:cartersville-70978079-20251008T183000@quickscores.com
DTSTAMP:20260425T112300Z
DTSTART;TZID=America/New_York:20251008T183000
DURATION:PT1H0M0S
SUMMARY:Practice: 3rd Grade
DESCRIPTION:Cfl - CPRD
LOCATION:Dellinger Football Field
CATEGORIES:QuickScores, Football Game
TRANSP:OPAQUE
BEGIN:VALARM
TRIGGER:-PT2H
ACTION:DISPLAY
DESCRIPTION:Practice: 3rd Grade
END:VALARM
END:VEVENT
BEGIN:VEVENT
UID:cartersville-70977880-20251009T180000@quickscores.com
DTSTAMP:20260425T112300Z
DTSTART;TZID=America/New_York:20251009T180000
DURATION:PT2H0M0S
SUMMARY:Practice: 2nd Grade
DESCRIPTION:Cfl - CPRD
LOCATION:Sam Smith Lower Soccer #2
CATEGORIES:QuickScores, Football Game
TRANSP:OPAQUE
BEGIN:VALARM
TRIGGER:-PT2H
ACTION:DISPLAY
DESCRIPTION:Practice: 2nd Grade
END:VALARM
END:VEVENT
BEGIN:VEVENT
UID:cartersville-70977881-20251020T180000@quickscores.com
DTSTAMP:20260425T112300Z
DTSTART;TZID=America/New_York:20251020T180000
DURATION:PT2H0M0S
SUMMARY:Practice: 2nd Grade
DESCRIPTION:Cfl - CPRD
LOCATION:Sam Smith Lower Soccer #1
CATEGORIES:QuickScores, Football Game
TRANSP:OPAQUE
BEGIN:VALARM
TRIGGER:-PT2H
ACTION:DISPLAY
DESCRIPTION:Practice: 2nd Grade
END:VALARM
END:VEVENT
BEGIN:VEVENT
UID:cartersville-70978080-20251020T183000@quickscores.com
DTSTAMP:20260425T112300Z
DTSTART;TZID=America/New_York:20251020T183000
DURATION:PT1H0M0S
SUMMARY:Practice: 3rd Grade
DESCRIPTION:Cfl - CPRD
LOCATION:Sam Smith Lower Soccer #2
CATEGORIES:QuickScores, Football Game
TRANSP:OPAQUE
BEGIN:VALARM
TRIGGER:-PT2H
ACTION:DISPLAY
DESCRIPTION:Practice: 3rd Grade
END:VALARM
END:VEVENT
BEGIN:VEVENT
UID:cartersville-70977882-20251021T180500@quickscores.com
DTSTAMP:20260425T112300Z
DTSTART;TZID=America/New_York:20251021T180500
DURATION:PT2H0M0S
SUMMARY:Practice: 2nd Grade
DESCRIPTION:Cfl - CPRD
LOCATION:Sam Smith Lower Soccer #1
CATEGORIES:QuickScores, Football Game
TRANSP:OPAQUE
BEGIN:VALARM
TRIGGER:-PT2H
ACTION:DISPLAY
DESCRIPTION:Practice: 2nd Grade
END:VALARM
END:VEVENT
BEGIN:VEVENT
UID:cartersville-70978081-20251022T183000@quickscores.com
DTSTAMP:20260425T112300Z
DTSTART;TZID=America/New_York:20251022T183000
DURATION:PT1H0M0S
SUMMARY:Practice: 3rd Grade
DESCRIPTION:Cfl - CPRD
LOCATION:Dellinger Football Field
CATEGORIES:QuickScores, Football Game
TRANSP:OPAQUE
BEGIN:VALARM
TRIGGER:-PT2H
ACTION:DISPLAY
DESCRIPTION:Practice: 3rd Grade
END:VALARM
END:VEVENT
BEGIN:VEVENT
UID:cartersville-70977883-20251023T180000@quickscores.com
DTSTAMP:20260425T112300Z
DTSTART;TZID=America/New_York:20251023T180000
DURATION:PT2H0M0S
SUMMARY:Practice: 2nd Grade
DESCRIPTION:Cfl - CPRD
LOCATION:Sam Smith Lower Soccer #1
CATEGORIES:QuickScores, Football Game
TRANSP:OPAQUE
BEGIN:VALARM
TRIGGER:-PT2H
ACTION:DISPLAY
DESCRIPTION:Practice: 2nd Grade
END:VALARM
END:VEVENT
BEGIN:VEVENT
UID:cartersville-71505261-20251029T190000@quickscores.com
DTSTAMP:20260425T112300Z
DTSTART;TZID=America/New_York:20251029T190000
DURATION:PT1H30M0S
SUMMARY:3rd Grade vs. 3rd Grade
DESCRIPTION:Cfl - CPRD
LOCATION:Dellinger Park Field 5
CATEGORIES:QuickScores, Football Game
TRANSP:OPAQUE
BEGIN:VALARM
TRIGGER:-PT2H
ACTION:DISPLAY
DESCRIPTION:3rd Grade vs. 3rd Grade
END:VALARM
END:VEVENT
BEGIN:VEVENT
UID:cartersville-71602797-20251105T183000@quickscores.com
DTSTAMP:20260425T112300Z
DTSTART;TZID=America/New_York:20251105T183000
DURATION:PT2H0M0S
SUMMARY:Practice: 3rd Grade
DESCRIPTION:Cfl - CPRD
LOCATION:Dellinger Football Field
CATEGORIES:QuickScores, Football Game
TRANSP:OPAQUE
BEGIN:VALARM
TRIGGER:-PT2H
ACTION:DISPLAY
DESCRIPTION:Practice: 3rd Grade
END:VALARM
END:VEVENT
BEGIN:VEVENT
UID:cartersville-71602798-20251106T183000@quickscores.com
DTSTAMP:20260425T112300Z
DTSTART;TZID=America/New_York:20251106T183000
DURATION:PT2H0M0S
SUMMARY:Practice: 3rd Grade
DESCRIPTION:Cfl - CPRD
LOCATION:Dellinger Football Field
CATEGORIES:QuickScores, Football Game
TRANSP:OPAQUE
BEGIN:VALARM
TRIGGER:-PT2H
ACTION:DISPLAY
DESCRIPTION:Practice: 3rd Grade
END:VALARM
END:VEVENT
END:VCALENDAR
