BEGIN:VCALENDAR
VERSION:2.0
PRODID:-//QuickScores.com//BQ Dynamic iCal Creator//EN
METHOD:PUBLISH
X-WR-CALNAME:Youth Soccer - Grade 3rd/4th (u10) Co-ed League - Fall 2025
X-WR-CALDESC:QuickScores game calendar
X-PUBLISHED-TTL:PT24H
REFRESH-INTERVAL;VALUE=DURATION:PT24H
CALSCALE:GREGORIAN
BEGIN:VTIMEZONE
TZID:America/Chicago
X-LIC-LOCATION:America/Chicago
BEGIN:DAYLIGHT
TZNAME:CDT
TZOFFSETFROM:-0600
TZOFFSETTO:-0500
DTSTART:19700308T020000
RRULE:FREQ=YEARLY;BYMONTH=3;BYDAY=2SU
END:DAYLIGHT
BEGIN:STANDARD
TZNAME:CST
TZOFFSETFROM:-0500
TZOFFSETTO:-0600
DTSTART:19701101T020000
RRULE:FREQ=YEARLY;BYMONTH=11;BYDAY=1SU
END:STANDARD
END:VTIMEZONE
BEGIN:VEVENT
UID:csparks-70078311-20250816T104500@quickscores.com
DTSTAMP:20260422T021000Z
DTSTART;TZID=America/Chicago:20250816T104500
DURATION:PT1H15M0S
SUMMARY:Red Wasps - Andrew Martin vs. Carol Stream Strikers - George Wedel
DESCRIPTION:Youth Soccer - Grade 3rd/4th (u10) Co-ed League - Carol Stream Park District
LOCATION:Springfield #10 - Soccer
CATEGORIES:QuickScores, Soccer - Youth Game
TRANSP:OPAQUE
BEGIN:VALARM
TRIGGER:-PT2H
ACTION:DISPLAY
DESCRIPTION:Red Wasps - Andrew Martin vs. Carol Stream Strikers - George Wedel
END:VALARM
END:VEVENT
BEGIN:VEVENT
UID:csparks-70078310-20250816T111500@quickscores.com
DTSTAMP:20260422T021000Z
DTSTART;TZID=America/Chicago:20250816T111500
DURATION:PT1H15M0S
SUMMARY:Revolution -  Lazaro Negro vs. The Unstoppable's - Kalo Marinov
DESCRIPTION:Youth Soccer - Grade 3rd/4th (u10) Co-ed League - Carol Stream Park District
LOCATION:Red Hawk 3 - U10
CATEGORIES:QuickScores, Soccer - Youth Game
TRANSP:OPAQUE
BEGIN:VALARM
TRIGGER:-PT2H
ACTION:DISPLAY
DESCRIPTION:Revolution -  Lazaro Negro vs. The Unstoppable's - Kalo Marinov
END:VALARM
END:VEVENT
BEGIN:VEVENT
UID:csparks-70078312-20250816T123000@quickscores.com
DTSTAMP:20260422T021000Z
DTSTART;TZID=America/Chicago:20250816T123000
DURATION:PT1H15M0S
SUMMARY:RedBulls Blast -  Sean Carter vs. Fire Hawks - Matthew Papenbrok
DESCRIPTION:Youth Soccer - Grade 3rd/4th (u10) Co-ed League - Carol Stream Park District
LOCATION:Red Hawk 3 - U10
CATEGORIES:QuickScores, Soccer - Youth Game
TRANSP:OPAQUE
BEGIN:VALARM
TRIGGER:-PT2H
ACTION:DISPLAY
DESCRIPTION:RedBulls Blast -  Sean Carter vs. Fire Hawks - Matthew Papenbrok
END:VALARM
END:VEVENT
BEGIN:VEVENT
UID:csparks-70078314-20250823T101500@quickscores.com
DTSTAMP:20260422T021000Z
DTSTART;TZID=America/Chicago:20250823T101500
DURATION:PT1H15M0S
SUMMARY:RedBulls Blast -  Sean Carter vs. The Unstoppable's - Kalo Marinov
DESCRIPTION:Youth Soccer - Grade 3rd/4th (u10) Co-ed League - Carol Stream Park District
LOCATION:Red Hawk 3 - U10
CATEGORIES:QuickScores, Soccer - Youth Game
TRANSP:OPAQUE
BEGIN:VALARM
TRIGGER:-PT2H
ACTION:DISPLAY
DESCRIPTION:RedBulls Blast -  Sean Carter vs. The Unstoppable's - Kalo Marinov
END:VALARM
END:VEVENT
BEGIN:VEVENT
UID:csparks-70078313-20250823T113000@quickscores.com
DTSTAMP:20260422T021000Z
DTSTART;TZID=America/Chicago:20250823T113000
DURATION:PT1H15M0S
SUMMARY:Revolution -  Lazaro Negro vs. Red Wasps - Andrew Martin
DESCRIPTION:Youth Soccer - Grade 3rd/4th (u10) Co-ed League - Carol Stream Park District
LOCATION:Red Hawk 3 - U10
CATEGORIES:QuickScores, Soccer - Youth Game
TRANSP:OPAQUE
BEGIN:VALARM
TRIGGER:-PT2H
ACTION:DISPLAY
DESCRIPTION:Revolution -  Lazaro Negro vs. Red Wasps - Andrew Martin
END:VALARM
END:VEVENT
BEGIN:VEVENT
UID:csparks-70078315-20250823T124500@quickscores.com
DTSTAMP:20260422T021000Z
DTSTART;TZID=America/Chicago:20250823T124500
DURATION:PT1H15M0S
SUMMARY:Fire Hawks - Matthew Papenbrok vs. Carol Stream Strikers - George Wedel
DESCRIPTION:Youth Soccer - Grade 3rd/4th (u10) Co-ed League - Carol Stream Park District
LOCATION:Red Hawk 3 - U10
CATEGORIES:QuickScores, Soccer - Youth Game
TRANSP:OPAQUE
BEGIN:VALARM
TRIGGER:-PT2H
ACTION:DISPLAY
DESCRIPTION:Fire Hawks - Matthew Papenbrok vs. Carol Stream Strikers - George Wedel
END:VALARM
END:VEVENT
BEGIN:VEVENT
UID:csparks-70078318-20250906T090000@quickscores.com
DTSTAMP:20260422T021000Z
DTSTART;TZID=America/Chicago:20250906T090000
DURATION:PT1H15M0S
SUMMARY:Red Wasps - Andrew Martin vs. RedBulls Blast -  Sean Carter
DESCRIPTION:Youth Soccer - Grade 3rd/4th (u10) Co-ed League - Carol Stream Park District
LOCATION:Springfield #10 - Soccer
CATEGORIES:QuickScores, Soccer - Youth Game
TRANSP:OPAQUE
BEGIN:VALARM
TRIGGER:-PT2H
ACTION:DISPLAY
DESCRIPTION:Red Wasps - Andrew Martin vs. RedBulls Blast -  Sean Carter
END:VALARM
END:VEVENT
BEGIN:VEVENT
UID:csparks-70078316-20250906T111500@quickscores.com
DTSTAMP:20260422T021000Z
DTSTART;TZID=America/Chicago:20250906T111500
DURATION:PT1H15M0S
SUMMARY:Revolution -  Lazaro Negro vs. Carol Stream Strikers - George Wedel
DESCRIPTION:Youth Soccer - Grade 3rd/4th (u10) Co-ed League - Carol Stream Park District
LOCATION:Red Hawk 3 - U10
CATEGORIES:QuickScores, Soccer - Youth Game
TRANSP:OPAQUE
BEGIN:VALARM
TRIGGER:-PT2H
ACTION:DISPLAY
DESCRIPTION:Revolution -  Lazaro Negro vs. Carol Stream Strikers - George Wedel
END:VALARM
END:VEVENT
BEGIN:VEVENT
UID:csparks-70078317-20250906T123000@quickscores.com
DTSTAMP:20260422T021000Z
DTSTART;TZID=America/Chicago:20250906T123000
DURATION:PT1H15M0S
SUMMARY:The Unstoppable's - Kalo Marinov vs. Fire Hawks - Matthew Papenbrok
DESCRIPTION:Youth Soccer - Grade 3rd/4th (u10) Co-ed League - Carol Stream Park District
LOCATION:Red Hawk 3 - U10
CATEGORIES:QuickScores, Soccer - Youth Game
TRANSP:OPAQUE
BEGIN:VALARM
TRIGGER:-PT2H
ACTION:DISPLAY
DESCRIPTION:The Unstoppable's - Kalo Marinov vs. Fire Hawks - Matthew Papenbrok
END:VALARM
END:VEVENT
BEGIN:VEVENT
UID:csparks-70078319-20250913T123000@quickscores.com
DTSTAMP:20260422T021000Z
DTSTART;TZID=America/Chicago:20250913T123000
DURATION:PT1H15M0S
SUMMARY:Carol Stream Strikers - George Wedel vs. The Unstoppable's - Kalo Marinov
DESCRIPTION:Youth Soccer - Grade 3rd/4th (u10) Co-ed League - Carol Stream Park District
LOCATION:Red Hawk 3 - U10
CATEGORIES:QuickScores, Soccer - Youth Game
TRANSP:OPAQUE
BEGIN:VALARM
TRIGGER:-PT2H
ACTION:DISPLAY
DESCRIPTION:Carol Stream Strikers - George Wedel vs. The Unstoppable's - Kalo Marinov
END:VALARM
END:VEVENT
BEGIN:VEVENT
UID:csparks-70078320-20250917T175000@quickscores.com
DTSTAMP:20260422T021000Z
DTSTART;TZID=America/Chicago:20250917T175000
DURATION:PT1H15M0S
SUMMARY:Red Wasps - Andrew Martin vs. Fire Hawks - Matthew Papenbrok
DESCRIPTION:Game Rescheduled from 9/13 to 9/17 --- Youth Soccer - Grade 3rd/4th (u10) Co-ed League - Carol Stream Park District
LOCATION:Springfield #10 - Soccer
CATEGORIES:QuickScores, Soccer - Youth Game
TRANSP:OPAQUE
BEGIN:VALARM
TRIGGER:-PT2H
ACTION:DISPLAY
DESCRIPTION:Red Wasps - Andrew Martin vs. Fire Hawks - Matthew Papenbrok
END:VALARM
END:VEVENT
BEGIN:VEVENT
UID:csparks-70078321-20250918T173000@quickscores.com
DTSTAMP:20260422T021000Z
DTSTART;TZID=America/Chicago:20250918T173000
DURATION:PT1H15M0S
SUMMARY:Revolution -  Lazaro Negro vs. RedBulls Blast -  Sean Carter
DESCRIPTION:Rescheduled from 9/13 to 9/18 --- Youth Soccer - Grade 3rd/4th (u10) Co-ed League - Carol Stream Park District
LOCATION:Red Hawk 3 - U10
CATEGORIES:QuickScores, Soccer - Youth Game
TRANSP:OPAQUE
BEGIN:VALARM
TRIGGER:-PT2H
ACTION:DISPLAY
DESCRIPTION:Revolution -  Lazaro Negro vs. RedBulls Blast -  Sean Carter
END:VALARM
END:VEVENT
BEGIN:VEVENT
UID:csparks-70078323-20250920T100000@quickscores.com
DTSTAMP:20260422T021000Z
DTSTART;TZID=America/Chicago:20250920T100000
DURATION:PT1H15M0S
SUMMARY:RedBulls Blast -  Sean Carter vs. Carol Stream Strikers - George Wedel
DESCRIPTION:Youth Soccer - Grade 3rd/4th (u10) Co-ed League - Carol Stream Park District
LOCATION:Red Hawk 3 - U10
CATEGORIES:QuickScores, Soccer - Youth Game
TRANSP:OPAQUE
BEGIN:VALARM
TRIGGER:-PT2H
ACTION:DISPLAY
DESCRIPTION:RedBulls Blast -  Sean Carter vs. Carol Stream Strikers - George Wedel
END:VALARM
END:VEVENT
BEGIN:VEVENT
UID:csparks-70078322-20250920T111500@quickscores.com
DTSTAMP:20260422T021000Z
DTSTART;TZID=America/Chicago:20250920T111500
DURATION:PT1H15M0S
SUMMARY:The Unstoppable's - Kalo Marinov vs. Red Wasps - Andrew Martin
DESCRIPTION:Youth Soccer - Grade 3rd/4th (u10) Co-ed League - Carol Stream Park District
LOCATION:Red Hawk 3 - U10
CATEGORIES:QuickScores, Soccer - Youth Game
TRANSP:OPAQUE
BEGIN:VALARM
TRIGGER:-PT2H
ACTION:DISPLAY
DESCRIPTION:The Unstoppable's - Kalo Marinov vs. Red Wasps - Andrew Martin
END:VALARM
END:VEVENT
BEGIN:VEVENT
UID:csparks-70078324-20250920T123000@quickscores.com
DTSTAMP:20260422T021000Z
DTSTART;TZID=America/Chicago:20250920T123000
DURATION:PT1H15M0S
SUMMARY:Fire Hawks - Matthew Papenbrok vs. Revolution -  Lazaro Negro
DESCRIPTION:Youth Soccer - Grade 3rd/4th (u10) Co-ed League - Carol Stream Park District
LOCATION:Red Hawk 3 - U10
CATEGORIES:QuickScores, Soccer - Youth Game
TRANSP:OPAQUE
BEGIN:VALARM
TRIGGER:-PT2H
ACTION:DISPLAY
DESCRIPTION:Fire Hawks - Matthew Papenbrok vs. Revolution -  Lazaro Negro
END:VALARM
END:VEVENT
BEGIN:VEVENT
UID:csparks-70078325-20250927T100000@quickscores.com
DTSTAMP:20260422T021000Z
DTSTART;TZID=America/Chicago:20250927T100000
DURATION:PT1H15M0S
SUMMARY:The Unstoppable's - Kalo Marinov vs. Revolution -  Lazaro Negro
DESCRIPTION:Youth Soccer - Grade 3rd/4th (u10) Co-ed League - Carol Stream Park District
LOCATION:Hampe South U10
CATEGORIES:QuickScores, Soccer - Youth Game
TRANSP:OPAQUE
BEGIN:VALARM
TRIGGER:-PT2H
ACTION:DISPLAY
DESCRIPTION:The Unstoppable's - Kalo Marinov vs. Revolution -  Lazaro Negro
END:VALARM
END:VEVENT
BEGIN:VEVENT
UID:csparks-70078326-20250927T111500@quickscores.com
DTSTAMP:20260422T021000Z
DTSTART;TZID=America/Chicago:20250927T111500
DURATION:PT1H15M0S
SUMMARY:Carol Stream Strikers - George Wedel vs. Red Wasps - Andrew Martin
DESCRIPTION:Youth Soccer - Grade 3rd/4th (u10) Co-ed League - Carol Stream Park District
LOCATION:Hampe South U10
CATEGORIES:QuickScores, Soccer - Youth Game
TRANSP:OPAQUE
BEGIN:VALARM
TRIGGER:-PT2H
ACTION:DISPLAY
DESCRIPTION:Carol Stream Strikers - George Wedel vs. Red Wasps - Andrew Martin
END:VALARM
END:VEVENT
BEGIN:VEVENT
UID:csparks-70078327-20250927T123000@quickscores.com
DTSTAMP:20260422T021000Z
DTSTART;TZID=America/Chicago:20250927T123000
DURATION:PT1H15M0S
SUMMARY:Fire Hawks - Matthew Papenbrok vs. RedBulls Blast -  Sean Carter
DESCRIPTION:Youth Soccer - Grade 3rd/4th (u10) Co-ed League - Carol Stream Park District
LOCATION:Hampe South U10
CATEGORIES:QuickScores, Soccer - Youth Game
TRANSP:OPAQUE
BEGIN:VALARM
TRIGGER:-PT2H
ACTION:DISPLAY
DESCRIPTION:Fire Hawks - Matthew Papenbrok vs. RedBulls Blast -  Sean Carter
END:VALARM
END:VEVENT
BEGIN:VEVENT
UID:csparks-70078328-20251004T090000@quickscores.com
DTSTAMP:20260422T021000Z
DTSTART;TZID=America/Chicago:20251004T090000
DURATION:PT1H15M0S
SUMMARY:Red Wasps - Andrew Martin vs. Revolution -  Lazaro Negro
DESCRIPTION:Youth Soccer - Grade 3rd/4th (u10) Co-ed League - Carol Stream Park District
LOCATION:Springfield #4 - Soccer
CATEGORIES:QuickScores, Soccer - Youth Game
TRANSP:OPAQUE
BEGIN:VALARM
TRIGGER:-PT2H
ACTION:DISPLAY
DESCRIPTION:Red Wasps - Andrew Martin vs. Revolution -  Lazaro Negro
END:VALARM
END:VEVENT
BEGIN:VEVENT
UID:csparks-70078329-20251004T111500@quickscores.com
DTSTAMP:20260422T021000Z
DTSTART;TZID=America/Chicago:20251004T111500
DURATION:PT1H15M0S
SUMMARY:The Unstoppable's - Kalo Marinov vs. RedBulls Blast -  Sean Carter
DESCRIPTION:Youth Soccer - Grade 3rd/4th (u10) Co-ed League - Carol Stream Park District
LOCATION:Red Hawk 3 - U10
CATEGORIES:QuickScores, Soccer - Youth Game
TRANSP:OPAQUE
BEGIN:VALARM
TRIGGER:-PT2H
ACTION:DISPLAY
DESCRIPTION:The Unstoppable's - Kalo Marinov vs. RedBulls Blast -  Sean Carter
END:VALARM
END:VEVENT
BEGIN:VEVENT
UID:csparks-70078330-20251004T123000@quickscores.com
DTSTAMP:20260422T021000Z
DTSTART;TZID=America/Chicago:20251004T123000
DURATION:PT1H15M0S
SUMMARY:Carol Stream Strikers - George Wedel vs. Fire Hawks - Matthew Papenbrok
DESCRIPTION:Youth Soccer - Grade 3rd/4th (u10) Co-ed League - Carol Stream Park District
LOCATION:Red Hawk 3 - U10
CATEGORIES:QuickScores, Soccer - Youth Game
TRANSP:OPAQUE
BEGIN:VALARM
TRIGGER:-PT2H
ACTION:DISPLAY
DESCRIPTION:Carol Stream Strikers - George Wedel vs. Fire Hawks - Matthew Papenbrok
END:VALARM
END:VEVENT
BEGIN:VEVENT
UID:csparks-70078331-20251011T100000@quickscores.com
DTSTAMP:20260422T021000Z
DTSTART;TZID=America/Chicago:20251011T100000
DURATION:PT1H15M0S
SUMMARY:Carol Stream Strikers - George Wedel vs. Revolution -  Lazaro Negro
DESCRIPTION:Youth Soccer - Grade 3rd/4th (u10) Co-ed League - Carol Stream Park District
LOCATION:Red Hawk 3 - U10
CATEGORIES:QuickScores, Soccer - Youth Game
TRANSP:OPAQUE
BEGIN:VALARM
TRIGGER:-PT2H
ACTION:DISPLAY
DESCRIPTION:Carol Stream Strikers - George Wedel vs. Revolution -  Lazaro Negro
END:VALARM
END:VEVENT
BEGIN:VEVENT
UID:csparks-70078332-20251011T111500@quickscores.com
DTSTAMP:20260422T021000Z
DTSTART;TZID=America/Chicago:20251011T111500
DURATION:PT1H15M0S
SUMMARY:RedBulls Blast -  Sean Carter vs. Red Wasps - Andrew Martin
DESCRIPTION:Youth Soccer - Grade 3rd/4th (u10) Co-ed League - Carol Stream Park District
LOCATION:Red Hawk 3 - U10
CATEGORIES:QuickScores, Soccer - Youth Game
TRANSP:OPAQUE
BEGIN:VALARM
TRIGGER:-PT2H
ACTION:DISPLAY
DESCRIPTION:RedBulls Blast -  Sean Carter vs. Red Wasps - Andrew Martin
END:VALARM
END:VEVENT
BEGIN:VEVENT
UID:csparks-70078333-20251011T123000@quickscores.com
DTSTAMP:20260422T021000Z
DTSTART;TZID=America/Chicago:20251011T123000
DURATION:PT1H15M0S
SUMMARY:Fire Hawks - Matthew Papenbrok vs. The Unstoppable's - Kalo Marinov
DESCRIPTION:Youth Soccer - Grade 3rd/4th (u10) Co-ed League - Carol Stream Park District
LOCATION:Red Hawk 3 - U10
CATEGORIES:QuickScores, Soccer - Youth Game
TRANSP:OPAQUE
BEGIN:VALARM
TRIGGER:-PT2H
ACTION:DISPLAY
DESCRIPTION:Fire Hawks - Matthew Papenbrok vs. The Unstoppable's - Kalo Marinov
END:VALARM
END:VEVENT
BEGIN:VEVENT
UID:csparks-71111088-20251015T173000@quickscores.com
DTSTAMP:20260422T021000Z
DTSTART;TZID=America/Chicago:20251015T173000
DURATION:PT1H15M0S
SUMMARY:[4] RedBulls Blast -  Sean Carter vs. [5] Red Wasps - Andrew Martin
DESCRIPTION:Game Rescheduled from 10/18 to 10 /15 --- Youth Soccer - Grade 3rd/4th (u10) Co-ed League - Carol Stream Park District
LOCATION:Springfield #10 - Soccer
CATEGORIES:QuickScores, Soccer - Youth Game
TRANSP:OPAQUE
BEGIN:VALARM
TRIGGER:-PT2H
ACTION:DISPLAY
DESCRIPTION:[4] RedBulls Blast -  Sean Carter vs. [5] Red Wasps - Andrew Martin
END:VALARM
END:VEVENT
BEGIN:VEVENT
UID:csparks-71111090-20251018T101500@quickscores.com
DTSTAMP:20260422T021000Z
DTSTART;TZID=America/Chicago:20251018T101500
DURATION:PT1H15M0S
SUMMARY:[3] Carol Stream Strikers - George Wedel vs. [6] Revolution -  Lazaro Negro
DESCRIPTION:Youth Soccer - Grade 3rd/4th (u10) Co-ed League - Carol Stream Park District
LOCATION:Red Hawk 3 - U10
CATEGORIES:QuickScores, Soccer - Youth Game
TRANSP:OPAQUE
BEGIN:VALARM
TRIGGER:-PT2H
ACTION:DISPLAY
DESCRIPTION:[3] Carol Stream Strikers - George Wedel vs. [6] Revolution -  Lazaro Negro
END:VALARM
END:VEVENT
BEGIN:VEVENT
UID:csparks-71111091-20251018T113000@quickscores.com
DTSTAMP:20260422T021000Z
DTSTART;TZID=America/Chicago:20251018T113000
DURATION:PT1H15M0S
SUMMARY:[1] The Unstoppable's - Kalo Marinov vs. [4] RedBulls Blast -  Sean Carter
DESCRIPTION:Youth Soccer - Grade 3rd/4th (u10) Co-ed League - Carol Stream Park District
LOCATION:Red Hawk 3 - U10
CATEGORIES:QuickScores, Soccer - Youth Game
TRANSP:OPAQUE
BEGIN:VALARM
TRIGGER:-PT2H
ACTION:DISPLAY
DESCRIPTION:[1] The Unstoppable's - Kalo Marinov vs. [4] RedBulls Blast -  Sean Carter
END:VALARM
END:VEVENT
BEGIN:VEVENT
UID:csparks-71111092-20251018T124500@quickscores.com
DTSTAMP:20260422T021000Z
DTSTART;TZID=America/Chicago:20251018T124500
DURATION:PT1H15M0S
SUMMARY:[2] Fire Hawks - Matthew Papenbrok vs. [3] Carol Stream Strikers - George Wedel
DESCRIPTION:Youth Soccer - Grade 3rd/4th (u10) Co-ed League - Carol Stream Park District
LOCATION:Red Hawk 3 - U10
CATEGORIES:QuickScores, Soccer - Youth Game
TRANSP:OPAQUE
BEGIN:VALARM
TRIGGER:-PT2H
ACTION:DISPLAY
DESCRIPTION:[2] Fire Hawks - Matthew Papenbrok vs. [3] Carol Stream Strikers - George Wedel
END:VALARM
END:VEVENT
BEGIN:VEVENT
UID:csparks-71111093-20251019T124500@quickscores.com
DTSTAMP:20260422T021000Z
DTSTART;TZID=America/Chicago:20251019T124500
DURATION:PT1H15M0S
SUMMARY:[1] The Unstoppable's - Kalo Marinov vs. [2] Fire Hawks - Matthew Papenbrok
DESCRIPTION:Youth Soccer - Grade 3rd/4th (u10) Co-ed League - Carol Stream Park District
LOCATION:Red Hawk 3 - U10
CATEGORIES:QuickScores, Soccer - Youth Game
TRANSP:OPAQUE
BEGIN:VALARM
TRIGGER:-PT2H
ACTION:DISPLAY
DESCRIPTION:[1] The Unstoppable's - Kalo Marinov vs. [2] Fire Hawks - Matthew Papenbrok
END:VALARM
END:VEVENT
END:VCALENDAR
