BEGIN:VCALENDAR
VERSION:2.0
PRODID:-//QuickScores.com//BQ Dynamic iCal Creator//EN
METHOD:PUBLISH
X-WR-CALNAME:B Division Mixed - 2025 Corporate Challenge
X-WR-CALDESC:QuickScores game calendar
X-PUBLISHED-TTL:PT24H
REFRESH-INTERVAL;VALUE=DURATION:PT24H
CALSCALE:GREGORIAN
BEGIN:VTIMEZONE
TZID:America/Chicago
X-LIC-LOCATION:America/Chicago
BEGIN:DAYLIGHT
TZNAME:CDT
TZOFFSETFROM:-0600
TZOFFSETTO:-0500
DTSTART:19700308T020000
RRULE:FREQ=YEARLY;BYMONTH=3;BYDAY=2SU
END:DAYLIGHT
BEGIN:STANDARD
TZNAME:CST
TZOFFSETFROM:-0500
TZOFFSETTO:-0600
DTSTART:19701101T020000
RRULE:FREQ=YEARLY;BYMONTH=11;BYDAY=1SU
END:STANDARD
END:VTIMEZONE
BEGIN:VEVENT
UID:cc2-69815608-20250818T183000@quickscores.com
DTSTAMP:20260419T210800Z
DTSTART;TZID=America/Chicago:20250818T183000
DURATION:PT1H0M0S
SUMMARY:LJA Engineering vs. Texas Capital Bank
DESCRIPTION:B Division Mixed - City of Richardson Corporate Challenge<br>Sponsored by State Farm
LOCATION:Huffhines Tennis Center
CATEGORIES:QuickScores, Tennis Game
TRANSP:OPAQUE
BEGIN:VALARM
TRIGGER:-PT2H
ACTION:DISPLAY
DESCRIPTION:LJA Engineering vs. Texas Capital Bank
END:VALARM
END:VEVENT
BEGIN:VEVENT
UID:cc2-69815616-20250818T193000@quickscores.com
DTSTAMP:20260419T210800Z
DTSTART;TZID=America/Chicago:20250818T193000
DURATION:PT1H0M0S
SUMMARY:The Heart Hospital vs. 7-Eleven Inc.
DESCRIPTION:B Division Mixed - City of Richardson Corporate Challenge<br>Sponsored by State Farm
LOCATION:Huffhines Tennis Center
CATEGORIES:QuickScores, Tennis Game
TRANSP:OPAQUE
BEGIN:VALARM
TRIGGER:-PT2H
ACTION:DISPLAY
DESCRIPTION:The Heart Hospital vs. 7-Eleven Inc.
END:VALARM
END:VEVENT
BEGIN:VEVENT
UID:cc2-69815617-20250818T193000@quickscores.com
DTSTAMP:20260419T210800Z
DTSTART;TZID=America/Chicago:20250818T193000
DURATION:PT1H0M0S
SUMMARY:Cisco vs. HF Sinclair
DESCRIPTION:B Division Mixed - City of Richardson Corporate Challenge<br>Sponsored by State Farm
LOCATION:Huffhines Tennis Center
CATEGORIES:QuickScores, Tennis Game
TRANSP:OPAQUE
BEGIN:VALARM
TRIGGER:-PT2H
ACTION:DISPLAY
DESCRIPTION:Cisco vs. HF Sinclair
END:VALARM
END:VEVENT
BEGIN:VEVENT
UID:cc2-69815618-20250818T200000@quickscores.com
DTSTAMP:20260419T210800Z
DTSTART;TZID=America/Chicago:20250818T200000
DURATION:PT1H0M0S
SUMMARY:Geico vs. Globe Life
DESCRIPTION:B Division Mixed - City of Richardson Corporate Challenge<br>Sponsored by State Farm
LOCATION:Huffhines Tennis Center
CATEGORIES:QuickScores, Tennis Game
TRANSP:OPAQUE
BEGIN:VALARM
TRIGGER:-PT2H
ACTION:DISPLAY
DESCRIPTION:Geico vs. Globe Life
END:VALARM
END:VEVENT
BEGIN:VEVENT
UID:cc2-69815615-20250818T210000@quickscores.com
DTSTAMP:20260419T210800Z
DTSTART;TZID=America/Chicago:20250818T210000
DURATION:PT1H0M0S
SUMMARY:COR vs. Texas Capital Bank
DESCRIPTION:B Division Mixed - City of Richardson Corporate Challenge<br>Sponsored by State Farm
LOCATION:Huffhines Tennis Center
CATEGORIES:QuickScores, Tennis Game
TRANSP:OPAQUE
BEGIN:VALARM
TRIGGER:-PT2H
ACTION:DISPLAY
DESCRIPTION:COR vs. Texas Capital Bank
END:VALARM
END:VEVENT
BEGIN:VEVENT
UID:cc2-69815623-20250818T210000@quickscores.com
DTSTAMP:20260419T210800Z
DTSTART;TZID=America/Chicago:20250818T210000
DURATION:PT1H0M0S
SUMMARY:Globe Life vs. LJA Engineering
DESCRIPTION:B Division Mixed - City of Richardson Corporate Challenge<br>Sponsored by State Farm
LOCATION:Huffhines Tennis Center
CATEGORIES:QuickScores, Tennis Game
TRANSP:OPAQUE
BEGIN:VALARM
TRIGGER:-PT2H
ACTION:DISPLAY
DESCRIPTION:Globe Life vs. LJA Engineering
END:VALARM
END:VEVENT
BEGIN:VEVENT
UID:cc2-69815630-20250819T193000@quickscores.com
DTSTAMP:20260419T210800Z
DTSTART;TZID=America/Chicago:20250819T193000
DURATION:PT1H0M0S
SUMMARY:7-Eleven Inc. vs. COR
DESCRIPTION:B Division Mixed - City of Richardson Corporate Challenge<br>Sponsored by State Farm
LOCATION:Huffhines Tennis Center
CATEGORIES:QuickScores, Tennis Game
TRANSP:OPAQUE
BEGIN:VALARM
TRIGGER:-PT2H
ACTION:DISPLAY
DESCRIPTION:7-Eleven Inc. vs. COR
END:VALARM
END:VEVENT
BEGIN:VEVENT
UID:cc2-69815629-20250819T193000@quickscores.com
DTSTAMP:20260419T210800Z
DTSTART;TZID=America/Chicago:20250819T193000
DURATION:PT1H0M0S
SUMMARY:LJA Engineering vs. HF Sinclair
DESCRIPTION:B Division Mixed - City of Richardson Corporate Challenge<br>Sponsored by State Farm
LOCATION:Huffhines Tennis Center
CATEGORIES:QuickScores, Tennis Game
TRANSP:OPAQUE
BEGIN:VALARM
TRIGGER:-PT2H
ACTION:DISPLAY
DESCRIPTION:LJA Engineering vs. HF Sinclair
END:VALARM
END:VEVENT
BEGIN:VEVENT
UID:cc2-69815628-20250819T193000@quickscores.com
DTSTAMP:20260419T210800Z
DTSTART;TZID=America/Chicago:20250819T193000
DURATION:PT1H0M0S
SUMMARY:Cisco vs. Geico
DESCRIPTION:B Division Mixed - City of Richardson Corporate Challenge<br>Sponsored by State Farm
LOCATION:Huffhines Tennis Center
CATEGORIES:QuickScores, Tennis Game
TRANSP:OPAQUE
BEGIN:VALARM
TRIGGER:-PT2H
ACTION:DISPLAY
DESCRIPTION:Cisco vs. Geico
END:VALARM
END:VEVENT
BEGIN:VEVENT
UID:cc2-69815627-20250819T193000@quickscores.com
DTSTAMP:20260419T210800Z
DTSTART;TZID=America/Chicago:20250819T193000
DURATION:PT1H0M0S
SUMMARY:Texas Capital Bank vs. The Heart Hospital
DESCRIPTION:B Division Mixed - City of Richardson Corporate Challenge<br>Sponsored by State Farm
LOCATION:Huffhines Tennis Center
CATEGORIES:QuickScores, Tennis Game
TRANSP:OPAQUE
BEGIN:VALARM
TRIGGER:-PT2H
ACTION:DISPLAY
DESCRIPTION:Texas Capital Bank vs. The Heart Hospital
END:VALARM
END:VEVENT
BEGIN:VEVENT
UID:cc2-69815631-20250819T210000@quickscores.com
DTSTAMP:20260419T210800Z
DTSTART;TZID=America/Chicago:20250819T210000
DURATION:PT1H0M0S
SUMMARY:The Heart Hospital vs. HF Sinclair
DESCRIPTION:B Division Mixed - City of Richardson Corporate Challenge<br>Sponsored by State Farm
LOCATION:Huffhines Tennis Center
CATEGORIES:QuickScores, Tennis Game
TRANSP:OPAQUE
BEGIN:VALARM
TRIGGER:-PT2H
ACTION:DISPLAY
DESCRIPTION:The Heart Hospital vs. HF Sinclair
END:VALARM
END:VEVENT
BEGIN:VEVENT
UID:cc2-69815632-20250819T210000@quickscores.com
DTSTAMP:20260419T210800Z
DTSTART;TZID=America/Chicago:20250819T210000
DURATION:PT1H0M0S
SUMMARY:Geico vs. COR
DESCRIPTION:B Division Mixed - City of Richardson Corporate Challenge<br>Sponsored by State Farm
LOCATION:Huffhines Tennis Center
CATEGORIES:QuickScores, Tennis Game
TRANSP:OPAQUE
BEGIN:VALARM
TRIGGER:-PT2H
ACTION:DISPLAY
DESCRIPTION:Geico vs. COR
END:VALARM
END:VEVENT
BEGIN:VEVENT
UID:cc2-69815633-20250820T183000@quickscores.com
DTSTAMP:20260419T210800Z
DTSTART;TZID=America/Chicago:20250820T183000
DURATION:PT1H0M0S
SUMMARY:Texas Capital Bank vs. Cisco
DESCRIPTION:B Division Mixed - City of Richardson Corporate Challenge<br>Sponsored by State Farm
LOCATION:Huffhines Tennis Center
CATEGORIES:QuickScores, Tennis Game
TRANSP:OPAQUE
BEGIN:VALARM
TRIGGER:-PT2H
ACTION:DISPLAY
DESCRIPTION:Texas Capital Bank vs. Cisco
END:VALARM
END:VEVENT
BEGIN:VEVENT
UID:cc2-69815634-20250820T183000@quickscores.com
DTSTAMP:20260419T210800Z
DTSTART;TZID=America/Chicago:20250820T183000
DURATION:PT1H0M0S
SUMMARY:HF Sinclair vs. COR
DESCRIPTION:B Division Mixed - City of Richardson Corporate Challenge<br>Sponsored by State Farm
LOCATION:Huffhines Tennis Center
CATEGORIES:QuickScores, Tennis Game
TRANSP:OPAQUE
BEGIN:VALARM
TRIGGER:-PT2H
ACTION:DISPLAY
DESCRIPTION:HF Sinclair vs. COR
END:VALARM
END:VEVENT
BEGIN:VEVENT
UID:cc2-69815635-20250820T200000@quickscores.com
DTSTAMP:20260419T210800Z
DTSTART;TZID=America/Chicago:20250820T200000
DURATION:PT1H0M0S
SUMMARY:Texas Capital Bank vs. HF Sinclair
DESCRIPTION:B Division Mixed - City of Richardson Corporate Challenge<br>Sponsored by State Farm
LOCATION:Huffhines Tennis Center
CATEGORIES:QuickScores, Tennis Game
TRANSP:OPAQUE
BEGIN:VALARM
TRIGGER:-PT2H
ACTION:DISPLAY
DESCRIPTION:Texas Capital Bank vs. HF Sinclair
END:VALARM
END:VEVENT
BEGIN:VEVENT
UID:cc2-69815636-20250821T183000@quickscores.com
DTSTAMP:20260419T210800Z
DTSTART;TZID=America/Chicago:20250821T183000
DURATION:PT1H0M0S
SUMMARY:Cisco vs. HF Sinclair
DESCRIPTION:B Division Mixed - City of Richardson Corporate Challenge<br>Sponsored by State Farm
LOCATION:Huffhines Tennis Center
CATEGORIES:QuickScores, Tennis Game
TRANSP:OPAQUE
BEGIN:VALARM
TRIGGER:-PT2H
ACTION:DISPLAY
DESCRIPTION:Cisco vs. HF Sinclair
END:VALARM
END:VEVENT
BEGIN:VEVENT
UID:cc2-69815637-20250821T193000@quickscores.com
DTSTAMP:20260419T210800Z
DTSTART;TZID=America/Chicago:20250821T193000
DURATION:PT1H0M0S
SUMMARY:HF Sinclair vs. Cisco
DESCRIPTION:B Division Mixed - City of Richardson Corporate Challenge<br>Sponsored by State Farm
LOCATION:Huffhines Tennis Center
CATEGORIES:QuickScores, Tennis Game
TRANSP:OPAQUE
BEGIN:VALARM
TRIGGER:-PT2H
ACTION:DISPLAY
DESCRIPTION:HF Sinclair vs. Cisco
END:VALARM
END:VEVENT
END:VCALENDAR
