BEGIN:VCALENDAR
VERSION:2.0
PRODID:-//QuickScores.com//BQ Dynamic iCal Creator//EN
METHOD:PUBLISH
X-WR-CALNAME:B Division - 2025 Corporate Challenge
X-WR-CALDESC:QuickScores game calendar
X-PUBLISHED-TTL:PT24H
REFRESH-INTERVAL;VALUE=DURATION:PT24H
CALSCALE:GREGORIAN
BEGIN:VTIMEZONE
TZID:America/Chicago
X-LIC-LOCATION:America/Chicago
BEGIN:DAYLIGHT
TZNAME:CDT
TZOFFSETFROM:-0600
TZOFFSETTO:-0500
DTSTART:19700308T020000
RRULE:FREQ=YEARLY;BYMONTH=3;BYDAY=2SU
END:DAYLIGHT
BEGIN:STANDARD
TZNAME:CST
TZOFFSETFROM:-0500
TZOFFSETTO:-0600
DTSTART:19701101T020000
RRULE:FREQ=YEARLY;BYMONTH=11;BYDAY=1SU
END:STANDARD
END:VTIMEZONE
BEGIN:VEVENT
UID:cc2-69900507-20250926T183000@quickscores.com
DTSTAMP:20260422T193300Z
DTSTART;TZID=America/Chicago:20250926T183000
DURATION:PT1H0M0S
SUMMARY:Baylor Heart Hospital vs. Cisco
DESCRIPTION:B Division - City of Richardson Corporate Challenge<br>Sponsored by State Farm
LOCATION:Huffhines #4
CATEGORIES:QuickScores, Kickball Game
TRANSP:OPAQUE
BEGIN:VALARM
TRIGGER:-PT2H
ACTION:DISPLAY
DESCRIPTION:Baylor Heart Hospital vs. Cisco
END:VALARM
END:VEVENT
BEGIN:VEVENT
UID:cc2-69900502-20250926T193000@quickscores.com
DTSTAMP:20260422T193300Z
DTSTART;TZID=America/Chicago:20250926T193000
DURATION:PT1H0M0S
SUMMARY:Geico vs. Globe Life
DESCRIPTION:B Division - City of Richardson Corporate Challenge<br>Sponsored by State Farm
LOCATION:Huffhines #2
CATEGORIES:QuickScores, Kickball Game
TRANSP:OPAQUE
BEGIN:VALARM
TRIGGER:-PT2H
ACTION:DISPLAY
DESCRIPTION:Geico vs. Globe Life
END:VALARM
END:VEVENT
BEGIN:VEVENT
UID:cc2-69900506-20250926T193000@quickscores.com
DTSTAMP:20260422T193300Z
DTSTART;TZID=America/Chicago:20250926T193000
DURATION:PT1H0M0S
SUMMARY:HF Sinclair vs. LJA Engineering
DESCRIPTION:B Division - City of Richardson Corporate Challenge<br>Sponsored by State Farm
LOCATION:Huffhines #3
CATEGORIES:QuickScores, Kickball Game
TRANSP:OPAQUE
BEGIN:VALARM
TRIGGER:-PT2H
ACTION:DISPLAY
DESCRIPTION:HF Sinclair vs. LJA Engineering
END:VALARM
END:VEVENT
BEGIN:VEVENT
UID:cc2-69900501-20250926T193000@quickscores.com
DTSTAMP:20260422T193300Z
DTSTART;TZID=America/Chicago:20250926T193000
DURATION:PT1H0M0S
SUMMARY:Cisco vs. 7 Eleven
DESCRIPTION:B Division - City of Richardson Corporate Challenge<br>Sponsored by State Farm
LOCATION:Huffhines #1
CATEGORIES:QuickScores, Kickball Game
TRANSP:OPAQUE
BEGIN:VALARM
TRIGGER:-PT2H
ACTION:DISPLAY
DESCRIPTION:Cisco vs. 7 Eleven
END:VALARM
END:VEVENT
BEGIN:VEVENT
UID:cc2-69900505-20250927T090000@quickscores.com
DTSTAMP:20260422T193300Z
DTSTART;TZID=America/Chicago:20250927T090000
DURATION:PT1H0M0S
SUMMARY:Globe Life vs. City of Richardson
DESCRIPTION:B Division - City of Richardson Corporate Challenge<br>Sponsored by State Farm
LOCATION:Huffhines #4
CATEGORIES:QuickScores, Kickball Game
TRANSP:OPAQUE
BEGIN:VALARM
TRIGGER:-PT2H
ACTION:DISPLAY
DESCRIPTION:Globe Life vs. City of Richardson
END:VALARM
END:VEVENT
BEGIN:VEVENT
UID:cc2-69900504-20250927T100000@quickscores.com
DTSTAMP:20260422T193300Z
DTSTART;TZID=America/Chicago:20250927T100000
DURATION:PT1H0M0S
SUMMARY:7 Eleven vs. Baylor Heart Hospital
DESCRIPTION:B Division - City of Richardson Corporate Challenge<br>Sponsored by State Farm
LOCATION:Huffhines #3
CATEGORIES:QuickScores, Kickball Game
TRANSP:OPAQUE
BEGIN:VALARM
TRIGGER:-PT2H
ACTION:DISPLAY
DESCRIPTION:7 Eleven vs. Baylor Heart Hospital
END:VALARM
END:VEVENT
BEGIN:VEVENT
UID:cc2-69900503-20250927T100000@quickscores.com
DTSTAMP:20260422T193300Z
DTSTART;TZID=America/Chicago:20250927T100000
DURATION:PT1H0M0S
SUMMARY:Texas Capital Bank vs. HF Sinclair
DESCRIPTION:B Division - City of Richardson Corporate Challenge<br>Sponsored by State Farm
LOCATION:Huffhines #2
CATEGORIES:QuickScores, Kickball Game
TRANSP:OPAQUE
BEGIN:VALARM
TRIGGER:-PT2H
ACTION:DISPLAY
DESCRIPTION:Texas Capital Bank vs. HF Sinclair
END:VALARM
END:VEVENT
BEGIN:VEVENT
UID:cc2-69900508-20250927T110000@quickscores.com
DTSTAMP:20260422T193300Z
DTSTART;TZID=America/Chicago:20250927T110000
DURATION:PT1H0M0S
SUMMARY:City of Richardson vs. Geico
DESCRIPTION:B Division - City of Richardson Corporate Challenge<br>Sponsored by State Farm
LOCATION:Huffhines #1
CATEGORIES:QuickScores, Kickball Game
TRANSP:OPAQUE
BEGIN:VALARM
TRIGGER:-PT2H
ACTION:DISPLAY
DESCRIPTION:City of Richardson vs. Geico
END:VALARM
END:VEVENT
BEGIN:VEVENT
UID:cc2-69900509-20250927T110000@quickscores.com
DTSTAMP:20260422T193300Z
DTSTART;TZID=America/Chicago:20250927T110000
DURATION:PT1H0M0S
SUMMARY:LJA Engineering vs. Texas Capital Bank
DESCRIPTION:B Division - City of Richardson Corporate Challenge<br>Sponsored by State Farm
LOCATION:Huffhines #2
CATEGORIES:QuickScores, Kickball Game
TRANSP:OPAQUE
BEGIN:VALARM
TRIGGER:-PT2H
ACTION:DISPLAY
DESCRIPTION:LJA Engineering vs. Texas Capital Bank
END:VALARM
END:VEVENT
BEGIN:VEVENT
UID:cc2-69814288-20250928T100000@quickscores.com
DTSTAMP:20260422T193300Z
DTSTART;TZID=America/Chicago:20250928T100000
DURATION:PT1H0M0S
SUMMARY:[C1] HF Sinclair vs. [A2] 7 Eleven
DESCRIPTION:B Division - City of Richardson Corporate Challenge<br>Sponsored by State Farm
LOCATION:Huffhines #4
CATEGORIES:QuickScores, Kickball Game
TRANSP:OPAQUE
BEGIN:VALARM
TRIGGER:-PT2H
ACTION:DISPLAY
DESCRIPTION:[C1] HF Sinclair vs. [A2] 7 Eleven
END:VALARM
END:VEVENT
BEGIN:VEVENT
UID:cc2-69814286-20250928T100000@quickscores.com
DTSTAMP:20260422T193300Z
DTSTART;TZID=America/Chicago:20250928T100000
DURATION:PT1H0M0S
SUMMARY:[B2] Globe Life vs. [C2] Texas Capital Bank
DESCRIPTION:B Division - City of Richardson Corporate Challenge<br>Sponsored by State Farm
LOCATION:Huffhines #3
CATEGORIES:QuickScores, Kickball Game
TRANSP:OPAQUE
BEGIN:VALARM
TRIGGER:-PT2H
ACTION:DISPLAY
DESCRIPTION:[B2] Globe Life vs. [C2] Texas Capital Bank
END:VALARM
END:VEVENT
BEGIN:VEVENT
UID:cc2-69814290-20250928T110000@quickscores.com
DTSTAMP:20260422T193300Z
DTSTART;TZID=America/Chicago:20250928T110000
DURATION:PT1H0M0S
SUMMARY:[B1] Geico vs. [A2] 7 Eleven
DESCRIPTION:B Division - City of Richardson Corporate Challenge<br>Sponsored by State Farm
LOCATION:Huffhines #4
CATEGORIES:QuickScores, Kickball Game
TRANSP:OPAQUE
BEGIN:VALARM
TRIGGER:-PT2H
ACTION:DISPLAY
DESCRIPTION:[B1] Geico vs. [A2] 7 Eleven
END:VALARM
END:VEVENT
BEGIN:VEVENT
UID:cc2-69814289-20250928T110000@quickscores.com
DTSTAMP:20260422T193300Z
DTSTART;TZID=America/Chicago:20250928T110000
DURATION:PT1H0M0S
SUMMARY:[A1] Cisco vs. [C2] Texas Capital Bank
DESCRIPTION:B Division - City of Richardson Corporate Challenge<br>Sponsored by State Farm
LOCATION:Huffhines #3
CATEGORIES:QuickScores, Kickball Game
TRANSP:OPAQUE
BEGIN:VALARM
TRIGGER:-PT2H
ACTION:DISPLAY
DESCRIPTION:[A1] Cisco vs. [C2] Texas Capital Bank
END:VALARM
END:VEVENT
BEGIN:VEVENT
UID:cc2-69814293-20250928T130000@quickscores.com
DTSTAMP:20260422T193300Z
DTSTART;TZID=America/Chicago:20250928T130000
DURATION:PT1H0M0S
SUMMARY:[A1] Cisco vs. [A2] 7 Eleven
DESCRIPTION:B Division - City of Richardson Corporate Challenge<br>Sponsored by State Farm
LOCATION:Huffhines #3
CATEGORIES:QuickScores, Kickball Game
TRANSP:OPAQUE
BEGIN:VALARM
TRIGGER:-PT2H
ACTION:DISPLAY
DESCRIPTION:[A1] Cisco vs. [A2] 7 Eleven
END:VALARM
END:VEVENT
BEGIN:VEVENT
UID:cc2-69814291-20250928T130000@quickscores.com
DTSTAMP:20260422T193300Z
DTSTART;TZID=America/Chicago:20250928T130000
DURATION:PT1H0M0S
SUMMARY:[C2] Texas Capital Bank vs. [B1] Geico
DESCRIPTION:B Division - City of Richardson Corporate Challenge<br>Sponsored by State Farm
LOCATION:Huffhines #4
CATEGORIES:QuickScores, Kickball Game
TRANSP:OPAQUE
BEGIN:VALARM
TRIGGER:-PT2H
ACTION:DISPLAY
DESCRIPTION:[C2] Texas Capital Bank vs. [B1] Geico
END:VALARM
END:VEVENT
END:VCALENDAR
