BEGIN:VCALENDAR
VERSION:2.0
PRODID:-//QuickScores.com//BQ Dynamic iCal Creator//EN
METHOD:PUBLISH
X-WR-CALNAME:A Division - 2025 Corporate Challenge
X-WR-CALDESC:QuickScores game calendar
X-PUBLISHED-TTL:PT24H
REFRESH-INTERVAL;VALUE=DURATION:PT24H
CALSCALE:GREGORIAN
BEGIN:VTIMEZONE
TZID:America/Chicago
X-LIC-LOCATION:America/Chicago
BEGIN:DAYLIGHT
TZNAME:CDT
TZOFFSETFROM:-0600
TZOFFSETTO:-0500
DTSTART:19700308T020000
RRULE:FREQ=YEARLY;BYMONTH=3;BYDAY=2SU
END:DAYLIGHT
BEGIN:STANDARD
TZNAME:CST
TZOFFSETFROM:-0500
TZOFFSETTO:-0600
DTSTART:19701101T020000
RRULE:FREQ=YEARLY;BYMONTH=11;BYDAY=1SU
END:STANDARD
END:VTIMEZONE
BEGIN:VEVENT
UID:cc2-69900324-20250926T183000@quickscores.com
DTSTAMP:20260419T221600Z
DTSTART;TZID=America/Chicago:20250926T183000
DURATION:PT1H0M0S
SUMMARY:McKesson vs. RTX
DESCRIPTION:A Division - City of Richardson Corporate Challenge<br>Sponsored by State Farm
LOCATION:Huffhines #2
CATEGORIES:QuickScores, Kickball Game
TRANSP:OPAQUE
BEGIN:VALARM
TRIGGER:-PT2H
ACTION:DISPLAY
DESCRIPTION:McKesson vs. RTX
END:VALARM
END:VEVENT
BEGIN:VEVENT
UID:cc2-69900317-20250926T183000@quickscores.com
DTSTAMP:20260419T221600Z
DTSTART;TZID=America/Chicago:20250926T183000
DURATION:PT1H0M0S
SUMMARY:Lennox vs. PepsiCo
DESCRIPTION:A Division - City of Richardson Corporate Challenge<br>Sponsored by State Farm
LOCATION:Huffhines #3
CATEGORIES:QuickScores, Kickball Game
TRANSP:OPAQUE
BEGIN:VALARM
TRIGGER:-PT2H
ACTION:DISPLAY
DESCRIPTION:Lennox vs. PepsiCo
END:VALARM
END:VEVENT
BEGIN:VEVENT
UID:cc2-69900319-20250926T183000@quickscores.com
DTSTAMP:20260419T221600Z
DTSTART;TZID=America/Chicago:20250926T183000
DURATION:PT1H0M0S
SUMMARY:Texas Instruments vs. State Farm
DESCRIPTION:A Division - City of Richardson Corporate Challenge<br>Sponsored by State Farm
LOCATION:Huffhines #1
CATEGORIES:QuickScores, Kickball Game
TRANSP:OPAQUE
BEGIN:VALARM
TRIGGER:-PT2H
ACTION:DISPLAY
DESCRIPTION:Texas Instruments vs. State Farm
END:VALARM
END:VEVENT
BEGIN:VEVENT
UID:cc2-69900323-20250926T193000@quickscores.com
DTSTAMP:20260419T221600Z
DTSTART;TZID=America/Chicago:20250926T193000
DURATION:PT1H0M0S
SUMMARY:Blue Cross Blue Shield vs. Lennox
DESCRIPTION:A Division - City of Richardson Corporate Challenge<br>Sponsored by State Farm
LOCATION:Huffhines #4
CATEGORIES:QuickScores, Kickball Game
TRANSP:OPAQUE
BEGIN:VALARM
TRIGGER:-PT2H
ACTION:DISPLAY
DESCRIPTION:Blue Cross Blue Shield vs. Lennox
END:VALARM
END:VEVENT
BEGIN:VEVENT
UID:cc2-69900318-20250927T090000@quickscores.com
DTSTAMP:20260419T221600Z
DTSTART;TZID=America/Chicago:20250927T090000
DURATION:PT1H0M0S
SUMMARY:RTX vs. KPMG
DESCRIPTION:A Division - City of Richardson Corporate Challenge<br>Sponsored by State Farm
LOCATION:Huffhines #3
CATEGORIES:QuickScores, Kickball Game
TRANSP:OPAQUE
BEGIN:VALARM
TRIGGER:-PT2H
ACTION:DISPLAY
DESCRIPTION:RTX vs. KPMG
END:VALARM
END:VEVENT
BEGIN:VEVENT
UID:cc2-69900322-20250927T090000@quickscores.com
DTSTAMP:20260419T221600Z
DTSTART;TZID=America/Chicago:20250927T090000
DURATION:PT1H0M0S
SUMMARY:State Farm vs. EY
DESCRIPTION:A Division - City of Richardson Corporate Challenge<br>Sponsored by State Farm
LOCATION:Huffhines #1
CATEGORIES:QuickScores, Kickball Game
TRANSP:OPAQUE
BEGIN:VALARM
TRIGGER:-PT2H
ACTION:DISPLAY
DESCRIPTION:State Farm vs. EY
END:VALARM
END:VEVENT
BEGIN:VEVENT
UID:cc2-69900320-20250927T090000@quickscores.com
DTSTAMP:20260419T221600Z
DTSTART;TZID=America/Chicago:20250927T090000
DURATION:PT1H0M0S
SUMMARY:PepsiCo vs. Blue Cross Blue Shield
DESCRIPTION:A Division - City of Richardson Corporate Challenge<br>Sponsored by State Farm
LOCATION:Huffhines #2
CATEGORIES:QuickScores, Kickball Game
TRANSP:OPAQUE
BEGIN:VALARM
TRIGGER:-PT2H
ACTION:DISPLAY
DESCRIPTION:PepsiCo vs. Blue Cross Blue Shield
END:VALARM
END:VEVENT
BEGIN:VEVENT
UID:cc2-69900321-20250927T100000@quickscores.com
DTSTAMP:20260419T221600Z
DTSTART;TZID=America/Chicago:20250927T100000
DURATION:PT1H0M0S
SUMMARY:KPMG vs. McKesson
DESCRIPTION:A Division - City of Richardson Corporate Challenge<br>Sponsored by State Farm
LOCATION:Huffhines #1
CATEGORIES:QuickScores, Kickball Game
TRANSP:OPAQUE
BEGIN:VALARM
TRIGGER:-PT2H
ACTION:DISPLAY
DESCRIPTION:KPMG vs. McKesson
END:VALARM
END:VEVENT
BEGIN:VEVENT
UID:cc2-69900325-20250927T100000@quickscores.com
DTSTAMP:20260419T221600Z
DTSTART;TZID=America/Chicago:20250927T100000
DURATION:PT1H0M0S
SUMMARY:EY vs. Texas Instruments
DESCRIPTION:A Division - City of Richardson Corporate Challenge<br>Sponsored by State Farm
LOCATION:Huffhines #4
CATEGORIES:QuickScores, Kickball Game
TRANSP:OPAQUE
BEGIN:VALARM
TRIGGER:-PT2H
ACTION:DISPLAY
DESCRIPTION:EY vs. Texas Instruments
END:VALARM
END:VEVENT
BEGIN:VEVENT
UID:cc2-69814266-20250928T100000@quickscores.com
DTSTAMP:20260419T221600Z
DTSTART;TZID=America/Chicago:20250928T100000
DURATION:PT1H0M0S
SUMMARY:[C1] Texas Instruments vs. [A2] Lennox
DESCRIPTION:A Division - City of Richardson Corporate Challenge<br>Sponsored by State Farm
LOCATION:Huffhines #2
CATEGORIES:QuickScores, Kickball Game
TRANSP:OPAQUE
BEGIN:VALARM
TRIGGER:-PT2H
ACTION:DISPLAY
DESCRIPTION:[C1] Texas Instruments vs. [A2] Lennox
END:VALARM
END:VEVENT
BEGIN:VEVENT
UID:cc2-69814264-20250928T100000@quickscores.com
DTSTAMP:20260419T221600Z
DTSTART;TZID=America/Chicago:20250928T100000
DURATION:PT1H0M0S
SUMMARY:[B2] McKesson vs. [C2] EY
DESCRIPTION:A Division - City of Richardson Corporate Challenge<br>Sponsored by State Farm
LOCATION:Huffhines #1
CATEGORIES:QuickScores, Kickball Game
TRANSP:OPAQUE
BEGIN:VALARM
TRIGGER:-PT2H
ACTION:DISPLAY
DESCRIPTION:[B2] McKesson vs. [C2] EY
END:VALARM
END:VEVENT
BEGIN:VEVENT
UID:cc2-69814268-20250928T110000@quickscores.com
DTSTAMP:20260419T221600Z
DTSTART;TZID=America/Chicago:20250928T110000
DURATION:PT1H0M0S
SUMMARY:[B1] RTX vs. [C1] Texas Instruments
DESCRIPTION:A Division - City of Richardson Corporate Challenge<br>Sponsored by State Farm
LOCATION:Huffhines #2
CATEGORIES:QuickScores, Kickball Game
TRANSP:OPAQUE
BEGIN:VALARM
TRIGGER:-PT2H
ACTION:DISPLAY
DESCRIPTION:[B1] RTX vs. [C1] Texas Instruments
END:VALARM
END:VEVENT
BEGIN:VEVENT
UID:cc2-69814267-20250928T110000@quickscores.com
DTSTAMP:20260419T221600Z
DTSTART;TZID=America/Chicago:20250928T110000
DURATION:PT1H0M0S
SUMMARY:[A1] PepsiCo vs. [C2] EY
DESCRIPTION:A Division - City of Richardson Corporate Challenge<br>Sponsored by State Farm
LOCATION:Huffhines #1
CATEGORIES:QuickScores, Kickball Game
TRANSP:OPAQUE
BEGIN:VALARM
TRIGGER:-PT2H
ACTION:DISPLAY
DESCRIPTION:[A1] PepsiCo vs. [C2] EY
END:VALARM
END:VEVENT
BEGIN:VEVENT
UID:cc2-69814271-20250928T130000@quickscores.com
DTSTAMP:20260419T221600Z
DTSTART;TZID=America/Chicago:20250928T130000
DURATION:PT1H0M0S
SUMMARY:[A1] PepsiCo vs. [C1] Texas Instruments
DESCRIPTION:A Division - City of Richardson Corporate Challenge<br>Sponsored by State Farm
LOCATION:Huffhines #1
CATEGORIES:QuickScores, Kickball Game
TRANSP:OPAQUE
BEGIN:VALARM
TRIGGER:-PT2H
ACTION:DISPLAY
DESCRIPTION:[A1] PepsiCo vs. [C1] Texas Instruments
END:VALARM
END:VEVENT
BEGIN:VEVENT
UID:cc2-69814269-20250928T130000@quickscores.com
DTSTAMP:20260419T221600Z
DTSTART;TZID=America/Chicago:20250928T130000
DURATION:PT1H0M0S
SUMMARY:[C2] EY vs. [B1] RTX
DESCRIPTION:A Division - City of Richardson Corporate Challenge<br>Sponsored by State Farm
LOCATION:Huffhines #2
CATEGORIES:QuickScores, Kickball Game
TRANSP:OPAQUE
BEGIN:VALARM
TRIGGER:-PT2H
ACTION:DISPLAY
DESCRIPTION:[C2] EY vs. [B1] RTX
END:VALARM
END:VEVENT
END:VCALENDAR
