BEGIN:VCALENDAR
VERSION:2.0
PRODID:-//QuickScores.com//BQ Dynamic iCal Creator//EN
METHOD:PUBLISH
X-WR-CALNAME:Division D - 2025 Corporate Challenge
X-WR-CALDESC:QuickScores game calendar
X-PUBLISHED-TTL:PT24H
REFRESH-INTERVAL;VALUE=DURATION:PT24H
CALSCALE:GREGORIAN
BEGIN:VTIMEZONE
TZID:America/Chicago
X-LIC-LOCATION:America/Chicago
BEGIN:DAYLIGHT
TZNAME:CDT
TZOFFSETFROM:-0600
TZOFFSETTO:-0500
DTSTART:19700308T020000
RRULE:FREQ=YEARLY;BYMONTH=3;BYDAY=2SU
END:DAYLIGHT
BEGIN:STANDARD
TZNAME:CST
TZOFFSETFROM:-0500
TZOFFSETTO:-0600
DTSTART:19701101T020000
RRULE:FREQ=YEARLY;BYMONTH=11;BYDAY=1SU
END:STANDARD
END:VTIMEZONE
BEGIN:VEVENT
UID:cc2-69892619-20250812T183000@quickscores.com
DTSTAMP:20260423T041400Z
DTSTART;TZID=America/Chicago:20250812T183000
DURATION:PT0H1M0S
SUMMARY:Stryker vs. Ally
DESCRIPTION:Division D - City of Richardson Corporate Challenge<br>Sponsored by State Farm
LOCATION:Heights Rec Center
CATEGORIES:QuickScores, Dodgeball Game
TRANSP:OPAQUE
BEGIN:VALARM
TRIGGER:-PT2H
ACTION:DISPLAY
DESCRIPTION:Stryker vs. Ally
END:VALARM
END:VEVENT
BEGIN:VEVENT
UID:cc2-69892618-20250812T183100@quickscores.com
DTSTAMP:20260423T041400Z
DTSTART;TZID=America/Chicago:20250812T183100
DURATION:PT0H1M0S
SUMMARY:Analog Devices vs. Slalom
DESCRIPTION:Division D - City of Richardson Corporate Challenge<br>Sponsored by State Farm
LOCATION:Heights Rec Center
CATEGORIES:QuickScores, Dodgeball Game
TRANSP:OPAQUE
BEGIN:VALARM
TRIGGER:-PT2H
ACTION:DISPLAY
DESCRIPTION:Analog Devices vs. Slalom
END:VALARM
END:VEVENT
BEGIN:VEVENT
UID:cc2-69892620-20250812T183200@quickscores.com
DTSTAMP:20260423T041400Z
DTSTART;TZID=America/Chicago:20250812T183200
DURATION:PT0H1M0S
SUMMARY:L3Harris vs. Sendero Consulting
DESCRIPTION:Division D - City of Richardson Corporate Challenge<br>Sponsored by State Farm
LOCATION:Heights Rec Center
CATEGORIES:QuickScores, Dodgeball Game
TRANSP:OPAQUE
BEGIN:VALARM
TRIGGER:-PT2H
ACTION:DISPLAY
DESCRIPTION:L3Harris vs. Sendero Consulting
END:VALARM
END:VEVENT
BEGIN:VEVENT
UID:cc2-69892621-20250812T183300@quickscores.com
DTSTAMP:20260423T041400Z
DTSTART;TZID=America/Chicago:20250812T183300
DURATION:PT0H1M0S
SUMMARY:Stryker vs. Analog Devices
DESCRIPTION:Division D - City of Richardson Corporate Challenge<br>Sponsored by State Farm
LOCATION:Heights Rec Center
CATEGORIES:QuickScores, Dodgeball Game
TRANSP:OPAQUE
BEGIN:VALARM
TRIGGER:-PT2H
ACTION:DISPLAY
DESCRIPTION:Stryker vs. Analog Devices
END:VALARM
END:VEVENT
BEGIN:VEVENT
UID:cc2-69892623-20250812T183400@quickscores.com
DTSTAMP:20260423T041400Z
DTSTART;TZID=America/Chicago:20250812T183400
DURATION:PT0H1M0S
SUMMARY:Ally vs. Sendero Consulting
DESCRIPTION:Division D - City of Richardson Corporate Challenge<br>Sponsored by State Farm
LOCATION:Heights Rec Center
CATEGORIES:QuickScores, Dodgeball Game
TRANSP:OPAQUE
BEGIN:VALARM
TRIGGER:-PT2H
ACTION:DISPLAY
DESCRIPTION:Ally vs. Sendero Consulting
END:VALARM
END:VEVENT
BEGIN:VEVENT
UID:cc2-69892622-20250812T183500@quickscores.com
DTSTAMP:20260423T041400Z
DTSTART;TZID=America/Chicago:20250812T183500
DURATION:PT0H1M0S
SUMMARY:Slalom vs. L3Harris
DESCRIPTION:Division D - City of Richardson Corporate Challenge<br>Sponsored by State Farm
LOCATION:Heights Rec Center
CATEGORIES:QuickScores, Dodgeball Game
TRANSP:OPAQUE
BEGIN:VALARM
TRIGGER:-PT2H
ACTION:DISPLAY
DESCRIPTION:Slalom vs. L3Harris
END:VALARM
END:VEVENT
BEGIN:VEVENT
UID:cc2-69892624-20250812T183600@quickscores.com
DTSTAMP:20260423T041400Z
DTSTART;TZID=America/Chicago:20250812T183600
DURATION:PT0H1M0S
SUMMARY:Ally vs. Analog Devices
DESCRIPTION:Division D - City of Richardson Corporate Challenge<br>Sponsored by State Farm
LOCATION:Heights Rec Center
CATEGORIES:QuickScores, Dodgeball Game
TRANSP:OPAQUE
BEGIN:VALARM
TRIGGER:-PT2H
ACTION:DISPLAY
DESCRIPTION:Ally vs. Analog Devices
END:VALARM
END:VEVENT
BEGIN:VEVENT
UID:cc2-69892626-20250812T183700@quickscores.com
DTSTAMP:20260423T041400Z
DTSTART;TZID=America/Chicago:20250812T183700
DURATION:PT0H1M0S
SUMMARY:L3Harris vs. Stryker
DESCRIPTION:Division D - City of Richardson Corporate Challenge<br>Sponsored by State Farm
LOCATION:Heights Rec Center
CATEGORIES:QuickScores, Dodgeball Game
TRANSP:OPAQUE
BEGIN:VALARM
TRIGGER:-PT2H
ACTION:DISPLAY
DESCRIPTION:L3Harris vs. Stryker
END:VALARM
END:VEVENT
BEGIN:VEVENT
UID:cc2-69892625-20250812T183800@quickscores.com
DTSTAMP:20260423T041400Z
DTSTART;TZID=America/Chicago:20250812T183800
DURATION:PT0H1M0S
SUMMARY:Sendero Consulting vs. Slalom
DESCRIPTION:Division D - City of Richardson Corporate Challenge<br>Sponsored by State Farm
LOCATION:Heights Rec Center
CATEGORIES:QuickScores, Dodgeball Game
TRANSP:OPAQUE
BEGIN:VALARM
TRIGGER:-PT2H
ACTION:DISPLAY
DESCRIPTION:Sendero Consulting vs. Slalom
END:VALARM
END:VEVENT
BEGIN:VEVENT
UID:cc2-69813329-20250812@quickscores.com
DTSTAMP:20260423T041400Z
DTSTART;TZID=America/Chicago:20250812
SUMMARY:[A1] Slalom vs. [B1] Sendero Consulting
DESCRIPTION:Division D - City of Richardson Corporate Challenge<br>Sponsored by State Farm
CATEGORIES:QuickScores, Dodgeball Game
TRANSP:OPAQUE
BEGIN:VALARM
TRIGGER:-PT2H
ACTION:DISPLAY
DESCRIPTION:[A1] Slalom vs. [B1] Sendero Consulting
END:VALARM
END:VEVENT
BEGIN:VEVENT
UID:cc2-69813327-20250812@quickscores.com
DTSTAMP:20260423T041400Z
DTSTART;TZID=America/Chicago:20250812
SUMMARY:[B2] L3Harris vs. [A2] Analog Devices
DESCRIPTION:Division D - City of Richardson Corporate Challenge<br>Sponsored by State Farm
CATEGORIES:QuickScores, Dodgeball Game
TRANSP:OPAQUE
BEGIN:VALARM
TRIGGER:-PT2H
ACTION:DISPLAY
DESCRIPTION:[B2] L3Harris vs. [A2] Analog Devices
END:VALARM
END:VEVENT
BEGIN:VEVENT
UID:cc2-69813326-20250812@quickscores.com
DTSTAMP:20260423T041400Z
DTSTART;TZID=America/Chicago:20250812
SUMMARY:[B1] Sendero Consulting vs. [A2] Analog Devices
DESCRIPTION:Division D - City of Richardson Corporate Challenge<br>Sponsored by State Farm
CATEGORIES:QuickScores, Dodgeball Game
TRANSP:OPAQUE
BEGIN:VALARM
TRIGGER:-PT2H
ACTION:DISPLAY
DESCRIPTION:[B1] Sendero Consulting vs. [A2] Analog Devices
END:VALARM
END:VEVENT
BEGIN:VEVENT
UID:cc2-69813325-20250812@quickscores.com
DTSTAMP:20260423T041400Z
DTSTART;TZID=America/Chicago:20250812
SUMMARY:[A1] Slalom vs. [B2] L3Harris
DESCRIPTION:Division D - City of Richardson Corporate Challenge<br>Sponsored by State Farm
CATEGORIES:QuickScores, Dodgeball Game
TRANSP:OPAQUE
BEGIN:VALARM
TRIGGER:-PT2H
ACTION:DISPLAY
DESCRIPTION:[A1] Slalom vs. [B2] L3Harris
END:VALARM
END:VEVENT
END:VCALENDAR
