BEGIN:VCALENDAR
VERSION:2.0
PRODID:-//QuickScores.com//BQ Dynamic iCal Creator//EN
METHOD:PUBLISH
X-WR-CALNAME:8u - Fall 2025
X-WR-CALDESC:QuickScores game calendar
X-PUBLISHED-TTL:PT24H
REFRESH-INTERVAL;VALUE=DURATION:PT24H
CALSCALE:GREGORIAN
BEGIN:VTIMEZONE
TZID:America/New_York
X-LIC-LOCATION:America/New_York
BEGIN:DAYLIGHT
TZNAME:EDT
TZOFFSETFROM:-0500
TZOFFSETTO:-0400
DTSTART:19700308T020000
RRULE:FREQ=YEARLY;BYMONTH=3;BYDAY=2SU
END:DAYLIGHT
BEGIN:STANDARD
TZNAME:EST
TZOFFSETFROM:-0400
TZOFFSETTO:-0500
DTSTART:19701101T020000
RRULE:FREQ=YEARLY;BYMONTH=11;BYDAY=1SU
END:STANDARD
END:VTIMEZONE
BEGIN:VEVENT
UID:wrga-69816274-20250823T090000@quickscores.com
DTSTAMP:20260423T105700Z
DTSTART;TZID=America/New_York:20250823T090000
DURATION:PT1H0M0S
SUMMARY:Seminoles vs. Gators
DESCRIPTION:8u - Warner Robins Parks and Recreation 
LOCATION:Tanner 3
CATEGORIES:QuickScores, Football Game
TRANSP:OPAQUE
BEGIN:VALARM
TRIGGER:-PT2H
ACTION:DISPLAY
DESCRIPTION:Seminoles vs. Gators
END:VALARM
END:VEVENT
BEGIN:VEVENT
UID:wrga-69816275-20250823T103000@quickscores.com
DTSTAMP:20260423T105700Z
DTSTART;TZID=America/New_York:20250823T103000
DURATION:PT1H0M0S
SUMMARY:Longhorns vs. Buffaloes
DESCRIPTION:8u - Warner Robins Parks and Recreation 
LOCATION:Tanner 3
CATEGORIES:QuickScores, Football Game
TRANSP:OPAQUE
BEGIN:VALARM
TRIGGER:-PT2H
ACTION:DISPLAY
DESCRIPTION:Longhorns vs. Buffaloes
END:VALARM
END:VEVENT
BEGIN:VEVENT
UID:wrga-69816276-20250823T103000@quickscores.com
DTSTAMP:20260423T105700Z
DTSTART;TZID=America/New_York:20250823T103000
DURATION:PT1H0M0S
SUMMARY:Dolphins (P) vs. Ravens (P)
DESCRIPTION:8u - Warner Robins Parks and Recreation 
LOCATION:Creekwood
CATEGORIES:QuickScores, Football Game
TRANSP:OPAQUE
BEGIN:VALARM
TRIGGER:-PT2H
ACTION:DISPLAY
DESCRIPTION:Dolphins (P) vs. Ravens (P)
END:VALARM
END:VEVENT
BEGIN:VEVENT
UID:wrga-69816277-20250823T110000@quickscores.com
DTSTAMP:20260423T105700Z
DTSTART;TZID=America/New_York:20250823T110000
DURATION:PT1H0M0S
SUMMARY:Bulldogs vs. Seahawks (P)
DESCRIPTION:8u - Warner Robins Parks and Recreation 
LOCATION:Tanner 4
CATEGORIES:QuickScores, Football Game
TRANSP:OPAQUE
BEGIN:VALARM
TRIGGER:-PT2H
ACTION:DISPLAY
DESCRIPTION:Bulldogs vs. Seahawks (P)
END:VALARM
END:VEVENT
BEGIN:VEVENT
UID:wrga-69816283-20250902T180000@quickscores.com
DTSTAMP:20260423T105700Z
DTSTART;TZID=America/New_York:20250902T180000
DURATION:PT1H0M0S
SUMMARY:Gators vs. Ravens (P)
DESCRIPTION:8u - Warner Robins Parks and Recreation 
LOCATION:Tanner 3
CATEGORIES:QuickScores, Football Game
TRANSP:OPAQUE
BEGIN:VALARM
TRIGGER:-PT2H
ACTION:DISPLAY
DESCRIPTION:Gators vs. Ravens (P)
END:VALARM
END:VEVENT
BEGIN:VEVENT
UID:wrga-69816282-20250902T193000@quickscores.com
DTSTAMP:20260423T105700Z
DTSTART;TZID=America/New_York:20250902T193000
DURATION:PT1H0M0S
SUMMARY:Buffaloes vs. Seminoles
DESCRIPTION:8u - Warner Robins Parks and Recreation 
LOCATION:Tanner 3
CATEGORIES:QuickScores, Football Game
TRANSP:OPAQUE
BEGIN:VALARM
TRIGGER:-PT2H
ACTION:DISPLAY
DESCRIPTION:Buffaloes vs. Seminoles
END:VALARM
END:VEVENT
BEGIN:VEVENT
UID:wrga-69816284-20250906T090000@quickscores.com
DTSTAMP:20260423T105700Z
DTSTART;TZID=America/New_York:20250906T090000
DURATION:PT1H0M0S
SUMMARY:Longhorns vs. Seahawks (P)
DESCRIPTION:8u - Warner Robins Parks and Recreation 
LOCATION:Tanner 1
CATEGORIES:QuickScores, Football Game
TRANSP:OPAQUE
BEGIN:VALARM
TRIGGER:-PT2H
ACTION:DISPLAY
DESCRIPTION:Longhorns vs. Seahawks (P)
END:VALARM
END:VEVENT
BEGIN:VEVENT
UID:wrga-69816285-20250906T103000@quickscores.com
DTSTAMP:20260423T105700Z
DTSTART;TZID=America/New_York:20250906T103000
DURATION:PT1H0M0S
SUMMARY:Dolphins (P) vs. Bulldogs
DESCRIPTION:8u - Warner Robins Parks and Recreation 
LOCATION:Creekwood
CATEGORIES:QuickScores, Football Game
TRANSP:OPAQUE
BEGIN:VALARM
TRIGGER:-PT2H
ACTION:DISPLAY
DESCRIPTION:Dolphins (P) vs. Bulldogs
END:VALARM
END:VEVENT
BEGIN:VEVENT
UID:wrga-69816287-20250909T180000@quickscores.com
DTSTAMP:20260423T105700Z
DTSTART;TZID=America/New_York:20250909T180000
DURATION:PT1H0M0S
SUMMARY:Bulldogs vs. Longhorns
DESCRIPTION:8u - Warner Robins Parks and Recreation 
LOCATION:Tanner 3
CATEGORIES:QuickScores, Football Game
TRANSP:OPAQUE
BEGIN:VALARM
TRIGGER:-PT2H
ACTION:DISPLAY
DESCRIPTION:Bulldogs vs. Longhorns
END:VALARM
END:VEVENT
BEGIN:VEVENT
UID:wrga-69816289-20250909T180000@quickscores.com
DTSTAMP:20260423T105700Z
DTSTART;TZID=America/New_York:20250909T180000
DURATION:PT1H0M0S
SUMMARY:Ravens (P) vs. Buffaloes
DESCRIPTION:8u - Warner Robins Parks and Recreation 
LOCATION:Creekwood
CATEGORIES:QuickScores, Football Game
TRANSP:OPAQUE
BEGIN:VALARM
TRIGGER:-PT2H
ACTION:DISPLAY
DESCRIPTION:Ravens (P) vs. Buffaloes
END:VALARM
END:VEVENT
BEGIN:VEVENT
UID:wrga-69816288-20250909T193000@quickscores.com
DTSTAMP:20260423T105700Z
DTSTART;TZID=America/New_York:20250909T193000
DURATION:PT1H0M0S
SUMMARY:Gators vs. Seahawks (P)
DESCRIPTION:8u - Warner Robins Parks and Recreation 
LOCATION:Tanner 3
CATEGORIES:QuickScores, Football Game
TRANSP:OPAQUE
BEGIN:VALARM
TRIGGER:-PT2H
ACTION:DISPLAY
DESCRIPTION:Gators vs. Seahawks (P)
END:VALARM
END:VEVENT
BEGIN:VEVENT
UID:wrga-69816286-20250913T103000@quickscores.com
DTSTAMP:20260423T105700Z
DTSTART;TZID=America/New_York:20250913T103000
DURATION:PT1H0M0S
SUMMARY:Dolphins (P) vs. Seminoles
DESCRIPTION:8u - Warner Robins Parks and Recreation 
LOCATION:Creekwood
CATEGORIES:QuickScores, Football Game
TRANSP:OPAQUE
BEGIN:VALARM
TRIGGER:-PT2H
ACTION:DISPLAY
DESCRIPTION:Dolphins (P) vs. Seminoles
END:VALARM
END:VEVENT
BEGIN:VEVENT
UID:wrga-69816281-20250913T120000@quickscores.com
DTSTAMP:20260423T105700Z
DTSTART;TZID=America/New_York:20250913T120000
DURATION:PT1H0M0S
SUMMARY:Seahawks (P) vs. Ravens (P)
DESCRIPTION:8u - Warner Robins Parks and Recreation 
LOCATION:Creekwood
CATEGORIES:QuickScores, Football Game
TRANSP:OPAQUE
BEGIN:VALARM
TRIGGER:-PT2H
ACTION:DISPLAY
DESCRIPTION:Seahawks (P) vs. Ravens (P)
END:VALARM
END:VEVENT
BEGIN:VEVENT
UID:wrga-69816290-20250916T180000@quickscores.com
DTSTAMP:20260423T105700Z
DTSTART;TZID=America/New_York:20250916T180000
DURATION:PT1H0M0S
SUMMARY:Seminoles vs. Ravens (P)
DESCRIPTION:8u - Warner Robins Parks and Recreation 
LOCATION:Tanner 3
CATEGORIES:QuickScores, Football Game
TRANSP:OPAQUE
BEGIN:VALARM
TRIGGER:-PT2H
ACTION:DISPLAY
DESCRIPTION:Seminoles vs. Ravens (P)
END:VALARM
END:VEVENT
BEGIN:VEVENT
UID:wrga-69816293-20250916T190000@quickscores.com
DTSTAMP:20260423T105700Z
DTSTART;TZID=America/New_York:20250916T190000
DURATION:PT1H0M0S
SUMMARY:Longhorns vs. Dolphins (P)
DESCRIPTION:8u - Warner Robins Parks and Recreation 
LOCATION:Tanner 2
CATEGORIES:QuickScores, Football Game
TRANSP:OPAQUE
BEGIN:VALARM
TRIGGER:-PT2H
ACTION:DISPLAY
DESCRIPTION:Longhorns vs. Dolphins (P)
END:VALARM
END:VEVENT
BEGIN:VEVENT
UID:wrga-69816292-20250916T193000@quickscores.com
DTSTAMP:20260423T105700Z
DTSTART;TZID=America/New_York:20250916T193000
DURATION:PT1H0M0S
SUMMARY:Bulldogs vs. Gators
DESCRIPTION:8u - Warner Robins Parks and Recreation 
LOCATION:Tanner 3
CATEGORIES:QuickScores, Football Game
TRANSP:OPAQUE
BEGIN:VALARM
TRIGGER:-PT2H
ACTION:DISPLAY
DESCRIPTION:Bulldogs vs. Gators
END:VALARM
END:VEVENT
BEGIN:VEVENT
UID:wrga-69816291-20250920T090000@quickscores.com
DTSTAMP:20260423T105700Z
DTSTART;TZID=America/New_York:20250920T090000
DURATION:PT1H0M0S
SUMMARY:Seahawks (P) vs. Buffaloes
DESCRIPTION:8u - Warner Robins Parks and Recreation 
LOCATION:Creekwood
CATEGORIES:QuickScores, Football Game
TRANSP:OPAQUE
BEGIN:VALARM
TRIGGER:-PT2H
ACTION:DISPLAY
DESCRIPTION:Seahawks (P) vs. Buffaloes
END:VALARM
END:VEVENT
BEGIN:VEVENT
UID:wrga-69816279-20250923T180000@quickscores.com
DTSTAMP:20260423T105700Z
DTSTART;TZID=America/New_York:20250923T180000
DURATION:PT1H0M0S
SUMMARY:Dolphins (P) vs. Gators
DESCRIPTION:8u - Warner Robins Parks and Recreation 
LOCATION:Creekwood
CATEGORIES:QuickScores, Football Game
TRANSP:OPAQUE
BEGIN:VALARM
TRIGGER:-PT2H
ACTION:DISPLAY
DESCRIPTION:Dolphins (P) vs. Gators
END:VALARM
END:VEVENT
BEGIN:VEVENT
UID:wrga-69816278-20250923T180000@quickscores.com
DTSTAMP:20260423T105700Z
DTSTART;TZID=America/New_York:20250923T180000
DURATION:PT1H0M0S
SUMMARY:Longhorns vs. Seminoles
DESCRIPTION:8u - Warner Robins Parks and Recreation 
LOCATION:Tanner 3
CATEGORIES:QuickScores, Football Game
TRANSP:OPAQUE
BEGIN:VALARM
TRIGGER:-PT2H
ACTION:DISPLAY
DESCRIPTION:Longhorns vs. Seminoles
END:VALARM
END:VEVENT
BEGIN:VEVENT
UID:wrga-69816280-20250923T193000@quickscores.com
DTSTAMP:20260423T105700Z
DTSTART;TZID=America/New_York:20250923T193000
DURATION:PT1H0M0S
SUMMARY:Bulldogs vs. Buffaloes
DESCRIPTION:8u - Warner Robins Parks and Recreation 
LOCATION:Tanner 3
CATEGORIES:QuickScores, Football Game
TRANSP:OPAQUE
BEGIN:VALARM
TRIGGER:-PT2H
ACTION:DISPLAY
DESCRIPTION:Bulldogs vs. Buffaloes
END:VALARM
END:VEVENT
BEGIN:VEVENT
UID:wrga-69816295-20250927T103000@quickscores.com
DTSTAMP:20260423T105700Z
DTSTART;TZID=America/New_York:20250927T103000
DURATION:PT1H0M0S
SUMMARY:Seahawks (P) vs. Dolphins (P)
DESCRIPTION:8u - Warner Robins Parks and Recreation 
LOCATION:Creekwood
CATEGORIES:QuickScores, Football Game
TRANSP:OPAQUE
BEGIN:VALARM
TRIGGER:-PT2H
ACTION:DISPLAY
DESCRIPTION:Seahawks (P) vs. Dolphins (P)
END:VALARM
END:VEVENT
BEGIN:VEVENT
UID:wrga-69816294-20250927T110000@quickscores.com
DTSTAMP:20260423T105700Z
DTSTART;TZID=America/New_York:20250927T110000
DURATION:PT1H0M0S
SUMMARY:Seminoles vs. Bulldogs
DESCRIPTION:8u - Warner Robins Parks and Recreation 
LOCATION:Tanner 4
CATEGORIES:QuickScores, Football Game
TRANSP:OPAQUE
BEGIN:VALARM
TRIGGER:-PT2H
ACTION:DISPLAY
DESCRIPTION:Seminoles vs. Bulldogs
END:VALARM
END:VEVENT
BEGIN:VEVENT
UID:wrga-69816296-20250927T120000@quickscores.com
DTSTAMP:20260423T105700Z
DTSTART;TZID=America/New_York:20250927T120000
DURATION:PT1H0M0S
SUMMARY:Ravens (P) vs. Longhorns
DESCRIPTION:8u - Warner Robins Parks and Recreation 
LOCATION:Creekwood
CATEGORIES:QuickScores, Football Game
TRANSP:OPAQUE
BEGIN:VALARM
TRIGGER:-PT2H
ACTION:DISPLAY
DESCRIPTION:Ravens (P) vs. Longhorns
END:VALARM
END:VEVENT
BEGIN:VEVENT
UID:wrga-69816297-20250927T123000@quickscores.com
DTSTAMP:20260423T105700Z
DTSTART;TZID=America/New_York:20250927T123000
DURATION:PT1H0M0S
SUMMARY:Buffaloes vs. Gators
DESCRIPTION:8u - Warner Robins Parks and Recreation 
LOCATION:Tanner 4
CATEGORIES:QuickScores, Football Game
TRANSP:OPAQUE
BEGIN:VALARM
TRIGGER:-PT2H
ACTION:DISPLAY
DESCRIPTION:Buffaloes vs. Gators
END:VALARM
END:VEVENT
BEGIN:VEVENT
UID:wrga-69816298-20251004T090000@quickscores.com
DTSTAMP:20260423T105700Z
DTSTART;TZID=America/New_York:20251004T090000
DURATION:PT1H0M0S
SUMMARY:Seminoles vs. Seahawks (P)
DESCRIPTION:8u - Warner Robins Parks and Recreation 
LOCATION:Tanner 3
CATEGORIES:QuickScores, Football Game
TRANSP:OPAQUE
BEGIN:VALARM
TRIGGER:-PT2H
ACTION:DISPLAY
DESCRIPTION:Seminoles vs. Seahawks (P)
END:VALARM
END:VEVENT
BEGIN:VEVENT
UID:wrga-69816301-20251004T090000@quickscores.com
DTSTAMP:20260423T105700Z
DTSTART;TZID=America/New_York:20251004T090000
DURATION:PT1H0M0S
SUMMARY:Gators vs. Longhorns
DESCRIPTION:8u - Warner Robins Parks and Recreation 
LOCATION:Tanner 2
CATEGORIES:QuickScores, Football Game
TRANSP:OPAQUE
BEGIN:VALARM
TRIGGER:-PT2H
ACTION:DISPLAY
DESCRIPTION:Gators vs. Longhorns
END:VALARM
END:VEVENT
BEGIN:VEVENT
UID:wrga-69816300-20251004T103000@quickscores.com
DTSTAMP:20260423T105700Z
DTSTART;TZID=America/New_York:20251004T103000
DURATION:PT1H0M0S
SUMMARY:Buffaloes vs. Dolphins (P)
DESCRIPTION:8u - Warner Robins Parks and Recreation 
LOCATION:Tanner 3
CATEGORIES:QuickScores, Football Game
TRANSP:OPAQUE
BEGIN:VALARM
TRIGGER:-PT2H
ACTION:DISPLAY
DESCRIPTION:Buffaloes vs. Dolphins (P)
END:VALARM
END:VEVENT
BEGIN:VEVENT
UID:wrga-69816299-20251004T103000@quickscores.com
DTSTAMP:20260423T105700Z
DTSTART;TZID=America/New_York:20251004T103000
DURATION:PT1H0M0S
SUMMARY:Ravens (P) vs. Bulldogs
DESCRIPTION:8u - Warner Robins Parks and Recreation 
LOCATION:Creekwood
CATEGORIES:QuickScores, Football Game
TRANSP:OPAQUE
BEGIN:VALARM
TRIGGER:-PT2H
ACTION:DISPLAY
DESCRIPTION:Ravens (P) vs. Bulldogs
END:VALARM
END:VEVENT
BEGIN:VEVENT
UID:wrga-69816302-20251014T180000@quickscores.com
DTSTAMP:20260423T105700Z
DTSTART;TZID=America/New_York:20251014T180000
DURATION:PT1H0M0S
SUMMARY:Gators vs. Seminoles
DESCRIPTION:8u - Warner Robins Parks and Recreation 
LOCATION:Tanner 3
CATEGORIES:QuickScores, Football Game
TRANSP:OPAQUE
BEGIN:VALARM
TRIGGER:-PT2H
ACTION:DISPLAY
DESCRIPTION:Gators vs. Seminoles
END:VALARM
END:VEVENT
BEGIN:VEVENT
UID:wrga-69816303-20251014T193000@quickscores.com
DTSTAMP:20260423T105700Z
DTSTART;TZID=America/New_York:20251014T193000
DURATION:PT1H0M0S
SUMMARY:Buffaloes vs. Longhorns
DESCRIPTION:8u - Warner Robins Parks and Recreation 
LOCATION:Tanner 3
CATEGORIES:QuickScores, Football Game
TRANSP:OPAQUE
BEGIN:VALARM
TRIGGER:-PT2H
ACTION:DISPLAY
DESCRIPTION:Buffaloes vs. Longhorns
END:VALARM
END:VEVENT
BEGIN:VEVENT
UID:wrga-69816304-20251018T103000@quickscores.com
DTSTAMP:20260423T105700Z
DTSTART;TZID=America/New_York:20251018T103000
DURATION:PT1H0M0S
SUMMARY:Ravens (P) vs. Dolphins (P)
DESCRIPTION:8u - Warner Robins Parks and Recreation 
LOCATION:Creekwood
CATEGORIES:QuickScores, Football Game
TRANSP:OPAQUE
BEGIN:VALARM
TRIGGER:-PT2H
ACTION:DISPLAY
DESCRIPTION:Ravens (P) vs. Dolphins (P)
END:VALARM
END:VEVENT
BEGIN:VEVENT
UID:wrga-69816305-20251018T120000@quickscores.com
DTSTAMP:20260423T105700Z
DTSTART;TZID=America/New_York:20251018T120000
DURATION:PT1H0M0S
SUMMARY:Seahawks (P) vs. Bulldogs
DESCRIPTION:8u - Warner Robins Parks and Recreation 
LOCATION:Creekwood
CATEGORIES:QuickScores, Football Game
TRANSP:OPAQUE
BEGIN:VALARM
TRIGGER:-PT2H
ACTION:DISPLAY
DESCRIPTION:Seahawks (P) vs. Bulldogs
END:VALARM
END:VEVENT
BEGIN:VEVENT
UID:wrga-71358819-20251023T180000@quickscores.com
DTSTAMP:20260423T105700Z
DTSTART;TZID=America/New_York:20251023T180000
DURATION:PT1H30M0S
SUMMARY:Gators vs. Seminoles
DESCRIPTION:8u - Warner Robins Parks and Recreation 
LOCATION:Tanner 3
CATEGORIES:QuickScores, Football Game
TRANSP:OPAQUE
BEGIN:VALARM
TRIGGER:-PT2H
ACTION:DISPLAY
DESCRIPTION:Gators vs. Seminoles
END:VALARM
END:VEVENT
BEGIN:VEVENT
UID:wrga-71358818-20251023T193000@quickscores.com
DTSTAMP:20260423T105700Z
DTSTART;TZID=America/New_York:20251023T193000
DURATION:PT1H30M0S
SUMMARY:Longhorns vs. Bulldogs
DESCRIPTION:8u - Warner Robins Parks and Recreation 
LOCATION:Tanner 3
CATEGORIES:QuickScores, Football Game
TRANSP:OPAQUE
BEGIN:VALARM
TRIGGER:-PT2H
ACTION:DISPLAY
DESCRIPTION:Longhorns vs. Bulldogs
END:VALARM
END:VEVENT
BEGIN:VEVENT
UID:wrga-71358820-20251101T091500@quickscores.com
DTSTAMP:20260423T105700Z
DTSTART;TZID=America/New_York:20251101T091500
DURATION:PT1H15M0S
SUMMARY:Bulldogs vs. Seminoles
DESCRIPTION:8u - Warner Robins Parks and Recreation 
LOCATION:The Mac
CATEGORIES:QuickScores, Football Game
TRANSP:OPAQUE
BEGIN:VALARM
TRIGGER:-PT2H
ACTION:DISPLAY
DESCRIPTION:Bulldogs vs. Seminoles
END:VALARM
END:VEVENT
BEGIN:VEVENT
UID:wrga-71358821-20251101T133500@quickscores.com
DTSTAMP:20260423T105700Z
DTSTART;TZID=America/New_York:20251101T133500
DURATION:PT1H15M0S
SUMMARY:Longhorns vs. Gators
DESCRIPTION:8u - Warner Robins Parks and Recreation 
LOCATION:The Mac
CATEGORIES:QuickScores, Football Game
TRANSP:OPAQUE
BEGIN:VALARM
TRIGGER:-PT2H
ACTION:DISPLAY
DESCRIPTION:Longhorns vs. Gators
END:VALARM
END:VEVENT
END:VCALENDAR
