BEGIN:VCALENDAR
VERSION:2.0
PRODID:-//QuickScores.com//BQ Dynamic iCal Creator//EN
METHOD:PUBLISH
X-WR-CALNAME:Pupc Tuesday Night High Int League - Latesummer25 - Completed Leagues 2025
X-WR-CALDESC:QuickScores game calendar
X-PUBLISHED-TTL:PT24H
REFRESH-INTERVAL;VALUE=DURATION:PT24H
CALSCALE:GREGORIAN
BEGIN:VTIMEZONE
TZID:America/Chicago
X-LIC-LOCATION:America/Chicago
BEGIN:DAYLIGHT
TZNAME:CDT
TZOFFSETFROM:-0600
TZOFFSETTO:-0500
DTSTART:19700308T020000
RRULE:FREQ=YEARLY;BYMONTH=3;BYDAY=2SU
END:DAYLIGHT
BEGIN:STANDARD
TZNAME:CST
TZOFFSETFROM:-0500
TZOFFSETTO:-0600
DTSTART:19701101T020000
RRULE:FREQ=YEARLY;BYMONTH=11;BYDAY=1SU
END:STANDARD
END:VTIMEZONE
BEGIN:VEVENT
UID:pupc-69812714-20250722T172000@quickscores.com
DTSTAMP:20260419T225200Z
DTSTART;TZID=America/Chicago:20250722T172000
DURATION:PT0H40M0S
SUMMARY:Bodmer/Newman vs. Merrifield/Scognamiglio
DESCRIPTION:Pupc Tuesday Night High Int League - Latesummer25 - Paddle Up Pickleball Club
LOCATION:Court 7
CATEGORIES:QuickScores, Pickleball Game
TRANSP:OPAQUE
BEGIN:VALARM
TRIGGER:-PT2H
ACTION:DISPLAY
DESCRIPTION:Bodmer/Newman vs. Merrifield/Scognamiglio
END:VALARM
END:VEVENT
BEGIN:VEVENT
UID:pupc-69812715-20250722T180000@quickscores.com
DTSTAMP:20260419T225200Z
DTSTART;TZID=America/Chicago:20250722T180000
DURATION:PT0H40M0S
SUMMARY:Merrifield/Scognamiglio vs. Rosenberger/Durham
DESCRIPTION:Pupc Tuesday Night High Int League - Latesummer25 - Paddle Up Pickleball Club
LOCATION:Court 7
CATEGORIES:QuickScores, Pickleball Game
TRANSP:OPAQUE
BEGIN:VALARM
TRIGGER:-PT2H
ACTION:DISPLAY
DESCRIPTION:Merrifield/Scognamiglio vs. Rosenberger/Durham
END:VALARM
END:VEVENT
BEGIN:VEVENT
UID:pupc-69812713-20250722T180000@quickscores.com
DTSTAMP:20260419T225200Z
DTSTART;TZID=America/Chicago:20250722T180000
DURATION:PT0H40M0S
SUMMARY:Bodmer/Newman vs. Hennessy/Hennessy
DESCRIPTION:Pupc Tuesday Night High Int League - Latesummer25 - Paddle Up Pickleball Club
LOCATION:Court 8
CATEGORIES:QuickScores, Pickleball Game
TRANSP:OPAQUE
BEGIN:VALARM
TRIGGER:-PT2H
ACTION:DISPLAY
DESCRIPTION:Bodmer/Newman vs. Hennessy/Hennessy
END:VALARM
END:VEVENT
BEGIN:VEVENT
UID:pupc-69812712-20250722T184000@quickscores.com
DTSTAMP:20260419T225200Z
DTSTART;TZID=America/Chicago:20250722T184000
DURATION:PT0H40M0S
SUMMARY:Sims/Bischof vs. Hennessy/Hennessy
DESCRIPTION:Pupc Tuesday Night High Int League - Latesummer25 - Paddle Up Pickleball Club
LOCATION:Court 8
CATEGORIES:QuickScores, Pickleball Game
TRANSP:OPAQUE
BEGIN:VALARM
TRIGGER:-PT2H
ACTION:DISPLAY
DESCRIPTION:Sims/Bischof vs. Hennessy/Hennessy
END:VALARM
END:VEVENT
BEGIN:VEVENT
UID:pupc-69812709-20250722T184000@quickscores.com
DTSTAMP:20260419T225200Z
DTSTART;TZID=America/Chicago:20250722T184000
DURATION:PT0H40M0S
SUMMARY:Rosenberger/Durham vs. Girdwood/Morgan
DESCRIPTION:Pupc Tuesday Night High Int League - Latesummer25 - Paddle Up Pickleball Club
LOCATION:Court 7
CATEGORIES:QuickScores, Pickleball Game
TRANSP:OPAQUE
BEGIN:VALARM
TRIGGER:-PT2H
ACTION:DISPLAY
DESCRIPTION:Rosenberger/Durham vs. Girdwood/Morgan
END:VALARM
END:VEVENT
BEGIN:VEVENT
UID:pupc-69812710-20250722T192000@quickscores.com
DTSTAMP:20260419T225200Z
DTSTART;TZID=America/Chicago:20250722T192000
DURATION:PT0H40M0S
SUMMARY:Sigman/O'Keefe vs. Girdwood/Morgan
DESCRIPTION:Pupc Tuesday Night High Int League - Latesummer25 - Paddle Up Pickleball Club
LOCATION:Court 7
CATEGORIES:QuickScores, Pickleball Game
TRANSP:OPAQUE
BEGIN:VALARM
TRIGGER:-PT2H
ACTION:DISPLAY
DESCRIPTION:Sigman/O'Keefe vs. Girdwood/Morgan
END:VALARM
END:VEVENT
BEGIN:VEVENT
UID:pupc-69812711-20250722T200000@quickscores.com
DTSTAMP:20260419T225200Z
DTSTART;TZID=America/Chicago:20250722T200000
DURATION:PT0H40M0S
SUMMARY:Sigman/O'Keefe vs. Sims/Bischof
DESCRIPTION:Pupc Tuesday Night High Int League - Latesummer25 - Paddle Up Pickleball Club
LOCATION:Court 7
CATEGORIES:QuickScores, Pickleball Game
TRANSP:OPAQUE
BEGIN:VALARM
TRIGGER:-PT2H
ACTION:DISPLAY
DESCRIPTION:Sigman/O'Keefe vs. Sims/Bischof
END:VALARM
END:VEVENT
BEGIN:VEVENT
UID:pupc-69812716-20250729T172000@quickscores.com
DTSTAMP:20260419T225200Z
DTSTART;TZID=America/Chicago:20250729T172000
DURATION:PT0H40M0S
SUMMARY:Merrifield/Scognamiglio vs. Hennessy/Hennessy
DESCRIPTION:Pupc Tuesday Night High Int League - Latesummer25 - Paddle Up Pickleball Club
LOCATION:Court 7
CATEGORIES:QuickScores, Pickleball Game
TRANSP:OPAQUE
BEGIN:VALARM
TRIGGER:-PT2H
ACTION:DISPLAY
DESCRIPTION:Merrifield/Scognamiglio vs. Hennessy/Hennessy
END:VALARM
END:VEVENT
BEGIN:VEVENT
UID:pupc-69812717-20250729T180000@quickscores.com
DTSTAMP:20260419T225200Z
DTSTART;TZID=America/Chicago:20250729T180000
DURATION:PT0H40M0S
SUMMARY:Hennessy/Hennessy vs. Girdwood/Morgan
DESCRIPTION:Pupc Tuesday Night High Int League - Latesummer25 - Paddle Up Pickleball Club
LOCATION:Court 7
CATEGORIES:QuickScores, Pickleball Game
TRANSP:OPAQUE
BEGIN:VALARM
TRIGGER:-PT2H
ACTION:DISPLAY
DESCRIPTION:Hennessy/Hennessy vs. Girdwood/Morgan
END:VALARM
END:VEVENT
BEGIN:VEVENT
UID:pupc-69812722-20250729T180000@quickscores.com
DTSTAMP:20260419T225200Z
DTSTART;TZID=America/Chicago:20250729T180000
DURATION:PT0H40M0S
SUMMARY:Sims/Bischof vs. Merrifield/Scognamiglio
DESCRIPTION:Pupc Tuesday Night High Int League - Latesummer25 - Paddle Up Pickleball Club
LOCATION:Court 8
CATEGORIES:QuickScores, Pickleball Game
TRANSP:OPAQUE
BEGIN:VALARM
TRIGGER:-PT2H
ACTION:DISPLAY
DESCRIPTION:Sims/Bischof vs. Merrifield/Scognamiglio
END:VALARM
END:VEVENT
BEGIN:VEVENT
UID:pupc-69812718-20250729T184000@quickscores.com
DTSTAMP:20260419T225200Z
DTSTART;TZID=America/Chicago:20250729T184000
DURATION:PT0H40M0S
SUMMARY:Girdwood/Morgan vs. Bodmer/Newman
DESCRIPTION:Pupc Tuesday Night High Int League - Latesummer25 - Paddle Up Pickleball Club
LOCATION:Court 7
CATEGORIES:QuickScores, Pickleball Game
TRANSP:OPAQUE
BEGIN:VALARM
TRIGGER:-PT2H
ACTION:DISPLAY
DESCRIPTION:Girdwood/Morgan vs. Bodmer/Newman
END:VALARM
END:VEVENT
BEGIN:VEVENT
UID:pupc-69812721-20250729T184000@quickscores.com
DTSTAMP:20260419T225200Z
DTSTART;TZID=America/Chicago:20250729T184000
DURATION:PT0H40M0S
SUMMARY:Rosenberger/Durham vs. Sims/Bischof
DESCRIPTION:Pupc Tuesday Night High Int League - Latesummer25 - Paddle Up Pickleball Club
LOCATION:Court 8
CATEGORIES:QuickScores, Pickleball Game
TRANSP:OPAQUE
BEGIN:VALARM
TRIGGER:-PT2H
ACTION:DISPLAY
DESCRIPTION:Rosenberger/Durham vs. Sims/Bischof
END:VALARM
END:VEVENT
BEGIN:VEVENT
UID:pupc-69812719-20250729T192000@quickscores.com
DTSTAMP:20260419T225200Z
DTSTART;TZID=America/Chicago:20250729T192000
DURATION:PT0H40M0S
SUMMARY:Bodmer/Newman vs. Sigman/O'Keefe
DESCRIPTION:Pupc Tuesday Night High Int League - Latesummer25 - Paddle Up Pickleball Club
LOCATION:Court 7
CATEGORIES:QuickScores, Pickleball Game
TRANSP:OPAQUE
BEGIN:VALARM
TRIGGER:-PT2H
ACTION:DISPLAY
DESCRIPTION:Bodmer/Newman vs. Sigman/O'Keefe
END:VALARM
END:VEVENT
BEGIN:VEVENT
UID:pupc-69812720-20250729T200000@quickscores.com
DTSTAMP:20260419T225200Z
DTSTART;TZID=America/Chicago:20250729T200000
DURATION:PT0H40M0S
SUMMARY:Sigman/O'Keefe vs. Rosenberger/Durham
DESCRIPTION:Pupc Tuesday Night High Int League - Latesummer25 - Paddle Up Pickleball Club
LOCATION:Court 7
CATEGORIES:QuickScores, Pickleball Game
TRANSP:OPAQUE
BEGIN:VALARM
TRIGGER:-PT2H
ACTION:DISPLAY
DESCRIPTION:Sigman/O'Keefe vs. Rosenberger/Durham
END:VALARM
END:VEVENT
BEGIN:VEVENT
UID:pupc-69812727-20250805T172000@quickscores.com
DTSTAMP:20260419T225200Z
DTSTART;TZID=America/Chicago:20250805T172000
DURATION:PT0H40M0S
SUMMARY:Sigman/O'Keefe vs. Hennessy/Hennessy
DESCRIPTION:Pupc Tuesday Night High Int League - Latesummer25 - Paddle Up Pickleball Club
LOCATION:Court 7
CATEGORIES:QuickScores, Pickleball Game
TRANSP:OPAQUE
BEGIN:VALARM
TRIGGER:-PT2H
ACTION:DISPLAY
DESCRIPTION:Sigman/O'Keefe vs. Hennessy/Hennessy
END:VALARM
END:VEVENT
BEGIN:VEVENT
UID:pupc-69812726-20250805T180000@quickscores.com
DTSTAMP:20260419T225200Z
DTSTART;TZID=America/Chicago:20250805T180000
DURATION:PT0H40M0S
SUMMARY:Hennessy/Hennessy vs. Rosenberger/Durham
DESCRIPTION:Pupc Tuesday Night High Int League - Latesummer25 - Paddle Up Pickleball Club
LOCATION:Court 8
CATEGORIES:QuickScores, Pickleball Game
TRANSP:OPAQUE
BEGIN:VALARM
TRIGGER:-PT2H
ACTION:DISPLAY
DESCRIPTION:Hennessy/Hennessy vs. Rosenberger/Durham
END:VALARM
END:VEVENT
BEGIN:VEVENT
UID:pupc-69812728-20250805T180000@quickscores.com
DTSTAMP:20260419T225200Z
DTSTART;TZID=America/Chicago:20250805T180000
DURATION:PT0H40M0S
SUMMARY:Merrifield/Scognamiglio vs. Sigman/O'Keefe
DESCRIPTION:Pupc Tuesday Night High Int League - Latesummer25 - Paddle Up Pickleball Club
LOCATION:Court 7
CATEGORIES:QuickScores, Pickleball Game
TRANSP:OPAQUE
BEGIN:VALARM
TRIGGER:-PT2H
ACTION:DISPLAY
DESCRIPTION:Merrifield/Scognamiglio vs. Sigman/O'Keefe
END:VALARM
END:VEVENT
BEGIN:VEVENT
UID:pupc-69812729-20250805T184000@quickscores.com
DTSTAMP:20260419T225200Z
DTSTART;TZID=America/Chicago:20250805T184000
DURATION:PT0H40M0S
SUMMARY:Girdwood/Morgan vs. Merrifield/Scognamiglio
DESCRIPTION:Pupc Tuesday Night High Int League - Latesummer25 - Paddle Up Pickleball Club
LOCATION:Court 7
CATEGORIES:QuickScores, Pickleball Game
TRANSP:OPAQUE
BEGIN:VALARM
TRIGGER:-PT2H
ACTION:DISPLAY
DESCRIPTION:Girdwood/Morgan vs. Merrifield/Scognamiglio
END:VALARM
END:VEVENT
BEGIN:VEVENT
UID:pupc-69812725-20250805T184000@quickscores.com
DTSTAMP:20260419T225200Z
DTSTART;TZID=America/Chicago:20250805T184000
DURATION:PT0H40M0S
SUMMARY:Rosenberger/Durham vs. Bodmer/Newman
DESCRIPTION:Pupc Tuesday Night High Int League - Latesummer25 - Paddle Up Pickleball Club
LOCATION:Court 8
CATEGORIES:QuickScores, Pickleball Game
TRANSP:OPAQUE
BEGIN:VALARM
TRIGGER:-PT2H
ACTION:DISPLAY
DESCRIPTION:Rosenberger/Durham vs. Bodmer/Newman
END:VALARM
END:VEVENT
BEGIN:VEVENT
UID:pupc-69812723-20250805T192000@quickscores.com
DTSTAMP:20260419T225200Z
DTSTART;TZID=America/Chicago:20250805T192000
DURATION:PT0H40M0S
SUMMARY:Sims/Bischof vs. Girdwood/Morgan
DESCRIPTION:Pupc Tuesday Night High Int League - Latesummer25 - Paddle Up Pickleball Club
LOCATION:Court 7
CATEGORIES:QuickScores, Pickleball Game
TRANSP:OPAQUE
BEGIN:VALARM
TRIGGER:-PT2H
ACTION:DISPLAY
DESCRIPTION:Sims/Bischof vs. Girdwood/Morgan
END:VALARM
END:VEVENT
BEGIN:VEVENT
UID:pupc-69812724-20250805T200000@quickscores.com
DTSTAMP:20260419T225200Z
DTSTART;TZID=America/Chicago:20250805T200000
DURATION:PT0H40M0S
SUMMARY:Bodmer/Newman vs. Sims/Bischof
DESCRIPTION:Pupc Tuesday Night High Int League - Latesummer25 - Paddle Up Pickleball Club
LOCATION:Court 7
CATEGORIES:QuickScores, Pickleball Game
TRANSP:OPAQUE
BEGIN:VALARM
TRIGGER:-PT2H
ACTION:DISPLAY
DESCRIPTION:Bodmer/Newman vs. Sims/Bischof
END:VALARM
END:VEVENT
BEGIN:VEVENT
UID:pupc-69812734-20250812T172000@quickscores.com
DTSTAMP:20260419T225200Z
DTSTART;TZID=America/Chicago:20250812T172000
DURATION:PT0H40M0S
SUMMARY:Hennessy/Hennessy vs. Bodmer/Newman
DESCRIPTION:Pupc Tuesday Night High Int League - Latesummer25 - Paddle Up Pickleball Club
LOCATION:Court 7
CATEGORIES:QuickScores, Pickleball Game
TRANSP:OPAQUE
BEGIN:VALARM
TRIGGER:-PT2H
ACTION:DISPLAY
DESCRIPTION:Hennessy/Hennessy vs. Bodmer/Newman
END:VALARM
END:VEVENT
BEGIN:VEVENT
UID:pupc-69812733-20250812T180000@quickscores.com
DTSTAMP:20260419T225200Z
DTSTART;TZID=America/Chicago:20250812T180000
DURATION:PT0H40M0S
SUMMARY:Hennessy/Hennessy vs. Sims/Bischof
DESCRIPTION:Pupc Tuesday Night High Int League - Latesummer25 - Paddle Up Pickleball Club
LOCATION:Court 8
CATEGORIES:QuickScores, Pickleball Game
TRANSP:OPAQUE
BEGIN:VALARM
TRIGGER:-PT2H
ACTION:DISPLAY
DESCRIPTION:Hennessy/Hennessy vs. Sims/Bischof
END:VALARM
END:VEVENT
BEGIN:VEVENT
UID:pupc-69812735-20250812T180000@quickscores.com
DTSTAMP:20260419T225200Z
DTSTART;TZID=America/Chicago:20250812T180000
DURATION:PT0H40M0S
SUMMARY:Merrifield/Scognamiglio vs. Bodmer/Newman
DESCRIPTION:Pupc Tuesday Night High Int League - Latesummer25 - Paddle Up Pickleball Club
LOCATION:Court 7
CATEGORIES:QuickScores, Pickleball Game
TRANSP:OPAQUE
BEGIN:VALARM
TRIGGER:-PT2H
ACTION:DISPLAY
DESCRIPTION:Merrifield/Scognamiglio vs. Bodmer/Newman
END:VALARM
END:VEVENT
BEGIN:VEVENT
UID:pupc-69812736-20250812T184000@quickscores.com
DTSTAMP:20260419T225200Z
DTSTART;TZID=America/Chicago:20250812T184000
DURATION:PT0H40M0S
SUMMARY:Rosenberger/Durham vs. Merrifield/Scognamiglio
DESCRIPTION:Pupc Tuesday Night High Int League - Latesummer25 - Paddle Up Pickleball Club
LOCATION:Court 7
CATEGORIES:QuickScores, Pickleball Game
TRANSP:OPAQUE
BEGIN:VALARM
TRIGGER:-PT2H
ACTION:DISPLAY
DESCRIPTION:Rosenberger/Durham vs. Merrifield/Scognamiglio
END:VALARM
END:VEVENT
BEGIN:VEVENT
UID:pupc-69812732-20250812T184000@quickscores.com
DTSTAMP:20260419T225200Z
DTSTART;TZID=America/Chicago:20250812T184000
DURATION:PT0H40M0S
SUMMARY:Sims/Bischof vs. Sigman/O'Keefe
DESCRIPTION:Pupc Tuesday Night High Int League - Latesummer25 - Paddle Up Pickleball Club
LOCATION:Court 8
CATEGORIES:QuickScores, Pickleball Game
TRANSP:OPAQUE
BEGIN:VALARM
TRIGGER:-PT2H
ACTION:DISPLAY
DESCRIPTION:Sims/Bischof vs. Sigman/O'Keefe
END:VALARM
END:VEVENT
BEGIN:VEVENT
UID:pupc-69812730-20250812T192000@quickscores.com
DTSTAMP:20260419T225200Z
DTSTART;TZID=America/Chicago:20250812T192000
DURATION:PT0H40M0S
SUMMARY:Girdwood/Morgan vs. Rosenberger/Durham
DESCRIPTION:Pupc Tuesday Night High Int League - Latesummer25 - Paddle Up Pickleball Club
LOCATION:Court 7
CATEGORIES:QuickScores, Pickleball Game
TRANSP:OPAQUE
BEGIN:VALARM
TRIGGER:-PT2H
ACTION:DISPLAY
DESCRIPTION:Girdwood/Morgan vs. Rosenberger/Durham
END:VALARM
END:VEVENT
BEGIN:VEVENT
UID:pupc-69812731-20250812T200000@quickscores.com
DTSTAMP:20260419T225200Z
DTSTART;TZID=America/Chicago:20250812T200000
DURATION:PT0H40M0S
SUMMARY:Girdwood/Morgan vs. Sigman/O'Keefe
DESCRIPTION:Pupc Tuesday Night High Int League - Latesummer25 - Paddle Up Pickleball Club
LOCATION:Court 7
CATEGORIES:QuickScores, Pickleball Game
TRANSP:OPAQUE
BEGIN:VALARM
TRIGGER:-PT2H
ACTION:DISPLAY
DESCRIPTION:Girdwood/Morgan vs. Sigman/O'Keefe
END:VALARM
END:VEVENT
BEGIN:VEVENT
UID:pupc-69812737-20250819T172000@quickscores.com
DTSTAMP:20260419T225200Z
DTSTART;TZID=America/Chicago:20250819T172000
DURATION:PT0H40M0S
SUMMARY:Hennessy/Hennessy vs. Merrifield/Scognamiglio
DESCRIPTION:Pupc Tuesday Night High Int League - Latesummer25 - Paddle Up Pickleball Club
LOCATION:Court 7
CATEGORIES:QuickScores, Pickleball Game
TRANSP:OPAQUE
BEGIN:VALARM
TRIGGER:-PT2H
ACTION:DISPLAY
DESCRIPTION:Hennessy/Hennessy vs. Merrifield/Scognamiglio
END:VALARM
END:VEVENT
BEGIN:VEVENT
UID:pupc-69812738-20250819T180000@quickscores.com
DTSTAMP:20260419T225200Z
DTSTART;TZID=America/Chicago:20250819T180000
DURATION:PT0H40M0S
SUMMARY:Girdwood/Morgan vs. Hennessy/Hennessy
DESCRIPTION:Pupc Tuesday Night High Int League - Latesummer25 - Paddle Up Pickleball Club
LOCATION:Court 7
CATEGORIES:QuickScores, Pickleball Game
TRANSP:OPAQUE
BEGIN:VALARM
TRIGGER:-PT2H
ACTION:DISPLAY
DESCRIPTION:Girdwood/Morgan vs. Hennessy/Hennessy
END:VALARM
END:VEVENT
BEGIN:VEVENT
UID:pupc-69812743-20250819T180000@quickscores.com
DTSTAMP:20260419T225200Z
DTSTART;TZID=America/Chicago:20250819T180000
DURATION:PT0H40M0S
SUMMARY:Merrifield/Scognamiglio vs. Sims/Bischof
DESCRIPTION:Pupc Tuesday Night High Int League - Latesummer25 - Paddle Up Pickleball Club
LOCATION:Court 8
CATEGORIES:QuickScores, Pickleball Game
TRANSP:OPAQUE
BEGIN:VALARM
TRIGGER:-PT2H
ACTION:DISPLAY
DESCRIPTION:Merrifield/Scognamiglio vs. Sims/Bischof
END:VALARM
END:VEVENT
BEGIN:VEVENT
UID:pupc-69812739-20250819T184000@quickscores.com
DTSTAMP:20260419T225200Z
DTSTART;TZID=America/Chicago:20250819T184000
DURATION:PT0H40M0S
SUMMARY:Bodmer/Newman vs. Girdwood/Morgan
DESCRIPTION:Pupc Tuesday Night High Int League - Latesummer25 - Paddle Up Pickleball Club
LOCATION:Court 7
CATEGORIES:QuickScores, Pickleball Game
TRANSP:OPAQUE
BEGIN:VALARM
TRIGGER:-PT2H
ACTION:DISPLAY
DESCRIPTION:Bodmer/Newman vs. Girdwood/Morgan
END:VALARM
END:VEVENT
BEGIN:VEVENT
UID:pupc-69812742-20250819T184000@quickscores.com
DTSTAMP:20260419T225200Z
DTSTART;TZID=America/Chicago:20250819T184000
DURATION:PT0H40M0S
SUMMARY:Sims/Bischof vs. Rosenberger/Durham
DESCRIPTION:Pupc Tuesday Night High Int League - Latesummer25 - Paddle Up Pickleball Club
LOCATION:Court 8
CATEGORIES:QuickScores, Pickleball Game
TRANSP:OPAQUE
BEGIN:VALARM
TRIGGER:-PT2H
ACTION:DISPLAY
DESCRIPTION:Sims/Bischof vs. Rosenberger/Durham
END:VALARM
END:VEVENT
BEGIN:VEVENT
UID:pupc-69812740-20250819T192000@quickscores.com
DTSTAMP:20260419T225200Z
DTSTART;TZID=America/Chicago:20250819T192000
DURATION:PT0H40M0S
SUMMARY:Sigman/O'Keefe vs. Bodmer/Newman
DESCRIPTION:Pupc Tuesday Night High Int League - Latesummer25 - Paddle Up Pickleball Club
LOCATION:Court 7
CATEGORIES:QuickScores, Pickleball Game
TRANSP:OPAQUE
BEGIN:VALARM
TRIGGER:-PT2H
ACTION:DISPLAY
DESCRIPTION:Sigman/O'Keefe vs. Bodmer/Newman
END:VALARM
END:VEVENT
BEGIN:VEVENT
UID:pupc-69812741-20250819T200000@quickscores.com
DTSTAMP:20260419T225200Z
DTSTART;TZID=America/Chicago:20250819T200000
DURATION:PT0H40M0S
SUMMARY:Rosenberger/Durham vs. Sigman/O'Keefe
DESCRIPTION:Pupc Tuesday Night High Int League - Latesummer25 - Paddle Up Pickleball Club
LOCATION:Court 7
CATEGORIES:QuickScores, Pickleball Game
TRANSP:OPAQUE
BEGIN:VALARM
TRIGGER:-PT2H
ACTION:DISPLAY
DESCRIPTION:Rosenberger/Durham vs. Sigman/O'Keefe
END:VALARM
END:VEVENT
BEGIN:VEVENT
UID:pupc-70427711-20250826T180000@quickscores.com
DTSTAMP:20260419T225200Z
DTSTART;TZID=America/Chicago:20250826T180000
DURATION:PT0H30M0S
SUMMARY:[4] Bodmer/Newman vs. [5] Rosenberger/Durham
DESCRIPTION:Pupc Tuesday Night High Int League - Latesummer25 - Paddle Up Pickleball Club
LOCATION:Court 8
CATEGORIES:QuickScores, Pickleball Game
TRANSP:OPAQUE
BEGIN:VALARM
TRIGGER:-PT2H
ACTION:DISPLAY
DESCRIPTION:[4] Bodmer/Newman vs. [5] Rosenberger/Durham
END:VALARM
END:VEVENT
BEGIN:VEVENT
UID:pupc-70427713-20250826T180000@quickscores.com
DTSTAMP:20260419T225200Z
DTSTART;TZID=America/Chicago:20250826T180000
DURATION:PT0H30M0S
SUMMARY:[3] Merrifield/Scognamiglio vs. [6] Sims/Bischof
DESCRIPTION:Pupc Tuesday Night High Int League - Latesummer25 - Paddle Up Pickleball Club
LOCATION:Court 9
CATEGORIES:QuickScores, Pickleball Game
TRANSP:OPAQUE
BEGIN:VALARM
TRIGGER:-PT2H
ACTION:DISPLAY
DESCRIPTION:[3] Merrifield/Scognamiglio vs. [6] Sims/Bischof
END:VALARM
END:VEVENT
BEGIN:VEVENT
UID:pupc-70427712-20250826T183000@quickscores.com
DTSTAMP:20260419T225200Z
DTSTART;TZID=America/Chicago:20250826T183000
DURATION:PT0H30M0S
SUMMARY:[2] Girdwood/Morgan vs. [7] Sigman/O'Keefe
DESCRIPTION:Pupc Tuesday Night High Int League - Latesummer25 - Paddle Up Pickleball Club
LOCATION:Court 9
CATEGORIES:QuickScores, Pickleball Game
TRANSP:OPAQUE
BEGIN:VALARM
TRIGGER:-PT2H
ACTION:DISPLAY
DESCRIPTION:[2] Girdwood/Morgan vs. [7] Sigman/O'Keefe
END:VALARM
END:VEVENT
BEGIN:VEVENT
UID:pupc-70427714-20250826T183000@quickscores.com
DTSTAMP:20260419T225200Z
DTSTART;TZID=America/Chicago:20250826T183000
DURATION:PT0H30M0S
SUMMARY:[1] Hennessy/Hennessy vs. Winner of Game 1
DESCRIPTION:Pupc Tuesday Night High Int League - Latesummer25 - Paddle Up Pickleball Club
LOCATION:Court 8
CATEGORIES:QuickScores, Pickleball Game
TRANSP:OPAQUE
BEGIN:VALARM
TRIGGER:-PT2H
ACTION:DISPLAY
DESCRIPTION:[1] Hennessy/Hennessy vs. Winner of Game 1
END:VALARM
END:VEVENT
BEGIN:VEVENT
UID:pupc-70427715-20250826T190000@quickscores.com
DTSTAMP:20260419T225200Z
DTSTART;TZID=America/Chicago:20250826T190000
DURATION:PT0H30M0S
SUMMARY:Winner of Game 2 vs. Winner of Game 3
DESCRIPTION:Pupc Tuesday Night High Int League - Latesummer25 - Paddle Up Pickleball Club
LOCATION:Court 9
CATEGORIES:QuickScores, Pickleball Game
TRANSP:OPAQUE
BEGIN:VALARM
TRIGGER:-PT2H
ACTION:DISPLAY
DESCRIPTION:Winner of Game 2 vs. Winner of Game 3
END:VALARM
END:VEVENT
BEGIN:VEVENT
UID:pupc-70427716-20250826T193000@quickscores.com
DTSTAMP:20260419T225200Z
DTSTART;TZID=America/Chicago:20250826T193000
DURATION:PT0H30M0S
SUMMARY:Winner of Game 4 vs. Winner of Game 5
DESCRIPTION:Pupc Tuesday Night High Int League - Latesummer25 - Paddle Up Pickleball Club
LOCATION:Court 9
CATEGORIES:QuickScores, Pickleball Game
TRANSP:OPAQUE
BEGIN:VALARM
TRIGGER:-PT2H
ACTION:DISPLAY
DESCRIPTION:Winner of Game 4 vs. Winner of Game 5
END:VALARM
END:VEVENT
END:VCALENDAR
