BEGIN:VCALENDAR
VERSION:2.0
PRODID:-//QuickScores.com//BQ Dynamic iCal Creator//EN
METHOD:PUBLISH
X-WR-CALNAME:U8a - Spring 2025
X-WR-CALDESC:QuickScores game calendar
X-PUBLISHED-TTL:PT24H
REFRESH-INTERVAL;VALUE=DURATION:PT24H
CALSCALE:GREGORIAN
BEGIN:VTIMEZONE
TZID:America/New_York
X-LIC-LOCATION:America/New_York
BEGIN:DAYLIGHT
TZNAME:EDT
TZOFFSETFROM:-0500
TZOFFSETTO:-0400
DTSTART:19700308T020000
RRULE:FREQ=YEARLY;BYMONTH=3;BYDAY=2SU
END:DAYLIGHT
BEGIN:STANDARD
TZNAME:EST
TZOFFSETFROM:-0400
TZOFFSETTO:-0500
DTSTART:19701101T020000
RRULE:FREQ=YEARLY;BYMONTH=11;BYDAY=1SU
END:STANDARD
END:VTIMEZONE
BEGIN:VEVENT
UID:loraincountysoccer-69776635-20250412T120000@quickscores.com
DTSTAMP:20260419T145900Z
DTSTART;TZID=America/New_York:20250412T120000
DURATION:PT1H0M0S
SUMMARY:NR101010 vs. VR533703
DESCRIPTION:U8a - Lorain County Soccer League
LOCATION:NR2
CATEGORIES:QuickScores, Soccer - Youth Game
TRANSP:OPAQUE
BEGIN:VALARM
TRIGGER:-PT2H
ACTION:DISPLAY
DESCRIPTION:NR101010 vs. VR533703
END:VALARM
END:VEVENT
BEGIN:VEVENT
UID:loraincountysoccer-69776637-20250421T181500@quickscores.com
DTSTAMP:20260419T145900Z
DTSTART;TZID=America/New_York:20250421T181500
DURATION:PT1H0M0S
SUMMARY:LO330706 vs. LA123705
DESCRIPTION:U8a - Lorain County Soccer League
LOCATION:LO 1
CATEGORIES:QuickScores, Soccer - Youth Game
TRANSP:OPAQUE
BEGIN:VALARM
TRIGGER:-PT2H
ACTION:DISPLAY
DESCRIPTION:LO330706 vs. LA123705
END:VALARM
END:VEVENT
BEGIN:VEVENT
UID:loraincountysoccer-69776639-20250422T183000@quickscores.com
DTSTAMP:20260419T145900Z
DTSTART;TZID=America/New_York:20250422T183000
DURATION:PT1H0M0S
SUMMARY:VR533703 vs. ED710799
DESCRIPTION:U8a - Lorain County Soccer League
LOCATION:VR A
CATEGORIES:QuickScores, Soccer - Youth Game
TRANSP:OPAQUE
BEGIN:VALARM
TRIGGER:-PT2H
ACTION:DISPLAY
DESCRIPTION:VR533703 vs. ED710799
END:VALARM
END:VEVENT
BEGIN:VEVENT
UID:loraincountysoccer-69776638-20250424T181500@quickscores.com
DTSTAMP:20260419T145900Z
DTSTART;TZID=America/New_York:20250424T181500
DURATION:PT1H0M0S
SUMMARY:EL317710 vs. AM286702
DESCRIPTION:U8a - Lorain County Soccer League
LOCATION:EF3
CATEGORIES:QuickScores, Soccer - Youth Game
TRANSP:OPAQUE
BEGIN:VALARM
TRIGGER:-PT2H
ACTION:DISPLAY
DESCRIPTION:EL317710 vs. AM286702
END:VALARM
END:VEVENT
BEGIN:VEVENT
UID:loraincountysoccer-69776640-20250426T090000@quickscores.com
DTSTAMP:20260419T145900Z
DTSTART;TZID=America/New_York:20250426T090000
DURATION:PT1H0M0S
SUMMARY:AM286702 vs. NR101010
DESCRIPTION:U8a - Lorain County Soccer League
LOCATION:AM 2
CATEGORIES:QuickScores, Soccer - Youth Game
TRANSP:OPAQUE
BEGIN:VALARM
TRIGGER:-PT2H
ACTION:DISPLAY
DESCRIPTION:AM286702 vs. NR101010
END:VALARM
END:VEVENT
BEGIN:VEVENT
UID:loraincountysoccer-69776642-20250426T090000@quickscores.com
DTSTAMP:20260419T145900Z
DTSTART;TZID=America/New_York:20250426T090000
DURATION:PT1H0M0S
SUMMARY:VR533703 vs. EL317710
DESCRIPTION:U8a - Lorain County Soccer League
LOCATION:VR A
CATEGORIES:QuickScores, Soccer - Youth Game
TRANSP:OPAQUE
BEGIN:VALARM
TRIGGER:-PT2H
ACTION:DISPLAY
DESCRIPTION:VR533703 vs. EL317710
END:VALARM
END:VEVENT
BEGIN:VEVENT
UID:loraincountysoccer-69776641-20250426T101500@quickscores.com
DTSTAMP:20260419T145900Z
DTSTART;TZID=America/New_York:20250426T101500
DURATION:PT1H0M0S
SUMMARY:ED710799 vs. LA123705
DESCRIPTION:U8a - Lorain County Soccer League
LOCATION:ED 1
CATEGORIES:QuickScores, Soccer - Youth Game
TRANSP:OPAQUE
BEGIN:VALARM
TRIGGER:-PT2H
ACTION:DISPLAY
DESCRIPTION:ED710799 vs. LA123705
END:VALARM
END:VEVENT
BEGIN:VEVENT
UID:loraincountysoccer-69776636-20250429T181500@quickscores.com
DTSTAMP:20260419T145900Z
DTSTART;TZID=America/New_York:20250429T181500
DURATION:PT1H0M0S
SUMMARY:LA123705 vs. EL317710
DESCRIPTION:U8a - Lorain County Soccer League
LOCATION:LA 2
CATEGORIES:QuickScores, Soccer - Youth Game
TRANSP:OPAQUE
BEGIN:VALARM
TRIGGER:-PT2H
ACTION:DISPLAY
DESCRIPTION:LA123705 vs. EL317710
END:VALARM
END:VEVENT
BEGIN:VEVENT
UID:loraincountysoccer-69776645-20250503T090000@quickscores.com
DTSTAMP:20260419T145900Z
DTSTART;TZID=America/New_York:20250503T090000
DURATION:PT1H0M0S
SUMMARY:LA123705 vs. AM286702
DESCRIPTION:U8a - Lorain County Soccer League
LOCATION:LA 2
CATEGORIES:QuickScores, Soccer - Youth Game
TRANSP:OPAQUE
BEGIN:VALARM
TRIGGER:-PT2H
ACTION:DISPLAY
DESCRIPTION:LA123705 vs. AM286702
END:VALARM
END:VEVENT
BEGIN:VEVENT
UID:loraincountysoccer-69776646-20250503T120000@quickscores.com
DTSTAMP:20260419T145900Z
DTSTART;TZID=America/New_York:20250503T120000
DURATION:PT1H0M0S
SUMMARY:NR101010 vs. LO330706
DESCRIPTION:U8a - Lorain County Soccer League
LOCATION:NR1
CATEGORIES:QuickScores, Soccer - Youth Game
TRANSP:OPAQUE
BEGIN:VALARM
TRIGGER:-PT2H
ACTION:DISPLAY
DESCRIPTION:NR101010 vs. LO330706
END:VALARM
END:VEVENT
BEGIN:VEVENT
UID:loraincountysoccer-69776643-20250508T180000@quickscores.com
DTSTAMP:20260419T145900Z
DTSTART;TZID=America/New_York:20250508T180000
DURATION:PT1H0M0S
SUMMARY:EL317710 vs. VR533703
DESCRIPTION:U8a - Lorain County Soccer League
LOCATION:EF3
CATEGORIES:QuickScores, Soccer - Youth Game
TRANSP:OPAQUE
BEGIN:VALARM
TRIGGER:-PT2H
ACTION:DISPLAY
DESCRIPTION:EL317710 vs. VR533703
END:VALARM
END:VEVENT
BEGIN:VEVENT
UID:loraincountysoccer-69776650-20250510T090000@quickscores.com
DTSTAMP:20260419T145900Z
DTSTART;TZID=America/New_York:20250510T090000
DURATION:PT1H0M0S
SUMMARY:LO330706 vs. AM286702
DESCRIPTION:U8a - Lorain County Soccer League
LOCATION:LO 1
CATEGORIES:QuickScores, Soccer - Youth Game
TRANSP:OPAQUE
BEGIN:VALARM
TRIGGER:-PT2H
ACTION:DISPLAY
DESCRIPTION:LO330706 vs. AM286702
END:VALARM
END:VEVENT
BEGIN:VEVENT
UID:loraincountysoccer-69776648-20250510T101500@quickscores.com
DTSTAMP:20260419T145900Z
DTSTART;TZID=America/New_York:20250510T101500
DURATION:PT1H0M0S
SUMMARY:LA123705 vs. VR533703
DESCRIPTION:U8a - Lorain County Soccer League
LOCATION:LA 2
CATEGORIES:QuickScores, Soccer - Youth Game
TRANSP:OPAQUE
BEGIN:VALARM
TRIGGER:-PT2H
ACTION:DISPLAY
DESCRIPTION:LA123705 vs. VR533703
END:VALARM
END:VEVENT
BEGIN:VEVENT
UID:loraincountysoccer-69776647-20250510T113000@quickscores.com
DTSTAMP:20260419T145900Z
DTSTART;TZID=America/New_York:20250510T113000
DURATION:PT1H0M0S
SUMMARY:ED710799 vs. EL317710
DESCRIPTION:U8a - Lorain County Soccer League
LOCATION:ED 1
CATEGORIES:QuickScores, Soccer - Youth Game
TRANSP:OPAQUE
BEGIN:VALARM
TRIGGER:-PT2H
ACTION:DISPLAY
DESCRIPTION:ED710799 vs. EL317710
END:VALARM
END:VEVENT
BEGIN:VEVENT
UID:loraincountysoccer-69776654-20250512T191500@quickscores.com
DTSTAMP:20260419T145900Z
DTSTART;TZID=America/New_York:20250512T191500
DURATION:PT1H0M0S
SUMMARY:ED710799 vs. NR101010
DESCRIPTION:U8a - Lorain County Soccer League
LOCATION:ED 1
CATEGORIES:QuickScores, Soccer - Youth Game
TRANSP:OPAQUE
BEGIN:VALARM
TRIGGER:-PT2H
ACTION:DISPLAY
DESCRIPTION:ED710799 vs. NR101010
END:VALARM
END:VEVENT
BEGIN:VEVENT
UID:loraincountysoccer-69776655-20250513T181500@quickscores.com
DTSTAMP:20260419T145900Z
DTSTART;TZID=America/New_York:20250513T181500
DURATION:PT1H0M0S
SUMMARY:NR101010 vs. EL317710
DESCRIPTION:U8a - Lorain County Soccer League
LOCATION:NR1
CATEGORIES:QuickScores, Soccer - Youth Game
TRANSP:OPAQUE
BEGIN:VALARM
TRIGGER:-PT2H
ACTION:DISPLAY
DESCRIPTION:NR101010 vs. EL317710
END:VALARM
END:VEVENT
BEGIN:VEVENT
UID:loraincountysoccer-69776651-20250513T181500@quickscores.com
DTSTAMP:20260419T145900Z
DTSTART;TZID=America/New_York:20250513T181500
DURATION:PT1H0M0S
SUMMARY:VR533703 vs. AM286702
DESCRIPTION:U8a - Lorain County Soccer League
LOCATION:VR A
CATEGORIES:QuickScores, Soccer - Youth Game
TRANSP:OPAQUE
BEGIN:VALARM
TRIGGER:-PT2H
ACTION:DISPLAY
DESCRIPTION:VR533703 vs. AM286702
END:VALARM
END:VEVENT
BEGIN:VEVENT
UID:loraincountysoccer-69776652-20250517T090000@quickscores.com
DTSTAMP:20260419T145900Z
DTSTART;TZID=America/New_York:20250517T090000
DURATION:PT1H0M0S
SUMMARY:EL317710 vs. LO330706
DESCRIPTION:U8a - Lorain County Soccer League
LOCATION:EF3
CATEGORIES:QuickScores, Soccer - Youth Game
TRANSP:OPAQUE
BEGIN:VALARM
TRIGGER:-PT2H
ACTION:DISPLAY
DESCRIPTION:EL317710 vs. LO330706
END:VALARM
END:VEVENT
BEGIN:VEVENT
UID:loraincountysoccer-69776660-20250519T181500@quickscores.com
DTSTAMP:20260419T145900Z
DTSTART;TZID=America/New_York:20250519T181500
DURATION:PT1H0M0S
SUMMARY:LO330706 vs. NR101010
DESCRIPTION:U8a - Lorain County Soccer League
LOCATION:LO 1
CATEGORIES:QuickScores, Soccer - Youth Game
TRANSP:OPAQUE
BEGIN:VALARM
TRIGGER:-PT2H
ACTION:DISPLAY
DESCRIPTION:LO330706 vs. NR101010
END:VALARM
END:VEVENT
BEGIN:VEVENT
UID:loraincountysoccer-69776659-20250520T181500@quickscores.com
DTSTAMP:20260419T145900Z
DTSTART;TZID=America/New_York:20250520T181500
DURATION:PT1H0M0S
SUMMARY:AM286702 vs. LA123705
DESCRIPTION:U8a - Lorain County Soccer League
LOCATION:AM 2
CATEGORIES:QuickScores, Soccer - Youth Game
TRANSP:OPAQUE
BEGIN:VALARM
TRIGGER:-PT2H
ACTION:DISPLAY
DESCRIPTION:AM286702 vs. LA123705
END:VALARM
END:VEVENT
BEGIN:VEVENT
UID:loraincountysoccer-69776653-20250522T183000@quickscores.com
DTSTAMP:20260419T145900Z
DTSTART;TZID=America/New_York:20250522T183000
DURATION:PT1H0M0S
SUMMARY:LA123705 vs. NR101010
DESCRIPTION:U8a - Lorain County Soccer League
LOCATION:LA 2
CATEGORIES:QuickScores, Soccer - Youth Game
TRANSP:OPAQUE
BEGIN:VALARM
TRIGGER:-PT2H
ACTION:DISPLAY
DESCRIPTION:LA123705 vs. NR101010
END:VALARM
END:VEVENT
BEGIN:VEVENT
UID:loraincountysoccer-69776634-20250526T183000@quickscores.com
DTSTAMP:20260419T145900Z
DTSTART;TZID=America/New_York:20250526T183000
DURATION:PT1H0M0S
SUMMARY:ED710799 vs. LO330706
DESCRIPTION:U8a - Lorain County Soccer League
LOCATION:ED 1
CATEGORIES:QuickScores, Soccer - Youth Game
TRANSP:OPAQUE
BEGIN:VALARM
TRIGGER:-PT2H
ACTION:DISPLAY
DESCRIPTION:ED710799 vs. LO330706
END:VALARM
END:VEVENT
BEGIN:VEVENT
UID:loraincountysoccer-69776656-20250527T181500@quickscores.com
DTSTAMP:20260419T145900Z
DTSTART;TZID=America/New_York:20250527T181500
DURATION:PT1H0M0S
SUMMARY:LO330706 vs. VR533703
DESCRIPTION:U8a - Lorain County Soccer League
LOCATION:LO 1
CATEGORIES:QuickScores, Soccer - Youth Game
TRANSP:OPAQUE
BEGIN:VALARM
TRIGGER:-PT2H
ACTION:DISPLAY
DESCRIPTION:LO330706 vs. VR533703
END:VALARM
END:VEVENT
BEGIN:VEVENT
UID:loraincountysoccer-69776661-20250528T181500@quickscores.com
DTSTAMP:20260419T145900Z
DTSTART;TZID=America/New_York:20250528T181500
DURATION:PT1H0M0S
SUMMARY:AM286702 vs. LO330706
DESCRIPTION:U8a - Lorain County Soccer League
LOCATION:AM 2
CATEGORIES:QuickScores, Soccer - Youth Game
TRANSP:OPAQUE
BEGIN:VALARM
TRIGGER:-PT2H
ACTION:DISPLAY
DESCRIPTION:AM286702 vs. LO330706
END:VALARM
END:VEVENT
BEGIN:VEVENT
UID:loraincountysoccer-69776657-20250529T185500@quickscores.com
DTSTAMP:20260419T145900Z
DTSTART;TZID=America/New_York:20250529T185500
DURATION:PT1H0M0S
SUMMARY:AM286702 vs. ED710799
DESCRIPTION:U8a - Lorain County Soccer League
LOCATION:AM 2
CATEGORIES:QuickScores, Soccer - Youth Game
TRANSP:OPAQUE
BEGIN:VALARM
TRIGGER:-PT2H
ACTION:DISPLAY
DESCRIPTION:AM286702 vs. ED710799
END:VALARM
END:VEVENT
BEGIN:VEVENT
UID:loraincountysoccer-69776658-20250531T101500@quickscores.com
DTSTAMP:20260419T145900Z
DTSTART;TZID=America/New_York:20250531T101500
DURATION:PT1H0M0S
SUMMARY:VR533703 vs. LA123705
DESCRIPTION:U8a - Lorain County Soccer League
LOCATION:VR A
CATEGORIES:QuickScores, Soccer - Youth Game
TRANSP:OPAQUE
BEGIN:VALARM
TRIGGER:-PT2H
ACTION:DISPLAY
DESCRIPTION:VR533703 vs. LA123705
END:VALARM
END:VEVENT
BEGIN:VEVENT
UID:loraincountysoccer-69776649-20250531T120000@quickscores.com
DTSTAMP:20260419T145900Z
DTSTART;TZID=America/New_York:20250531T120000
DURATION:PT1H0M0S
SUMMARY:NR101010 vs. ED710799
DESCRIPTION:U8a - Lorain County Soccer League
LOCATION:NR1
CATEGORIES:QuickScores, Soccer - Youth Game
TRANSP:OPAQUE
BEGIN:VALARM
TRIGGER:-PT2H
ACTION:DISPLAY
DESCRIPTION:NR101010 vs. ED710799
END:VALARM
END:VEVENT
BEGIN:VEVENT
UID:loraincountysoccer-69776644-20250602T180000@quickscores.com
DTSTAMP:20260419T145900Z
DTSTART;TZID=America/New_York:20250602T180000
DURATION:PT1H0M0S
SUMMARY:EL317710 vs. ED710799
DESCRIPTION:6pm --- U8a - Lorain County Soccer League
LOCATION:EF3
CATEGORIES:QuickScores, Soccer - Youth Game
TRANSP:OPAQUE
BEGIN:VALARM
TRIGGER:-PT2H
ACTION:DISPLAY
DESCRIPTION:EL317710 vs. ED710799
END:VALARM
END:VEVENT
END:VCALENDAR
