BEGIN:VCALENDAR
VERSION:2.0
PRODID:-//QuickScores.com//BQ Dynamic iCal Creator//EN
METHOD:PUBLISH
X-WR-CALNAME:Tuesday Coed - 2025 Summer Soccer League
X-WR-CALDESC:QuickScores game calendar
X-PUBLISHED-TTL:PT24H
REFRESH-INTERVAL;VALUE=DURATION:PT24H
CALSCALE:GREGORIAN
BEGIN:VTIMEZONE
TZID:America/Los_Angeles
X-LIC-LOCATION:America/Los_Angeles
BEGIN:DAYLIGHT
TZNAME:PDT
TZOFFSETFROM:-0800
TZOFFSETTO:-0700
DTSTART:19700308T020000
RRULE:FREQ=YEARLY;BYMONTH=3;BYDAY=2SU
END:DAYLIGHT
BEGIN:STANDARD
TZNAME:PST
TZOFFSETFROM:-0700
TZOFFSETTO:-0800
DTSTART:19701101T020000
RRULE:FREQ=YEARLY;BYMONTH=11;BYDAY=1SU
END:STANDARD
END:VTIMEZONE
BEGIN:VEVENT
UID:crpd-69723470-20250708T183000@quickscores.com
DTSTAMP:20260419T145600Z
DTSTART;TZID=America/Los_Angeles:20250708T183000
DURATION:PT1H0M0S
SUMMARY:Real Bad vs. Chivas
DESCRIPTION:Tuesday Coed - Conejo Recreation and Park District
LOCATION:Dos Vientos Community Park Field #2-A
CATEGORIES:QuickScores, Soccer Game
TRANSP:OPAQUE
BEGIN:VALARM
TRIGGER:-PT2H
ACTION:DISPLAY
DESCRIPTION:Real Bad vs. Chivas
END:VALARM
END:VEVENT
BEGIN:VEVENT
UID:crpd-69723469-20250708T193000@quickscores.com
DTSTAMP:20260419T145600Z
DTSTART;TZID=America/Los_Angeles:20250708T193000
DURATION:PT1H0M0S
SUMMARY:T.F.C vs. Hooligans FC
DESCRIPTION:Tuesday Coed - Conejo Recreation and Park District
LOCATION:Dos Vientos Community Park Field #2-A
CATEGORIES:QuickScores, Soccer Game
TRANSP:OPAQUE
BEGIN:VALARM
TRIGGER:-PT2H
ACTION:DISPLAY
DESCRIPTION:T.F.C vs. Hooligans FC
END:VALARM
END:VEVENT
BEGIN:VEVENT
UID:crpd-69723471-20250708T203000@quickscores.com
DTSTAMP:20260419T145600Z
DTSTART;TZID=America/Los_Angeles:20250708T203000
DURATION:PT1H0M0S
SUMMARY:Local Legends vs. La Tijera
DESCRIPTION:Tuesday Coed - Conejo Recreation and Park District
LOCATION:Dos Vientos Community Park Field #2-A
CATEGORIES:QuickScores, Soccer Game
TRANSP:OPAQUE
BEGIN:VALARM
TRIGGER:-PT2H
ACTION:DISPLAY
DESCRIPTION:Local Legends vs. La Tijera
END:VALARM
END:VEVENT
BEGIN:VEVENT
UID:crpd-69723473-20250715T183000@quickscores.com
DTSTAMP:20260419T145600Z
DTSTART;TZID=America/Los_Angeles:20250715T183000
DURATION:PT1H0M0S
SUMMARY:Local Legends vs. Hooligans FC
DESCRIPTION:Tuesday Coed - Conejo Recreation and Park District
LOCATION:Dos Vientos Community Park Field #2-A
CATEGORIES:QuickScores, Soccer Game
TRANSP:OPAQUE
BEGIN:VALARM
TRIGGER:-PT2H
ACTION:DISPLAY
DESCRIPTION:Local Legends vs. Hooligans FC
END:VALARM
END:VEVENT
BEGIN:VEVENT
UID:crpd-69723474-20250715T193000@quickscores.com
DTSTAMP:20260419T145600Z
DTSTART;TZID=America/Los_Angeles:20250715T193000
DURATION:PT1H0M0S
SUMMARY:La Tijera vs. Chivas
DESCRIPTION:Tuesday Coed - Conejo Recreation and Park District
LOCATION:Dos Vientos Community Park Field #2-A
CATEGORIES:QuickScores, Soccer Game
TRANSP:OPAQUE
BEGIN:VALARM
TRIGGER:-PT2H
ACTION:DISPLAY
DESCRIPTION:La Tijera vs. Chivas
END:VALARM
END:VEVENT
BEGIN:VEVENT
UID:crpd-69723472-20250715T203000@quickscores.com
DTSTAMP:20260419T145600Z
DTSTART;TZID=America/Los_Angeles:20250715T203000
DURATION:PT1H0M0S
SUMMARY:T.F.C vs. Real Bad
DESCRIPTION:Tuesday Coed - Conejo Recreation and Park District
LOCATION:Dos Vientos Community Park Field #2-A
CATEGORIES:QuickScores, Soccer Game
TRANSP:OPAQUE
BEGIN:VALARM
TRIGGER:-PT2H
ACTION:DISPLAY
DESCRIPTION:T.F.C vs. Real Bad
END:VALARM
END:VEVENT
BEGIN:VEVENT
UID:crpd-69723476-20250722T183000@quickscores.com
DTSTAMP:20260419T145600Z
DTSTART;TZID=America/Los_Angeles:20250722T183000
DURATION:PT1H0M0S
SUMMARY:Hooligans FC vs. La Tijera
DESCRIPTION:Tuesday Coed - Conejo Recreation and Park District
LOCATION:Dos Vientos Community Park Field #2-A
CATEGORIES:QuickScores, Soccer Game
TRANSP:OPAQUE
BEGIN:VALARM
TRIGGER:-PT2H
ACTION:DISPLAY
DESCRIPTION:Hooligans FC vs. La Tijera
END:VALARM
END:VEVENT
BEGIN:VEVENT
UID:crpd-69723477-20250722T193000@quickscores.com
DTSTAMP:20260419T145600Z
DTSTART;TZID=America/Los_Angeles:20250722T193000
DURATION:PT1H0M0S
SUMMARY:Real Bad vs. Local Legends
DESCRIPTION:Tuesday Coed - Conejo Recreation and Park District
LOCATION:Dos Vientos Community Park Field #2-A
CATEGORIES:QuickScores, Soccer Game
TRANSP:OPAQUE
BEGIN:VALARM
TRIGGER:-PT2H
ACTION:DISPLAY
DESCRIPTION:Real Bad vs. Local Legends
END:VALARM
END:VEVENT
BEGIN:VEVENT
UID:crpd-69723475-20250722T203000@quickscores.com
DTSTAMP:20260419T145600Z
DTSTART;TZID=America/Los_Angeles:20250722T203000
DURATION:PT1H0M0S
SUMMARY:T.F.C vs. Chivas
DESCRIPTION:Tuesday Coed - Conejo Recreation and Park District
LOCATION:Dos Vientos Community Park Field #2-A
CATEGORIES:QuickScores, Soccer Game
TRANSP:OPAQUE
BEGIN:VALARM
TRIGGER:-PT2H
ACTION:DISPLAY
DESCRIPTION:T.F.C vs. Chivas
END:VALARM
END:VEVENT
BEGIN:VEVENT
UID:crpd-69723479-20250729T183000@quickscores.com
DTSTAMP:20260419T145600Z
DTSTART;TZID=America/Los_Angeles:20250729T183000
DURATION:PT1H0M0S
SUMMARY:La Tijera vs. Real Bad
DESCRIPTION:Tuesday Coed - Conejo Recreation and Park District
LOCATION:Dos Vientos Community Park Field #2-A
CATEGORIES:QuickScores, Soccer Game
TRANSP:OPAQUE
BEGIN:VALARM
TRIGGER:-PT2H
ACTION:DISPLAY
DESCRIPTION:La Tijera vs. Real Bad
END:VALARM
END:VEVENT
BEGIN:VEVENT
UID:crpd-69723478-20250729T193000@quickscores.com
DTSTAMP:20260419T145600Z
DTSTART;TZID=America/Los_Angeles:20250729T193000
DURATION:PT1H0M0S
SUMMARY:T.F.C vs. Local Legends
DESCRIPTION:Tuesday Coed - Conejo Recreation and Park District
LOCATION:Dos Vientos Community Park Field #2-A
CATEGORIES:QuickScores, Soccer Game
TRANSP:OPAQUE
BEGIN:VALARM
TRIGGER:-PT2H
ACTION:DISPLAY
DESCRIPTION:T.F.C vs. Local Legends
END:VALARM
END:VEVENT
BEGIN:VEVENT
UID:crpd-69723480-20250729T203000@quickscores.com
DTSTAMP:20260419T145600Z
DTSTART;TZID=America/Los_Angeles:20250729T203000
DURATION:PT1H0M0S
SUMMARY:Chivas vs. Hooligans FC
DESCRIPTION:Tuesday Coed - Conejo Recreation and Park District
LOCATION:Dos Vientos Community Park Field #2-A
CATEGORIES:QuickScores, Soccer Game
TRANSP:OPAQUE
BEGIN:VALARM
TRIGGER:-PT2H
ACTION:DISPLAY
DESCRIPTION:Chivas vs. Hooligans FC
END:VALARM
END:VEVENT
BEGIN:VEVENT
UID:crpd-69723482-20250805T183000@quickscores.com
DTSTAMP:20260419T145600Z
DTSTART;TZID=America/Los_Angeles:20250805T183000
DURATION:PT1H0M0S
SUMMARY:Chivas vs. Local Legends
DESCRIPTION:Tuesday Coed - Conejo Recreation and Park District
LOCATION:Dos Vientos Community Park Field #2-A
CATEGORIES:QuickScores, Soccer Game
TRANSP:OPAQUE
BEGIN:VALARM
TRIGGER:-PT2H
ACTION:DISPLAY
DESCRIPTION:Chivas vs. Local Legends
END:VALARM
END:VEVENT
BEGIN:VEVENT
UID:crpd-69723481-20250805T193000@quickscores.com
DTSTAMP:20260419T145600Z
DTSTART;TZID=America/Los_Angeles:20250805T193000
DURATION:PT1H0M0S
SUMMARY:T.F.C vs. La Tijera
DESCRIPTION:Tuesday Coed - Conejo Recreation and Park District
LOCATION:Dos Vientos Community Park Field #2-A
CATEGORIES:QuickScores, Soccer Game
TRANSP:OPAQUE
BEGIN:VALARM
TRIGGER:-PT2H
ACTION:DISPLAY
DESCRIPTION:T.F.C vs. La Tijera
END:VALARM
END:VEVENT
BEGIN:VEVENT
UID:crpd-69723483-20250805T203000@quickscores.com
DTSTAMP:20260419T145600Z
DTSTART;TZID=America/Los_Angeles:20250805T203000
DURATION:PT1H0M0S
SUMMARY:Hooligans FC vs. Real Bad
DESCRIPTION:Tuesday Coed - Conejo Recreation and Park District
LOCATION:Dos Vientos Community Park Field #2-A
CATEGORIES:QuickScores, Soccer Game
TRANSP:OPAQUE
BEGIN:VALARM
TRIGGER:-PT2H
ACTION:DISPLAY
DESCRIPTION:Hooligans FC vs. Real Bad
END:VALARM
END:VEVENT
BEGIN:VEVENT
UID:crpd-69723484-20250812T183000@quickscores.com
DTSTAMP:20260419T145600Z
DTSTART;TZID=America/Los_Angeles:20250812T183000
DURATION:PT1H0M0S
SUMMARY:Hooligans FC vs. T.F.C
DESCRIPTION:Tuesday Coed - Conejo Recreation and Park District
LOCATION:Dos Vientos Community Park Field #2-A
CATEGORIES:QuickScores, Soccer Game
TRANSP:OPAQUE
BEGIN:VALARM
TRIGGER:-PT2H
ACTION:DISPLAY
DESCRIPTION:Hooligans FC vs. T.F.C
END:VALARM
END:VEVENT
BEGIN:VEVENT
UID:crpd-69723485-20250812T193000@quickscores.com
DTSTAMP:20260419T145600Z
DTSTART;TZID=America/Los_Angeles:20250812T193000
DURATION:PT1H0M0S
SUMMARY:Chivas vs. Real Bad
DESCRIPTION:Tuesday Coed - Conejo Recreation and Park District
LOCATION:Dos Vientos Community Park Field #2-A
CATEGORIES:QuickScores, Soccer Game
TRANSP:OPAQUE
BEGIN:VALARM
TRIGGER:-PT2H
ACTION:DISPLAY
DESCRIPTION:Chivas vs. Real Bad
END:VALARM
END:VEVENT
BEGIN:VEVENT
UID:crpd-69723486-20250812T203000@quickscores.com
DTSTAMP:20260419T145600Z
DTSTART;TZID=America/Los_Angeles:20250812T203000
DURATION:PT1H0M0S
SUMMARY:La Tijera vs. Local Legends
DESCRIPTION:Tuesday Coed - Conejo Recreation and Park District
LOCATION:Dos Vientos Community Park Field #2-A
CATEGORIES:QuickScores, Soccer Game
TRANSP:OPAQUE
BEGIN:VALARM
TRIGGER:-PT2H
ACTION:DISPLAY
DESCRIPTION:La Tijera vs. Local Legends
END:VALARM
END:VEVENT
BEGIN:VEVENT
UID:crpd-69723487-20250819T183000@quickscores.com
DTSTAMP:20260419T145600Z
DTSTART;TZID=America/Los_Angeles:20250819T183000
DURATION:PT1H0M0S
SUMMARY:Real Bad vs. T.F.C
DESCRIPTION:Tuesday Coed - Conejo Recreation and Park District
LOCATION:Dos Vientos Community Park Field #2-A
CATEGORIES:QuickScores, Soccer Game
TRANSP:OPAQUE
BEGIN:VALARM
TRIGGER:-PT2H
ACTION:DISPLAY
DESCRIPTION:Real Bad vs. T.F.C
END:VALARM
END:VEVENT
BEGIN:VEVENT
UID:crpd-69723488-20250819T193000@quickscores.com
DTSTAMP:20260419T145600Z
DTSTART;TZID=America/Los_Angeles:20250819T193000
DURATION:PT1H0M0S
SUMMARY:Hooligans FC vs. Local Legends
DESCRIPTION:Tuesday Coed - Conejo Recreation and Park District
LOCATION:Dos Vientos Community Park Field #2-A
CATEGORIES:QuickScores, Soccer Game
TRANSP:OPAQUE
BEGIN:VALARM
TRIGGER:-PT2H
ACTION:DISPLAY
DESCRIPTION:Hooligans FC vs. Local Legends
END:VALARM
END:VEVENT
BEGIN:VEVENT
UID:crpd-69723489-20250819T203000@quickscores.com
DTSTAMP:20260419T145600Z
DTSTART;TZID=America/Los_Angeles:20250819T203000
DURATION:PT1H0M0S
SUMMARY:Chivas vs. La Tijera
DESCRIPTION:Tuesday Coed - Conejo Recreation and Park District
LOCATION:Dos Vientos Community Park Field #2-A
CATEGORIES:QuickScores, Soccer Game
TRANSP:OPAQUE
BEGIN:VALARM
TRIGGER:-PT2H
ACTION:DISPLAY
DESCRIPTION:Chivas vs. La Tijera
END:VALARM
END:VEVENT
BEGIN:VEVENT
UID:crpd-69723492-20250826T183000@quickscores.com
DTSTAMP:20260419T145600Z
DTSTART;TZID=America/Los_Angeles:20250826T183000
DURATION:PT1H0M0S
SUMMARY:Local Legends vs. Real Bad
DESCRIPTION:Tuesday Coed - Conejo Recreation and Park District
LOCATION:Dos Vientos Community Park Field #2-A
CATEGORIES:QuickScores, Soccer Game
TRANSP:OPAQUE
BEGIN:VALARM
TRIGGER:-PT2H
ACTION:DISPLAY
DESCRIPTION:Local Legends vs. Real Bad
END:VALARM
END:VEVENT
BEGIN:VEVENT
UID:crpd-69723491-20250826T193000@quickscores.com
DTSTAMP:20260419T145600Z
DTSTART;TZID=America/Los_Angeles:20250826T193000
DURATION:PT1H0M0S
SUMMARY:La Tijera vs. Hooligans FC
DESCRIPTION:Tuesday Coed - Conejo Recreation and Park District
LOCATION:Dos Vientos Community Park Field #2-A
CATEGORIES:QuickScores, Soccer Game
TRANSP:OPAQUE
BEGIN:VALARM
TRIGGER:-PT2H
ACTION:DISPLAY
DESCRIPTION:La Tijera vs. Hooligans FC
END:VALARM
END:VEVENT
BEGIN:VEVENT
UID:crpd-69723490-20250826T203000@quickscores.com
DTSTAMP:20260419T145600Z
DTSTART;TZID=America/Los_Angeles:20250826T203000
DURATION:PT1H0M0S
SUMMARY:Chivas vs. T.F.C
DESCRIPTION:Tuesday Coed - Conejo Recreation and Park District
LOCATION:Dos Vientos Community Park Field #2-A
CATEGORIES:QuickScores, Soccer Game
TRANSP:OPAQUE
BEGIN:VALARM
TRIGGER:-PT2H
ACTION:DISPLAY
DESCRIPTION:Chivas vs. T.F.C
END:VALARM
END:VEVENT
BEGIN:VEVENT
UID:crpd-69723495-20250902T183000@quickscores.com
DTSTAMP:20260419T145600Z
DTSTART;TZID=America/Los_Angeles:20250902T183000
DURATION:PT1H0M0S
SUMMARY:Hooligans FC vs. Chivas
DESCRIPTION:Tuesday Coed - Conejo Recreation and Park District
LOCATION:Dos Vientos Community Park Field #2-A
CATEGORIES:QuickScores, Soccer Game
TRANSP:OPAQUE
BEGIN:VALARM
TRIGGER:-PT2H
ACTION:DISPLAY
DESCRIPTION:Hooligans FC vs. Chivas
END:VALARM
END:VEVENT
BEGIN:VEVENT
UID:crpd-69723494-20250902T193000@quickscores.com
DTSTAMP:20260419T145600Z
DTSTART;TZID=America/Los_Angeles:20250902T193000
DURATION:PT1H0M0S
SUMMARY:Real Bad vs. La Tijera
DESCRIPTION:Tuesday Coed - Conejo Recreation and Park District
LOCATION:Dos Vientos Community Park Field #2-A
CATEGORIES:QuickScores, Soccer Game
TRANSP:OPAQUE
BEGIN:VALARM
TRIGGER:-PT2H
ACTION:DISPLAY
DESCRIPTION:Real Bad vs. La Tijera
END:VALARM
END:VEVENT
BEGIN:VEVENT
UID:crpd-69723493-20250902T203000@quickscores.com
DTSTAMP:20260419T145600Z
DTSTART;TZID=America/Los_Angeles:20250902T203000
DURATION:PT1H0M0S
SUMMARY:Local Legends vs. T.F.C
DESCRIPTION:Tuesday Coed - Conejo Recreation and Park District
LOCATION:Dos Vientos Community Park Field #2-A
CATEGORIES:QuickScores, Soccer Game
TRANSP:OPAQUE
BEGIN:VALARM
TRIGGER:-PT2H
ACTION:DISPLAY
DESCRIPTION:Local Legends vs. T.F.C
END:VALARM
END:VEVENT
BEGIN:VEVENT
UID:crpd-69723496-20250909T183000@quickscores.com
DTSTAMP:20260419T145600Z
DTSTART;TZID=America/Los_Angeles:20250909T183000
DURATION:PT1H0M0S
SUMMARY:La Tijera vs. T.F.C
DESCRIPTION:Tuesday Coed - Conejo Recreation and Park District
LOCATION:Dos Vientos Community Park Field #2-A
CATEGORIES:QuickScores, Soccer Game
TRANSP:OPAQUE
BEGIN:VALARM
TRIGGER:-PT2H
ACTION:DISPLAY
DESCRIPTION:La Tijera vs. T.F.C
END:VALARM
END:VEVENT
BEGIN:VEVENT
UID:crpd-69723497-20250909T193000@quickscores.com
DTSTAMP:20260419T145600Z
DTSTART;TZID=America/Los_Angeles:20250909T193000
DURATION:PT1H0M0S
SUMMARY:Local Legends vs. Chivas
DESCRIPTION:Tuesday Coed - Conejo Recreation and Park District
LOCATION:Dos Vientos Community Park Field #2-A
CATEGORIES:QuickScores, Soccer Game
TRANSP:OPAQUE
BEGIN:VALARM
TRIGGER:-PT2H
ACTION:DISPLAY
DESCRIPTION:Local Legends vs. Chivas
END:VALARM
END:VEVENT
BEGIN:VEVENT
UID:crpd-69723498-20250909T203000@quickscores.com
DTSTAMP:20260419T145600Z
DTSTART;TZID=America/Los_Angeles:20250909T203000
DURATION:PT1H0M0S
SUMMARY:Real Bad vs. Hooligans FC
DESCRIPTION:Tuesday Coed - Conejo Recreation and Park District
LOCATION:Dos Vientos Community Park Field #2-A
CATEGORIES:QuickScores, Soccer Game
TRANSP:OPAQUE
BEGIN:VALARM
TRIGGER:-PT2H
ACTION:DISPLAY
DESCRIPTION:Real Bad vs. Hooligans FC
END:VALARM
END:VEVENT
END:VCALENDAR
