BEGIN:VCALENDAR
VERSION:2.0
PRODID:-//QuickScores.com//BQ Dynamic iCal Creator//EN
METHOD:PUBLISH
X-WR-CALNAME:Women 55 Aaa - 2025 USA Softball Senior Nationals
X-WR-CALDESC:QuickScores game calendar
X-PUBLISHED-TTL:PT24H
REFRESH-INTERVAL;VALUE=DURATION:PT24H
CALSCALE:GREGORIAN
BEGIN:VTIMEZONE
TZID:America/New_York
X-LIC-LOCATION:America/New_York
BEGIN:DAYLIGHT
TZNAME:EDT
TZOFFSETFROM:-0500
TZOFFSETTO:-0400
DTSTART:19700308T020000
RRULE:FREQ=YEARLY;BYMONTH=3;BYDAY=2SU
END:DAYLIGHT
BEGIN:STANDARD
TZNAME:EST
TZOFFSETFROM:-0400
TZOFFSETTO:-0500
DTSTART:19701101T020000
RRULE:FREQ=YEARLY;BYMONTH=11;BYDAY=1SU
END:STANDARD
END:VTIMEZONE
BEGIN:VEVENT
UID:issa-69637750-20250719T113000@quickscores.com
DTSTAMP:20260419T201200Z
DTSTART;TZID=America/New_York:20250719T113000
DURATION:PT1H30M0S
SUMMARY:Queen Dynasty 55 vs. SoCo Battitude
DESCRIPTION:Women 55 Aaa - International Senior Softball Association<br>ISSA
LOCATION:SW 3
CATEGORIES:QuickScores, Softball Game
TRANSP:OPAQUE
BEGIN:VALARM
TRIGGER:-PT2H
ACTION:DISPLAY
DESCRIPTION:Queen Dynasty 55 vs. SoCo Battitude
END:VALARM
END:VEVENT
BEGIN:VEVENT
UID:issa-69637751-20250719T143000@quickscores.com
DTSTAMP:20260419T201200Z
DTSTART;TZID=America/New_York:20250719T143000
DURATION:PT1H30M0S
SUMMARY:SoCo Battitude vs. Queen Dynasty 55
DESCRIPTION:Women 55 Aaa - International Senior Softball Association<br>ISSA
LOCATION:SW 3
CATEGORIES:QuickScores, Softball Game
TRANSP:OPAQUE
BEGIN:VALARM
TRIGGER:-PT2H
ACTION:DISPLAY
DESCRIPTION:SoCo Battitude vs. Queen Dynasty 55
END:VALARM
END:VEVENT
BEGIN:VEVENT
UID:issa-69637752-20250719T160000@quickscores.com
DTSTAMP:20260419T201200Z
DTSTART;TZID=America/New_York:20250719T160000
DURATION:PT1H30M0S
SUMMARY:Queen Dynasty 55 vs. SoCo Battitude
DESCRIPTION:Women 55 Aaa - International Senior Softball Association<br>ISSA
LOCATION:SW 3
CATEGORIES:QuickScores, Softball Game
TRANSP:OPAQUE
BEGIN:VALARM
TRIGGER:-PT2H
ACTION:DISPLAY
DESCRIPTION:Queen Dynasty 55 vs. SoCo Battitude
END:VALARM
END:VEVENT
END:VCALENDAR
