BEGIN:VCALENDAR
VERSION:2.0
PRODID:-//QuickScores.com//BQ Dynamic iCal Creator//EN
METHOD:PUBLISH
X-WR-CALNAME:Men 75 Aaa/major - 2025 USA Softball Senior Nationals
X-WR-CALDESC:QuickScores game calendar
X-PUBLISHED-TTL:PT24H
REFRESH-INTERVAL;VALUE=DURATION:PT24H
CALSCALE:GREGORIAN
BEGIN:VTIMEZONE
TZID:America/New_York
X-LIC-LOCATION:America/New_York
BEGIN:DAYLIGHT
TZNAME:EDT
TZOFFSETFROM:-0500
TZOFFSETTO:-0400
DTSTART:19700308T020000
RRULE:FREQ=YEARLY;BYMONTH=3;BYDAY=2SU
END:DAYLIGHT
BEGIN:STANDARD
TZNAME:EST
TZOFFSETFROM:-0400
TZOFFSETTO:-0500
DTSTART:19701101T020000
RRULE:FREQ=YEARLY;BYMONTH=11;BYDAY=1SU
END:STANDARD
END:VTIMEZONE
BEGIN:VEVENT
UID:issa-69637144-20250715T090000@quickscores.com
DTSTAMP:20260424T170100Z
DTSTART;TZID=America/New_York:20250715T090000
DURATION:PT1H30M0S
SUMMARY:Clubhouse 75s vs. Sun Glass & Door 75's
DESCRIPTION:Men 75 Aaa/major - International Senior Softball Association<br>ISSA
LOCATION:SW 3
CATEGORIES:QuickScores, Softball Game
TRANSP:OPAQUE
BEGIN:VALARM
TRIGGER:-PT2H
ACTION:DISPLAY
DESCRIPTION:Clubhouse 75s vs. Sun Glass & Door 75's
END:VALARM
END:VEVENT
BEGIN:VEVENT
UID:issa-69637146-20250715T090000@quickscores.com
DTSTAMP:20260424T170100Z
DTSTART;TZID=America/New_York:20250715T090000
DURATION:PT1H30M0S
SUMMARY:Upper East Tennessee 75 vs. Code/Le Bleu
DESCRIPTION:Men 75 Aaa/major - International Senior Softball Association<br>ISSA
LOCATION:SW 2
CATEGORIES:QuickScores, Softball Game
TRANSP:OPAQUE
BEGIN:VALARM
TRIGGER:-PT2H
ACTION:DISPLAY
DESCRIPTION:Upper East Tennessee 75 vs. Code/Le Bleu
END:VALARM
END:VEVENT
BEGIN:VEVENT
UID:issa-69637145-20250715T103000@quickscores.com
DTSTAMP:20260424T170100Z
DTSTART;TZID=America/New_York:20250715T103000
DURATION:PT1H30M0S
SUMMARY:Smokies vs. Upper East Tennessee 75
DESCRIPTION:Men 75 Aaa/major - International Senior Softball Association<br>ISSA
LOCATION:SW 3
CATEGORIES:QuickScores, Softball Game
TRANSP:OPAQUE
BEGIN:VALARM
TRIGGER:-PT2H
ACTION:DISPLAY
DESCRIPTION:Smokies vs. Upper East Tennessee 75
END:VALARM
END:VEVENT
BEGIN:VEVENT
UID:issa-69637148-20250715T103000@quickscores.com
DTSTAMP:20260424T170100Z
DTSTART;TZID=America/New_York:20250715T103000
DURATION:PT1H30M0S
SUMMARY:Code/Le Bleu vs. Clubhouse 75s
DESCRIPTION:Men 75 Aaa/major - International Senior Softball Association<br>ISSA
LOCATION:SW 2
CATEGORIES:QuickScores, Softball Game
TRANSP:OPAQUE
BEGIN:VALARM
TRIGGER:-PT2H
ACTION:DISPLAY
DESCRIPTION:Code/Le Bleu vs. Clubhouse 75s
END:VALARM
END:VEVENT
BEGIN:VEVENT
UID:issa-69637147-20250715T120000@quickscores.com
DTSTAMP:20260424T170100Z
DTSTART;TZID=America/New_York:20250715T120000
DURATION:PT1H30M0S
SUMMARY:Sun Glass & Door 75's vs. Smokies
DESCRIPTION:Men 75 Aaa/major - International Senior Softball Association<br>ISSA
LOCATION:SW 2
CATEGORIES:QuickScores, Softball Game
TRANSP:OPAQUE
BEGIN:VALARM
TRIGGER:-PT2H
ACTION:DISPLAY
DESCRIPTION:Sun Glass & Door 75's vs. Smokies
END:VALARM
END:VEVENT
BEGIN:VEVENT
UID:issa-69637154-20250716T093000@quickscores.com
DTSTAMP:20260424T170100Z
DTSTART;TZID=America/New_York:20250716T093000
DURATION:PT1H30M0S
SUMMARY:Smokies vs. Upper East Tennessee 75
DESCRIPTION:Men 75 Aaa/major - International Senior Softball Association<br>ISSA
LOCATION:SW 2
CATEGORIES:QuickScores, Softball Game
TRANSP:OPAQUE
BEGIN:VALARM
TRIGGER:-PT2H
ACTION:DISPLAY
DESCRIPTION:Smokies vs. Upper East Tennessee 75
END:VALARM
END:VEVENT
BEGIN:VEVENT
UID:issa-69637150-20250716T093000@quickscores.com
DTSTAMP:20260424T170100Z
DTSTART;TZID=America/New_York:20250716T093000
DURATION:PT1H30M0S
SUMMARY:Clubhouse 75s vs. Sun Glass & Door 75's
DESCRIPTION:Men 75 Aaa/major - International Senior Softball Association<br>ISSA
LOCATION:SW 1
CATEGORIES:QuickScores, Softball Game
TRANSP:OPAQUE
BEGIN:VALARM
TRIGGER:-PT2H
ACTION:DISPLAY
DESCRIPTION:Clubhouse 75s vs. Sun Glass & Door 75's
END:VALARM
END:VEVENT
BEGIN:VEVENT
UID:issa-69637153-20250716T110000@quickscores.com
DTSTAMP:20260424T170100Z
DTSTART;TZID=America/New_York:20250716T110000
DURATION:PT1H30M0S
SUMMARY:Code/Le Bleu vs. Clubhouse 75s
DESCRIPTION:Men 75 Aaa/major - International Senior Softball Association<br>ISSA
LOCATION:SW 1
CATEGORIES:QuickScores, Softball Game
TRANSP:OPAQUE
BEGIN:VALARM
TRIGGER:-PT2H
ACTION:DISPLAY
DESCRIPTION:Code/Le Bleu vs. Clubhouse 75s
END:VALARM
END:VEVENT
BEGIN:VEVENT
UID:issa-69637157-20250716T123000@quickscores.com
DTSTAMP:20260424T170100Z
DTSTART;TZID=America/New_York:20250716T123000
DURATION:PT1H30M0S
SUMMARY:Smokies vs. Sun Glass & Door 75's
DESCRIPTION:Men 75 Aaa/major - International Senior Softball Association<br>ISSA
LOCATION:SW 3
CATEGORIES:QuickScores, Softball Game
TRANSP:OPAQUE
BEGIN:VALARM
TRIGGER:-PT2H
ACTION:DISPLAY
DESCRIPTION:Smokies vs. Sun Glass & Door 75's
END:VALARM
END:VEVENT
BEGIN:VEVENT
UID:issa-69637159-20250716T153000@quickscores.com
DTSTAMP:20260424T170100Z
DTSTART;TZID=America/New_York:20250716T153000
DURATION:PT1H30M0S
SUMMARY:Code/Le Bleu vs. Upper East Tennessee 75
DESCRIPTION:Men 75 Aaa/major - International Senior Softball Association<br>ISSA
LOCATION:SW 2
CATEGORIES:QuickScores, Softball Game
TRANSP:OPAQUE
BEGIN:VALARM
TRIGGER:-PT2H
ACTION:DISPLAY
DESCRIPTION:Code/Le Bleu vs. Upper East Tennessee 75
END:VALARM
END:VEVENT
BEGIN:VEVENT
UID:issa-69637160-20250716T153000@quickscores.com
DTSTAMP:20260424T170100Z
DTSTART;TZID=America/New_York:20250716T153000
DURATION:PT1H30M0S
SUMMARY:Smokies vs. Clubhouse 75s
DESCRIPTION:Men 75 Aaa/major - International Senior Softball Association<br>ISSA
LOCATION:SW 3
CATEGORIES:QuickScores, Softball Game
TRANSP:OPAQUE
BEGIN:VALARM
TRIGGER:-PT2H
ACTION:DISPLAY
DESCRIPTION:Smokies vs. Clubhouse 75s
END:VALARM
END:VEVENT
BEGIN:VEVENT
UID:issa-69637161-20250717T083000@quickscores.com
DTSTAMP:20260424T170100Z
DTSTART;TZID=America/New_York:20250717T083000
DURATION:PT1H30M0S
SUMMARY:Code/Le Bleu vs. Clubhouse 75s
DESCRIPTION:Men 75 Aaa/major - International Senior Softball Association<br>ISSA
LOCATION:SW 1
CATEGORIES:QuickScores, Softball Game
TRANSP:OPAQUE
BEGIN:VALARM
TRIGGER:-PT2H
ACTION:DISPLAY
DESCRIPTION:Code/Le Bleu vs. Clubhouse 75s
END:VALARM
END:VEVENT
BEGIN:VEVENT
UID:issa-69637162-20250717T100000@quickscores.com
DTSTAMP:20260424T170100Z
DTSTART;TZID=America/New_York:20250717T100000
DURATION:PT1H30M0S
SUMMARY:Upper East Tennessee 75 vs. Code/Le Bleu
DESCRIPTION:Men 75 Aaa/major - International Senior Softball Association<br>ISSA
LOCATION:SW 1
CATEGORIES:QuickScores, Softball Game
TRANSP:OPAQUE
BEGIN:VALARM
TRIGGER:-PT2H
ACTION:DISPLAY
DESCRIPTION:Upper East Tennessee 75 vs. Code/Le Bleu
END:VALARM
END:VEVENT
BEGIN:VEVENT
UID:issa-69637163-20250717T113000@quickscores.com
DTSTAMP:20260424T170100Z
DTSTART;TZID=America/New_York:20250717T113000
DURATION:PT1H30M0S
SUMMARY:Winner of Game 8 vs. Loser of Game 8
DESCRIPTION:Men 75 Aaa/major - International Senior Softball Association<br>ISSA
LOCATION:SW 1
CATEGORIES:QuickScores, Softball Game
TRANSP:OPAQUE
BEGIN:VALARM
TRIGGER:-PT2H
ACTION:DISPLAY
DESCRIPTION:Winner of Game 8 vs. Loser of Game 8
END:VALARM
END:VEVENT
END:VCALENDAR
