BEGIN:VCALENDAR
VERSION:2.0
PRODID:-//QuickScores.com//BQ Dynamic iCal Creator//EN
METHOD:PUBLISH
X-WR-CALNAME:Ddtc - Monday Recreational Lg. - Earlysummer25 - Completed Leagues 2025
X-WR-CALDESC:QuickScores game calendar
X-PUBLISHED-TTL:PT24H
REFRESH-INTERVAL;VALUE=DURATION:PT24H
CALSCALE:GREGORIAN
BEGIN:VTIMEZONE
TZID:America/Chicago
X-LIC-LOCATION:America/Chicago
BEGIN:DAYLIGHT
TZNAME:CDT
TZOFFSETFROM:-0600
TZOFFSETTO:-0500
DTSTART:19700308T020000
RRULE:FREQ=YEARLY;BYMONTH=3;BYDAY=2SU
END:DAYLIGHT
BEGIN:STANDARD
TZNAME:CST
TZOFFSETFROM:-0500
TZOFFSETTO:-0600
DTSTART:19701101T020000
RRULE:FREQ=YEARLY;BYMONTH=11;BYDAY=1SU
END:STANDARD
END:VTIMEZONE
BEGIN:VEVENT
UID:pupc-69366399-20250609T174000@quickscores.com
DTSTAMP:20260421T034300Z
DTSTART;TZID=America/Chicago:20250609T174000
DURATION:PT0H40M0S
SUMMARY:Cotton/Reagan vs. Sausen/Ramrup
DESCRIPTION:Ddtc - Monday Recreational Lg. - Earlysummer25 - Paddle Up Pickleball Club
LOCATION:DDTC Court 12S
CATEGORIES:QuickScores, Pickleball Game
TRANSP:OPAQUE
BEGIN:VALARM
TRIGGER:-PT2H
ACTION:DISPLAY
DESCRIPTION:Cotton/Reagan vs. Sausen/Ramrup
END:VALARM
END:VEVENT
BEGIN:VEVENT
UID:pupc-69366400-20250609T182000@quickscores.com
DTSTAMP:20260421T034300Z
DTSTART;TZID=America/Chicago:20250609T182000
DURATION:PT0H40M0S
SUMMARY:Cotton/Reagan vs. Hertogs/Nissen
DESCRIPTION:Ddtc - Monday Recreational Lg. - Earlysummer25 - Paddle Up Pickleball Club
LOCATION:DDTC Court 12S
CATEGORIES:QuickScores, Pickleball Game
TRANSP:OPAQUE
BEGIN:VALARM
TRIGGER:-PT2H
ACTION:DISPLAY
DESCRIPTION:Cotton/Reagan vs. Hertogs/Nissen
END:VALARM
END:VEVENT
BEGIN:VEVENT
UID:pupc-69366398-20250609T182000@quickscores.com
DTSTAMP:20260421T034300Z
DTSTART;TZID=America/Chicago:20250609T182000
DURATION:PT0H40M0S
SUMMARY:Borrowman/Miller vs. Sausen/Ramrup
DESCRIPTION:Ddtc - Monday Recreational Lg. - Earlysummer25 - Paddle Up Pickleball Club
LOCATION:DDTC Court 13N
CATEGORIES:QuickScores, Pickleball Game
TRANSP:OPAQUE
BEGIN:VALARM
TRIGGER:-PT2H
ACTION:DISPLAY
DESCRIPTION:Borrowman/Miller vs. Sausen/Ramrup
END:VALARM
END:VEVENT
BEGIN:VEVENT
UID:pupc-69366401-20250609T190000@quickscores.com
DTSTAMP:20260421T034300Z
DTSTART;TZID=America/Chicago:20250609T190000
DURATION:PT0H40M0S
SUMMARY:Hertogs/Nissen vs. BStewart/PStewart
DESCRIPTION:Ddtc - Monday Recreational Lg. - Earlysummer25 - Paddle Up Pickleball Club
LOCATION:DDTC Court 12S
CATEGORIES:QuickScores, Pickleball Game
TRANSP:OPAQUE
BEGIN:VALARM
TRIGGER:-PT2H
ACTION:DISPLAY
DESCRIPTION:Hertogs/Nissen vs. BStewart/PStewart
END:VALARM
END:VEVENT
BEGIN:VEVENT
UID:pupc-69366397-20250609T190000@quickscores.com
DTSTAMP:20260421T034300Z
DTSTART;TZID=America/Chicago:20250609T190000
DURATION:PT0H40M0S
SUMMARY:Borrowman/Miller vs. Hudson/Harwood
DESCRIPTION:Ddtc - Monday Recreational Lg. - Earlysummer25 - Paddle Up Pickleball Club
LOCATION:DDTC Court 13N
CATEGORIES:QuickScores, Pickleball Game
TRANSP:OPAQUE
BEGIN:VALARM
TRIGGER:-PT2H
ACTION:DISPLAY
DESCRIPTION:Borrowman/Miller vs. Hudson/Harwood
END:VALARM
END:VEVENT
BEGIN:VEVENT
UID:pupc-69366393-20250609T194000@quickscores.com
DTSTAMP:20260421T034300Z
DTSTART;TZID=America/Chicago:20250609T194000
DURATION:PT0H40M0S
SUMMARY:BStewart/PStewart vs. Johnston/Yarkoni
DESCRIPTION:Ddtc - Monday Recreational Lg. - Earlysummer25 - Paddle Up Pickleball Club
LOCATION:DDTC Court 12S
CATEGORIES:QuickScores, Pickleball Game
TRANSP:OPAQUE
BEGIN:VALARM
TRIGGER:-PT2H
ACTION:DISPLAY
DESCRIPTION:BStewart/PStewart vs. Johnston/Yarkoni
END:VALARM
END:VEVENT
BEGIN:VEVENT
UID:pupc-69366396-20250609T202000@quickscores.com
DTSTAMP:20260421T034300Z
DTSTART;TZID=America/Chicago:20250609T202000
DURATION:PT0H40M0S
SUMMARY:Hudson/Harwood vs. Vandercar/Scrivner
DESCRIPTION:Ddtc - Monday Recreational Lg. - Earlysummer25 - Paddle Up Pickleball Club
LOCATION:DDTC Court 13N
CATEGORIES:QuickScores, Pickleball Game
TRANSP:OPAQUE
BEGIN:VALARM
TRIGGER:-PT2H
ACTION:DISPLAY
DESCRIPTION:Hudson/Harwood vs. Vandercar/Scrivner
END:VALARM
END:VEVENT
BEGIN:VEVENT
UID:pupc-69366394-20250609T202000@quickscores.com
DTSTAMP:20260421T034300Z
DTSTART;TZID=America/Chicago:20250609T202000
DURATION:PT0H40M0S
SUMMARY:Odell/Lanpoint vs. Johnston/Yarkoni
DESCRIPTION:Ddtc - Monday Recreational Lg. - Earlysummer25 - Paddle Up Pickleball Club
LOCATION:DDTC Court 12S
CATEGORIES:QuickScores, Pickleball Game
TRANSP:OPAQUE
BEGIN:VALARM
TRIGGER:-PT2H
ACTION:DISPLAY
DESCRIPTION:Odell/Lanpoint vs. Johnston/Yarkoni
END:VALARM
END:VEVENT
BEGIN:VEVENT
UID:pupc-69366395-20250609T210000@quickscores.com
DTSTAMP:20260421T034300Z
DTSTART;TZID=America/Chicago:20250609T210000
DURATION:PT0H40M0S
SUMMARY:Odell/Lanpoint vs. Vandercar/Scrivner
DESCRIPTION:Ddtc - Monday Recreational Lg. - Earlysummer25 - Paddle Up Pickleball Club
LOCATION:DDTC Court 12S
CATEGORIES:QuickScores, Pickleball Game
TRANSP:OPAQUE
BEGIN:VALARM
TRIGGER:-PT2H
ACTION:DISPLAY
DESCRIPTION:Odell/Lanpoint vs. Vandercar/Scrivner
END:VALARM
END:VEVENT
BEGIN:VEVENT
UID:pupc-69366403-20250616T174000@quickscores.com
DTSTAMP:20260421T034300Z
DTSTART;TZID=America/Chicago:20250616T174000
DURATION:PT0H40M0S
SUMMARY:Johnston/Yarkoni vs. Hudson/Harwood
DESCRIPTION:Ddtc - Monday Recreational Lg. - Earlysummer25 - Paddle Up Pickleball Club
LOCATION:DDTC Court 12S
CATEGORIES:QuickScores, Pickleball Game
TRANSP:OPAQUE
BEGIN:VALARM
TRIGGER:-PT2H
ACTION:DISPLAY
DESCRIPTION:Johnston/Yarkoni vs. Hudson/Harwood
END:VALARM
END:VEVENT
BEGIN:VEVENT
UID:pupc-69366402-20250616T182000@quickscores.com
DTSTAMP:20260421T034300Z
DTSTART;TZID=America/Chicago:20250616T182000
DURATION:PT0H40M0S
SUMMARY:Cotton/Reagan vs. Hudson/Harwood
DESCRIPTION:Ddtc - Monday Recreational Lg. - Earlysummer25 - Paddle Up Pickleball Club
LOCATION:DDTC Court 12S
CATEGORIES:QuickScores, Pickleball Game
TRANSP:OPAQUE
BEGIN:VALARM
TRIGGER:-PT2H
ACTION:DISPLAY
DESCRIPTION:Cotton/Reagan vs. Hudson/Harwood
END:VALARM
END:VEVENT
BEGIN:VEVENT
UID:pupc-69366406-20250616T182000@quickscores.com
DTSTAMP:20260421T034300Z
DTSTART;TZID=America/Chicago:20250616T182000
DURATION:PT0H40M0S
SUMMARY:Vandercar/Scrivner vs. Sausen/Ramrup
DESCRIPTION:Ddtc - Monday Recreational Lg. - Earlysummer25 - Paddle Up Pickleball Club
LOCATION:DDTC Court 13N
CATEGORIES:QuickScores, Pickleball Game
TRANSP:OPAQUE
BEGIN:VALARM
TRIGGER:-PT2H
ACTION:DISPLAY
DESCRIPTION:Vandercar/Scrivner vs. Sausen/Ramrup
END:VALARM
END:VEVENT
BEGIN:VEVENT
UID:pupc-69366405-20250616T190000@quickscores.com
DTSTAMP:20260421T034300Z
DTSTART;TZID=America/Chicago:20250616T190000
DURATION:PT0H40M0S
SUMMARY:Hertogs/Nissen vs. Sausen/Ramrup
DESCRIPTION:Ddtc - Monday Recreational Lg. - Earlysummer25 - Paddle Up Pickleball Club
LOCATION:DDTC Court 13N
CATEGORIES:QuickScores, Pickleball Game
TRANSP:OPAQUE
BEGIN:VALARM
TRIGGER:-PT2H
ACTION:DISPLAY
DESCRIPTION:Hertogs/Nissen vs. Sausen/Ramrup
END:VALARM
END:VEVENT
BEGIN:VEVENT
UID:pupc-69366404-20250616T190000@quickscores.com
DTSTAMP:20260421T034300Z
DTSTART;TZID=America/Chicago:20250616T190000
DURATION:PT0H40M0S
SUMMARY:Cotton/Reagan vs. Johnston/Yarkoni
DESCRIPTION:Ddtc - Monday Recreational Lg. - Earlysummer25 - Paddle Up Pickleball Club
LOCATION:DDTC Court 12S
CATEGORIES:QuickScores, Pickleball Game
TRANSP:OPAQUE
BEGIN:VALARM
TRIGGER:-PT2H
ACTION:DISPLAY
DESCRIPTION:Cotton/Reagan vs. Johnston/Yarkoni
END:VALARM
END:VEVENT
BEGIN:VEVENT
UID:pupc-69366407-20250616T194000@quickscores.com
DTSTAMP:20260421T034300Z
DTSTART;TZID=America/Chicago:20250616T194000
DURATION:PT0H40M0S
SUMMARY:Vandercar/Scrivner vs. BStewart/PStewart
DESCRIPTION:Ddtc - Monday Recreational Lg. - Earlysummer25 - Paddle Up Pickleball Club
LOCATION:DDTC Court 12S
CATEGORIES:QuickScores, Pickleball Game
TRANSP:OPAQUE
BEGIN:VALARM
TRIGGER:-PT2H
ACTION:DISPLAY
DESCRIPTION:Vandercar/Scrivner vs. BStewart/PStewart
END:VALARM
END:VEVENT
BEGIN:VEVENT
UID:pupc-69366408-20250616T202000@quickscores.com
DTSTAMP:20260421T034300Z
DTSTART;TZID=America/Chicago:20250616T202000
DURATION:PT0H40M0S
SUMMARY:BStewart/PStewart vs. Odell/Lanpoint
DESCRIPTION:Ddtc - Monday Recreational Lg. - Earlysummer25 - Paddle Up Pickleball Club
LOCATION:DDTC Court 12S
CATEGORIES:QuickScores, Pickleball Game
TRANSP:OPAQUE
BEGIN:VALARM
TRIGGER:-PT2H
ACTION:DISPLAY
DESCRIPTION:BStewart/PStewart vs. Odell/Lanpoint
END:VALARM
END:VEVENT
BEGIN:VEVENT
UID:pupc-69366410-20250616T202000@quickscores.com
DTSTAMP:20260421T034300Z
DTSTART;TZID=America/Chicago:20250616T202000
DURATION:PT0H40M0S
SUMMARY:Borrowman/Miller vs. Hertogs/Nissen
DESCRIPTION:Ddtc - Monday Recreational Lg. - Earlysummer25 - Paddle Up Pickleball Club
LOCATION:DDTC Court 13N
CATEGORIES:QuickScores, Pickleball Game
TRANSP:OPAQUE
BEGIN:VALARM
TRIGGER:-PT2H
ACTION:DISPLAY
DESCRIPTION:Borrowman/Miller vs. Hertogs/Nissen
END:VALARM
END:VEVENT
BEGIN:VEVENT
UID:pupc-69366409-20250616T210000@quickscores.com
DTSTAMP:20260421T034300Z
DTSTART;TZID=America/Chicago:20250616T210000
DURATION:PT0H40M0S
SUMMARY:Odell/Lanpoint vs. Borrowman/Miller
DESCRIPTION:Ddtc - Monday Recreational Lg. - Earlysummer25 - Paddle Up Pickleball Club
LOCATION:DDTC Court 12S
CATEGORIES:QuickScores, Pickleball Game
TRANSP:OPAQUE
BEGIN:VALARM
TRIGGER:-PT2H
ACTION:DISPLAY
DESCRIPTION:Odell/Lanpoint vs. Borrowman/Miller
END:VALARM
END:VEVENT
BEGIN:VEVENT
UID:pupc-69366419-20250623T174000@quickscores.com
DTSTAMP:20260421T034300Z
DTSTART;TZID=America/Chicago:20250623T174000
DURATION:PT0H40M0S
SUMMARY:Sausen/Ramrup vs. Johnston/Yarkoni
DESCRIPTION:Ddtc - Monday Recreational Lg. - Earlysummer25 - Paddle Up Pickleball Club
LOCATION:DDTC Court 12S
CATEGORIES:QuickScores, Pickleball Game
TRANSP:OPAQUE
BEGIN:VALARM
TRIGGER:-PT2H
ACTION:DISPLAY
DESCRIPTION:Sausen/Ramrup vs. Johnston/Yarkoni
END:VALARM
END:VEVENT
BEGIN:VEVENT
UID:pupc-69366418-20250623T182000@quickscores.com
DTSTAMP:20260421T034300Z
DTSTART;TZID=America/Chicago:20250623T182000
DURATION:PT0H40M0S
SUMMARY:Sausen/Ramrup vs. Odell/Lanpoint
DESCRIPTION:Ddtc - Monday Recreational Lg. - Earlysummer25 - Paddle Up Pickleball Club
LOCATION:DDTC Court 13N
CATEGORIES:QuickScores, Pickleball Game
TRANSP:OPAQUE
BEGIN:VALARM
TRIGGER:-PT2H
ACTION:DISPLAY
DESCRIPTION:Sausen/Ramrup vs. Odell/Lanpoint
END:VALARM
END:VEVENT
BEGIN:VEVENT
UID:pupc-69366411-20250623T182000@quickscores.com
DTSTAMP:20260421T034300Z
DTSTART;TZID=America/Chicago:20250623T182000
DURATION:PT0H40M0S
SUMMARY:Johnston/Yarkoni vs. Vandercar/Scrivner
DESCRIPTION:Ddtc - Monday Recreational Lg. - Earlysummer25 - Paddle Up Pickleball Club
LOCATION:DDTC Court 12S
CATEGORIES:QuickScores, Pickleball Game
TRANSP:OPAQUE
BEGIN:VALARM
TRIGGER:-PT2H
ACTION:DISPLAY
DESCRIPTION:Johnston/Yarkoni vs. Vandercar/Scrivner
END:VALARM
END:VEVENT
BEGIN:VEVENT
UID:pupc-69366412-20250623T190000@quickscores.com
DTSTAMP:20260421T034300Z
DTSTART;TZID=America/Chicago:20250623T190000
DURATION:PT0H40M0S
SUMMARY:Hertogs/Nissen vs. Vandercar/Scrivner
DESCRIPTION:Ddtc - Monday Recreational Lg. - Earlysummer25 - Paddle Up Pickleball Club
LOCATION:DDTC Court 12S
CATEGORIES:QuickScores, Pickleball Game
TRANSP:OPAQUE
BEGIN:VALARM
TRIGGER:-PT2H
ACTION:DISPLAY
DESCRIPTION:Hertogs/Nissen vs. Vandercar/Scrivner
END:VALARM
END:VEVENT
BEGIN:VEVENT
UID:pupc-69366417-20250623T190000@quickscores.com
DTSTAMP:20260421T034300Z
DTSTART;TZID=America/Chicago:20250623T190000
DURATION:PT0H40M0S
SUMMARY:Odell/Lanpoint vs. Cotton/Reagan
DESCRIPTION:Ddtc - Monday Recreational Lg. - Earlysummer25 - Paddle Up Pickleball Club
LOCATION:DDTC Court 13N
CATEGORIES:QuickScores, Pickleball Game
TRANSP:OPAQUE
BEGIN:VALARM
TRIGGER:-PT2H
ACTION:DISPLAY
DESCRIPTION:Odell/Lanpoint vs. Cotton/Reagan
END:VALARM
END:VEVENT
BEGIN:VEVENT
UID:pupc-69366413-20250623T194000@quickscores.com
DTSTAMP:20260421T034300Z
DTSTART;TZID=America/Chicago:20250623T194000
DURATION:PT0H40M0S
SUMMARY:Hudson/Harwood vs. Hertogs/Nissen
DESCRIPTION:Ddtc - Monday Recreational Lg. - Earlysummer25 - Paddle Up Pickleball Club
LOCATION:DDTC Court 12S
CATEGORIES:QuickScores, Pickleball Game
TRANSP:OPAQUE
BEGIN:VALARM
TRIGGER:-PT2H
ACTION:DISPLAY
DESCRIPTION:Hudson/Harwood vs. Hertogs/Nissen
END:VALARM
END:VEVENT
BEGIN:VEVENT
UID:pupc-69366416-20250623T202000@quickscores.com
DTSTAMP:20260421T034300Z
DTSTART;TZID=America/Chicago:20250623T202000
DURATION:PT0H40M0S
SUMMARY:Borrowman/Miller vs. Cotton/Reagan
DESCRIPTION:Ddtc - Monday Recreational Lg. - Earlysummer25 - Paddle Up Pickleball Club
LOCATION:DDTC Court 13N
CATEGORIES:QuickScores, Pickleball Game
TRANSP:OPAQUE
BEGIN:VALARM
TRIGGER:-PT2H
ACTION:DISPLAY
DESCRIPTION:Borrowman/Miller vs. Cotton/Reagan
END:VALARM
END:VEVENT
BEGIN:VEVENT
UID:pupc-69366414-20250623T202000@quickscores.com
DTSTAMP:20260421T034300Z
DTSTART;TZID=America/Chicago:20250623T202000
DURATION:PT0H40M0S
SUMMARY:Hudson/Harwood vs. BStewart/PStewart
DESCRIPTION:Ddtc - Monday Recreational Lg. - Earlysummer25 - Paddle Up Pickleball Club
LOCATION:DDTC Court 12S
CATEGORIES:QuickScores, Pickleball Game
TRANSP:OPAQUE
BEGIN:VALARM
TRIGGER:-PT2H
ACTION:DISPLAY
DESCRIPTION:Hudson/Harwood vs. BStewart/PStewart
END:VALARM
END:VEVENT
BEGIN:VEVENT
UID:pupc-69366415-20250623T210000@quickscores.com
DTSTAMP:20260421T034300Z
DTSTART;TZID=America/Chicago:20250623T210000
DURATION:PT0H40M0S
SUMMARY:Borrowman/Miller vs. BStewart/PStewart
DESCRIPTION:Ddtc - Monday Recreational Lg. - Earlysummer25 - Paddle Up Pickleball Club
LOCATION:DDTC Court 12S
CATEGORIES:QuickScores, Pickleball Game
TRANSP:OPAQUE
BEGIN:VALARM
TRIGGER:-PT2H
ACTION:DISPLAY
DESCRIPTION:Borrowman/Miller vs. BStewart/PStewart
END:VALARM
END:VEVENT
BEGIN:VEVENT
UID:pupc-69366427-20250630T174000@quickscores.com
DTSTAMP:20260421T034300Z
DTSTART;TZID=America/Chicago:20250630T174000
DURATION:PT0H40M0S
SUMMARY:BStewart/PStewart vs. Cotton/Reagan
DESCRIPTION:Ddtc - Monday Recreational Lg. - Earlysummer25 - Paddle Up Pickleball Club
LOCATION:DDTC Court 12S
CATEGORIES:QuickScores, Pickleball Game
TRANSP:OPAQUE
BEGIN:VALARM
TRIGGER:-PT2H
ACTION:DISPLAY
DESCRIPTION:BStewart/PStewart vs. Cotton/Reagan
END:VALARM
END:VEVENT
BEGIN:VEVENT
UID:pupc-69366426-20250630T182000@quickscores.com
DTSTAMP:20260421T034300Z
DTSTART;TZID=America/Chicago:20250630T182000
DURATION:PT0H40M0S
SUMMARY:Cotton/Reagan vs. Vandercar/Scrivner
DESCRIPTION:Ddtc - Monday Recreational Lg. - Earlysummer25 - Paddle Up Pickleball Club
LOCATION:DDTC Court 13N
CATEGORIES:QuickScores, Pickleball Game
TRANSP:OPAQUE
BEGIN:VALARM
TRIGGER:-PT2H
ACTION:DISPLAY
DESCRIPTION:Cotton/Reagan vs. Vandercar/Scrivner
END:VALARM
END:VEVENT
BEGIN:VEVENT
UID:pupc-69366428-20250630T182000@quickscores.com
DTSTAMP:20260421T034300Z
DTSTART;TZID=America/Chicago:20250630T182000
DURATION:PT0H40M0S
SUMMARY:BStewart/PStewart vs. Sausen/Ramrup
DESCRIPTION:Ddtc - Monday Recreational Lg. - Earlysummer25 - Paddle Up Pickleball Club
LOCATION:DDTC Court 12S
CATEGORIES:QuickScores, Pickleball Game
TRANSP:OPAQUE
BEGIN:VALARM
TRIGGER:-PT2H
ACTION:DISPLAY
DESCRIPTION:BStewart/PStewart vs. Sausen/Ramrup
END:VALARM
END:VEVENT
BEGIN:VEVENT
UID:pupc-69366420-20250630T190000@quickscores.com
DTSTAMP:20260421T034300Z
DTSTART;TZID=America/Chicago:20250630T190000
DURATION:PT0H40M0S
SUMMARY:Sausen/Ramrup vs. Hudson/Harwood
DESCRIPTION:Ddtc - Monday Recreational Lg. - Earlysummer25 - Paddle Up Pickleball Club
LOCATION:DDTC Court 12S
CATEGORIES:QuickScores, Pickleball Game
TRANSP:OPAQUE
BEGIN:VALARM
TRIGGER:-PT2H
ACTION:DISPLAY
DESCRIPTION:Sausen/Ramrup vs. Hudson/Harwood
END:VALARM
END:VEVENT
BEGIN:VEVENT
UID:pupc-69366425-20250630T190000@quickscores.com
DTSTAMP:20260421T034300Z
DTSTART;TZID=America/Chicago:20250630T190000
DURATION:PT0H40M0S
SUMMARY:Vandercar/Scrivner vs. Borrowman/Miller
DESCRIPTION:Ddtc - Monday Recreational Lg. - Earlysummer25 - Paddle Up Pickleball Club
LOCATION:DDTC Court 13N
CATEGORIES:QuickScores, Pickleball Game
TRANSP:OPAQUE
BEGIN:VALARM
TRIGGER:-PT2H
ACTION:DISPLAY
DESCRIPTION:Vandercar/Scrivner vs. Borrowman/Miller
END:VALARM
END:VEVENT
BEGIN:VEVENT
UID:pupc-69366421-20250630T194000@quickscores.com
DTSTAMP:20260421T034300Z
DTSTART;TZID=America/Chicago:20250630T194000
DURATION:PT0H40M0S
SUMMARY:Hudson/Harwood vs. Odell/Lanpoint
DESCRIPTION:Ddtc - Monday Recreational Lg. - Earlysummer25 - Paddle Up Pickleball Club
LOCATION:DDTC Court 12S
CATEGORIES:QuickScores, Pickleball Game
TRANSP:OPAQUE
BEGIN:VALARM
TRIGGER:-PT2H
ACTION:DISPLAY
DESCRIPTION:Hudson/Harwood vs. Odell/Lanpoint
END:VALARM
END:VEVENT
BEGIN:VEVENT
UID:pupc-69366424-20250630T202000@quickscores.com
DTSTAMP:20260421T034300Z
DTSTART;TZID=America/Chicago:20250630T202000
DURATION:PT0H40M0S
SUMMARY:Johnston/Yarkoni vs. Borrowman/Miller
DESCRIPTION:Ddtc - Monday Recreational Lg. - Earlysummer25 - Paddle Up Pickleball Club
LOCATION:DDTC Court 13N
CATEGORIES:QuickScores, Pickleball Game
TRANSP:OPAQUE
BEGIN:VALARM
TRIGGER:-PT2H
ACTION:DISPLAY
DESCRIPTION:Johnston/Yarkoni vs. Borrowman/Miller
END:VALARM
END:VEVENT
BEGIN:VEVENT
UID:pupc-69366422-20250630T202000@quickscores.com
DTSTAMP:20260421T034300Z
DTSTART;TZID=America/Chicago:20250630T202000
DURATION:PT0H40M0S
SUMMARY:Odell/Lanpoint vs. Hertogs/Nissen
DESCRIPTION:Ddtc - Monday Recreational Lg. - Earlysummer25 - Paddle Up Pickleball Club
LOCATION:DDTC Court 12S
CATEGORIES:QuickScores, Pickleball Game
TRANSP:OPAQUE
BEGIN:VALARM
TRIGGER:-PT2H
ACTION:DISPLAY
DESCRIPTION:Odell/Lanpoint vs. Hertogs/Nissen
END:VALARM
END:VEVENT
BEGIN:VEVENT
UID:pupc-69366423-20250630T210000@quickscores.com
DTSTAMP:20260421T034300Z
DTSTART;TZID=America/Chicago:20250630T210000
DURATION:PT0H40M0S
SUMMARY:Hertogs/Nissen vs. Johnston/Yarkoni
DESCRIPTION:Ddtc - Monday Recreational Lg. - Earlysummer25 - Paddle Up Pickleball Club
LOCATION:DDTC Court 12S
CATEGORIES:QuickScores, Pickleball Game
TRANSP:OPAQUE
BEGIN:VALARM
TRIGGER:-PT2H
ACTION:DISPLAY
DESCRIPTION:Hertogs/Nissen vs. Johnston/Yarkoni
END:VALARM
END:VEVENT
BEGIN:VEVENT
UID:pupc-69366435-20250707T174000@quickscores.com
DTSTAMP:20260421T034300Z
DTSTART;TZID=America/Chicago:20250707T174000
DURATION:PT0H40M0S
SUMMARY:Sausen/Ramrup vs. Cotton/Reagan
DESCRIPTION:Ddtc - Monday Recreational Lg. - Earlysummer25 - Paddle Up Pickleball Club
LOCATION:DDTC Court 12S
CATEGORIES:QuickScores, Pickleball Game
TRANSP:OPAQUE
BEGIN:VALARM
TRIGGER:-PT2H
ACTION:DISPLAY
DESCRIPTION:Sausen/Ramrup vs. Cotton/Reagan
END:VALARM
END:VEVENT
BEGIN:VEVENT
UID:pupc-69366434-20250707T182000@quickscores.com
DTSTAMP:20260421T034300Z
DTSTART;TZID=America/Chicago:20250707T182000
DURATION:PT0H40M0S
SUMMARY:Sausen/Ramrup vs. Borrowman/Miller
DESCRIPTION:Ddtc - Monday Recreational Lg. - Earlysummer25 - Paddle Up Pickleball Club
LOCATION:DDTC Court 13N
CATEGORIES:QuickScores, Pickleball Game
TRANSP:OPAQUE
BEGIN:VALARM
TRIGGER:-PT2H
ACTION:DISPLAY
DESCRIPTION:Sausen/Ramrup vs. Borrowman/Miller
END:VALARM
END:VEVENT
BEGIN:VEVENT
UID:pupc-69366436-20250707T182000@quickscores.com
DTSTAMP:20260421T034300Z
DTSTART;TZID=America/Chicago:20250707T182000
DURATION:PT0H40M0S
SUMMARY:Hertogs/Nissen vs. Cotton/Reagan
DESCRIPTION:Ddtc - Monday Recreational Lg. - Earlysummer25 - Paddle Up Pickleball Club
LOCATION:DDTC Court 12S
CATEGORIES:QuickScores, Pickleball Game
TRANSP:OPAQUE
BEGIN:VALARM
TRIGGER:-PT2H
ACTION:DISPLAY
DESCRIPTION:Hertogs/Nissen vs. Cotton/Reagan
END:VALARM
END:VEVENT
BEGIN:VEVENT
UID:pupc-69366437-20250707T190000@quickscores.com
DTSTAMP:20260421T034300Z
DTSTART;TZID=America/Chicago:20250707T190000
DURATION:PT0H40M0S
SUMMARY:BStewart/PStewart vs. Hertogs/Nissen
DESCRIPTION:Ddtc - Monday Recreational Lg. - Earlysummer25 - Paddle Up Pickleball Club
LOCATION:DDTC Court 12S
CATEGORIES:QuickScores, Pickleball Game
TRANSP:OPAQUE
BEGIN:VALARM
TRIGGER:-PT2H
ACTION:DISPLAY
DESCRIPTION:BStewart/PStewart vs. Hertogs/Nissen
END:VALARM
END:VEVENT
BEGIN:VEVENT
UID:pupc-69366433-20250707T190000@quickscores.com
DTSTAMP:20260421T034300Z
DTSTART;TZID=America/Chicago:20250707T190000
DURATION:PT0H40M0S
SUMMARY:Odell/Lanpoint vs. Borrowman/Miller
DESCRIPTION:Ddtc - Monday Recreational Lg. - Earlysummer25 - Paddle Up Pickleball Club
LOCATION:DDTC Court 13N
CATEGORIES:QuickScores, Pickleball Game
TRANSP:OPAQUE
BEGIN:VALARM
TRIGGER:-PT2H
ACTION:DISPLAY
DESCRIPTION:Odell/Lanpoint vs. Borrowman/Miller
END:VALARM
END:VEVENT
BEGIN:VEVENT
UID:pupc-69366429-20250707T194000@quickscores.com
DTSTAMP:20260421T034300Z
DTSTART;TZID=America/Chicago:20250707T194000
DURATION:PT0H40M0S
SUMMARY:Johnston/Yarkoni vs. BStewart/PStewart
DESCRIPTION:Ddtc - Monday Recreational Lg. - Earlysummer25 - Paddle Up Pickleball Club
LOCATION:DDTC Court 12S
CATEGORIES:QuickScores, Pickleball Game
TRANSP:OPAQUE
BEGIN:VALARM
TRIGGER:-PT2H
ACTION:DISPLAY
DESCRIPTION:Johnston/Yarkoni vs. BStewart/PStewart
END:VALARM
END:VEVENT
BEGIN:VEVENT
UID:pupc-69366432-20250707T202000@quickscores.com
DTSTAMP:20260421T034300Z
DTSTART;TZID=America/Chicago:20250707T202000
DURATION:PT0H40M0S
SUMMARY:Vandercar/Scrivner vs. Odell/Lanpoint
DESCRIPTION:Ddtc - Monday Recreational Lg. - Earlysummer25 - Paddle Up Pickleball Club
LOCATION:DDTC Court 13N
CATEGORIES:QuickScores, Pickleball Game
TRANSP:OPAQUE
BEGIN:VALARM
TRIGGER:-PT2H
ACTION:DISPLAY
DESCRIPTION:Vandercar/Scrivner vs. Odell/Lanpoint
END:VALARM
END:VEVENT
BEGIN:VEVENT
UID:pupc-69366430-20250707T202000@quickscores.com
DTSTAMP:20260421T034300Z
DTSTART;TZID=America/Chicago:20250707T202000
DURATION:PT0H40M0S
SUMMARY:Johnston/Yarkoni vs. Hudson/Harwood
DESCRIPTION:Ddtc - Monday Recreational Lg. - Earlysummer25 - Paddle Up Pickleball Club
LOCATION:DDTC Court 12S
CATEGORIES:QuickScores, Pickleball Game
TRANSP:OPAQUE
BEGIN:VALARM
TRIGGER:-PT2H
ACTION:DISPLAY
DESCRIPTION:Johnston/Yarkoni vs. Hudson/Harwood
END:VALARM
END:VEVENT
BEGIN:VEVENT
UID:pupc-69366431-20250707T210000@quickscores.com
DTSTAMP:20260421T034300Z
DTSTART;TZID=America/Chicago:20250707T210000
DURATION:PT0H40M0S
SUMMARY:Vandercar/Scrivner vs. Hudson/Harwood
DESCRIPTION:Ddtc - Monday Recreational Lg. - Earlysummer25 - Paddle Up Pickleball Club
LOCATION:DDTC Court 12S
CATEGORIES:QuickScores, Pickleball Game
TRANSP:OPAQUE
BEGIN:VALARM
TRIGGER:-PT2H
ACTION:DISPLAY
DESCRIPTION:Vandercar/Scrivner vs. Hudson/Harwood
END:VALARM
END:VEVENT
BEGIN:VEVENT
UID:pupc-69729572-20250714T174000@quickscores.com
DTSTAMP:20260421T034300Z
DTSTART;TZID=America/Chicago:20250714T174000
DURATION:PT0H30M0S
SUMMARY:#4 Hudson/Harwood vs. #5 Sausen/Ramrup
DESCRIPTION:Ddtc - Monday Recreational Lg. - Earlysummer25 - Paddle Up Pickleball Club
LOCATION:DDTC Court 22
CATEGORIES:QuickScores, Pickleball Game
TRANSP:OPAQUE
BEGIN:VALARM
TRIGGER:-PT2H
ACTION:DISPLAY
DESCRIPTION:#4 Hudson/Harwood vs. #5 Sausen/Ramrup
END:VALARM
END:VEVENT
BEGIN:VEVENT
UID:pupc-69729574-20250714T174000@quickscores.com
DTSTAMP:20260421T034300Z
DTSTART;TZID=America/Chicago:20250714T174000
DURATION:PT0H30M0S
SUMMARY:#3 BStweart/PStewart vs. #6 Cotton/Reagan
DESCRIPTION:Ddtc - Monday Recreational Lg. - Earlysummer25 - Paddle Up Pickleball Club
LOCATION:DDTC Court 21
CATEGORIES:QuickScores, Pickleball Game
TRANSP:OPAQUE
BEGIN:VALARM
TRIGGER:-PT2H
ACTION:DISPLAY
DESCRIPTION:#3 BStweart/PStewart vs. #6 Cotton/Reagan
END:VALARM
END:VEVENT
BEGIN:VEVENT
UID:pupc-69729564-20250714T181000@quickscores.com
DTSTAMP:20260421T034300Z
DTSTART;TZID=America/Chicago:20250714T181000
DURATION:PT0H30M0S
SUMMARY:#8 Borrowman/Miller vs. #9 Johnston/Yarkoni
DESCRIPTION:Ddtc - Monday Recreational Lg. - Earlysummer25 - Paddle Up Pickleball Club
LOCATION:DDTC Court 22
CATEGORIES:QuickScores, Pickleball Game
TRANSP:OPAQUE
BEGIN:VALARM
TRIGGER:-PT2H
ACTION:DISPLAY
DESCRIPTION:#8 Borrowman/Miller vs. #9 Johnston/Yarkoni
END:VALARM
END:VEVENT
BEGIN:VEVENT
UID:pupc-69729573-20250714T181000@quickscores.com
DTSTAMP:20260421T034300Z
DTSTART;TZID=America/Chicago:20250714T181000
DURATION:PT0H30M0S
SUMMARY:#2 Hertogs/Nielsen vs. #7 Vandercar/Scrivner
DESCRIPTION:Ddtc - Monday Recreational Lg. - Earlysummer25 - Paddle Up Pickleball Club
LOCATION:DDTC Court 21
CATEGORIES:QuickScores, Pickleball Game
TRANSP:OPAQUE
BEGIN:VALARM
TRIGGER:-PT2H
ACTION:DISPLAY
DESCRIPTION:#2 Hertogs/Nielsen vs. #7 Vandercar/Scrivner
END:VALARM
END:VEVENT
BEGIN:VEVENT
UID:pupc-69729571-20250714T184000@quickscores.com
DTSTAMP:20260421T034300Z
DTSTART;TZID=America/Chicago:20250714T184000
DURATION:PT0H30M0S
SUMMARY:#1 Odell/Lanpoint vs. Winner of Game 1
DESCRIPTION:Ddtc - Monday Recreational Lg. - Earlysummer25 - Paddle Up Pickleball Club
LOCATION:DDTC Court 22
CATEGORIES:QuickScores, Pickleball Game
TRANSP:OPAQUE
BEGIN:VALARM
TRIGGER:-PT2H
ACTION:DISPLAY
DESCRIPTION:#1 Odell/Lanpoint vs. Winner of Game 1
END:VALARM
END:VEVENT
BEGIN:VEVENT
UID:pupc-69729575-20250714T191000@quickscores.com
DTSTAMP:20260421T034300Z
DTSTART;TZID=America/Chicago:20250714T191000
DURATION:PT0H30M0S
SUMMARY:Winner of Game 5 vs. Winner of Game 2
DESCRIPTION:Ddtc - Monday Recreational Lg. - Earlysummer25 - Paddle Up Pickleball Club
LOCATION:DDTC Court 22
CATEGORIES:QuickScores, Pickleball Game
TRANSP:OPAQUE
BEGIN:VALARM
TRIGGER:-PT2H
ACTION:DISPLAY
DESCRIPTION:Winner of Game 5 vs. Winner of Game 2
END:VALARM
END:VEVENT
BEGIN:VEVENT
UID:pupc-69729576-20250714T191000@quickscores.com
DTSTAMP:20260421T034300Z
DTSTART;TZID=America/Chicago:20250714T191000
DURATION:PT0H30M0S
SUMMARY:Winner of Game 3 vs. Winner of Game 4
DESCRIPTION:Ddtc - Monday Recreational Lg. - Earlysummer25 - Paddle Up Pickleball Club
LOCATION:DDTC Court 13N
CATEGORIES:QuickScores, Pickleball Game
TRANSP:OPAQUE
BEGIN:VALARM
TRIGGER:-PT2H
ACTION:DISPLAY
DESCRIPTION:Winner of Game 3 vs. Winner of Game 4
END:VALARM
END:VEVENT
BEGIN:VEVENT
UID:pupc-69729577-20250714T201000@quickscores.com
DTSTAMP:20260421T034300Z
DTSTART;TZID=America/Chicago:20250714T201000
DURATION:PT0H30M0S
SUMMARY:Winner of Game 6 vs. Winner of Game 7
DESCRIPTION:Ddtc - Monday Recreational Lg. - Earlysummer25 - Paddle Up Pickleball Club
LOCATION:DDTC Court 22
CATEGORIES:QuickScores, Pickleball Game
TRANSP:OPAQUE
BEGIN:VALARM
TRIGGER:-PT2H
ACTION:DISPLAY
DESCRIPTION:Winner of Game 6 vs. Winner of Game 7
END:VALARM
END:VEVENT
END:VCALENDAR
