BEGIN:VCALENDAR
VERSION:2.0
PRODID:-//QuickScores.com//BQ Dynamic iCal Creator//EN
METHOD:PUBLISH
X-WR-CALNAME:Men 50 Major - 2025 ISSA Great Smoky Mountain Senior Classic - Session 3
X-WR-CALDESC:QuickScores game calendar
X-PUBLISHED-TTL:PT24H
REFRESH-INTERVAL;VALUE=DURATION:PT24H
CALSCALE:GREGORIAN
BEGIN:VTIMEZONE
TZID:America/New_York
X-LIC-LOCATION:America/New_York
BEGIN:DAYLIGHT
TZNAME:EDT
TZOFFSETFROM:-0500
TZOFFSETTO:-0400
DTSTART:19700308T020000
RRULE:FREQ=YEARLY;BYMONTH=3;BYDAY=2SU
END:DAYLIGHT
BEGIN:STANDARD
TZNAME:EST
TZOFFSETFROM:-0400
TZOFFSETTO:-0500
DTSTART:19701101T020000
RRULE:FREQ=YEARLY;BYMONTH=11;BYDAY=1SU
END:STANDARD
END:VTIMEZONE
BEGIN:VEVENT
UID:issa-68916667-20250606T103000@quickscores.com
DTSTAMP:20260423T154300Z
DTSTART;TZID=America/New_York:20250606T103000
DURATION:PT1H30M0S
SUMMARY:Demolition Illinois vs. CPS/BSBS Softball
DESCRIPTION:Men 50 Major - International Senior Softball Association<br>ISSA
LOCATION:CP-K 3
CATEGORIES:QuickScores, Softball Game
TRANSP:OPAQUE
BEGIN:VALARM
TRIGGER:-PT2H
ACTION:DISPLAY
DESCRIPTION:Demolition Illinois vs. CPS/BSBS Softball
END:VALARM
END:VEVENT
BEGIN:VEVENT
UID:issa-68916675-20250606T103000@quickscores.com
DTSTAMP:20260423T154300Z
DTSTART;TZID=America/New_York:20250606T103000
DURATION:PT1H30M0S
SUMMARY:JLX/United Softabll vs. HRS/OSS Apparel
DESCRIPTION:Men 50 Major - International Senior Softball Association<br>ISSA
LOCATION:CP-K 1
CATEGORIES:QuickScores, Softball Game
TRANSP:OPAQUE
BEGIN:VALARM
TRIGGER:-PT2H
ACTION:DISPLAY
DESCRIPTION:JLX/United Softabll vs. HRS/OSS Apparel
END:VALARM
END:VEVENT
BEGIN:VEVENT
UID:issa-68916664-20250606T103000@quickscores.com
DTSTAMP:20260423T154300Z
DTSTART;TZID=America/New_York:20250606T103000
DURATION:PT1H30M0S
SUMMARY:615 Honored/Sumner Roofing/Shooter's Sports B vs. Allied Tool/LSR/KB Contract/Calvin's Auto Gla
DESCRIPTION:Men 50 Major - International Senior Softball Association<br>ISSA
LOCATION:CP-K 4
CATEGORIES:QuickScores, Softball Game
TRANSP:OPAQUE
BEGIN:VALARM
TRIGGER:-PT2H
ACTION:DISPLAY
DESCRIPTION:615 Honored/Sumner Roofing/Shooter's Sports B vs. Allied Tool/LSR/KB Contract/Calvin's Auto Gla
END:VALARM
END:VEVENT
BEGIN:VEVENT
UID:issa-68916663-20250606T103000@quickscores.com
DTSTAMP:20260423T154300Z
DTSTART;TZID=America/New_York:20250606T103000
DURATION:PT1H30M0S
SUMMARY:Russell’s Tile vs. Tennessee Select/LP Sports/Wicked Mitt 50's
DESCRIPTION:Men 50 Major - International Senior Softball Association<br>ISSA
LOCATION:CP-K 2
CATEGORIES:QuickScores, Softball Game
TRANSP:OPAQUE
BEGIN:VALARM
TRIGGER:-PT2H
ACTION:DISPLAY
DESCRIPTION:Russell’s Tile vs. Tennessee Select/LP Sports/Wicked Mitt 50's
END:VALARM
END:VEVENT
BEGIN:VEVENT
UID:issa-68916666-20250606T120000@quickscores.com
DTSTAMP:20260423T154300Z
DTSTART;TZID=America/New_York:20250606T120000
DURATION:PT1H30M0S
SUMMARY:Cole Insurance/Dugout vs. Cross Construction/Cotton Eyed Joe
DESCRIPTION:Men 50 Major - International Senior Softball Association<br>ISSA
LOCATION:CP-K 1
CATEGORIES:QuickScores, Softball Game
TRANSP:OPAQUE
BEGIN:VALARM
TRIGGER:-PT2H
ACTION:DISPLAY
DESCRIPTION:Cole Insurance/Dugout vs. Cross Construction/Cotton Eyed Joe
END:VALARM
END:VEVENT
BEGIN:VEVENT
UID:issa-68916662-20250606T120000@quickscores.com
DTSTAMP:20260423T154300Z
DTSTART;TZID=America/New_York:20250606T120000
DURATION:PT1H30M0S
SUMMARY:Lost Boys vs. Palmetto Mutiny
DESCRIPTION:Men 50 Major - International Senior Softball Association<br>ISSA
LOCATION:CP-K 3
CATEGORIES:QuickScores, Softball Game
TRANSP:OPAQUE
BEGIN:VALARM
TRIGGER:-PT2H
ACTION:DISPLAY
DESCRIPTION:Lost Boys vs. Palmetto Mutiny
END:VALARM
END:VEVENT
BEGIN:VEVENT
UID:issa-68916670-20250606T120000@quickscores.com
DTSTAMP:20260423T154300Z
DTSTART;TZID=America/New_York:20250606T120000
DURATION:PT1H30M0S
SUMMARY:Tennessee Select/LP Sports/Wicked Mitt 50's vs. Showtime/TSC
DESCRIPTION:Men 50 Major - International Senior Softball Association<br>ISSA
LOCATION:CP-K 2
CATEGORIES:QuickScores, Softball Game
TRANSP:OPAQUE
BEGIN:VALARM
TRIGGER:-PT2H
ACTION:DISPLAY
DESCRIPTION:Tennessee Select/LP Sports/Wicked Mitt 50's vs. Showtime/TSC
END:VALARM
END:VEVENT
BEGIN:VEVENT
UID:issa-68916671-20250606T120000@quickscores.com
DTSTAMP:20260423T154300Z
DTSTART;TZID=America/New_York:20250606T120000
DURATION:PT1H30M0S
SUMMARY:Allied Tool/LSR/KB Contract/Calvin's Auto Gla vs. 22ADAY/DL/Hudson/Ghost
DESCRIPTION:Men 50 Major - International Senior Softball Association<br>ISSA
LOCATION:CP-K 4
CATEGORIES:QuickScores, Softball Game
TRANSP:OPAQUE
BEGIN:VALARM
TRIGGER:-PT2H
ACTION:DISPLAY
DESCRIPTION:Allied Tool/LSR/KB Contract/Calvin's Auto Gla vs. 22ADAY/DL/Hudson/Ghost
END:VALARM
END:VEVENT
BEGIN:VEVENT
UID:issa-68916672-20250606T133000@quickscores.com
DTSTAMP:20260423T154300Z
DTSTART;TZID=America/New_York:20250606T133000
DURATION:PT1H30M0S
SUMMARY:22ADAY/DL/Hudson/Ghost vs. 615 Honored/Sumner Roofing/Shooter's Sports B
DESCRIPTION:Men 50 Major - International Senior Softball Association<br>ISSA
LOCATION:CP-K 4
CATEGORIES:QuickScores, Softball Game
TRANSP:OPAQUE
BEGIN:VALARM
TRIGGER:-PT2H
ACTION:DISPLAY
DESCRIPTION:22ADAY/DL/Hudson/Ghost vs. 615 Honored/Sumner Roofing/Shooter's Sports B
END:VALARM
END:VEVENT
BEGIN:VEVENT
UID:issa-68916677-20250606T133000@quickscores.com
DTSTAMP:20260423T154300Z
DTSTART;TZID=America/New_York:20250606T133000
DURATION:PT1H30M0S
SUMMARY:Showtime/TSC vs. Russell’s Tile
DESCRIPTION:Men 50 Major - International Senior Softball Association<br>ISSA
LOCATION:CP-K 2
CATEGORIES:QuickScores, Softball Game
TRANSP:OPAQUE
BEGIN:VALARM
TRIGGER:-PT2H
ACTION:DISPLAY
DESCRIPTION:Showtime/TSC vs. Russell’s Tile
END:VALARM
END:VEVENT
BEGIN:VEVENT
UID:issa-68916676-20250606T133000@quickscores.com
DTSTAMP:20260423T154300Z
DTSTART;TZID=America/New_York:20250606T133000
DURATION:PT1H30M0S
SUMMARY:Lyndsey Roofing/Otc Elite vs. Lost Boys
DESCRIPTION:Men 50 Major - International Senior Softball Association<br>ISSA
LOCATION:CP-K 1
CATEGORIES:QuickScores, Softball Game
TRANSP:OPAQUE
BEGIN:VALARM
TRIGGER:-PT2H
ACTION:DISPLAY
DESCRIPTION:Lyndsey Roofing/Otc Elite vs. Lost Boys
END:VALARM
END:VEVENT
BEGIN:VEVENT
UID:issa-68916668-20250606T133000@quickscores.com
DTSTAMP:20260423T154300Z
DTSTART;TZID=America/New_York:20250606T133000
DURATION:PT1H30M0S
SUMMARY:IronKlad vs. JLX/United Softabll
DESCRIPTION:Men 50 Major - International Senior Softball Association<br>ISSA
LOCATION:CP-K 3
CATEGORIES:QuickScores, Softball Game
TRANSP:OPAQUE
BEGIN:VALARM
TRIGGER:-PT2H
ACTION:DISPLAY
DESCRIPTION:IronKlad vs. JLX/United Softabll
END:VALARM
END:VEVENT
BEGIN:VEVENT
UID:issa-68916674-20250606T150000@quickscores.com
DTSTAMP:20260423T154300Z
DTSTART;TZID=America/New_York:20250606T150000
DURATION:PT1H30M0S
SUMMARY:CPS/BSBS Softball vs. Cole Insurance/Dugout
DESCRIPTION:Men 50 Major - International Senior Softball Association<br>ISSA
LOCATION:CP-K 2
CATEGORIES:QuickScores, Softball Game
TRANSP:OPAQUE
BEGIN:VALARM
TRIGGER:-PT2H
ACTION:DISPLAY
DESCRIPTION:CPS/BSBS Softball vs. Cole Insurance/Dugout
END:VALARM
END:VEVENT
BEGIN:VEVENT
UID:issa-68916673-20250606T150000@quickscores.com
DTSTAMP:20260423T154300Z
DTSTART;TZID=America/New_York:20250606T150000
DURATION:PT1H30M0S
SUMMARY:Cross Construction/Cotton Eyed Joe vs. Demolition Illinois
DESCRIPTION:Men 50 Major - International Senior Softball Association<br>ISSA
LOCATION:CP-K 4
CATEGORIES:QuickScores, Softball Game
TRANSP:OPAQUE
BEGIN:VALARM
TRIGGER:-PT2H
ACTION:DISPLAY
DESCRIPTION:Cross Construction/Cotton Eyed Joe vs. Demolition Illinois
END:VALARM
END:VEVENT
BEGIN:VEVENT
UID:issa-68916661-20250606T150000@quickscores.com
DTSTAMP:20260423T154300Z
DTSTART;TZID=America/New_York:20250606T150000
DURATION:PT1H30M0S
SUMMARY:HRS/OSS Apparel vs. IronKlad
DESCRIPTION:Men 50 Major - International Senior Softball Association<br>ISSA
LOCATION:CP-K 3
CATEGORIES:QuickScores, Softball Game
TRANSP:OPAQUE
BEGIN:VALARM
TRIGGER:-PT2H
ACTION:DISPLAY
DESCRIPTION:HRS/OSS Apparel vs. IronKlad
END:VALARM
END:VEVENT
BEGIN:VEVENT
UID:issa-68916669-20250606T150000@quickscores.com
DTSTAMP:20260423T154300Z
DTSTART;TZID=America/New_York:20250606T150000
DURATION:PT1H30M0S
SUMMARY:Palmetto Mutiny vs. Lyndsey Roofing/Otc Elite
DESCRIPTION:Men 50 Major - International Senior Softball Association<br>ISSA
LOCATION:CP-K 1
CATEGORIES:QuickScores, Softball Game
TRANSP:OPAQUE
BEGIN:VALARM
TRIGGER:-PT2H
ACTION:DISPLAY
DESCRIPTION:Palmetto Mutiny vs. Lyndsey Roofing/Otc Elite
END:VALARM
END:VEVENT
BEGIN:VEVENT
UID:issa-68916678-20250607T100000@quickscores.com
DTSTAMP:20260423T154300Z
DTSTART;TZID=America/New_York:20250607T100000
DURATION:PT1H0M0S
SUMMARY:[E1] Showtime/TSC vs. [B4] Cross Construction/Cotton Eyed Joe
DESCRIPTION:Men 50 Major - International Senior Softball Association<br>ISSA
LOCATION:CP-K 1
CATEGORIES:QuickScores, Softball Game
TRANSP:OPAQUE
BEGIN:VALARM
TRIGGER:-PT2H
ACTION:DISPLAY
DESCRIPTION:[E1] Showtime/TSC vs. [B4] Cross Construction/Cotton Eyed Joe
END:VALARM
END:VEVENT
BEGIN:VEVENT
UID:issa-68916685-20250607T100000@quickscores.com
DTSTAMP:20260423T154300Z
DTSTART;TZID=America/New_York:20250607T100000
DURATION:PT1H0M0S
SUMMARY:[A2] Allied Tool/LSR/KB Contract/Calvin's Aut vs. [E3] Tennessee Select/LP Sports/Wicked Mitt 50&#03
DESCRIPTION:Men 50 Major - International Senior Softball Association<br>ISSA
LOCATION:CP-K 3
CATEGORIES:QuickScores, Softball Game
TRANSP:OPAQUE
BEGIN:VALARM
TRIGGER:-PT2H
ACTION:DISPLAY
DESCRIPTION:[A2] Allied Tool/LSR/KB Contract/Calvin's Aut vs. [E3] Tennessee Select/LP Sports/Wicked Mitt 50&#03
END:VALARM
END:VEVENT
BEGIN:VEVENT
UID:issa-68916681-20250607T100000@quickscores.com
DTSTAMP:20260423T154300Z
DTSTART;TZID=America/New_York:20250607T100000
DURATION:PT1H0M0S
SUMMARY:[A1] 615 Honored/Sumner Roofing/Shooter's Spo vs. [B3] Cole Insurance/Dugout
DESCRIPTION:Men 50 Major - International Senior Softball Association<br>ISSA
LOCATION:CP-K 4
CATEGORIES:QuickScores, Softball Game
TRANSP:OPAQUE
BEGIN:VALARM
TRIGGER:-PT2H
ACTION:DISPLAY
DESCRIPTION:[A1] 615 Honored/Sumner Roofing/Shooter's Spo vs. [B3] Cole Insurance/Dugout
END:VALARM
END:VEVENT
BEGIN:VEVENT
UID:issa-68916682-20250607T100000@quickscores.com
DTSTAMP:20260423T154300Z
DTSTART;TZID=America/New_York:20250607T100000
DURATION:PT1H0M0S
SUMMARY:[B1] CPS/BSBS Softball vs. [A3] 22ADAY/DL/Hudson/Ghost
DESCRIPTION:Men 50 Major - International Senior Softball Association<br>ISSA
LOCATION:CP-K 2
CATEGORIES:QuickScores, Softball Game
TRANSP:OPAQUE
BEGIN:VALARM
TRIGGER:-PT2H
ACTION:DISPLAY
DESCRIPTION:[B1] CPS/BSBS Softball vs. [A3] 22ADAY/DL/Hudson/Ghost
END:VALARM
END:VEVENT
BEGIN:VEVENT
UID:issa-68916680-20250607T110000@quickscores.com
DTSTAMP:20260423T154300Z
DTSTART;TZID=America/New_York:20250607T110000
DURATION:PT1H30M0S
SUMMARY:[D1] Lost Boys vs. [C3] JLX/United Softabll
DESCRIPTION:Men 50 Major - International Senior Softball Association<br>ISSA
LOCATION:CP-K 4
CATEGORIES:QuickScores, Softball Game
TRANSP:OPAQUE
BEGIN:VALARM
TRIGGER:-PT2H
ACTION:DISPLAY
DESCRIPTION:[D1] Lost Boys vs. [C3] JLX/United Softabll
END:VALARM
END:VEVENT
BEGIN:VEVENT
UID:issa-68916684-20250607T110000@quickscores.com
DTSTAMP:20260423T154300Z
DTSTART;TZID=America/New_York:20250607T110000
DURATION:PT1H30M0S
SUMMARY:[C1] HRS/OSS Apparel vs. [D3] Lyndsey Roofing/Otc Elite
DESCRIPTION:Men 50 Major - International Senior Softball Association<br>ISSA
LOCATION:CP-K 3
CATEGORIES:QuickScores, Softball Game
TRANSP:OPAQUE
BEGIN:VALARM
TRIGGER:-PT2H
ACTION:DISPLAY
DESCRIPTION:[C1] HRS/OSS Apparel vs. [D3] Lyndsey Roofing/Otc Elite
END:VALARM
END:VEVENT
BEGIN:VEVENT
UID:issa-68916683-20250607T110000@quickscores.com
DTSTAMP:20260423T154300Z
DTSTART;TZID=America/New_York:20250607T110000
DURATION:PT1H30M0S
SUMMARY:[B2] Demolition Illinois vs. [E2] Russell’s Tile
DESCRIPTION:Men 50 Major - International Senior Softball Association<br>ISSA
LOCATION:CP-K 2
CATEGORIES:QuickScores, Softball Game
TRANSP:OPAQUE
BEGIN:VALARM
TRIGGER:-PT2H
ACTION:DISPLAY
DESCRIPTION:[B2] Demolition Illinois vs. [E2] Russell’s Tile
END:VALARM
END:VEVENT
BEGIN:VEVENT
UID:issa-68916679-20250607T110000@quickscores.com
DTSTAMP:20260423T154300Z
DTSTART;TZID=America/New_York:20250607T110000
DURATION:PT1H30M0S
SUMMARY:[C2] IronKlad vs. [D2] Palmetto Mutiny
DESCRIPTION:Men 50 Major - International Senior Softball Association<br>ISSA
LOCATION:CP-K 1
CATEGORIES:QuickScores, Softball Game
TRANSP:OPAQUE
BEGIN:VALARM
TRIGGER:-PT2H
ACTION:DISPLAY
DESCRIPTION:[C2] IronKlad vs. [D2] Palmetto Mutiny
END:VALARM
END:VEVENT
BEGIN:VEVENT
UID:issa-68916693-20250607T123000@quickscores.com
DTSTAMP:20260423T154300Z
DTSTART;TZID=America/New_York:20250607T123000
DURATION:PT1H30M0S
SUMMARY:[C1] HRS/OSS Apparel vs. [E3] Tennessee Select/LP Sports/Wicked Mitt 50&#03
DESCRIPTION:Men 50 Major - International Senior Softball Association<br>ISSA
LOCATION:CP-K 4
CATEGORIES:QuickScores, Softball Game
TRANSP:OPAQUE
BEGIN:VALARM
TRIGGER:-PT2H
ACTION:DISPLAY
DESCRIPTION:[C1] HRS/OSS Apparel vs. [E3] Tennessee Select/LP Sports/Wicked Mitt 50&#03
END:VALARM
END:VEVENT
BEGIN:VEVENT
UID:issa-68916690-20250607T123000@quickscores.com
DTSTAMP:20260423T154300Z
DTSTART;TZID=America/New_York:20250607T123000
DURATION:PT1H30M0S
SUMMARY:[B4] Cross Construction/Cotton Eyed Joe vs. [C2] IronKlad
DESCRIPTION:Men 50 Major - International Senior Softball Association<br>ISSA
LOCATION:CP-K 1
CATEGORIES:QuickScores, Softball Game
TRANSP:OPAQUE
BEGIN:VALARM
TRIGGER:-PT2H
ACTION:DISPLAY
DESCRIPTION:[B4] Cross Construction/Cotton Eyed Joe vs. [C2] IronKlad
END:VALARM
END:VEVENT
BEGIN:VEVENT
UID:issa-68916691-20250607T123000@quickscores.com
DTSTAMP:20260423T154300Z
DTSTART;TZID=America/New_York:20250607T123000
DURATION:PT1H30M0S
SUMMARY:[C3] JLX/United Softabll vs. [B3] Cole Insurance/Dugout
DESCRIPTION:Men 50 Major - International Senior Softball Association<br>ISSA
LOCATION:CP-K 2
CATEGORIES:QuickScores, Softball Game
TRANSP:OPAQUE
BEGIN:VALARM
TRIGGER:-PT2H
ACTION:DISPLAY
DESCRIPTION:[C3] JLX/United Softabll vs. [B3] Cole Insurance/Dugout
END:VALARM
END:VEVENT
BEGIN:VEVENT
UID:issa-68916692-20250607T123000@quickscores.com
DTSTAMP:20260423T154300Z
DTSTART;TZID=America/New_York:20250607T123000
DURATION:PT1H30M0S
SUMMARY:[B1] CPS/BSBS Softball vs. [B2] Demolition Illinois
DESCRIPTION:Men 50 Major - International Senior Softball Association<br>ISSA
LOCATION:CP-K 3
CATEGORIES:QuickScores, Softball Game
TRANSP:OPAQUE
BEGIN:VALARM
TRIGGER:-PT2H
ACTION:DISPLAY
DESCRIPTION:[B1] CPS/BSBS Softball vs. [B2] Demolition Illinois
END:VALARM
END:VEVENT
BEGIN:VEVENT
UID:issa-68916686-20250607T140000@quickscores.com
DTSTAMP:20260423T154300Z
DTSTART;TZID=America/New_York:20250607T140000
DURATION:PT1H30M0S
SUMMARY:[E1] Showtime/TSC vs. [D2] Palmetto Mutiny
DESCRIPTION:Men 50 Major - International Senior Softball Association<br>ISSA
LOCATION:CP-K 1
CATEGORIES:QuickScores, Softball Game
TRANSP:OPAQUE
BEGIN:VALARM
TRIGGER:-PT2H
ACTION:DISPLAY
DESCRIPTION:[E1] Showtime/TSC vs. [D2] Palmetto Mutiny
END:VALARM
END:VEVENT
BEGIN:VEVENT
UID:issa-68916687-20250607T140000@quickscores.com
DTSTAMP:20260423T154300Z
DTSTART;TZID=America/New_York:20250607T140000
DURATION:PT1H30M0S
SUMMARY:[D1] Lost Boys vs. [A1] 615 Honored/Sumner Roofing/Shooter's Spo
DESCRIPTION:Men 50 Major - International Senior Softball Association<br>ISSA
LOCATION:CP-K 4
CATEGORIES:QuickScores, Softball Game
TRANSP:OPAQUE
BEGIN:VALARM
TRIGGER:-PT2H
ACTION:DISPLAY
DESCRIPTION:[D1] Lost Boys vs. [A1] 615 Honored/Sumner Roofing/Shooter's Spo
END:VALARM
END:VEVENT
BEGIN:VEVENT
UID:issa-68916688-20250607T140000@quickscores.com
DTSTAMP:20260423T154300Z
DTSTART;TZID=America/New_York:20250607T140000
DURATION:PT1H30M0S
SUMMARY:[A3] 22ADAY/DL/Hudson/Ghost vs. [E2] Russell’s Tile
DESCRIPTION:Men 50 Major - International Senior Softball Association<br>ISSA
LOCATION:CP-K 2
CATEGORIES:QuickScores, Softball Game
TRANSP:OPAQUE
BEGIN:VALARM
TRIGGER:-PT2H
ACTION:DISPLAY
DESCRIPTION:[A3] 22ADAY/DL/Hudson/Ghost vs. [E2] Russell’s Tile
END:VALARM
END:VEVENT
BEGIN:VEVENT
UID:issa-68916697-20250607T153000@quickscores.com
DTSTAMP:20260423T154300Z
DTSTART;TZID=America/New_York:20250607T153000
DURATION:PT1H30M0S
SUMMARY:[E1] Showtime/TSC vs. [C1] HRS/OSS Apparel
DESCRIPTION:Men 50 Major - International Senior Softball Association<br>ISSA
LOCATION:CP-K 1
CATEGORIES:QuickScores, Softball Game
TRANSP:OPAQUE
BEGIN:VALARM
TRIGGER:-PT2H
ACTION:DISPLAY
DESCRIPTION:[E1] Showtime/TSC vs. [C1] HRS/OSS Apparel
END:VALARM
END:VEVENT
BEGIN:VEVENT
UID:issa-68916696-20250607T153000@quickscores.com
DTSTAMP:20260423T154300Z
DTSTART;TZID=America/New_York:20250607T153000
DURATION:PT1H30M0S
SUMMARY:[A1] 615 Honored/Sumner Roofing/Shooter's Spo vs. [B2] Demolition Illinois
DESCRIPTION:Men 50 Major - International Senior Softball Association<br>ISSA
LOCATION:CP-K 4
CATEGORIES:QuickScores, Softball Game
TRANSP:OPAQUE
BEGIN:VALARM
TRIGGER:-PT2H
ACTION:DISPLAY
DESCRIPTION:[A1] 615 Honored/Sumner Roofing/Shooter's Spo vs. [B2] Demolition Illinois
END:VALARM
END:VEVENT
BEGIN:VEVENT
UID:issa-68916695-20250607T153000@quickscores.com
DTSTAMP:20260423T154300Z
DTSTART;TZID=America/New_York:20250607T153000
DURATION:PT1H30M0S
SUMMARY:[E2] Russell’s Tile vs. [C3] JLX/United Softabll
DESCRIPTION:Men 50 Major - International Senior Softball Association<br>ISSA
LOCATION:CP-K 2
CATEGORIES:QuickScores, Softball Game
TRANSP:OPAQUE
BEGIN:VALARM
TRIGGER:-PT2H
ACTION:DISPLAY
DESCRIPTION:[E2] Russell’s Tile vs. [C3] JLX/United Softabll
END:VALARM
END:VEVENT
BEGIN:VEVENT
UID:issa-68916689-20250607T153000@quickscores.com
DTSTAMP:20260423T154300Z
DTSTART;TZID=America/New_York:20250607T153000
DURATION:PT1H30M0S
SUMMARY:[D3] Lyndsey Roofing/Otc Elite vs. [A2] Allied Tool/LSR/KB Contract/Calvin's Aut
DESCRIPTION:Men 50 Major - International Senior Softball Association<br>ISSA
LOCATION:CP-K 3
CATEGORIES:QuickScores, Softball Game
TRANSP:OPAQUE
BEGIN:VALARM
TRIGGER:-PT2H
ACTION:DISPLAY
DESCRIPTION:[D3] Lyndsey Roofing/Otc Elite vs. [A2] Allied Tool/LSR/KB Contract/Calvin's Aut
END:VALARM
END:VEVENT
BEGIN:VEVENT
UID:issa-68916694-20250607T170000@quickscores.com
DTSTAMP:20260423T154300Z
DTSTART;TZID=America/New_York:20250607T170000
DURATION:PT1H30M0S
SUMMARY:[A2] Allied Tool/LSR/KB Contract/Calvin's Aut vs. [C2] IronKlad
DESCRIPTION:Men 50 Major - International Senior Softball Association<br>ISSA
LOCATION:CP-K 3
CATEGORIES:QuickScores, Softball Game
TRANSP:OPAQUE
BEGIN:VALARM
TRIGGER:-PT2H
ACTION:DISPLAY
DESCRIPTION:[A2] Allied Tool/LSR/KB Contract/Calvin's Aut vs. [C2] IronKlad
END:VALARM
END:VEVENT
BEGIN:VEVENT
UID:issa-68916698-20250607T170000@quickscores.com
DTSTAMP:20260423T154300Z
DTSTART;TZID=America/New_York:20250607T170000
DURATION:PT1H30M0S
SUMMARY:[D2] Palmetto Mutiny vs. [D1] Lost Boys
DESCRIPTION:Men 50 Major - International Senior Softball Association<br>ISSA
LOCATION:CP-K 1
CATEGORIES:QuickScores, Softball Game
TRANSP:OPAQUE
BEGIN:VALARM
TRIGGER:-PT2H
ACTION:DISPLAY
DESCRIPTION:[D2] Palmetto Mutiny vs. [D1] Lost Boys
END:VALARM
END:VEVENT
BEGIN:VEVENT
UID:issa-68916699-20250607T170000@quickscores.com
DTSTAMP:20260423T154300Z
DTSTART;TZID=America/New_York:20250607T170000
DURATION:PT1H30M0S
SUMMARY:[A3] 22ADAY/DL/Hudson/Ghost vs. [D3] Lyndsey Roofing/Otc Elite
DESCRIPTION:Men 50 Major - International Senior Softball Association<br>ISSA
LOCATION:CP-K 2
CATEGORIES:QuickScores, Softball Game
TRANSP:OPAQUE
BEGIN:VALARM
TRIGGER:-PT2H
ACTION:DISPLAY
DESCRIPTION:[A3] 22ADAY/DL/Hudson/Ghost vs. [D3] Lyndsey Roofing/Otc Elite
END:VALARM
END:VEVENT
BEGIN:VEVENT
UID:issa-68916700-20250607T183000@quickscores.com
DTSTAMP:20260423T154300Z
DTSTART;TZID=America/New_York:20250607T183000
DURATION:PT1H30M0S
SUMMARY:[A2] Allied Tool/LSR/KB Contract/Calvin's Aut vs. [C3] JLX/United Softabll
DESCRIPTION:Men 50 Major - International Senior Softball Association<br>ISSA
LOCATION:CP-K 3
CATEGORIES:QuickScores, Softball Game
TRANSP:OPAQUE
BEGIN:VALARM
TRIGGER:-PT2H
ACTION:DISPLAY
DESCRIPTION:[A2] Allied Tool/LSR/KB Contract/Calvin's Aut vs. [C3] JLX/United Softabll
END:VALARM
END:VEVENT
BEGIN:VEVENT
UID:issa-68916701-20250607T183000@quickscores.com
DTSTAMP:20260423T154300Z
DTSTART;TZID=America/New_York:20250607T183000
DURATION:PT1H30M0S
SUMMARY:[B2] Demolition Illinois vs. [E1] Showtime/TSC
DESCRIPTION:Men 50 Major - International Senior Softball Association<br>ISSA
LOCATION:CP-K 1
CATEGORIES:QuickScores, Softball Game
TRANSP:OPAQUE
BEGIN:VALARM
TRIGGER:-PT2H
ACTION:DISPLAY
DESCRIPTION:[B2] Demolition Illinois vs. [E1] Showtime/TSC
END:VALARM
END:VEVENT
BEGIN:VEVENT
UID:issa-68916704-20250607T183000@quickscores.com
DTSTAMP:20260423T154300Z
DTSTART;TZID=America/New_York:20250607T183000
DURATION:PT1H30M0S
SUMMARY:[D1] Lost Boys vs. [D3] Lyndsey Roofing/Otc Elite
DESCRIPTION:Men 50 Major - International Senior Softball Association<br>ISSA
LOCATION:CP-K 2
CATEGORIES:QuickScores, Softball Game
TRANSP:OPAQUE
BEGIN:VALARM
TRIGGER:-PT2H
ACTION:DISPLAY
DESCRIPTION:[D1] Lost Boys vs. [D3] Lyndsey Roofing/Otc Elite
END:VALARM
END:VEVENT
BEGIN:VEVENT
UID:issa-68916703-20250607T200000@quickscores.com
DTSTAMP:20260423T154300Z
DTSTART;TZID=America/New_York:20250607T200000
DURATION:PT1H30M0S
SUMMARY:[A3] 22ADAY/DL/Hudson/Ghost vs. [E1] Showtime/TSC
DESCRIPTION:Men 50 Major - International Senior Softball Association<br>ISSA
LOCATION:CP-K 1
CATEGORIES:QuickScores, Softball Game
TRANSP:OPAQUE
BEGIN:VALARM
TRIGGER:-PT2H
ACTION:DISPLAY
DESCRIPTION:[A3] 22ADAY/DL/Hudson/Ghost vs. [E1] Showtime/TSC
END:VALARM
END:VEVENT
BEGIN:VEVENT
UID:issa-68916702-20250607T200000@quickscores.com
DTSTAMP:20260423T154300Z
DTSTART;TZID=America/New_York:20250607T200000
DURATION:PT1H30M0S
SUMMARY:[D2] Palmetto Mutiny vs. [A2] Allied Tool/LSR/KB Contract/Calvin's Aut
DESCRIPTION:Men 50 Major - International Senior Softball Association<br>ISSA
LOCATION:CP-K 3
CATEGORIES:QuickScores, Softball Game
TRANSP:OPAQUE
BEGIN:VALARM
TRIGGER:-PT2H
ACTION:DISPLAY
DESCRIPTION:[D2] Palmetto Mutiny vs. [A2] Allied Tool/LSR/KB Contract/Calvin's Aut
END:VALARM
END:VEVENT
BEGIN:VEVENT
UID:issa-68916705-20250608T090000@quickscores.com
DTSTAMP:20260423T154300Z
DTSTART;TZID=America/New_York:20250608T090000
DURATION:PT1H30M0S
SUMMARY:[D2] Palmetto Mutiny vs. [A3] 22ADAY/DL/Hudson/Ghost
DESCRIPTION:Men 50 Major - International Senior Softball Association<br>ISSA
LOCATION:CP-K 1
CATEGORIES:QuickScores, Softball Game
TRANSP:OPAQUE
BEGIN:VALARM
TRIGGER:-PT2H
ACTION:DISPLAY
DESCRIPTION:[D2] Palmetto Mutiny vs. [A3] 22ADAY/DL/Hudson/Ghost
END:VALARM
END:VEVENT
BEGIN:VEVENT
UID:issa-68916706-20250608T103000@quickscores.com
DTSTAMP:20260423T154300Z
DTSTART;TZID=America/New_York:20250608T103000
DURATION:PT1H30M0S
SUMMARY:[D3] Lyndsey Roofing/Otc Elite vs. [A3] 22ADAY/DL/Hudson/Ghost
DESCRIPTION:Men 50 Major - International Senior Softball Association<br>ISSA
LOCATION:CP-K 1
CATEGORIES:QuickScores, Softball Game
TRANSP:OPAQUE
BEGIN:VALARM
TRIGGER:-PT2H
ACTION:DISPLAY
DESCRIPTION:[D3] Lyndsey Roofing/Otc Elite vs. [A3] 22ADAY/DL/Hudson/Ghost
END:VALARM
END:VEVENT
BEGIN:VEVENT
UID:issa-68916707-20250608T120000@quickscores.com
DTSTAMP:20260423T154300Z
DTSTART;TZID=America/New_York:20250608T120000
DURATION:PT1H30M0S
SUMMARY:[D1] Lost Boys vs. [A3] 22ADAY/DL/Hudson/Ghost
DESCRIPTION:Men 50 Major - International Senior Softball Association<br>ISSA
LOCATION:CP-K 1
CATEGORIES:QuickScores, Softball Game
TRANSP:OPAQUE
BEGIN:VALARM
TRIGGER:-PT2H
ACTION:DISPLAY
DESCRIPTION:[D1] Lost Boys vs. [A3] 22ADAY/DL/Hudson/Ghost
END:VALARM
END:VEVENT
BEGIN:VEVENT
UID:issa-68916708-20250608T133000@quickscores.com
DTSTAMP:20260423T154300Z
DTSTART;TZID=America/New_York:20250608T133000
DURATION:PT1H30M0S
SUMMARY:[A3] 22ADAY/DL/Hudson/Ghost vs. [D1] Lost Boys
DESCRIPTION:Men 50 Major - International Senior Softball Association<br>ISSA
LOCATION:CP-K 1
CATEGORIES:QuickScores, Softball Game
TRANSP:OPAQUE
BEGIN:VALARM
TRIGGER:-PT2H
ACTION:DISPLAY
DESCRIPTION:[A3] 22ADAY/DL/Hudson/Ghost vs. [D1] Lost Boys
END:VALARM
END:VEVENT
END:VCALENDAR
