BEGIN:VCALENDAR
VERSION:2.0
PRODID:-//QuickScores.com//BQ Dynamic iCal Creator//EN
METHOD:PUBLISH
X-WR-CALNAME:Thursday 40+ Squads League - 4/24 Start - Completed Leagues 2025
X-WR-CALDESC:QuickScores game calendar
X-PUBLISHED-TTL:PT24H
REFRESH-INTERVAL;VALUE=DURATION:PT24H
CALSCALE:GREGORIAN
BEGIN:VTIMEZONE
TZID:America/Chicago
X-LIC-LOCATION:America/Chicago
BEGIN:DAYLIGHT
TZNAME:CDT
TZOFFSETFROM:-0600
TZOFFSETTO:-0500
DTSTART:19700308T020000
RRULE:FREQ=YEARLY;BYMONTH=3;BYDAY=2SU
END:DAYLIGHT
BEGIN:STANDARD
TZNAME:CST
TZOFFSETFROM:-0500
TZOFFSETTO:-0600
DTSTART:19701101T020000
RRULE:FREQ=YEARLY;BYMONTH=11;BYDAY=1SU
END:STANDARD
END:VTIMEZONE
BEGIN:VEVENT
UID:pupc-68517695-20250424T110000@quickscores.com
DTSTAMP:20260422T195500Z
DTSTART;TZID=America/Chicago:20250424T110000
DURATION:PT0H40M0S
SUMMARY:Gevers/Baggett/Eubanks/Menke vs. Sator/Lucido/Swindler/Pfeiffer
DESCRIPTION:Thursday 40+ Squads League - 4/24 Start - Paddle Up Pickleball Club
LOCATION:Court 5
CATEGORIES:QuickScores, Pickleball Game
TRANSP:OPAQUE
BEGIN:VALARM
TRIGGER:-PT2H
ACTION:DISPLAY
DESCRIPTION:Gevers/Baggett/Eubanks/Menke vs. Sator/Lucido/Swindler/Pfeiffer
END:VALARM
END:VEVENT
BEGIN:VEVENT
UID:pupc-68517697-20250424T110000@quickscores.com
DTSTAMP:20260422T195500Z
DTSTART;TZID=America/Chicago:20250424T110000
DURATION:PT0H40M0S
SUMMARY:Bhagat/Marcinik/Anderson/Schulz vs. Rushing/Gibson/Alexander/Brooks
DESCRIPTION:Thursday 40+ Squads League - 4/24 Start - Paddle Up Pickleball Club
LOCATION:Court 1
CATEGORIES:QuickScores, Pickleball Game
TRANSP:OPAQUE
BEGIN:VALARM
TRIGGER:-PT2H
ACTION:DISPLAY
DESCRIPTION:Bhagat/Marcinik/Anderson/Schulz vs. Rushing/Gibson/Alexander/Brooks
END:VALARM
END:VEVENT
BEGIN:VEVENT
UID:pupc-68517696-20250424T115000@quickscores.com
DTSTAMP:20260422T195500Z
DTSTART;TZID=America/Chicago:20250424T115000
DURATION:PT0H40M0S
SUMMARY:Rushing/Gibson/Alexander/Brooks vs. Sator/Lucido/Swindler/Pfeiffer
DESCRIPTION:Thursday 40+ Squads League - 4/24 Start - Paddle Up Pickleball Club
LOCATION:Court 5
CATEGORIES:QuickScores, Pickleball Game
TRANSP:OPAQUE
BEGIN:VALARM
TRIGGER:-PT2H
ACTION:DISPLAY
DESCRIPTION:Rushing/Gibson/Alexander/Brooks vs. Sator/Lucido/Swindler/Pfeiffer
END:VALARM
END:VEVENT
BEGIN:VEVENT
UID:pupc-68517698-20250424T115000@quickscores.com
DTSTAMP:20260422T195500Z
DTSTART;TZID=America/Chicago:20250424T115000
DURATION:PT0H40M0S
SUMMARY:Gevers/Baggett/Eubanks/Menke vs. Bhagat/Marcinik/Anderson/Schulz
DESCRIPTION:Thursday 40+ Squads League - 4/24 Start - Paddle Up Pickleball Club
LOCATION:Court 1
CATEGORIES:QuickScores, Pickleball Game
TRANSP:OPAQUE
BEGIN:VALARM
TRIGGER:-PT2H
ACTION:DISPLAY
DESCRIPTION:Gevers/Baggett/Eubanks/Menke vs. Bhagat/Marcinik/Anderson/Schulz
END:VALARM
END:VEVENT
BEGIN:VEVENT
UID:pupc-68517702-20250501T110000@quickscores.com
DTSTAMP:20260422T195500Z
DTSTART;TZID=America/Chicago:20250501T110000
DURATION:PT0H40M0S
SUMMARY:Sator/Lucido/Swindler/Pfeiffer vs. Bhagat/Marcinik/Anderson/Schulz
DESCRIPTION:Thursday 40+ Squads League - 4/24 Start - Paddle Up Pickleball Club
LOCATION:Court 1
CATEGORIES:QuickScores, Pickleball Game
TRANSP:OPAQUE
BEGIN:VALARM
TRIGGER:-PT2H
ACTION:DISPLAY
DESCRIPTION:Sator/Lucido/Swindler/Pfeiffer vs. Bhagat/Marcinik/Anderson/Schulz
END:VALARM
END:VEVENT
BEGIN:VEVENT
UID:pupc-68517701-20250501T110000@quickscores.com
DTSTAMP:20260422T195500Z
DTSTART;TZID=America/Chicago:20250501T110000
DURATION:PT0H40M0S
SUMMARY:Gevers/Baggett/Eubanks/Menke vs. Rushing/Gibson/Alexander/Brooks
DESCRIPTION:Thursday 40+ Squads League - 4/24 Start - Paddle Up Pickleball Club
LOCATION:Court 5
CATEGORIES:QuickScores, Pickleball Game
TRANSP:OPAQUE
BEGIN:VALARM
TRIGGER:-PT2H
ACTION:DISPLAY
DESCRIPTION:Gevers/Baggett/Eubanks/Menke vs. Rushing/Gibson/Alexander/Brooks
END:VALARM
END:VEVENT
BEGIN:VEVENT
UID:pupc-68517700-20250501T115000@quickscores.com
DTSTAMP:20260422T195500Z
DTSTART;TZID=America/Chicago:20250501T115000
DURATION:PT0H40M0S
SUMMARY:Rushing/Gibson/Alexander/Brooks vs. Bhagat/Marcinik/Anderson/Schulz
DESCRIPTION:Thursday 40+ Squads League - 4/24 Start - Paddle Up Pickleball Club
LOCATION:Court 5
CATEGORIES:QuickScores, Pickleball Game
TRANSP:OPAQUE
BEGIN:VALARM
TRIGGER:-PT2H
ACTION:DISPLAY
DESCRIPTION:Rushing/Gibson/Alexander/Brooks vs. Bhagat/Marcinik/Anderson/Schulz
END:VALARM
END:VEVENT
BEGIN:VEVENT
UID:pupc-68517699-20250501T115000@quickscores.com
DTSTAMP:20260422T195500Z
DTSTART;TZID=America/Chicago:20250501T115000
DURATION:PT0H40M0S
SUMMARY:Sator/Lucido/Swindler/Pfeiffer vs. Gevers/Baggett/Eubanks/Menke
DESCRIPTION:Thursday 40+ Squads League - 4/24 Start - Paddle Up Pickleball Club
LOCATION:Court 1
CATEGORIES:QuickScores, Pickleball Game
TRANSP:OPAQUE
BEGIN:VALARM
TRIGGER:-PT2H
ACTION:DISPLAY
DESCRIPTION:Sator/Lucido/Swindler/Pfeiffer vs. Gevers/Baggett/Eubanks/Menke
END:VALARM
END:VEVENT
BEGIN:VEVENT
UID:pupc-68517703-20250508T110000@quickscores.com
DTSTAMP:20260422T195500Z
DTSTART;TZID=America/Chicago:20250508T110000
DURATION:PT0H40M0S
SUMMARY:Sator/Lucido/Swindler/Pfeiffer vs. Rushing/Gibson/Alexander/Brooks
DESCRIPTION:Thursday 40+ Squads League - 4/24 Start - Paddle Up Pickleball Club
LOCATION:Court 5
CATEGORIES:QuickScores, Pickleball Game
TRANSP:OPAQUE
BEGIN:VALARM
TRIGGER:-PT2H
ACTION:DISPLAY
DESCRIPTION:Sator/Lucido/Swindler/Pfeiffer vs. Rushing/Gibson/Alexander/Brooks
END:VALARM
END:VEVENT
BEGIN:VEVENT
UID:pupc-68517704-20250508T110000@quickscores.com
DTSTAMP:20260422T195500Z
DTSTART;TZID=America/Chicago:20250508T110000
DURATION:PT0H40M0S
SUMMARY:Bhagat/Marcinik/Anderson/Schulz vs. Gevers/Baggett/Eubanks/Menke
DESCRIPTION:Thursday 40+ Squads League - 4/24 Start - Paddle Up Pickleball Club
LOCATION:Court 1
CATEGORIES:QuickScores, Pickleball Game
TRANSP:OPAQUE
BEGIN:VALARM
TRIGGER:-PT2H
ACTION:DISPLAY
DESCRIPTION:Bhagat/Marcinik/Anderson/Schulz vs. Gevers/Baggett/Eubanks/Menke
END:VALARM
END:VEVENT
BEGIN:VEVENT
UID:pupc-68517705-20250508T115000@quickscores.com
DTSTAMP:20260422T195500Z
DTSTART;TZID=America/Chicago:20250508T115000
DURATION:PT0H40M0S
SUMMARY:Rushing/Gibson/Alexander/Brooks vs. Gevers/Baggett/Eubanks/Menke
DESCRIPTION:Thursday 40+ Squads League - 4/24 Start - Paddle Up Pickleball Club
LOCATION:Court 5
CATEGORIES:QuickScores, Pickleball Game
TRANSP:OPAQUE
BEGIN:VALARM
TRIGGER:-PT2H
ACTION:DISPLAY
DESCRIPTION:Rushing/Gibson/Alexander/Brooks vs. Gevers/Baggett/Eubanks/Menke
END:VALARM
END:VEVENT
BEGIN:VEVENT
UID:pupc-68517706-20250508T115000@quickscores.com
DTSTAMP:20260422T195500Z
DTSTART;TZID=America/Chicago:20250508T115000
DURATION:PT0H40M0S
SUMMARY:Bhagat/Marcinik/Anderson/Schulz vs. Sator/Lucido/Swindler/Pfeiffer
DESCRIPTION:Thursday 40+ Squads League - 4/24 Start - Paddle Up Pickleball Club
LOCATION:Court 1
CATEGORIES:QuickScores, Pickleball Game
TRANSP:OPAQUE
BEGIN:VALARM
TRIGGER:-PT2H
ACTION:DISPLAY
DESCRIPTION:Bhagat/Marcinik/Anderson/Schulz vs. Sator/Lucido/Swindler/Pfeiffer
END:VALARM
END:VEVENT
BEGIN:VEVENT
UID:pupc-69008410-20250515T110000@quickscores.com
DTSTAMP:20260422T195500Z
DTSTART;TZID=America/Chicago:20250515T110000
DURATION:PT0H30M0S
SUMMARY:[1] Bhagat/Marcinik/Anderson/Schulz vs. [4] Rushing/Gibson/Alexander/Brooks
DESCRIPTION:Thursday 40+ Squads League - 4/24 Start - Paddle Up Pickleball Club
LOCATION:Court 1
CATEGORIES:QuickScores, Pickleball Game
TRANSP:OPAQUE
BEGIN:VALARM
TRIGGER:-PT2H
ACTION:DISPLAY
DESCRIPTION:[1] Bhagat/Marcinik/Anderson/Schulz vs. [4] Rushing/Gibson/Alexander/Brooks
END:VALARM
END:VEVENT
BEGIN:VEVENT
UID:pupc-69008411-20250515T110000@quickscores.com
DTSTAMP:20260422T195500Z
DTSTART;TZID=America/Chicago:20250515T110000
DURATION:PT0H30M0S
SUMMARY:[2] Gevers/Baggett/Eubanks/Menke vs. [3] Sator/Lucido/Swindler/Pfeiffer
DESCRIPTION:Thursday 40+ Squads League - 4/24 Start - Paddle Up Pickleball Club
LOCATION:Court 4
CATEGORIES:QuickScores, Pickleball Game
TRANSP:OPAQUE
BEGIN:VALARM
TRIGGER:-PT2H
ACTION:DISPLAY
DESCRIPTION:[2] Gevers/Baggett/Eubanks/Menke vs. [3] Sator/Lucido/Swindler/Pfeiffer
END:VALARM
END:VEVENT
BEGIN:VEVENT
UID:pupc-69008412-20250515T115000@quickscores.com
DTSTAMP:20260422T195500Z
DTSTART;TZID=America/Chicago:20250515T115000
DURATION:PT0H30M0S
SUMMARY:Winner of Game 1 vs. Winner of Game 2
DESCRIPTION:Thursday 40+ Squads League - 4/24 Start - Paddle Up Pickleball Club
LOCATION:Court 1
CATEGORIES:QuickScores, Pickleball Game
TRANSP:OPAQUE
BEGIN:VALARM
TRIGGER:-PT2H
ACTION:DISPLAY
DESCRIPTION:Winner of Game 1 vs. Winner of Game 2
END:VALARM
END:VEVENT
END:VCALENDAR
