BEGIN:VCALENDAR
VERSION:2.0
PRODID:-//QuickScores.com//BQ Dynamic iCal Creator//EN
METHOD:PUBLISH
X-WR-CALNAME:Monday Night Open League - Spring 2025
X-WR-CALDESC:QuickScores game calendar
X-PUBLISHED-TTL:PT24H
REFRESH-INTERVAL;VALUE=DURATION:PT24H
CALSCALE:GREGORIAN
BEGIN:VTIMEZONE
TZID:America/Denver
X-LIC-LOCATION:America/Denver
BEGIN:DAYLIGHT
TZNAME:MDT
TZOFFSETFROM:-0700
TZOFFSETTO:-0600
DTSTART:19700308T020000
RRULE:FREQ=YEARLY;BYMONTH=3;BYDAY=2SU
END:DAYLIGHT
BEGIN:STANDARD
TZNAME:MST
TZOFFSETFROM:-0600
TZOFFSETTO:-0700
DTSTART:19701101T020000
RRULE:FREQ=YEARLY;BYMONTH=11;BYDAY=1SU
END:STANDARD
END:VTIMEZONE
BEGIN:VEVENT
UID:smithfieldrecreation-67950867-20250331T183000@quickscores.com
DTSTAMP:20260423T080900Z
DTSTART;TZID=America/Denver:20250331T183000
DURATION:PT1H0M0S
SUMMARY:Pizza Pie Cafe vs. Team IF
DESCRIPTION:Monday Night Open League - Smithfield Recreation
LOCATION:Bobcat Gym
CATEGORIES:QuickScores, Basketball - Adult Game
TRANSP:OPAQUE
BEGIN:VALARM
TRIGGER:-PT2H
ACTION:DISPLAY
DESCRIPTION:Pizza Pie Cafe vs. Team IF
END:VALARM
END:VEVENT
BEGIN:VEVENT
UID:smithfieldrecreation-67950870-20250331T183000@quickscores.com
DTSTAMP:20260423T080900Z
DTSTART;TZID=America/Denver:20250331T183000
DURATION:PT1H0M0S
SUMMARY:Oak Valley Academy vs. Swish Dish
DESCRIPTION:Monday Night Open League - Smithfield Recreation
LOCATION:Spectator Gym
CATEGORIES:QuickScores, Basketball - Adult Game
TRANSP:OPAQUE
BEGIN:VALARM
TRIGGER:-PT2H
ACTION:DISPLAY
DESCRIPTION:Oak Valley Academy vs. Swish Dish
END:VALARM
END:VEVENT
BEGIN:VEVENT
UID:smithfieldrecreation-67950868-20250331T193000@quickscores.com
DTSTAMP:20260423T080900Z
DTSTART;TZID=America/Denver:20250331T193000
DURATION:PT1H0M0S
SUMMARY:Dawgs vs. Brothers of Splash
DESCRIPTION:Monday Night Open League - Smithfield Recreation
LOCATION:Spectator Gym
CATEGORIES:QuickScores, Basketball - Adult Game
TRANSP:OPAQUE
BEGIN:VALARM
TRIGGER:-PT2H
ACTION:DISPLAY
DESCRIPTION:Dawgs vs. Brothers of Splash
END:VALARM
END:VEVENT
BEGIN:VEVENT
UID:smithfieldrecreation-67950869-20250331T193000@quickscores.com
DTSTAMP:20260423T080900Z
DTSTART;TZID=America/Denver:20250331T193000
DURATION:PT1H0M0S
SUMMARY:TBD Wilson vs. Spring Ballers
DESCRIPTION:Monday Night Open League - Smithfield Recreation
LOCATION:Bobcat Gym
CATEGORIES:QuickScores, Basketball - Adult Game
TRANSP:OPAQUE
BEGIN:VALARM
TRIGGER:-PT2H
ACTION:DISPLAY
DESCRIPTION:TBD Wilson vs. Spring Ballers
END:VALARM
END:VEVENT
BEGIN:VEVENT
UID:smithfieldrecreation-67950866-20250331T203000@quickscores.com
DTSTAMP:20260423T080900Z
DTSTART;TZID=America/Denver:20250331T203000
DURATION:PT1H0M0S
SUMMARY:I Love Joe Ingles vs. Young Guns
DESCRIPTION:Monday Night Open League - Smithfield Recreation
LOCATION:Bobcat Gym
CATEGORIES:QuickScores, Basketball - Adult Game
TRANSP:OPAQUE
BEGIN:VALARM
TRIGGER:-PT2H
ACTION:DISPLAY
DESCRIPTION:I Love Joe Ingles vs. Young Guns
END:VALARM
END:VEVENT
BEGIN:VEVENT
UID:smithfieldrecreation-67950871-20250331T203000@quickscores.com
DTSTAMP:20260423T080900Z
DTSTART;TZID=America/Denver:20250331T203000
DURATION:PT1H0M0S
SUMMARY:Slim Reapers vs. JV Squad
DESCRIPTION:Monday Night Open League - Smithfield Recreation
LOCATION:Spectator Gym
CATEGORIES:QuickScores, Basketball - Adult Game
TRANSP:OPAQUE
BEGIN:VALARM
TRIGGER:-PT2H
ACTION:DISPLAY
DESCRIPTION:Slim Reapers vs. JV Squad
END:VALARM
END:VEVENT
BEGIN:VEVENT
UID:smithfieldrecreation-67950872-20250414T183000@quickscores.com
DTSTAMP:20260423T080900Z
DTSTART;TZID=America/Denver:20250414T183000
DURATION:PT1H0M0S
SUMMARY:Pizza Pie Cafe vs. I Love Joe Ingles
DESCRIPTION:Monday Night Open League - Smithfield Recreation
LOCATION:Spectator Gym
CATEGORIES:QuickScores, Basketball - Adult Game
TRANSP:OPAQUE
BEGIN:VALARM
TRIGGER:-PT2H
ACTION:DISPLAY
DESCRIPTION:Pizza Pie Cafe vs. I Love Joe Ingles
END:VALARM
END:VEVENT
BEGIN:VEVENT
UID:smithfieldrecreation-67950874-20250414T183000@quickscores.com
DTSTAMP:20260423T080900Z
DTSTART;TZID=America/Denver:20250414T183000
DURATION:PT1H0M0S
SUMMARY:Spring Ballers vs. Team IF
DESCRIPTION:Monday Night Open League - Smithfield Recreation
LOCATION:Bobcat Gym
CATEGORIES:QuickScores, Basketball - Adult Game
TRANSP:OPAQUE
BEGIN:VALARM
TRIGGER:-PT2H
ACTION:DISPLAY
DESCRIPTION:Spring Ballers vs. Team IF
END:VALARM
END:VEVENT
BEGIN:VEVENT
UID:smithfieldrecreation-67950875-20250414T193000@quickscores.com
DTSTAMP:20260423T080900Z
DTSTART;TZID=America/Denver:20250414T193000
DURATION:PT1H0M0S
SUMMARY:Oak Valley Academy vs. Dawgs
DESCRIPTION:Monday Night Open League - Smithfield Recreation
LOCATION:Spectator Gym
CATEGORIES:QuickScores, Basketball - Adult Game
TRANSP:OPAQUE
BEGIN:VALARM
TRIGGER:-PT2H
ACTION:DISPLAY
DESCRIPTION:Oak Valley Academy vs. Dawgs
END:VALARM
END:VEVENT
BEGIN:VEVENT
UID:smithfieldrecreation-67950877-20250414T193000@quickscores.com
DTSTAMP:20260423T080900Z
DTSTART;TZID=America/Denver:20250414T193000
DURATION:PT1H0M0S
SUMMARY:JV Squad vs. Swish Dish
DESCRIPTION:Monday Night Open League - Smithfield Recreation
LOCATION:Bobcat Gym
CATEGORIES:QuickScores, Basketball - Adult Game
TRANSP:OPAQUE
BEGIN:VALARM
TRIGGER:-PT2H
ACTION:DISPLAY
DESCRIPTION:JV Squad vs. Swish Dish
END:VALARM
END:VEVENT
BEGIN:VEVENT
UID:smithfieldrecreation-67950876-20250414T203000@quickscores.com
DTSTAMP:20260423T080900Z
DTSTART;TZID=America/Denver:20250414T203000
DURATION:PT1H0M0S
SUMMARY:TBD Wilson vs. Slim Reapers
DESCRIPTION:Monday Night Open League - Smithfield Recreation
LOCATION:Bobcat Gym
CATEGORIES:QuickScores, Basketball - Adult Game
TRANSP:OPAQUE
BEGIN:VALARM
TRIGGER:-PT2H
ACTION:DISPLAY
DESCRIPTION:TBD Wilson vs. Slim Reapers
END:VALARM
END:VEVENT
BEGIN:VEVENT
UID:smithfieldrecreation-67950873-20250414T203000@quickscores.com
DTSTAMP:20260423T080900Z
DTSTART;TZID=America/Denver:20250414T203000
DURATION:PT1H0M0S
SUMMARY:Young Guns vs. Brothers of Splash
DESCRIPTION:Monday Night Open League - Smithfield Recreation
LOCATION:Spectator Gym
CATEGORIES:QuickScores, Basketball - Adult Game
TRANSP:OPAQUE
BEGIN:VALARM
TRIGGER:-PT2H
ACTION:DISPLAY
DESCRIPTION:Young Guns vs. Brothers of Splash
END:VALARM
END:VEVENT
BEGIN:VEVENT
UID:smithfieldrecreation-67950883-20250421T183000@quickscores.com
DTSTAMP:20260423T080900Z
DTSTART;TZID=America/Denver:20250421T183000
DURATION:PT1H0M0S
SUMMARY:Slim Reapers vs. Oak Valley Academy
DESCRIPTION:Monday Night Open League - Smithfield Recreation
LOCATION:Bobcat Gym
CATEGORIES:QuickScores, Basketball - Adult Game
TRANSP:OPAQUE
BEGIN:VALARM
TRIGGER:-PT2H
ACTION:DISPLAY
DESCRIPTION:Slim Reapers vs. Oak Valley Academy
END:VALARM
END:VEVENT
BEGIN:VEVENT
UID:smithfieldrecreation-67950879-20250421T183000@quickscores.com
DTSTAMP:20260423T080900Z
DTSTART;TZID=America/Denver:20250421T183000
DURATION:PT1H0M0S
SUMMARY:Young Guns vs. Dawgs
DESCRIPTION:Monday Night Open League - Smithfield Recreation
LOCATION:Spectator Gym
CATEGORIES:QuickScores, Basketball - Adult Game
TRANSP:OPAQUE
BEGIN:VALARM
TRIGGER:-PT2H
ACTION:DISPLAY
DESCRIPTION:Young Guns vs. Dawgs
END:VALARM
END:VEVENT
BEGIN:VEVENT
UID:smithfieldrecreation-67950880-20250421T193000@quickscores.com
DTSTAMP:20260423T080900Z
DTSTART;TZID=America/Denver:20250421T193000
DURATION:PT1H0M0S
SUMMARY:TBD Wilson vs. Pizza Pie Cafe
DESCRIPTION:Monday Night Open League - Smithfield Recreation
LOCATION:Spectator Gym
CATEGORIES:QuickScores, Basketball - Adult Game
TRANSP:OPAQUE
BEGIN:VALARM
TRIGGER:-PT2H
ACTION:DISPLAY
DESCRIPTION:TBD Wilson vs. Pizza Pie Cafe
END:VALARM
END:VEVENT
BEGIN:VEVENT
UID:smithfieldrecreation-67950881-20250421T193000@quickscores.com
DTSTAMP:20260423T080900Z
DTSTART;TZID=America/Denver:20250421T193000
DURATION:PT1H0M0S
SUMMARY:Brothers of Splash vs. Swish Dish
DESCRIPTION:Monday Night Open League - Smithfield Recreation
LOCATION:Bobcat Gym
CATEGORIES:QuickScores, Basketball - Adult Game
TRANSP:OPAQUE
BEGIN:VALARM
TRIGGER:-PT2H
ACTION:DISPLAY
DESCRIPTION:Brothers of Splash vs. Swish Dish
END:VALARM
END:VEVENT
BEGIN:VEVENT
UID:smithfieldrecreation-67950882-20250421T203000@quickscores.com
DTSTAMP:20260423T080900Z
DTSTART;TZID=America/Denver:20250421T203000
DURATION:PT1H0M0S
SUMMARY:Spring Ballers vs. JV Squad
DESCRIPTION:Monday Night Open League - Smithfield Recreation
LOCATION:Bobcat Gym
CATEGORIES:QuickScores, Basketball - Adult Game
TRANSP:OPAQUE
BEGIN:VALARM
TRIGGER:-PT2H
ACTION:DISPLAY
DESCRIPTION:Spring Ballers vs. JV Squad
END:VALARM
END:VEVENT
BEGIN:VEVENT
UID:smithfieldrecreation-67950878-20250421T203000@quickscores.com
DTSTAMP:20260423T080900Z
DTSTART;TZID=America/Denver:20250421T203000
DURATION:PT1H0M0S
SUMMARY:I Love Joe Ingles vs. Team IF
DESCRIPTION:Monday Night Open League - Smithfield Recreation
LOCATION:Spectator Gym
CATEGORIES:QuickScores, Basketball - Adult Game
TRANSP:OPAQUE
BEGIN:VALARM
TRIGGER:-PT2H
ACTION:DISPLAY
DESCRIPTION:I Love Joe Ingles vs. Team IF
END:VALARM
END:VEVENT
BEGIN:VEVENT
UID:smithfieldrecreation-67950888-20250428T183000@quickscores.com
DTSTAMP:20260423T080900Z
DTSTART;TZID=America/Denver:20250428T183000
DURATION:PT1H0M0S
SUMMARY:JV Squad vs. Dawgs
DESCRIPTION:Monday Night Open League - Smithfield Recreation
LOCATION:Multi-Purpose North Gym
CATEGORIES:QuickScores, Basketball - Adult Game
TRANSP:OPAQUE
BEGIN:VALARM
TRIGGER:-PT2H
ACTION:DISPLAY
DESCRIPTION:JV Squad vs. Dawgs
END:VALARM
END:VEVENT
BEGIN:VEVENT
UID:smithfieldrecreation-67950887-20250428T183000@quickscores.com
DTSTAMP:20260423T080900Z
DTSTART;TZID=America/Denver:20250428T183000
DURATION:PT1H0M0S
SUMMARY:Team IF vs. Slim Reapers
DESCRIPTION:Monday Night Open League - Smithfield Recreation
LOCATION:Spectator Gym
CATEGORIES:QuickScores, Basketball - Adult Game
TRANSP:OPAQUE
BEGIN:VALARM
TRIGGER:-PT2H
ACTION:DISPLAY
DESCRIPTION:Team IF vs. Slim Reapers
END:VALARM
END:VEVENT
BEGIN:VEVENT
UID:smithfieldrecreation-67950889-20250428T193000@quickscores.com
DTSTAMP:20260423T080900Z
DTSTART;TZID=America/Denver:20250428T193000
DURATION:PT1H0M0S
SUMMARY:Swish Dish vs. TBD Wilson
DESCRIPTION:Monday Night Open League - Smithfield Recreation
LOCATION:Spectator Gym
CATEGORIES:QuickScores, Basketball - Adult Game
TRANSP:OPAQUE
BEGIN:VALARM
TRIGGER:-PT2H
ACTION:DISPLAY
DESCRIPTION:Swish Dish vs. TBD Wilson
END:VALARM
END:VEVENT
BEGIN:VEVENT
UID:smithfieldrecreation-67950886-20250428T193000@quickscores.com
DTSTAMP:20260423T080900Z
DTSTART;TZID=America/Denver:20250428T193000
DURATION:PT1H0M0S
SUMMARY:Oak Valley Academy vs. Young Guns
DESCRIPTION:Monday Night Open League - Smithfield Recreation
LOCATION:Multi-Purpose North Gym
CATEGORIES:QuickScores, Basketball - Adult Game
TRANSP:OPAQUE
BEGIN:VALARM
TRIGGER:-PT2H
ACTION:DISPLAY
DESCRIPTION:Oak Valley Academy vs. Young Guns
END:VALARM
END:VEVENT
BEGIN:VEVENT
UID:smithfieldrecreation-67950885-20250428T203000@quickscores.com
DTSTAMP:20260423T080900Z
DTSTART;TZID=America/Denver:20250428T203000
DURATION:PT1H0M0S
SUMMARY:Spring Ballers vs. Pizza Pie Cafe
DESCRIPTION:Monday Night Open League - Smithfield Recreation
LOCATION:Spectator Gym
CATEGORIES:QuickScores, Basketball - Adult Game
TRANSP:OPAQUE
BEGIN:VALARM
TRIGGER:-PT2H
ACTION:DISPLAY
DESCRIPTION:Spring Ballers vs. Pizza Pie Cafe
END:VALARM
END:VEVENT
BEGIN:VEVENT
UID:smithfieldrecreation-67950884-20250428T203000@quickscores.com
DTSTAMP:20260423T080900Z
DTSTART;TZID=America/Denver:20250428T203000
DURATION:PT1H0M0S
SUMMARY:Brothers of Splash vs. I Love Joe Ingles
DESCRIPTION:Monday Night Open League - Smithfield Recreation
LOCATION:Multi-Purpose North Gym
CATEGORIES:QuickScores, Basketball - Adult Game
TRANSP:OPAQUE
BEGIN:VALARM
TRIGGER:-PT2H
ACTION:DISPLAY
DESCRIPTION:Brothers of Splash vs. I Love Joe Ingles
END:VALARM
END:VEVENT
BEGIN:VEVENT
UID:smithfieldrecreation-67950891-20250505T183000@quickscores.com
DTSTAMP:20260423T080900Z
DTSTART;TZID=America/Denver:20250505T183000
DURATION:PT1H0M0S
SUMMARY:Team IF vs. TBD Wilson
DESCRIPTION:Monday Night Open League - Smithfield Recreation
LOCATION:Spectator Gym
CATEGORIES:QuickScores, Basketball - Adult Game
TRANSP:OPAQUE
BEGIN:VALARM
TRIGGER:-PT2H
ACTION:DISPLAY
DESCRIPTION:Team IF vs. TBD Wilson
END:VALARM
END:VEVENT
BEGIN:VEVENT
UID:smithfieldrecreation-67950892-20250505T183000@quickscores.com
DTSTAMP:20260423T080900Z
DTSTART;TZID=America/Denver:20250505T183000
DURATION:PT1H0M0S
SUMMARY:Swish Dish vs. Young Guns
DESCRIPTION:Monday Night Open League - Smithfield Recreation
LOCATION:Bobcat Gym
CATEGORIES:QuickScores, Basketball - Adult Game
TRANSP:OPAQUE
BEGIN:VALARM
TRIGGER:-PT2H
ACTION:DISPLAY
DESCRIPTION:Swish Dish vs. Young Guns
END:VALARM
END:VEVENT
BEGIN:VEVENT
UID:smithfieldrecreation-67950893-20250505T193000@quickscores.com
DTSTAMP:20260423T080900Z
DTSTART;TZID=America/Denver:20250505T193000
DURATION:PT1H0M0S
SUMMARY:JV Squad vs. Pizza Pie Cafe
DESCRIPTION:Monday Night Open League - Smithfield Recreation
LOCATION:Spectator Gym
CATEGORIES:QuickScores, Basketball - Adult Game
TRANSP:OPAQUE
BEGIN:VALARM
TRIGGER:-PT2H
ACTION:DISPLAY
DESCRIPTION:JV Squad vs. Pizza Pie Cafe
END:VALARM
END:VEVENT
BEGIN:VEVENT
UID:smithfieldrecreation-67950890-20250505T193000@quickscores.com
DTSTAMP:20260423T080900Z
DTSTART;TZID=America/Denver:20250505T193000
DURATION:PT1H0M0S
SUMMARY:Dawgs vs. I Love Joe Ingles
DESCRIPTION:Monday Night Open League - Smithfield Recreation
LOCATION:Bobcat Gym
CATEGORIES:QuickScores, Basketball - Adult Game
TRANSP:OPAQUE
BEGIN:VALARM
TRIGGER:-PT2H
ACTION:DISPLAY
DESCRIPTION:Dawgs vs. I Love Joe Ingles
END:VALARM
END:VEVENT
BEGIN:VEVENT
UID:smithfieldrecreation-67950894-20250505T203000@quickscores.com
DTSTAMP:20260423T080900Z
DTSTART;TZID=America/Denver:20250505T203000
DURATION:PT1H0M0S
SUMMARY:Slim Reapers vs. Brothers of Splash
DESCRIPTION:Monday Night Open League - Smithfield Recreation
LOCATION:Bobcat Gym
CATEGORIES:QuickScores, Basketball - Adult Game
TRANSP:OPAQUE
BEGIN:VALARM
TRIGGER:-PT2H
ACTION:DISPLAY
DESCRIPTION:Slim Reapers vs. Brothers of Splash
END:VALARM
END:VEVENT
BEGIN:VEVENT
UID:smithfieldrecreation-67950895-20250505T203000@quickscores.com
DTSTAMP:20260423T080900Z
DTSTART;TZID=America/Denver:20250505T203000
DURATION:PT1H0M0S
SUMMARY:Spring Ballers vs. Oak Valley Academy
DESCRIPTION:Monday Night Open League - Smithfield Recreation
LOCATION:Spectator Gym
CATEGORIES:QuickScores, Basketball - Adult Game
TRANSP:OPAQUE
BEGIN:VALARM
TRIGGER:-PT2H
ACTION:DISPLAY
DESCRIPTION:Spring Ballers vs. Oak Valley Academy
END:VALARM
END:VEVENT
BEGIN:VEVENT
UID:smithfieldrecreation-67950899-20250512T183000@quickscores.com
DTSTAMP:20260423T080900Z
DTSTART;TZID=America/Denver:20250512T183000
DURATION:PT1H0M0S
SUMMARY:Young Guns vs. JV Squad
DESCRIPTION:Monday Night Open League - Smithfield Recreation
LOCATION:Spectator Gym
CATEGORIES:QuickScores, Basketball - Adult Game
TRANSP:OPAQUE
BEGIN:VALARM
TRIGGER:-PT2H
ACTION:DISPLAY
DESCRIPTION:Young Guns vs. JV Squad
END:VALARM
END:VEVENT
BEGIN:VEVENT
UID:smithfieldrecreation-67950897-20250512T183000@quickscores.com
DTSTAMP:20260423T080900Z
DTSTART;TZID=America/Denver:20250512T183000
DURATION:PT1H0M0S
SUMMARY:Oak Valley Academy vs. Brothers of Splash
DESCRIPTION:Monday Night Open League - Smithfield Recreation
LOCATION:Bobcat Gym
CATEGORIES:QuickScores, Basketball - Adult Game
TRANSP:OPAQUE
BEGIN:VALARM
TRIGGER:-PT2H
ACTION:DISPLAY
DESCRIPTION:Oak Valley Academy vs. Brothers of Splash
END:VALARM
END:VEVENT
BEGIN:VEVENT
UID:smithfieldrecreation-67950898-20250512T193000@quickscores.com
DTSTAMP:20260423T080900Z
DTSTART;TZID=America/Denver:20250512T193000
DURATION:PT1H0M0S
SUMMARY:Slim Reapers vs. Pizza Pie Cafe
DESCRIPTION:Monday Night Open League - Smithfield Recreation
LOCATION:Bobcat Gym
CATEGORIES:QuickScores, Basketball - Adult Game
TRANSP:OPAQUE
BEGIN:VALARM
TRIGGER:-PT2H
ACTION:DISPLAY
DESCRIPTION:Slim Reapers vs. Pizza Pie Cafe
END:VALARM
END:VEVENT
BEGIN:VEVENT
UID:smithfieldrecreation-67950896-20250512T193000@quickscores.com
DTSTAMP:20260423T080900Z
DTSTART;TZID=America/Denver:20250512T193000
DURATION:PT1H0M0S
SUMMARY:I Love Joe Ingles vs. Spring Ballers
DESCRIPTION:Monday Night Open League - Smithfield Recreation
LOCATION:Spectator Gym
CATEGORIES:QuickScores, Basketball - Adult Game
TRANSP:OPAQUE
BEGIN:VALARM
TRIGGER:-PT2H
ACTION:DISPLAY
DESCRIPTION:I Love Joe Ingles vs. Spring Ballers
END:VALARM
END:VEVENT
BEGIN:VEVENT
UID:smithfieldrecreation-67950900-20250512T203000@quickscores.com
DTSTAMP:20260423T080900Z
DTSTART;TZID=America/Denver:20250512T203000
DURATION:PT1H0M0S
SUMMARY:Team IF vs. Swish Dish
DESCRIPTION:Monday Night Open League - Smithfield Recreation
LOCATION:Bobcat Gym
CATEGORIES:QuickScores, Basketball - Adult Game
TRANSP:OPAQUE
BEGIN:VALARM
TRIGGER:-PT2H
ACTION:DISPLAY
DESCRIPTION:Team IF vs. Swish Dish
END:VALARM
END:VEVENT
BEGIN:VEVENT
UID:smithfieldrecreation-67950901-20250512T203000@quickscores.com
DTSTAMP:20260423T080900Z
DTSTART;TZID=America/Denver:20250512T203000
DURATION:PT1H0M0S
SUMMARY:Dawgs vs. TBD Wilson
DESCRIPTION:Monday Night Open League - Smithfield Recreation
LOCATION:Spectator Gym
CATEGORIES:QuickScores, Basketball - Adult Game
TRANSP:OPAQUE
BEGIN:VALARM
TRIGGER:-PT2H
ACTION:DISPLAY
DESCRIPTION:Dawgs vs. TBD Wilson
END:VALARM
END:VEVENT
BEGIN:VEVENT
UID:smithfieldrecreation-67950907-20250519T183000@quickscores.com
DTSTAMP:20260423T080900Z
DTSTART;TZID=America/Denver:20250519T183000
DURATION:PT1H0M0S
SUMMARY:Brothers of Splash vs. Spring Ballers
DESCRIPTION:Monday Night Open League - Smithfield Recreation
LOCATION:Spectator Gym
CATEGORIES:QuickScores, Basketball - Adult Game
TRANSP:OPAQUE
BEGIN:VALARM
TRIGGER:-PT2H
ACTION:DISPLAY
DESCRIPTION:Brothers of Splash vs. Spring Ballers
END:VALARM
END:VEVENT
BEGIN:VEVENT
UID:smithfieldrecreation-67950902-20250519T183000@quickscores.com
DTSTAMP:20260423T080900Z
DTSTART;TZID=America/Denver:20250519T183000
DURATION:PT1H0M0S
SUMMARY:I Love Joe Ingles vs. TBD Wilson
DESCRIPTION:Monday Night Open League - Smithfield Recreation
LOCATION:Bobcat Gym
CATEGORIES:QuickScores, Basketball - Adult Game
TRANSP:OPAQUE
BEGIN:VALARM
TRIGGER:-PT2H
ACTION:DISPLAY
DESCRIPTION:I Love Joe Ingles vs. TBD Wilson
END:VALARM
END:VEVENT
BEGIN:VEVENT
UID:smithfieldrecreation-67950904-20250519T193000@quickscores.com
DTSTAMP:20260423T080900Z
DTSTART;TZID=America/Denver:20250519T193000
DURATION:PT1H0M0S
SUMMARY:Team IF vs. JV Squad
DESCRIPTION:Monday Night Open League - Smithfield Recreation
LOCATION:Bobcat Gym
CATEGORIES:QuickScores, Basketball - Adult Game
TRANSP:OPAQUE
BEGIN:VALARM
TRIGGER:-PT2H
ACTION:DISPLAY
DESCRIPTION:Team IF vs. JV Squad
END:VALARM
END:VEVENT
BEGIN:VEVENT
UID:smithfieldrecreation-67950905-20250519T193000@quickscores.com
DTSTAMP:20260423T080900Z
DTSTART;TZID=America/Denver:20250519T193000
DURATION:PT1H0M0S
SUMMARY:Young Guns vs. Slim Reapers
DESCRIPTION:Monday Night Open League - Smithfield Recreation
LOCATION:Spectator Gym
CATEGORIES:QuickScores, Basketball - Adult Game
TRANSP:OPAQUE
BEGIN:VALARM
TRIGGER:-PT2H
ACTION:DISPLAY
DESCRIPTION:Young Guns vs. Slim Reapers
END:VALARM
END:VEVENT
BEGIN:VEVENT
UID:smithfieldrecreation-67950906-20250519T203000@quickscores.com
DTSTAMP:20260423T080900Z
DTSTART;TZID=America/Denver:20250519T203000
DURATION:PT1H0M0S
SUMMARY:Pizza Pie Cafe vs. Oak Valley Academy
DESCRIPTION:Monday Night Open League - Smithfield Recreation
LOCATION:Bobcat Gym
CATEGORIES:QuickScores, Basketball - Adult Game
TRANSP:OPAQUE
BEGIN:VALARM
TRIGGER:-PT2H
ACTION:DISPLAY
DESCRIPTION:Pizza Pie Cafe vs. Oak Valley Academy
END:VALARM
END:VEVENT
BEGIN:VEVENT
UID:smithfieldrecreation-67950903-20250519T203000@quickscores.com
DTSTAMP:20260423T080900Z
DTSTART;TZID=America/Denver:20250519T203000
DURATION:PT1H0M0S
SUMMARY:Swish Dish vs. Dawgs
DESCRIPTION:Monday Night Open League - Smithfield Recreation
LOCATION:Spectator Gym
CATEGORIES:QuickScores, Basketball - Adult Game
TRANSP:OPAQUE
BEGIN:VALARM
TRIGGER:-PT2H
ACTION:DISPLAY
DESCRIPTION:Swish Dish vs. Dawgs
END:VALARM
END:VEVENT
BEGIN:VEVENT
UID:smithfieldrecreation-69100932-20250602T180000@quickscores.com
DTSTAMP:20260423T080900Z
DTSTART;TZID=America/Denver:20250602T180000
DURATION:PT1H0M0S
SUMMARY:[8] JV Squad vs. [9] Slim Reapers
DESCRIPTION:Monday Night Open League - Smithfield Recreation
LOCATION:Spectator Gym
CATEGORIES:QuickScores, Basketball - Adult Game
TRANSP:OPAQUE
BEGIN:VALARM
TRIGGER:-PT2H
ACTION:DISPLAY
DESCRIPTION:[8] JV Squad vs. [9] Slim Reapers
END:VALARM
END:VEVENT
BEGIN:VEVENT
UID:smithfieldrecreation-69100936-20250602T180000@quickscores.com
DTSTAMP:20260423T080900Z
DTSTART;TZID=America/Denver:20250602T180000
DURATION:PT1H0M0S
SUMMARY:[7] Brothers of Splash vs. [10] TBD Wilson
DESCRIPTION:Monday Night Open League - Smithfield Recreation
LOCATION:Bobcat Gym
CATEGORIES:QuickScores, Basketball - Adult Game
TRANSP:OPAQUE
BEGIN:VALARM
TRIGGER:-PT2H
ACTION:DISPLAY
DESCRIPTION:[7] Brothers of Splash vs. [10] TBD Wilson
END:VALARM
END:VEVENT
BEGIN:VEVENT
UID:smithfieldrecreation-69100941-20250602T190000@quickscores.com
DTSTAMP:20260423T080900Z
DTSTART;TZID=America/Denver:20250602T190000
DURATION:PT1H0M0S
SUMMARY:[2] Spring Ballers vs. [7] Brothers of Splash
DESCRIPTION:Monday Night Open League - Smithfield Recreation
LOCATION:Bobcat Gym
CATEGORIES:QuickScores, Basketball - Adult Game
TRANSP:OPAQUE
BEGIN:VALARM
TRIGGER:-PT2H
ACTION:DISPLAY
DESCRIPTION:[2] Spring Ballers vs. [7] Brothers of Splash
END:VALARM
END:VEVENT
BEGIN:VEVENT
UID:smithfieldrecreation-69100939-20250602T190000@quickscores.com
DTSTAMP:20260423T080900Z
DTSTART;TZID=America/Denver:20250602T190000
DURATION:PT1H0M0S
SUMMARY:[1] Young Guns vs. [9] Slim Reapers
DESCRIPTION:Monday Night Open League - Smithfield Recreation
LOCATION:Spectator Gym
CATEGORIES:QuickScores, Basketball - Adult Game
TRANSP:OPAQUE
BEGIN:VALARM
TRIGGER:-PT2H
ACTION:DISPLAY
DESCRIPTION:[1] Young Guns vs. [9] Slim Reapers
END:VALARM
END:VEVENT
BEGIN:VEVENT
UID:smithfieldrecreation-69100938-20250602T200000@quickscores.com
DTSTAMP:20260423T080900Z
DTSTART;TZID=America/Denver:20250602T200000
DURATION:PT1H0M0S
SUMMARY:[6] I Love Joe Ingles vs. [11] Oak Valley Academy
DESCRIPTION:Monday Night Open League - Smithfield Recreation
LOCATION:Bobcat Gym
CATEGORIES:QuickScores, Basketball - Adult Game
TRANSP:OPAQUE
BEGIN:VALARM
TRIGGER:-PT2H
ACTION:DISPLAY
DESCRIPTION:[6] I Love Joe Ingles vs. [11] Oak Valley Academy
END:VALARM
END:VEVENT
BEGIN:VEVENT
UID:smithfieldrecreation-69100934-20250602T200000@quickscores.com
DTSTAMP:20260423T080900Z
DTSTART;TZID=America/Denver:20250602T200000
DURATION:PT1H0M0S
SUMMARY:[5] Team IF vs. [12] Dawgs
DESCRIPTION:Monday Night Open League - Smithfield Recreation
LOCATION:Spectator Gym
CATEGORIES:QuickScores, Basketball - Adult Game
TRANSP:OPAQUE
BEGIN:VALARM
TRIGGER:-PT2H
ACTION:DISPLAY
DESCRIPTION:[5] Team IF vs. [12] Dawgs
END:VALARM
END:VEVENT
BEGIN:VEVENT
UID:smithfieldrecreation-69100940-20250602T210000@quickscores.com
DTSTAMP:20260423T080900Z
DTSTART;TZID=America/Denver:20250602T210000
DURATION:PT1H0M0S
SUMMARY:[4] Pizza Pie Cafe vs. [5] Team IF
DESCRIPTION:Monday Night Open League - Smithfield Recreation
LOCATION:Spectator Gym
CATEGORIES:QuickScores, Basketball - Adult Game
TRANSP:OPAQUE
BEGIN:VALARM
TRIGGER:-PT2H
ACTION:DISPLAY
DESCRIPTION:[4] Pizza Pie Cafe vs. [5] Team IF
END:VALARM
END:VEVENT
BEGIN:VEVENT
UID:smithfieldrecreation-69100942-20250602T210000@quickscores.com
DTSTAMP:20260423T080900Z
DTSTART;TZID=America/Denver:20250602T210000
DURATION:PT1H0M0S
SUMMARY:[3] Swish Dish vs. [6] I Love Joe Ingles
DESCRIPTION:Monday Night Open League - Smithfield Recreation
LOCATION:Bobcat Gym
CATEGORIES:QuickScores, Basketball - Adult Game
TRANSP:OPAQUE
BEGIN:VALARM
TRIGGER:-PT2H
ACTION:DISPLAY
DESCRIPTION:[3] Swish Dish vs. [6] I Love Joe Ingles
END:VALARM
END:VEVENT
BEGIN:VEVENT
UID:smithfieldrecreation-69100943-20250609T183000@quickscores.com
DTSTAMP:20260423T080900Z
DTSTART;TZID=America/Denver:20250609T183000
DURATION:PT1H0M0S
SUMMARY:[9] Slim Reapers vs. [5] Team IF
DESCRIPTION:Monday Night Open League - Smithfield Recreation
LOCATION:Spectator Gym
CATEGORIES:QuickScores, Basketball - Adult Game
TRANSP:OPAQUE
BEGIN:VALARM
TRIGGER:-PT2H
ACTION:DISPLAY
DESCRIPTION:[9] Slim Reapers vs. [5] Team IF
END:VALARM
END:VEVENT
BEGIN:VEVENT
UID:smithfieldrecreation-69100944-20250609T193000@quickscores.com
DTSTAMP:20260423T080900Z
DTSTART;TZID=America/Denver:20250609T193000
DURATION:PT1H0M0S
SUMMARY:[2] Spring Ballers vs. [3] Swish Dish
DESCRIPTION:Monday Night Open League - Smithfield Recreation
LOCATION:Spectator Gym
CATEGORIES:QuickScores, Basketball - Adult Game
TRANSP:OPAQUE
BEGIN:VALARM
TRIGGER:-PT2H
ACTION:DISPLAY
DESCRIPTION:[2] Spring Ballers vs. [3] Swish Dish
END:VALARM
END:VEVENT
BEGIN:VEVENT
UID:smithfieldrecreation-69100945-20250609T203000@quickscores.com
DTSTAMP:20260423T080900Z
DTSTART;TZID=America/Denver:20250609T203000
DURATION:PT1H0M0S
SUMMARY:[9] Slim Reapers vs. [2] Spring Ballers
DESCRIPTION:Monday Night Open League - Smithfield Recreation
LOCATION:Spectator Gym
CATEGORIES:QuickScores, Basketball - Adult Game
TRANSP:OPAQUE
BEGIN:VALARM
TRIGGER:-PT2H
ACTION:DISPLAY
DESCRIPTION:[9] Slim Reapers vs. [2] Spring Ballers
END:VALARM
END:VEVENT
END:VCALENDAR
