BEGIN:VCALENDAR
VERSION:2.0
PRODID:-//QuickScores.com//BQ Dynamic iCal Creator//EN
METHOD:PUBLISH
X-WR-CALNAME:Division 2 - Spring/Summer 2025
X-WR-CALDESC:QuickScores game calendar
X-PUBLISHED-TTL:PT24H
REFRESH-INTERVAL;VALUE=DURATION:PT24H
CALSCALE:GREGORIAN
BEGIN:VTIMEZONE
TZID:America/New_York
X-LIC-LOCATION:America/New_York
BEGIN:DAYLIGHT
TZNAME:EDT
TZOFFSETFROM:-0500
TZOFFSETTO:-0400
DTSTART:19700308T020000
RRULE:FREQ=YEARLY;BYMONTH=3;BYDAY=2SU
END:DAYLIGHT
BEGIN:STANDARD
TZNAME:EST
TZOFFSETFROM:-0400
TZOFFSETTO:-0500
DTSTART:19701101T020000
RRULE:FREQ=YEARLY;BYMONTH=11;BYDAY=1SU
END:STANDARD
END:VTIMEZONE
BEGIN:VEVENT
UID:rcsl-68293417-20250504T090000@quickscores.com
DTSTAMP:20260425T224800Z
DTSTART;TZID=America/New_York:20250504T090000
DURATION:PT1H0M0S
SUMMARY:Big Ol' Hitties vs. Spartans
DESCRIPTION:Division 2 - RCSL
LOCATION:Hank Soar 3
CATEGORIES:QuickScores, Softball - Adult Game
TRANSP:OPAQUE
BEGIN:VALARM
TRIGGER:-PT2H
ACTION:DISPLAY
DESCRIPTION:Big Ol' Hitties vs. Spartans
END:VALARM
END:VEVENT
BEGIN:VEVENT
UID:rcsl-68293418-20250504T100000@quickscores.com
DTSTAMP:20260425T224800Z
DTSTART;TZID=America/New_York:20250504T100000
DURATION:PT1H0M0S
SUMMARY:Cruisers vs. Spartans
DESCRIPTION:Division 2 - RCSL
LOCATION:Hank Soar 3
CATEGORIES:QuickScores, Softball - Adult Game
TRANSP:OPAQUE
BEGIN:VALARM
TRIGGER:-PT2H
ACTION:DISPLAY
DESCRIPTION:Cruisers vs. Spartans
END:VALARM
END:VEVENT
BEGIN:VEVENT
UID:rcsl-68293416-20250504T110000@quickscores.com
DTSTAMP:20260425T224800Z
DTSTART;TZID=America/New_York:20250504T110000
DURATION:PT1H0M0S
SUMMARY:Critical Hits vs. Big Ol' Hitties
DESCRIPTION:Division 2 - RCSL
LOCATION:Hank Soar 3
CATEGORIES:QuickScores, Softball - Adult Game
TRANSP:OPAQUE
BEGIN:VALARM
TRIGGER:-PT2H
ACTION:DISPLAY
DESCRIPTION:Critical Hits vs. Big Ol' Hitties
END:VALARM
END:VEVENT
BEGIN:VEVENT
UID:rcsl-68293419-20250504T120000@quickscores.com
DTSTAMP:20260425T224800Z
DTSTART;TZID=America/New_York:20250504T120000
DURATION:PT1H0M0S
SUMMARY:Cruisers vs. Wingmen
DESCRIPTION:Division 2 - RCSL
LOCATION:Hank Soar 3
CATEGORIES:QuickScores, Softball - Adult Game
TRANSP:OPAQUE
BEGIN:VALARM
TRIGGER:-PT2H
ACTION:DISPLAY
DESCRIPTION:Cruisers vs. Wingmen
END:VALARM
END:VEVENT
BEGIN:VEVENT
UID:rcsl-68293415-20250504T130000@quickscores.com
DTSTAMP:20260425T224800Z
DTSTART;TZID=America/New_York:20250504T130000
DURATION:PT1H0M0S
SUMMARY:Wingmen vs. Critical Hits
DESCRIPTION:Division 2 - RCSL
LOCATION:Hank Soar 3
CATEGORIES:QuickScores, Softball - Adult Game
TRANSP:OPAQUE
BEGIN:VALARM
TRIGGER:-PT2H
ACTION:DISPLAY
DESCRIPTION:Wingmen vs. Critical Hits
END:VALARM
END:VEVENT
BEGIN:VEVENT
UID:rcsl-68293413-20250518T090000@quickscores.com
DTSTAMP:20260425T224800Z
DTSTART;TZID=America/New_York:20250518T090000
DURATION:PT1H0M0S
SUMMARY:Spartans vs. Wingmen
DESCRIPTION:Division 2 - RCSL
LOCATION:Hank Soar 1
CATEGORIES:QuickScores, Softball - Adult Game
TRANSP:OPAQUE
BEGIN:VALARM
TRIGGER:-PT2H
ACTION:DISPLAY
DESCRIPTION:Spartans vs. Wingmen
END:VALARM
END:VEVENT
BEGIN:VEVENT
UID:rcsl-68293414-20250518T100000@quickscores.com
DTSTAMP:20260425T224800Z
DTSTART;TZID=America/New_York:20250518T100000
DURATION:PT1H0M0S
SUMMARY:Wingmen vs. Big Ol' Hitties
DESCRIPTION:Division 2 - RCSL
LOCATION:Hank Soar 1
CATEGORIES:QuickScores, Softball - Adult Game
TRANSP:OPAQUE
BEGIN:VALARM
TRIGGER:-PT2H
ACTION:DISPLAY
DESCRIPTION:Wingmen vs. Big Ol' Hitties
END:VALARM
END:VEVENT
BEGIN:VEVENT
UID:rcsl-68293412-20250518T110000@quickscores.com
DTSTAMP:20260425T224800Z
DTSTART;TZID=America/New_York:20250518T110000
DURATION:PT1H0M0S
SUMMARY:Spartans vs. Critical Hits
DESCRIPTION:Division 2 - RCSL
LOCATION:Hank Soar 1
CATEGORIES:QuickScores, Softball - Adult Game
TRANSP:OPAQUE
BEGIN:VALARM
TRIGGER:-PT2H
ACTION:DISPLAY
DESCRIPTION:Spartans vs. Critical Hits
END:VALARM
END:VEVENT
BEGIN:VEVENT
UID:rcsl-68293410-20250518T120000@quickscores.com
DTSTAMP:20260425T224800Z
DTSTART;TZID=America/New_York:20250518T120000
DURATION:PT1H0M0S
SUMMARY:Big Ol' Hitties vs. Cruisers
DESCRIPTION:Division 2 - RCSL
LOCATION:Hank Soar 1
CATEGORIES:QuickScores, Softball - Adult Game
TRANSP:OPAQUE
BEGIN:VALARM
TRIGGER:-PT2H
ACTION:DISPLAY
DESCRIPTION:Big Ol' Hitties vs. Cruisers
END:VALARM
END:VEVENT
BEGIN:VEVENT
UID:rcsl-68293411-20250518T130000@quickscores.com
DTSTAMP:20260425T224800Z
DTSTART;TZID=America/New_York:20250518T130000
DURATION:PT1H0M0S
SUMMARY:Critical Hits vs. Cruisers
DESCRIPTION:Division 2 - RCSL
LOCATION:Hank Soar 1
CATEGORIES:QuickScores, Softball - Adult Game
TRANSP:OPAQUE
BEGIN:VALARM
TRIGGER:-PT2H
ACTION:DISPLAY
DESCRIPTION:Critical Hits vs. Cruisers
END:VALARM
END:VEVENT
BEGIN:VEVENT
UID:rcsl-68293421-20250601T090000@quickscores.com
DTSTAMP:20260425T224800Z
DTSTART;TZID=America/New_York:20250601T090000
DURATION:PT1H0M0S
SUMMARY:Cruisers vs. Critical Hits
DESCRIPTION:Division 2 - RCSL
LOCATION:Hank Soar 2
CATEGORIES:QuickScores, Softball - Adult Game
TRANSP:OPAQUE
BEGIN:VALARM
TRIGGER:-PT2H
ACTION:DISPLAY
DESCRIPTION:Cruisers vs. Critical Hits
END:VALARM
END:VEVENT
BEGIN:VEVENT
UID:rcsl-68293422-20250601T100000@quickscores.com
DTSTAMP:20260425T224800Z
DTSTART;TZID=America/New_York:20250601T100000
DURATION:PT1H0M0S
SUMMARY:Critical Hits vs. Spartans
DESCRIPTION:Division 2 - RCSL
LOCATION:Hank Soar 2
CATEGORIES:QuickScores, Softball - Adult Game
TRANSP:OPAQUE
BEGIN:VALARM
TRIGGER:-PT2H
ACTION:DISPLAY
DESCRIPTION:Critical Hits vs. Spartans
END:VALARM
END:VEVENT
BEGIN:VEVENT
UID:rcsl-68293420-20250601T110000@quickscores.com
DTSTAMP:20260425T224800Z
DTSTART;TZID=America/New_York:20250601T110000
DURATION:PT1H0M0S
SUMMARY:Cruisers vs. Big Ol' Hitties
DESCRIPTION:Division 2 - RCSL
LOCATION:Hank Soar 2
CATEGORIES:QuickScores, Softball - Adult Game
TRANSP:OPAQUE
BEGIN:VALARM
TRIGGER:-PT2H
ACTION:DISPLAY
DESCRIPTION:Cruisers vs. Big Ol' Hitties
END:VALARM
END:VEVENT
BEGIN:VEVENT
UID:rcsl-68293423-20250601T120000@quickscores.com
DTSTAMP:20260425T224800Z
DTSTART;TZID=America/New_York:20250601T120000
DURATION:PT1H0M0S
SUMMARY:Wingmen vs. Spartans
DESCRIPTION:Division 2 - RCSL
LOCATION:Hank Soar 2
CATEGORIES:QuickScores, Softball - Adult Game
TRANSP:OPAQUE
BEGIN:VALARM
TRIGGER:-PT2H
ACTION:DISPLAY
DESCRIPTION:Wingmen vs. Spartans
END:VALARM
END:VEVENT
BEGIN:VEVENT
UID:rcsl-68293424-20250601T130000@quickscores.com
DTSTAMP:20260425T224800Z
DTSTART;TZID=America/New_York:20250601T130000
DURATION:PT1H0M0S
SUMMARY:Big Ol' Hitties vs. Wingmen
DESCRIPTION:Division 2 - RCSL
LOCATION:Hank Soar 2
CATEGORIES:QuickScores, Softball - Adult Game
TRANSP:OPAQUE
BEGIN:VALARM
TRIGGER:-PT2H
ACTION:DISPLAY
DESCRIPTION:Big Ol' Hitties vs. Wingmen
END:VALARM
END:VEVENT
BEGIN:VEVENT
UID:rcsl-68293429-20250608T090000@quickscores.com
DTSTAMP:20260425T224800Z
DTSTART;TZID=America/New_York:20250608T090000
DURATION:PT1H0M0S
SUMMARY:Wingmen vs. Cruisers
DESCRIPTION:Division 2 - RCSL
LOCATION:Hank Soar 3
CATEGORIES:QuickScores, Softball - Adult Game
TRANSP:OPAQUE
BEGIN:VALARM
TRIGGER:-PT2H
ACTION:DISPLAY
DESCRIPTION:Wingmen vs. Cruisers
END:VALARM
END:VEVENT
BEGIN:VEVENT
UID:rcsl-68293425-20250608T100000@quickscores.com
DTSTAMP:20260425T224800Z
DTSTART;TZID=America/New_York:20250608T100000
DURATION:PT1H0M0S
SUMMARY:Critical Hits vs. Wingmen
DESCRIPTION:Division 2 - RCSL
LOCATION:Hank Soar 3
CATEGORIES:QuickScores, Softball - Adult Game
TRANSP:OPAQUE
BEGIN:VALARM
TRIGGER:-PT2H
ACTION:DISPLAY
DESCRIPTION:Critical Hits vs. Wingmen
END:VALARM
END:VEVENT
BEGIN:VEVENT
UID:rcsl-68293428-20250608T110000@quickscores.com
DTSTAMP:20260425T224800Z
DTSTART;TZID=America/New_York:20250608T110000
DURATION:PT1H0M0S
SUMMARY:Spartans vs. Cruisers
DESCRIPTION:Division 2 - RCSL
LOCATION:Hank Soar 3
CATEGORIES:QuickScores, Softball - Adult Game
TRANSP:OPAQUE
BEGIN:VALARM
TRIGGER:-PT2H
ACTION:DISPLAY
DESCRIPTION:Spartans vs. Cruisers
END:VALARM
END:VEVENT
BEGIN:VEVENT
UID:rcsl-68293426-20250608T120000@quickscores.com
DTSTAMP:20260425T224800Z
DTSTART;TZID=America/New_York:20250608T120000
DURATION:PT1H0M0S
SUMMARY:Big Ol' Hitties vs. Critical Hits
DESCRIPTION:Division 2 - RCSL
LOCATION:Hank Soar 3
CATEGORIES:QuickScores, Softball - Adult Game
TRANSP:OPAQUE
BEGIN:VALARM
TRIGGER:-PT2H
ACTION:DISPLAY
DESCRIPTION:Big Ol' Hitties vs. Critical Hits
END:VALARM
END:VEVENT
BEGIN:VEVENT
UID:rcsl-68293427-20250608T130000@quickscores.com
DTSTAMP:20260425T224800Z
DTSTART;TZID=America/New_York:20250608T130000
DURATION:PT1H0M0S
SUMMARY:Spartans vs. Big Ol' Hitties
DESCRIPTION:Division 2 - RCSL
LOCATION:Hank Soar 3
CATEGORIES:QuickScores, Softball - Adult Game
TRANSP:OPAQUE
BEGIN:VALARM
TRIGGER:-PT2H
ACTION:DISPLAY
DESCRIPTION:Spartans vs. Big Ol' Hitties
END:VALARM
END:VEVENT
BEGIN:VEVENT
UID:rcsl-68293436-20250629T090000@quickscores.com
DTSTAMP:20260425T224800Z
DTSTART;TZID=America/New_York:20250629T090000
DURATION:PT1H0M0S
SUMMARY:Critical Hits vs. Big Ol' Hitties
DESCRIPTION:Division 2 - RCSL
LOCATION:Hank Soar 2
CATEGORIES:QuickScores, Softball - Adult Game
TRANSP:OPAQUE
BEGIN:VALARM
TRIGGER:-PT2H
ACTION:DISPLAY
DESCRIPTION:Critical Hits vs. Big Ol' Hitties
END:VALARM
END:VEVENT
BEGIN:VEVENT
UID:rcsl-68293437-20250629T100000@quickscores.com
DTSTAMP:20260425T224800Z
DTSTART;TZID=America/New_York:20250629T100000
DURATION:PT1H0M0S
SUMMARY:Big Ol' Hitties vs. Spartans
DESCRIPTION:Division 2 - RCSL
LOCATION:Hank Soar 2
CATEGORIES:QuickScores, Softball - Adult Game
TRANSP:OPAQUE
BEGIN:VALARM
TRIGGER:-PT2H
ACTION:DISPLAY
DESCRIPTION:Big Ol' Hitties vs. Spartans
END:VALARM
END:VEVENT
BEGIN:VEVENT
UID:rcsl-68293435-20250629T110000@quickscores.com
DTSTAMP:20260425T224800Z
DTSTART;TZID=America/New_York:20250629T110000
DURATION:PT1H0M0S
SUMMARY:Wingmen vs. Critical Hits
DESCRIPTION:Division 2 - RCSL
LOCATION:Hank Soar 2
CATEGORIES:QuickScores, Softball - Adult Game
TRANSP:OPAQUE
BEGIN:VALARM
TRIGGER:-PT2H
ACTION:DISPLAY
DESCRIPTION:Wingmen vs. Critical Hits
END:VALARM
END:VEVENT
BEGIN:VEVENT
UID:rcsl-68293438-20250629T120000@quickscores.com
DTSTAMP:20260425T224800Z
DTSTART;TZID=America/New_York:20250629T120000
DURATION:PT1H0M0S
SUMMARY:Cruisers vs. Spartans
DESCRIPTION:Division 2 - RCSL
LOCATION:Hank Soar 2
CATEGORIES:QuickScores, Softball - Adult Game
TRANSP:OPAQUE
BEGIN:VALARM
TRIGGER:-PT2H
ACTION:DISPLAY
DESCRIPTION:Cruisers vs. Spartans
END:VALARM
END:VEVENT
BEGIN:VEVENT
UID:rcsl-68293439-20250629T130000@quickscores.com
DTSTAMP:20260425T224800Z
DTSTART;TZID=America/New_York:20250629T130000
DURATION:PT1H0M0S
SUMMARY:Cruisers vs. Wingmen
DESCRIPTION:Division 2 - RCSL
LOCATION:Hank Soar 2
CATEGORIES:QuickScores, Softball - Adult Game
TRANSP:OPAQUE
BEGIN:VALARM
TRIGGER:-PT2H
ACTION:DISPLAY
DESCRIPTION:Cruisers vs. Wingmen
END:VALARM
END:VEVENT
BEGIN:VEVENT
UID:rcsl-68293442-20250713T090000@quickscores.com
DTSTAMP:20260425T224800Z
DTSTART;TZID=America/New_York:20250713T090000
DURATION:PT1H0M0S
SUMMARY:Critical Hits vs. Spartans
DESCRIPTION:Division 2 - RCSL
LOCATION:Hank Soar 3
CATEGORIES:QuickScores, Softball - Adult Game
TRANSP:OPAQUE
BEGIN:VALARM
TRIGGER:-PT2H
ACTION:DISPLAY
DESCRIPTION:Critical Hits vs. Spartans
END:VALARM
END:VEVENT
BEGIN:VEVENT
UID:rcsl-68293443-20250713T100000@quickscores.com
DTSTAMP:20260425T224800Z
DTSTART;TZID=America/New_York:20250713T100000
DURATION:PT1H0M0S
SUMMARY:Wingmen vs. Spartans
DESCRIPTION:Division 2 - RCSL
LOCATION:Hank Soar 3
CATEGORIES:QuickScores, Softball - Adult Game
TRANSP:OPAQUE
BEGIN:VALARM
TRIGGER:-PT2H
ACTION:DISPLAY
DESCRIPTION:Wingmen vs. Spartans
END:VALARM
END:VEVENT
BEGIN:VEVENT
UID:rcsl-68293441-20250713T110000@quickscores.com
DTSTAMP:20260425T224800Z
DTSTART;TZID=America/New_York:20250713T110000
DURATION:PT1H0M0S
SUMMARY:Cruisers vs. Critical Hits
DESCRIPTION:Division 2 - RCSL
LOCATION:Hank Soar 3
CATEGORIES:QuickScores, Softball - Adult Game
TRANSP:OPAQUE
BEGIN:VALARM
TRIGGER:-PT2H
ACTION:DISPLAY
DESCRIPTION:Cruisers vs. Critical Hits
END:VALARM
END:VEVENT
BEGIN:VEVENT
UID:rcsl-68293444-20250713T120000@quickscores.com
DTSTAMP:20260425T224800Z
DTSTART;TZID=America/New_York:20250713T120000
DURATION:PT1H0M0S
SUMMARY:Big Ol' Hitties vs. Wingmen
DESCRIPTION:Division 2 - RCSL
LOCATION:Hank Soar 3
CATEGORIES:QuickScores, Softball - Adult Game
TRANSP:OPAQUE
BEGIN:VALARM
TRIGGER:-PT2H
ACTION:DISPLAY
DESCRIPTION:Big Ol' Hitties vs. Wingmen
END:VALARM
END:VEVENT
BEGIN:VEVENT
UID:rcsl-68293440-20250713T130000@quickscores.com
DTSTAMP:20260425T224800Z
DTSTART;TZID=America/New_York:20250713T130000
DURATION:PT1H0M0S
SUMMARY:Cruisers vs. Big Ol' Hitties
DESCRIPTION:Division 2 - RCSL
LOCATION:Hank Soar 3
CATEGORIES:QuickScores, Softball - Adult Game
TRANSP:OPAQUE
BEGIN:VALARM
TRIGGER:-PT2H
ACTION:DISPLAY
DESCRIPTION:Cruisers vs. Big Ol' Hitties
END:VALARM
END:VEVENT
BEGIN:VEVENT
UID:rcsl-68293448-20250720T090000@quickscores.com
DTSTAMP:20260425T224800Z
DTSTART;TZID=America/New_York:20250720T090000
DURATION:PT1H0M0S
SUMMARY:Spartans vs. Cruisers
DESCRIPTION:Division 2 - RCSL
LOCATION:Hank Soar 1
CATEGORIES:QuickScores, Softball - Adult Game
TRANSP:OPAQUE
BEGIN:VALARM
TRIGGER:-PT2H
ACTION:DISPLAY
DESCRIPTION:Spartans vs. Cruisers
END:VALARM
END:VEVENT
BEGIN:VEVENT
UID:rcsl-68293449-20250720T100000@quickscores.com
DTSTAMP:20260425T224800Z
DTSTART;TZID=America/New_York:20250720T100000
DURATION:PT1H0M0S
SUMMARY:Wingmen vs. Cruisers
DESCRIPTION:Division 2 - RCSL
LOCATION:Hank Soar 1
CATEGORIES:QuickScores, Softball - Adult Game
TRANSP:OPAQUE
BEGIN:VALARM
TRIGGER:-PT2H
ACTION:DISPLAY
DESCRIPTION:Wingmen vs. Cruisers
END:VALARM
END:VEVENT
BEGIN:VEVENT
UID:rcsl-68293447-20250720T110000@quickscores.com
DTSTAMP:20260425T224800Z
DTSTART;TZID=America/New_York:20250720T110000
DURATION:PT1H0M0S
SUMMARY:Spartans vs. Big Ol' Hitties
DESCRIPTION:Division 2 - RCSL
LOCATION:Hank Soar 1
CATEGORIES:QuickScores, Softball - Adult Game
TRANSP:OPAQUE
BEGIN:VALARM
TRIGGER:-PT2H
ACTION:DISPLAY
DESCRIPTION:Spartans vs. Big Ol' Hitties
END:VALARM
END:VEVENT
BEGIN:VEVENT
UID:rcsl-68293445-20250720T120000@quickscores.com
DTSTAMP:20260425T224800Z
DTSTART;TZID=America/New_York:20250720T120000
DURATION:PT1H0M0S
SUMMARY:Critical Hits vs. Wingmen
DESCRIPTION:Division 2 - RCSL
LOCATION:Hank Soar 1
CATEGORIES:QuickScores, Softball - Adult Game
TRANSP:OPAQUE
BEGIN:VALARM
TRIGGER:-PT2H
ACTION:DISPLAY
DESCRIPTION:Critical Hits vs. Wingmen
END:VALARM
END:VEVENT
BEGIN:VEVENT
UID:rcsl-68293446-20250720T130000@quickscores.com
DTSTAMP:20260425T224800Z
DTSTART;TZID=America/New_York:20250720T130000
DURATION:PT1H0M0S
SUMMARY:Big Ol' Hitties vs. Critical Hits
DESCRIPTION:Division 2 - RCSL
LOCATION:Hank Soar 1
CATEGORIES:QuickScores, Softball - Adult Game
TRANSP:OPAQUE
BEGIN:VALARM
TRIGGER:-PT2H
ACTION:DISPLAY
DESCRIPTION:Big Ol' Hitties vs. Critical Hits
END:VALARM
END:VEVENT
BEGIN:VEVENT
UID:rcsl-68293450-20250727T090000@quickscores.com
DTSTAMP:20260425T224800Z
DTSTART;TZID=America/New_York:20250727T090000
DURATION:PT1H0M0S
SUMMARY:Big Ol' Hitties vs. Cruisers
DESCRIPTION:Division 2 - RCSL
LOCATION:Hank Soar 2
CATEGORIES:QuickScores, Softball - Adult Game
TRANSP:OPAQUE
BEGIN:VALARM
TRIGGER:-PT2H
ACTION:DISPLAY
DESCRIPTION:Big Ol' Hitties vs. Cruisers
END:VALARM
END:VEVENT
BEGIN:VEVENT
UID:rcsl-68293451-20250727T100000@quickscores.com
DTSTAMP:20260425T224800Z
DTSTART;TZID=America/New_York:20250727T100000
DURATION:PT1H0M0S
SUMMARY:Critical Hits vs. Cruisers
DESCRIPTION:Division 2 - RCSL
LOCATION:Hank Soar 2
CATEGORIES:QuickScores, Softball - Adult Game
TRANSP:OPAQUE
BEGIN:VALARM
TRIGGER:-PT2H
ACTION:DISPLAY
DESCRIPTION:Critical Hits vs. Cruisers
END:VALARM
END:VEVENT
BEGIN:VEVENT
UID:rcsl-68293454-20250727T110000@quickscores.com
DTSTAMP:20260425T224800Z
DTSTART;TZID=America/New_York:20250727T110000
DURATION:PT1H0M0S
SUMMARY:Wingmen vs. Big Ol' Hitties
DESCRIPTION:Division 2 - RCSL
LOCATION:Hank Soar 2
CATEGORIES:QuickScores, Softball - Adult Game
TRANSP:OPAQUE
BEGIN:VALARM
TRIGGER:-PT2H
ACTION:DISPLAY
DESCRIPTION:Wingmen vs. Big Ol' Hitties
END:VALARM
END:VEVENT
BEGIN:VEVENT
UID:rcsl-68293452-20250727T120000@quickscores.com
DTSTAMP:20260425T224800Z
DTSTART;TZID=America/New_York:20250727T120000
DURATION:PT1H0M0S
SUMMARY:Spartans vs. Critical Hits
DESCRIPTION:Division 2 - RCSL
LOCATION:Hank Soar 2
CATEGORIES:QuickScores, Softball - Adult Game
TRANSP:OPAQUE
BEGIN:VALARM
TRIGGER:-PT2H
ACTION:DISPLAY
DESCRIPTION:Spartans vs. Critical Hits
END:VALARM
END:VEVENT
BEGIN:VEVENT
UID:rcsl-68293453-20250727T130000@quickscores.com
DTSTAMP:20260425T224800Z
DTSTART;TZID=America/New_York:20250727T130000
DURATION:PT1H0M0S
SUMMARY:Spartans vs. Wingmen
DESCRIPTION:Division 2 - RCSL
LOCATION:Hank Soar 2
CATEGORIES:QuickScores, Softball - Adult Game
TRANSP:OPAQUE
BEGIN:VALARM
TRIGGER:-PT2H
ACTION:DISPLAY
DESCRIPTION:Spartans vs. Wingmen
END:VALARM
END:VEVENT
BEGIN:VEVENT
UID:rcsl-68293455-20250803T090000@quickscores.com
DTSTAMP:20260425T224800Z
DTSTART;TZID=America/New_York:20250803T090000
DURATION:PT1H0M0S
SUMMARY:Critical Hits vs. Wingmen
DESCRIPTION:Division 2 - RCSL
LOCATION:Hank Soar 3
CATEGORIES:QuickScores, Softball - Adult Game
TRANSP:OPAQUE
BEGIN:VALARM
TRIGGER:-PT2H
ACTION:DISPLAY
DESCRIPTION:Critical Hits vs. Wingmen
END:VALARM
END:VEVENT
BEGIN:VEVENT
UID:rcsl-68293456-20250803T100000@quickscores.com
DTSTAMP:20260425T224800Z
DTSTART;TZID=America/New_York:20250803T100000
DURATION:PT1H0M0S
SUMMARY:Big Ol' Hitties vs. Critical Hits
DESCRIPTION:Division 2 - RCSL
LOCATION:Hank Soar 3
CATEGORIES:QuickScores, Softball - Adult Game
TRANSP:OPAQUE
BEGIN:VALARM
TRIGGER:-PT2H
ACTION:DISPLAY
DESCRIPTION:Big Ol' Hitties vs. Critical Hits
END:VALARM
END:VEVENT
BEGIN:VEVENT
UID:rcsl-68293459-20250803T110000@quickscores.com
DTSTAMP:20260425T224800Z
DTSTART;TZID=America/New_York:20250803T110000
DURATION:PT1H0M0S
SUMMARY:Wingmen vs. Cruisers
DESCRIPTION:Division 2 - RCSL
LOCATION:Hank Soar 3
CATEGORIES:QuickScores, Softball - Adult Game
TRANSP:OPAQUE
BEGIN:VALARM
TRIGGER:-PT2H
ACTION:DISPLAY
DESCRIPTION:Wingmen vs. Cruisers
END:VALARM
END:VEVENT
BEGIN:VEVENT
UID:rcsl-68293457-20250803T120000@quickscores.com
DTSTAMP:20260425T224800Z
DTSTART;TZID=America/New_York:20250803T120000
DURATION:PT1H0M0S
SUMMARY:Spartans vs. Big Ol' Hitties
DESCRIPTION:Division 2 - RCSL
LOCATION:Hank Soar 3
CATEGORIES:QuickScores, Softball - Adult Game
TRANSP:OPAQUE
BEGIN:VALARM
TRIGGER:-PT2H
ACTION:DISPLAY
DESCRIPTION:Spartans vs. Big Ol' Hitties
END:VALARM
END:VEVENT
BEGIN:VEVENT
UID:rcsl-68293458-20250803T130000@quickscores.com
DTSTAMP:20260425T224800Z
DTSTART;TZID=America/New_York:20250803T130000
DURATION:PT1H0M0S
SUMMARY:Spartans vs. Cruisers
DESCRIPTION:Division 2 - RCSL
LOCATION:Hank Soar 3
CATEGORIES:QuickScores, Softball - Adult Game
TRANSP:OPAQUE
BEGIN:VALARM
TRIGGER:-PT2H
ACTION:DISPLAY
DESCRIPTION:Spartans vs. Cruisers
END:VALARM
END:VEVENT
BEGIN:VEVENT
UID:rcsl-68293460-20250810T090000@quickscores.com
DTSTAMP:20260425T224800Z
DTSTART;TZID=America/New_York:20250810T090000
DURATION:PT1H0M0S
SUMMARY:Big Ol' Hitties vs. Wingmen
DESCRIPTION:Division 2 - RCSL
LOCATION:Hank Soar 1
CATEGORIES:QuickScores, Softball - Adult Game
TRANSP:OPAQUE
BEGIN:VALARM
TRIGGER:-PT2H
ACTION:DISPLAY
DESCRIPTION:Big Ol' Hitties vs. Wingmen
END:VALARM
END:VEVENT
BEGIN:VEVENT
UID:rcsl-68293461-20250810T100000@quickscores.com
DTSTAMP:20260425T224800Z
DTSTART;TZID=America/New_York:20250810T100000
DURATION:PT1H0M0S
SUMMARY:Cruisers vs. Big Ol' Hitties
DESCRIPTION:Division 2 - RCSL
LOCATION:Hank Soar 1
CATEGORIES:QuickScores, Softball - Adult Game
TRANSP:OPAQUE
BEGIN:VALARM
TRIGGER:-PT2H
ACTION:DISPLAY
DESCRIPTION:Cruisers vs. Big Ol' Hitties
END:VALARM
END:VEVENT
BEGIN:VEVENT
UID:rcsl-68293464-20250810T110000@quickscores.com
DTSTAMP:20260425T224800Z
DTSTART;TZID=America/New_York:20250810T110000
DURATION:PT1H0M0S
SUMMARY:Wingmen vs. Spartans
DESCRIPTION:Division 2 - RCSL
LOCATION:Hank Soar 1
CATEGORIES:QuickScores, Softball - Adult Game
TRANSP:OPAQUE
BEGIN:VALARM
TRIGGER:-PT2H
ACTION:DISPLAY
DESCRIPTION:Wingmen vs. Spartans
END:VALARM
END:VEVENT
BEGIN:VEVENT
UID:rcsl-68293462-20250810T120000@quickscores.com
DTSTAMP:20260425T224800Z
DTSTART;TZID=America/New_York:20250810T120000
DURATION:PT1H0M0S
SUMMARY:Cruisers vs. Critical Hits
DESCRIPTION:Division 2 - RCSL
LOCATION:Hank Soar 1
CATEGORIES:QuickScores, Softball - Adult Game
TRANSP:OPAQUE
BEGIN:VALARM
TRIGGER:-PT2H
ACTION:DISPLAY
DESCRIPTION:Cruisers vs. Critical Hits
END:VALARM
END:VEVENT
BEGIN:VEVENT
UID:rcsl-68293463-20250810T130000@quickscores.com
DTSTAMP:20260425T224800Z
DTSTART;TZID=America/New_York:20250810T130000
DURATION:PT1H0M0S
SUMMARY:Critical Hits vs. Spartans
DESCRIPTION:Division 2 - RCSL
LOCATION:Hank Soar 1
CATEGORIES:QuickScores, Softball - Adult Game
TRANSP:OPAQUE
BEGIN:VALARM
TRIGGER:-PT2H
ACTION:DISPLAY
DESCRIPTION:Critical Hits vs. Spartans
END:VALARM
END:VEVENT
BEGIN:VEVENT
UID:rcsl-69710675-20250817T090000@quickscores.com
DTSTAMP:20260425T224800Z
DTSTART;TZID=America/New_York:20250817T090000
DURATION:PT1H0M0S
SUMMARY:[4] Wingmen vs. [5] Critical Hits
DESCRIPTION:Division 2 - RCSL
LOCATION:Hank Soar 3
CATEGORIES:QuickScores, Softball - Adult Game
TRANSP:OPAQUE
BEGIN:VALARM
TRIGGER:-PT2H
ACTION:DISPLAY
DESCRIPTION:[4] Wingmen vs. [5] Critical Hits
END:VALARM
END:VEVENT
BEGIN:VEVENT
UID:rcsl-69710676-20250817T100000@quickscores.com
DTSTAMP:20260425T224800Z
DTSTART;TZID=America/New_York:20250817T100000
DURATION:PT1H0M0S
SUMMARY:[2] Big Ol' Hitties vs. [3] Spartans
DESCRIPTION:Division 2 - RCSL
LOCATION:Hank Soar 3
CATEGORIES:QuickScores, Softball - Adult Game
TRANSP:OPAQUE
BEGIN:VALARM
TRIGGER:-PT2H
ACTION:DISPLAY
DESCRIPTION:[2] Big Ol' Hitties vs. [3] Spartans
END:VALARM
END:VEVENT
BEGIN:VEVENT
UID:rcsl-69710677-20250817T110000@quickscores.com
DTSTAMP:20260425T224800Z
DTSTART;TZID=America/New_York:20250817T110000
DURATION:PT1H0M0S
SUMMARY:[5] Critical Hits vs. [1] Cruisers
DESCRIPTION:Division 2 - RCSL
LOCATION:Hank Soar 3
CATEGORIES:QuickScores, Softball - Adult Game
TRANSP:OPAQUE
BEGIN:VALARM
TRIGGER:-PT2H
ACTION:DISPLAY
DESCRIPTION:[5] Critical Hits vs. [1] Cruisers
END:VALARM
END:VEVENT
BEGIN:VEVENT
UID:rcsl-69710680-20250817T120000@quickscores.com
DTSTAMP:20260425T224800Z
DTSTART;TZID=America/New_York:20250817T120000
DURATION:PT1H0M0S
SUMMARY:[2] Big Ol' Hitties vs. [1] Cruisers
DESCRIPTION:Division 2 - RCSL
LOCATION:Hank Soar 3
CATEGORIES:QuickScores, Softball - Adult Game
TRANSP:OPAQUE
BEGIN:VALARM
TRIGGER:-PT2H
ACTION:DISPLAY
DESCRIPTION:[2] Big Ol' Hitties vs. [1] Cruisers
END:VALARM
END:VEVENT
BEGIN:VEVENT
UID:rcsl-69710678-20250824T090000@quickscores.com
DTSTAMP:20260425T224800Z
DTSTART;TZID=America/New_York:20250824T090000
DURATION:PT1H0M0S
SUMMARY:[4] Wingmen vs. [3] Spartans
DESCRIPTION:Division 2 - RCSL
LOCATION:Hank Soar 3
CATEGORIES:QuickScores, Softball - Adult Game
TRANSP:OPAQUE
BEGIN:VALARM
TRIGGER:-PT2H
ACTION:DISPLAY
DESCRIPTION:[4] Wingmen vs. [3] Spartans
END:VALARM
END:VEVENT
BEGIN:VEVENT
UID:rcsl-69710679-20250824T100000@quickscores.com
DTSTAMP:20260425T224800Z
DTSTART;TZID=America/New_York:20250824T100000
DURATION:PT1H0M0S
SUMMARY:[4] Wingmen vs. [5] Critical Hits
DESCRIPTION:Division 2 - RCSL
LOCATION:Hank Soar 3
CATEGORIES:QuickScores, Softball - Adult Game
TRANSP:OPAQUE
BEGIN:VALARM
TRIGGER:-PT2H
ACTION:DISPLAY
DESCRIPTION:[4] Wingmen vs. [5] Critical Hits
END:VALARM
END:VEVENT
BEGIN:VEVENT
UID:rcsl-69710681-20250824T110000@quickscores.com
DTSTAMP:20260425T224800Z
DTSTART;TZID=America/New_York:20250824T110000
DURATION:PT1H0M0S
SUMMARY:[2] Big Ol' Hitties vs. [5] Critical Hits
DESCRIPTION:Division 2 - RCSL
LOCATION:Hank Soar 3
CATEGORIES:QuickScores, Softball - Adult Game
TRANSP:OPAQUE
BEGIN:VALARM
TRIGGER:-PT2H
ACTION:DISPLAY
DESCRIPTION:[2] Big Ol' Hitties vs. [5] Critical Hits
END:VALARM
END:VEVENT
BEGIN:VEVENT
UID:rcsl-69710682-20250824T120000@quickscores.com
DTSTAMP:20260425T224800Z
DTSTART;TZID=America/New_York:20250824T120000
DURATION:PT1H0M0S
SUMMARY:[1] Cruisers vs. [5] Critical Hits
DESCRIPTION:Division 2 - RCSL
LOCATION:Hank Soar 3
CATEGORIES:QuickScores, Softball - Adult Game
TRANSP:OPAQUE
BEGIN:VALARM
TRIGGER:-PT2H
ACTION:DISPLAY
DESCRIPTION:[1] Cruisers vs. [5] Critical Hits
END:VALARM
END:VEVENT
END:VCALENDAR
