BEGIN:VCALENDAR
VERSION:2.0
PRODID:-//QuickScores.com//BQ Dynamic iCal Creator//EN
METHOD:PUBLISH
X-WR-CALNAME:Volleyball - Competitive - Summer 2025
X-WR-CALDESC:QuickScores game calendar
X-PUBLISHED-TTL:PT24H
REFRESH-INTERVAL;VALUE=DURATION:PT24H
CALSCALE:GREGORIAN
BEGIN:VTIMEZONE
TZID:America/Chicago
X-LIC-LOCATION:America/Chicago
BEGIN:DAYLIGHT
TZNAME:CDT
TZOFFSETFROM:-0600
TZOFFSETTO:-0500
DTSTART:19700308T020000
RRULE:FREQ=YEARLY;BYMONTH=3;BYDAY=2SU
END:DAYLIGHT
BEGIN:STANDARD
TZNAME:CST
TZOFFSETFROM:-0500
TZOFFSETTO:-0600
DTSTART:19701101T020000
RRULE:FREQ=YEARLY;BYMONTH=11;BYDAY=1SU
END:STANDARD
END:VTIMEZONE
BEGIN:VEVENT
UID:cityofpriorlake-68640599-20250507T181500@quickscores.com
DTSTAMP:20260419T150400Z
DTSTART;TZID=America/Chicago:20250507T181500
DURATION:PT1H0M0S
SUMMARY:I'd Hit That vs. How I Set Your Mother
DESCRIPTION:Volleyball - Competitive - Prior Lake Parks and Recreation
LOCATION:Sand Point Beach - Volleyball Court 2
CATEGORIES:QuickScores, Volleyball - Adult Game
TRANSP:OPAQUE
BEGIN:VALARM
TRIGGER:-PT2H
ACTION:DISPLAY
DESCRIPTION:I'd Hit That vs. How I Set Your Mother
END:VALARM
END:VEVENT
BEGIN:VEVENT
UID:cityofpriorlake-68640601-20250507T181500@quickscores.com
DTSTAMP:20260419T150400Z
DTSTART;TZID=America/Chicago:20250507T181500
DURATION:PT1H0M0S
SUMMARY:Bump Set Drink vs. Kiss My Ace
DESCRIPTION:Volleyball - Competitive - Prior Lake Parks and Recreation
LOCATION:Sand Point Beach - Volleyball Court 1
CATEGORIES:QuickScores, Volleyball - Adult Game
TRANSP:OPAQUE
BEGIN:VALARM
TRIGGER:-PT2H
ACTION:DISPLAY
DESCRIPTION:Bump Set Drink vs. Kiss My Ace
END:VALARM
END:VEVENT
BEGIN:VEVENT
UID:cityofpriorlake-68640598-20250507T191500@quickscores.com
DTSTAMP:20260419T150400Z
DTSTART;TZID=America/Chicago:20250507T191500
DURATION:PT1H0M0S
SUMMARY:Diggin' This vs. Sandy V's
DESCRIPTION:Volleyball - Competitive - Prior Lake Parks and Recreation
LOCATION:Sand Point Beach - Volleyball Court 2
CATEGORIES:QuickScores, Volleyball - Adult Game
TRANSP:OPAQUE
BEGIN:VALARM
TRIGGER:-PT2H
ACTION:DISPLAY
DESCRIPTION:Diggin' This vs. Sandy V's
END:VALARM
END:VEVENT
BEGIN:VEVENT
UID:cityofpriorlake-68640600-20250507T191500@quickscores.com
DTSTAMP:20260419T150400Z
DTSTART;TZID=America/Chicago:20250507T191500
DURATION:PT1H0M0S
SUMMARY:Jake Gyllenhaal Haters vs. Sets on the Beach
DESCRIPTION:Volleyball - Competitive - Prior Lake Parks and Recreation
LOCATION:Sand Point Beach - Volleyball Court 1
CATEGORIES:QuickScores, Volleyball - Adult Game
TRANSP:OPAQUE
BEGIN:VALARM
TRIGGER:-PT2H
ACTION:DISPLAY
DESCRIPTION:Jake Gyllenhaal Haters vs. Sets on the Beach
END:VALARM
END:VEVENT
BEGIN:VEVENT
UID:cityofpriorlake-68640602-20250514T181500@quickscores.com
DTSTAMP:20260419T150400Z
DTSTART;TZID=America/Chicago:20250514T181500
DURATION:PT1H0M0S
SUMMARY:Diggin' This vs. I'd Hit That
DESCRIPTION:Volleyball - Competitive - Prior Lake Parks and Recreation
LOCATION:Sand Point Beach - Volleyball Court 2
CATEGORIES:QuickScores, Volleyball - Adult Game
TRANSP:OPAQUE
BEGIN:VALARM
TRIGGER:-PT2H
ACTION:DISPLAY
DESCRIPTION:Diggin' This vs. I'd Hit That
END:VALARM
END:VEVENT
BEGIN:VEVENT
UID:cityofpriorlake-68640603-20250514T181500@quickscores.com
DTSTAMP:20260419T150400Z
DTSTART;TZID=America/Chicago:20250514T181500
DURATION:PT1H0M0S
SUMMARY:Jake Gyllenhaal Haters vs. Sandy V's
DESCRIPTION:Volleyball - Competitive - Prior Lake Parks and Recreation
LOCATION:Sand Point Beach - Volleyball Court 1
CATEGORIES:QuickScores, Volleyball - Adult Game
TRANSP:OPAQUE
BEGIN:VALARM
TRIGGER:-PT2H
ACTION:DISPLAY
DESCRIPTION:Jake Gyllenhaal Haters vs. Sandy V's
END:VALARM
END:VEVENT
BEGIN:VEVENT
UID:cityofpriorlake-68640605-20250514T191500@quickscores.com
DTSTAMP:20260419T150400Z
DTSTART;TZID=America/Chicago:20250514T191500
DURATION:PT1H0M0S
SUMMARY:Kiss My Ace vs. Sets on the Beach
DESCRIPTION:Volleyball - Competitive - Prior Lake Parks and Recreation
LOCATION:Sand Point Beach - Volleyball Court 2
CATEGORIES:QuickScores, Volleyball - Adult Game
TRANSP:OPAQUE
BEGIN:VALARM
TRIGGER:-PT2H
ACTION:DISPLAY
DESCRIPTION:Kiss My Ace vs. Sets on the Beach
END:VALARM
END:VEVENT
BEGIN:VEVENT
UID:cityofpriorlake-68640604-20250514T191500@quickscores.com
DTSTAMP:20260419T150400Z
DTSTART;TZID=America/Chicago:20250514T191500
DURATION:PT1H0M0S
SUMMARY:Bump Set Drink vs. How I Set Your Mother
DESCRIPTION:Volleyball - Competitive - Prior Lake Parks and Recreation
LOCATION:Sand Point Beach - Volleyball Court 1
CATEGORIES:QuickScores, Volleyball - Adult Game
TRANSP:OPAQUE
BEGIN:VALARM
TRIGGER:-PT2H
ACTION:DISPLAY
DESCRIPTION:Bump Set Drink vs. How I Set Your Mother
END:VALARM
END:VEVENT
BEGIN:VEVENT
UID:cityofpriorlake-68640608-20250521T181500@quickscores.com
DTSTAMP:20260419T150400Z
DTSTART;TZID=America/Chicago:20250521T181500
DURATION:PT1H0M0S
SUMMARY:I'd Hit That vs. Kiss My Ace
DESCRIPTION:Volleyball - Competitive - Prior Lake Parks and Recreation
LOCATION:Sand Point Beach - Volleyball Court 1
CATEGORIES:QuickScores, Volleyball - Adult Game
TRANSP:OPAQUE
BEGIN:VALARM
TRIGGER:-PT2H
ACTION:DISPLAY
DESCRIPTION:I'd Hit That vs. Kiss My Ace
END:VALARM
END:VEVENT
BEGIN:VEVENT
UID:cityofpriorlake-68640609-20250521T181500@quickscores.com
DTSTAMP:20260419T150400Z
DTSTART;TZID=America/Chicago:20250521T181500
DURATION:PT1H0M0S
SUMMARY:Jake Gyllenhaal Haters vs. Bump Set Drink
DESCRIPTION:Volleyball - Competitive - Prior Lake Parks and Recreation
LOCATION:Sand Point Beach - Volleyball Court 2
CATEGORIES:QuickScores, Volleyball - Adult Game
TRANSP:OPAQUE
BEGIN:VALARM
TRIGGER:-PT2H
ACTION:DISPLAY
DESCRIPTION:Jake Gyllenhaal Haters vs. Bump Set Drink
END:VALARM
END:VEVENT
BEGIN:VEVENT
UID:cityofpriorlake-68640606-20250521T191500@quickscores.com
DTSTAMP:20260419T150400Z
DTSTART;TZID=America/Chicago:20250521T191500
DURATION:PT1H0M0S
SUMMARY:Diggin' This vs. How I Set Your Mother
DESCRIPTION:Volleyball - Competitive - Prior Lake Parks and Recreation
LOCATION:Sand Point Beach - Volleyball Court 2
CATEGORIES:QuickScores, Volleyball - Adult Game
TRANSP:OPAQUE
BEGIN:VALARM
TRIGGER:-PT2H
ACTION:DISPLAY
DESCRIPTION:Diggin' This vs. How I Set Your Mother
END:VALARM
END:VEVENT
BEGIN:VEVENT
UID:cityofpriorlake-68640607-20250521T191500@quickscores.com
DTSTAMP:20260419T150400Z
DTSTART;TZID=America/Chicago:20250521T191500
DURATION:PT1H0M0S
SUMMARY:Sandy V's vs. Sets on the Beach
DESCRIPTION:Volleyball - Competitive - Prior Lake Parks and Recreation
LOCATION:Sand Point Beach - Volleyball Court 1
CATEGORIES:QuickScores, Volleyball - Adult Game
TRANSP:OPAQUE
BEGIN:VALARM
TRIGGER:-PT2H
ACTION:DISPLAY
DESCRIPTION:Sandy V's vs. Sets on the Beach
END:VALARM
END:VEVENT
BEGIN:VEVENT
UID:cityofpriorlake-68640613-20250528T181500@quickscores.com
DTSTAMP:20260419T150400Z
DTSTART;TZID=America/Chicago:20250528T181500
DURATION:PT1H0M0S
SUMMARY:Sets on the Beach vs. How I Set Your Mother
DESCRIPTION:Volleyball - Competitive - Prior Lake Parks and Recreation
LOCATION:Sand Point Beach - Volleyball Court 2
CATEGORIES:QuickScores, Volleyball - Adult Game
TRANSP:OPAQUE
BEGIN:VALARM
TRIGGER:-PT2H
ACTION:DISPLAY
DESCRIPTION:Sets on the Beach vs. How I Set Your Mother
END:VALARM
END:VEVENT
BEGIN:VEVENT
UID:cityofpriorlake-68640611-20250528T181500@quickscores.com
DTSTAMP:20260419T150400Z
DTSTART;TZID=America/Chicago:20250528T181500
DURATION:PT1H0M0S
SUMMARY:Bump Set Drink vs. I'd Hit That
DESCRIPTION:Volleyball - Competitive - Prior Lake Parks and Recreation
LOCATION:Sand Point Beach - Volleyball Court 1
CATEGORIES:QuickScores, Volleyball - Adult Game
TRANSP:OPAQUE
BEGIN:VALARM
TRIGGER:-PT2H
ACTION:DISPLAY
DESCRIPTION:Bump Set Drink vs. I'd Hit That
END:VALARM
END:VEVENT
BEGIN:VEVENT
UID:cityofpriorlake-68640612-20250528T191500@quickscores.com
DTSTAMP:20260419T150400Z
DTSTART;TZID=America/Chicago:20250528T191500
DURATION:PT1H0M0S
SUMMARY:Kiss My Ace vs. Sandy V's
DESCRIPTION:Volleyball - Competitive - Prior Lake Parks and Recreation
LOCATION:Sand Point Beach - Volleyball Court 2
CATEGORIES:QuickScores, Volleyball - Adult Game
TRANSP:OPAQUE
BEGIN:VALARM
TRIGGER:-PT2H
ACTION:DISPLAY
DESCRIPTION:Kiss My Ace vs. Sandy V's
END:VALARM
END:VEVENT
BEGIN:VEVENT
UID:cityofpriorlake-68640610-20250528T191500@quickscores.com
DTSTAMP:20260419T150400Z
DTSTART;TZID=America/Chicago:20250528T191500
DURATION:PT1H0M0S
SUMMARY:Diggin' This vs. Jake Gyllenhaal Haters
DESCRIPTION:Volleyball - Competitive - Prior Lake Parks and Recreation
LOCATION:Sand Point Beach - Volleyball Court 1
CATEGORIES:QuickScores, Volleyball - Adult Game
TRANSP:OPAQUE
BEGIN:VALARM
TRIGGER:-PT2H
ACTION:DISPLAY
DESCRIPTION:Diggin' This vs. Jake Gyllenhaal Haters
END:VALARM
END:VEVENT
BEGIN:VEVENT
UID:cityofpriorlake-68640614-20250604T181500@quickscores.com
DTSTAMP:20260419T150400Z
DTSTART;TZID=America/Chicago:20250604T181500
DURATION:PT1H0M0S
SUMMARY:Diggin' This vs. Sets on the Beach
DESCRIPTION:Volleyball - Competitive - Prior Lake Parks and Recreation
LOCATION:Sand Point Beach - Volleyball Court 2
CATEGORIES:QuickScores, Volleyball - Adult Game
TRANSP:OPAQUE
BEGIN:VALARM
TRIGGER:-PT2H
ACTION:DISPLAY
DESCRIPTION:Diggin' This vs. Sets on the Beach
END:VALARM
END:VEVENT
BEGIN:VEVENT
UID:cityofpriorlake-68640615-20250604T181500@quickscores.com
DTSTAMP:20260419T150400Z
DTSTART;TZID=America/Chicago:20250604T181500
DURATION:PT1H0M0S
SUMMARY:How I Set Your Mother vs. Kiss My Ace
DESCRIPTION:Volleyball - Competitive - Prior Lake Parks and Recreation
LOCATION:Sand Point Beach - Volleyball Court 1
CATEGORIES:QuickScores, Volleyball - Adult Game
TRANSP:OPAQUE
BEGIN:VALARM
TRIGGER:-PT2H
ACTION:DISPLAY
DESCRIPTION:How I Set Your Mother vs. Kiss My Ace
END:VALARM
END:VEVENT
BEGIN:VEVENT
UID:cityofpriorlake-68640616-20250604T191500@quickscores.com
DTSTAMP:20260419T150400Z
DTSTART;TZID=America/Chicago:20250604T191500
DURATION:PT1H0M0S
SUMMARY:Sandy V's vs. Bump Set Drink
DESCRIPTION:Volleyball - Competitive - Prior Lake Parks and Recreation
LOCATION:Sand Point Beach - Volleyball Court 2
CATEGORIES:QuickScores, Volleyball - Adult Game
TRANSP:OPAQUE
BEGIN:VALARM
TRIGGER:-PT2H
ACTION:DISPLAY
DESCRIPTION:Sandy V's vs. Bump Set Drink
END:VALARM
END:VEVENT
BEGIN:VEVENT
UID:cityofpriorlake-68640617-20250604T191500@quickscores.com
DTSTAMP:20260419T150400Z
DTSTART;TZID=America/Chicago:20250604T191500
DURATION:PT1H0M0S
SUMMARY:I'd Hit That vs. Jake Gyllenhaal Haters
DESCRIPTION:Volleyball - Competitive - Prior Lake Parks and Recreation
LOCATION:Sand Point Beach - Volleyball Court 1
CATEGORIES:QuickScores, Volleyball - Adult Game
TRANSP:OPAQUE
BEGIN:VALARM
TRIGGER:-PT2H
ACTION:DISPLAY
DESCRIPTION:I'd Hit That vs. Jake Gyllenhaal Haters
END:VALARM
END:VEVENT
BEGIN:VEVENT
UID:cityofpriorlake-68640621-20250611T181500@quickscores.com
DTSTAMP:20260419T150400Z
DTSTART;TZID=America/Chicago:20250611T181500
DURATION:PT1H0M0S
SUMMARY:How I Set Your Mother vs. Sandy V's
DESCRIPTION:Volleyball - Competitive - Prior Lake Parks and Recreation
LOCATION:Sand Point Beach - Volleyball Court 1
CATEGORIES:QuickScores, Volleyball - Adult Game
TRANSP:OPAQUE
BEGIN:VALARM
TRIGGER:-PT2H
ACTION:DISPLAY
DESCRIPTION:How I Set Your Mother vs. Sandy V's
END:VALARM
END:VEVENT
BEGIN:VEVENT
UID:cityofpriorlake-68640619-20250611T181500@quickscores.com
DTSTAMP:20260419T150400Z
DTSTART;TZID=America/Chicago:20250611T181500
DURATION:PT1H0M0S
SUMMARY:Kiss My Ace vs. Jake Gyllenhaal Haters
DESCRIPTION:Volleyball - Competitive - Prior Lake Parks and Recreation
LOCATION:Sand Point Beach - Volleyball Court 2
CATEGORIES:QuickScores, Volleyball - Adult Game
TRANSP:OPAQUE
BEGIN:VALARM
TRIGGER:-PT2H
ACTION:DISPLAY
DESCRIPTION:Kiss My Ace vs. Jake Gyllenhaal Haters
END:VALARM
END:VEVENT
BEGIN:VEVENT
UID:cityofpriorlake-68640620-20250611T191500@quickscores.com
DTSTAMP:20260419T150400Z
DTSTART;TZID=America/Chicago:20250611T191500
DURATION:PT1H0M0S
SUMMARY:I'd Hit That vs. Sets on the Beach
DESCRIPTION:Volleyball - Competitive - Prior Lake Parks and Recreation
LOCATION:Sand Point Beach - Volleyball Court 1
CATEGORIES:QuickScores, Volleyball - Adult Game
TRANSP:OPAQUE
BEGIN:VALARM
TRIGGER:-PT2H
ACTION:DISPLAY
DESCRIPTION:I'd Hit That vs. Sets on the Beach
END:VALARM
END:VEVENT
BEGIN:VEVENT
UID:cityofpriorlake-68640618-20250611T191500@quickscores.com
DTSTAMP:20260419T150400Z
DTSTART;TZID=America/Chicago:20250611T191500
DURATION:PT1H0M0S
SUMMARY:Bump Set Drink vs. Diggin' This
DESCRIPTION:Volleyball - Competitive - Prior Lake Parks and Recreation
LOCATION:Sand Point Beach - Volleyball Court 2
CATEGORIES:QuickScores, Volleyball - Adult Game
TRANSP:OPAQUE
BEGIN:VALARM
TRIGGER:-PT2H
ACTION:DISPLAY
DESCRIPTION:Bump Set Drink vs. Diggin' This
END:VALARM
END:VEVENT
BEGIN:VEVENT
UID:cityofpriorlake-68640623-20250618T181500@quickscores.com
DTSTAMP:20260419T150400Z
DTSTART;TZID=America/Chicago:20250618T181500
DURATION:PT1H0M0S
SUMMARY:Sets on the Beach vs. Bump Set Drink
DESCRIPTION:Volleyball - Competitive - Prior Lake Parks and Recreation
LOCATION:Sand Point Beach - Volleyball Court 1
CATEGORIES:QuickScores, Volleyball - Adult Game
TRANSP:OPAQUE
BEGIN:VALARM
TRIGGER:-PT2H
ACTION:DISPLAY
DESCRIPTION:Sets on the Beach vs. Bump Set Drink
END:VALARM
END:VEVENT
BEGIN:VEVENT
UID:cityofpriorlake-68640625-20250618T181500@quickscores.com
DTSTAMP:20260419T150400Z
DTSTART;TZID=America/Chicago:20250618T181500
DURATION:PT1H0M0S
SUMMARY:Sandy V's vs. I'd Hit That
DESCRIPTION:Volleyball - Competitive - Prior Lake Parks and Recreation
LOCATION:Sand Point Beach - Volleyball Court 2
CATEGORIES:QuickScores, Volleyball - Adult Game
TRANSP:OPAQUE
BEGIN:VALARM
TRIGGER:-PT2H
ACTION:DISPLAY
DESCRIPTION:Sandy V's vs. I'd Hit That
END:VALARM
END:VEVENT
BEGIN:VEVENT
UID:cityofpriorlake-68640622-20250618T191500@quickscores.com
DTSTAMP:20260419T150400Z
DTSTART;TZID=America/Chicago:20250618T191500
DURATION:PT1H0M0S
SUMMARY:Diggin' This vs. Kiss My Ace
DESCRIPTION:Volleyball - Competitive - Prior Lake Parks and Recreation
LOCATION:Sand Point Beach - Volleyball Court 1
CATEGORIES:QuickScores, Volleyball - Adult Game
TRANSP:OPAQUE
BEGIN:VALARM
TRIGGER:-PT2H
ACTION:DISPLAY
DESCRIPTION:Diggin' This vs. Kiss My Ace
END:VALARM
END:VEVENT
BEGIN:VEVENT
UID:cityofpriorlake-68640624-20250618T191500@quickscores.com
DTSTAMP:20260419T150400Z
DTSTART;TZID=America/Chicago:20250618T191500
DURATION:PT1H0M0S
SUMMARY:Jake Gyllenhaal Haters vs. How I Set Your Mother
DESCRIPTION:Volleyball - Competitive - Prior Lake Parks and Recreation
LOCATION:Sand Point Beach - Volleyball Court 2
CATEGORIES:QuickScores, Volleyball - Adult Game
TRANSP:OPAQUE
BEGIN:VALARM
TRIGGER:-PT2H
ACTION:DISPLAY
DESCRIPTION:Jake Gyllenhaal Haters vs. How I Set Your Mother
END:VALARM
END:VEVENT
BEGIN:VEVENT
UID:cityofpriorlake-68640629-20250625T181500@quickscores.com
DTSTAMP:20260419T150400Z
DTSTART;TZID=America/Chicago:20250625T181500
DURATION:PT1H0M0S
SUMMARY:Kiss My Ace vs. Bump Set Drink
DESCRIPTION:Volleyball - Competitive - Prior Lake Parks and Recreation
LOCATION:Sand Point Beach - Volleyball Court 2
CATEGORIES:QuickScores, Volleyball - Adult Game
TRANSP:OPAQUE
BEGIN:VALARM
TRIGGER:-PT2H
ACTION:DISPLAY
DESCRIPTION:Kiss My Ace vs. Bump Set Drink
END:VALARM
END:VEVENT
BEGIN:VEVENT
UID:cityofpriorlake-68640628-20250625T181500@quickscores.com
DTSTAMP:20260419T150400Z
DTSTART;TZID=America/Chicago:20250625T181500
DURATION:PT1H0M0S
SUMMARY:Sets on the Beach vs. Jake Gyllenhaal Haters
DESCRIPTION:Volleyball - Competitive - Prior Lake Parks and Recreation
LOCATION:Sand Point Beach - Volleyball Court 1
CATEGORIES:QuickScores, Volleyball - Adult Game
TRANSP:OPAQUE
BEGIN:VALARM
TRIGGER:-PT2H
ACTION:DISPLAY
DESCRIPTION:Sets on the Beach vs. Jake Gyllenhaal Haters
END:VALARM
END:VEVENT
BEGIN:VEVENT
UID:cityofpriorlake-68640627-20250625T191500@quickscores.com
DTSTAMP:20260419T150400Z
DTSTART;TZID=America/Chicago:20250625T191500
DURATION:PT1H0M0S
SUMMARY:How I Set Your Mother vs. I'd Hit That
DESCRIPTION:Volleyball - Competitive - Prior Lake Parks and Recreation
LOCATION:Sand Point Beach - Volleyball Court 2
CATEGORIES:QuickScores, Volleyball - Adult Game
TRANSP:OPAQUE
BEGIN:VALARM
TRIGGER:-PT2H
ACTION:DISPLAY
DESCRIPTION:How I Set Your Mother vs. I'd Hit That
END:VALARM
END:VEVENT
BEGIN:VEVENT
UID:cityofpriorlake-68640626-20250625T191500@quickscores.com
DTSTAMP:20260419T150400Z
DTSTART;TZID=America/Chicago:20250625T191500
DURATION:PT1H0M0S
SUMMARY:Sandy V's vs. Diggin' This
DESCRIPTION:Volleyball - Competitive - Prior Lake Parks and Recreation
LOCATION:Sand Point Beach - Volleyball Court 1
CATEGORIES:QuickScores, Volleyball - Adult Game
TRANSP:OPAQUE
BEGIN:VALARM
TRIGGER:-PT2H
ACTION:DISPLAY
DESCRIPTION:Sandy V's vs. Diggin' This
END:VALARM
END:VEVENT
BEGIN:VEVENT
UID:cityofpriorlake-68640635-20250709T181500@quickscores.com
DTSTAMP:20260419T150400Z
DTSTART;TZID=America/Chicago:20250709T181500
DURATION:PT1H0M0S
SUMMARY:Sets on the Beach vs. Sandy V's
DESCRIPTION:Volleyball - Competitive - Prior Lake Parks and Recreation
LOCATION:Sand Point Beach - Volleyball Court 2
CATEGORIES:QuickScores, Volleyball - Adult Game
TRANSP:OPAQUE
BEGIN:VALARM
TRIGGER:-PT2H
ACTION:DISPLAY
DESCRIPTION:Sets on the Beach vs. Sandy V's
END:VALARM
END:VEVENT
BEGIN:VEVENT
UID:cityofpriorlake-68640634-20250709T181500@quickscores.com
DTSTAMP:20260419T150400Z
DTSTART;TZID=America/Chicago:20250709T181500
DURATION:PT1H0M0S
SUMMARY:How I Set Your Mother vs. Diggin' This
DESCRIPTION:Volleyball - Competitive - Prior Lake Parks and Recreation
LOCATION:Sand Point Beach - Volleyball Court 1
CATEGORIES:QuickScores, Volleyball - Adult Game
TRANSP:OPAQUE
BEGIN:VALARM
TRIGGER:-PT2H
ACTION:DISPLAY
DESCRIPTION:How I Set Your Mother vs. Diggin' This
END:VALARM
END:VEVENT
BEGIN:VEVENT
UID:cityofpriorlake-68640637-20250709T191500@quickscores.com
DTSTAMP:20260419T150400Z
DTSTART;TZID=America/Chicago:20250709T191500
DURATION:PT1H0M0S
SUMMARY:Bump Set Drink vs. Jake Gyllenhaal Haters
DESCRIPTION:Volleyball - Competitive - Prior Lake Parks and Recreation
LOCATION:Sand Point Beach - Volleyball Court 2
CATEGORIES:QuickScores, Volleyball - Adult Game
TRANSP:OPAQUE
BEGIN:VALARM
TRIGGER:-PT2H
ACTION:DISPLAY
DESCRIPTION:Bump Set Drink vs. Jake Gyllenhaal Haters
END:VALARM
END:VEVENT
BEGIN:VEVENT
UID:cityofpriorlake-68640636-20250709T191500@quickscores.com
DTSTAMP:20260419T150400Z
DTSTART;TZID=America/Chicago:20250709T191500
DURATION:PT1H0M0S
SUMMARY:Kiss My Ace vs. I'd Hit That
DESCRIPTION:Volleyball - Competitive - Prior Lake Parks and Recreation
LOCATION:Sand Point Beach - Volleyball Court 1
CATEGORIES:QuickScores, Volleyball - Adult Game
TRANSP:OPAQUE
BEGIN:VALARM
TRIGGER:-PT2H
ACTION:DISPLAY
DESCRIPTION:Kiss My Ace vs. I'd Hit That
END:VALARM
END:VEVENT
BEGIN:VEVENT
UID:cityofpriorlake-68640639-20250716T181500@quickscores.com
DTSTAMP:20260419T150400Z
DTSTART;TZID=America/Chicago:20250716T181500
DURATION:PT1H0M0S
SUMMARY:I'd Hit That vs. Bump Set Drink
DESCRIPTION:Volleyball - Competitive - Prior Lake Parks and Recreation
LOCATION:Sand Point Beach - Volleyball Court 2
CATEGORIES:QuickScores, Volleyball - Adult Game
TRANSP:OPAQUE
BEGIN:VALARM
TRIGGER:-PT2H
ACTION:DISPLAY
DESCRIPTION:I'd Hit That vs. Bump Set Drink
END:VALARM
END:VEVENT
BEGIN:VEVENT
UID:cityofpriorlake-68640638-20250716T181500@quickscores.com
DTSTAMP:20260419T150400Z
DTSTART;TZID=America/Chicago:20250716T181500
DURATION:PT1H0M0S
SUMMARY:Jake Gyllenhaal Haters vs. Diggin' This
DESCRIPTION:Volleyball - Competitive - Prior Lake Parks and Recreation
LOCATION:Sand Point Beach - Volleyball Court 1
CATEGORIES:QuickScores, Volleyball - Adult Game
TRANSP:OPAQUE
BEGIN:VALARM
TRIGGER:-PT2H
ACTION:DISPLAY
DESCRIPTION:Jake Gyllenhaal Haters vs. Diggin' This
END:VALARM
END:VEVENT
BEGIN:VEVENT
UID:cityofpriorlake-68640640-20250716T191500@quickscores.com
DTSTAMP:20260419T150400Z
DTSTART;TZID=America/Chicago:20250716T191500
DURATION:PT1H0M0S
SUMMARY:Sandy V's vs. Kiss My Ace
DESCRIPTION:Volleyball - Competitive - Prior Lake Parks and Recreation
LOCATION:Sand Point Beach - Volleyball Court 1
CATEGORIES:QuickScores, Volleyball - Adult Game
TRANSP:OPAQUE
BEGIN:VALARM
TRIGGER:-PT2H
ACTION:DISPLAY
DESCRIPTION:Sandy V's vs. Kiss My Ace
END:VALARM
END:VEVENT
BEGIN:VEVENT
UID:cityofpriorlake-68640641-20250716T191500@quickscores.com
DTSTAMP:20260419T150400Z
DTSTART;TZID=America/Chicago:20250716T191500
DURATION:PT1H0M0S
SUMMARY:How I Set Your Mother vs. Sets on the Beach
DESCRIPTION:Volleyball - Competitive - Prior Lake Parks and Recreation
LOCATION:Sand Point Beach - Volleyball Court 2
CATEGORIES:QuickScores, Volleyball - Adult Game
TRANSP:OPAQUE
BEGIN:VALARM
TRIGGER:-PT2H
ACTION:DISPLAY
DESCRIPTION:How I Set Your Mother vs. Sets on the Beach
END:VALARM
END:VEVENT
BEGIN:VEVENT
UID:cityofpriorlake-68640642-20250723T181500@quickscores.com
DTSTAMP:20260419T150400Z
DTSTART;TZID=America/Chicago:20250723T181500
DURATION:PT1H0M0S
SUMMARY:Sets on the Beach vs. Diggin' This
DESCRIPTION:Volleyball - Competitive - Prior Lake Parks and Recreation
LOCATION:Sand Point Beach - Volleyball Court 1
CATEGORIES:QuickScores, Volleyball - Adult Game
TRANSP:OPAQUE
BEGIN:VALARM
TRIGGER:-PT2H
ACTION:DISPLAY
DESCRIPTION:Sets on the Beach vs. Diggin' This
END:VALARM
END:VEVENT
BEGIN:VEVENT
UID:cityofpriorlake-68640643-20250723T181500@quickscores.com
DTSTAMP:20260419T150400Z
DTSTART;TZID=America/Chicago:20250723T181500
DURATION:PT1H0M0S
SUMMARY:Kiss My Ace vs. How I Set Your Mother
DESCRIPTION:Volleyball - Competitive - Prior Lake Parks and Recreation
LOCATION:Sand Point Beach - Volleyball Court 2
CATEGORIES:QuickScores, Volleyball - Adult Game
TRANSP:OPAQUE
BEGIN:VALARM
TRIGGER:-PT2H
ACTION:DISPLAY
DESCRIPTION:Kiss My Ace vs. How I Set Your Mother
END:VALARM
END:VEVENT
BEGIN:VEVENT
UID:cityofpriorlake-68640645-20250723T191500@quickscores.com
DTSTAMP:20260419T150400Z
DTSTART;TZID=America/Chicago:20250723T191500
DURATION:PT1H0M0S
SUMMARY:Jake Gyllenhaal Haters vs. I'd Hit That
DESCRIPTION:Volleyball - Competitive - Prior Lake Parks and Recreation
LOCATION:Sand Point Beach - Volleyball Court 2
CATEGORIES:QuickScores, Volleyball - Adult Game
TRANSP:OPAQUE
BEGIN:VALARM
TRIGGER:-PT2H
ACTION:DISPLAY
DESCRIPTION:Jake Gyllenhaal Haters vs. I'd Hit That
END:VALARM
END:VEVENT
BEGIN:VEVENT
UID:cityofpriorlake-68640644-20250723T191500@quickscores.com
DTSTAMP:20260419T150400Z
DTSTART;TZID=America/Chicago:20250723T191500
DURATION:PT1H0M0S
SUMMARY:Bump Set Drink vs. Sandy V's
DESCRIPTION:Volleyball - Competitive - Prior Lake Parks and Recreation
LOCATION:Sand Point Beach - Volleyball Court 1
CATEGORIES:QuickScores, Volleyball - Adult Game
TRANSP:OPAQUE
BEGIN:VALARM
TRIGGER:-PT2H
ACTION:DISPLAY
DESCRIPTION:Bump Set Drink vs. Sandy V's
END:VALARM
END:VEVENT
BEGIN:VEVENT
UID:cityofpriorlake-68640630-20250730T181500@quickscores.com
DTSTAMP:20260419T150400Z
DTSTART;TZID=America/Chicago:20250730T181500
DURATION:PT1H0M0S
SUMMARY:I'd Hit That vs. Diggin' This
DESCRIPTION:Volleyball - Competitive - Prior Lake Parks and Recreation
LOCATION:Sand Point Beach - Volleyball Court 1
CATEGORIES:QuickScores, Volleyball - Adult Game
TRANSP:OPAQUE
BEGIN:VALARM
TRIGGER:-PT2H
ACTION:DISPLAY
DESCRIPTION:I'd Hit That vs. Diggin' This
END:VALARM
END:VEVENT
BEGIN:VEVENT
UID:cityofpriorlake-68640631-20250730T181500@quickscores.com
DTSTAMP:20260419T150400Z
DTSTART;TZID=America/Chicago:20250730T181500
DURATION:PT1H0M0S
SUMMARY:Sandy V's vs. Jake Gyllenhaal Haters
DESCRIPTION:Volleyball - Competitive - Prior Lake Parks and Recreation
LOCATION:Sand Point Beach - Volleyball Court 2
CATEGORIES:QuickScores, Volleyball - Adult Game
TRANSP:OPAQUE
BEGIN:VALARM
TRIGGER:-PT2H
ACTION:DISPLAY
DESCRIPTION:Sandy V's vs. Jake Gyllenhaal Haters
END:VALARM
END:VEVENT
BEGIN:VEVENT
UID:cityofpriorlake-68640633-20250730T191500@quickscores.com
DTSTAMP:20260419T150400Z
DTSTART;TZID=America/Chicago:20250730T191500
DURATION:PT1H0M0S
SUMMARY:Sets on the Beach vs. Kiss My Ace
DESCRIPTION:Volleyball - Competitive - Prior Lake Parks and Recreation
LOCATION:Sand Point Beach - Volleyball Court 2
CATEGORIES:QuickScores, Volleyball - Adult Game
TRANSP:OPAQUE
BEGIN:VALARM
TRIGGER:-PT2H
ACTION:DISPLAY
DESCRIPTION:Sets on the Beach vs. Kiss My Ace
END:VALARM
END:VEVENT
BEGIN:VEVENT
UID:cityofpriorlake-68640632-20250730T191500@quickscores.com
DTSTAMP:20260419T150400Z
DTSTART;TZID=America/Chicago:20250730T191500
DURATION:PT1H0M0S
SUMMARY:How I Set Your Mother vs. Bump Set Drink
DESCRIPTION:Volleyball - Competitive - Prior Lake Parks and Recreation
LOCATION:Sand Point Beach - Volleyball Court 1
CATEGORIES:QuickScores, Volleyball - Adult Game
TRANSP:OPAQUE
BEGIN:VALARM
TRIGGER:-PT2H
ACTION:DISPLAY
DESCRIPTION:How I Set Your Mother vs. Bump Set Drink
END:VALARM
END:VEVENT
BEGIN:VEVENT
UID:cityofpriorlake-70018611-20250806T181500@quickscores.com
DTSTAMP:20260419T150400Z
DTSTART;TZID=America/Chicago:20250806T181500
DURATION:PT1H0M0S
SUMMARY:Jake Gyllenhaal Haters vs. Diggin' This
DESCRIPTION:Volleyball - Competitive - Prior Lake Parks and Recreation
LOCATION:Sand Point Beach - Volleyball Court 1
CATEGORIES:QuickScores, Volleyball - Adult Game
TRANSP:OPAQUE
BEGIN:VALARM
TRIGGER:-PT2H
ACTION:DISPLAY
DESCRIPTION:Jake Gyllenhaal Haters vs. Diggin' This
END:VALARM
END:VEVENT
BEGIN:VEVENT
UID:cityofpriorlake-70018612-20250806T181500@quickscores.com
DTSTAMP:20260419T150400Z
DTSTART;TZID=America/Chicago:20250806T181500
DURATION:PT1H0M0S
SUMMARY:Bump Set Drink vs. Kiss My Ace
DESCRIPTION:Volleyball - Competitive - Prior Lake Parks and Recreation
LOCATION:Sand Point Beach - Volleyball Court 2
CATEGORIES:QuickScores, Volleyball - Adult Game
TRANSP:OPAQUE
BEGIN:VALARM
TRIGGER:-PT2H
ACTION:DISPLAY
DESCRIPTION:Bump Set Drink vs. Kiss My Ace
END:VALARM
END:VEVENT
BEGIN:VEVENT
UID:cityofpriorlake-70018614-20250806T191500@quickscores.com
DTSTAMP:20260419T150400Z
DTSTART;TZID=America/Chicago:20250806T191500
DURATION:PT1H0M0S
SUMMARY:How I Set Your Mother vs. Sets on the Beach
DESCRIPTION:Volleyball - Competitive - Prior Lake Parks and Recreation
LOCATION:Sand Point Beach - Volleyball Court 2
CATEGORIES:QuickScores, Volleyball - Adult Game
TRANSP:OPAQUE
BEGIN:VALARM
TRIGGER:-PT2H
ACTION:DISPLAY
DESCRIPTION:How I Set Your Mother vs. Sets on the Beach
END:VALARM
END:VEVENT
BEGIN:VEVENT
UID:cityofpriorlake-70018613-20250806T191500@quickscores.com
DTSTAMP:20260419T150400Z
DTSTART;TZID=America/Chicago:20250806T191500
DURATION:PT1H0M0S
SUMMARY:I'd Hit That vs. Sandy V's
DESCRIPTION:Volleyball - Competitive - Prior Lake Parks and Recreation
LOCATION:Sand Point Beach - Volleyball Court 1
CATEGORIES:QuickScores, Volleyball - Adult Game
TRANSP:OPAQUE
BEGIN:VALARM
TRIGGER:-PT2H
ACTION:DISPLAY
DESCRIPTION:I'd Hit That vs. Sandy V's
END:VALARM
END:VEVENT
BEGIN:VEVENT
UID:cityofpriorlake-70018615-20250813T181500@quickscores.com
DTSTAMP:20260419T150400Z
DTSTART;TZID=America/Chicago:20250813T181500
DURATION:PT1H0M0S
SUMMARY:Jake Gyllenhaal Haters vs. Kiss My Ace
DESCRIPTION:Volleyball - Competitive - Prior Lake Parks and Recreation
LOCATION:Sand Point Beach - Volleyball Court 1
CATEGORIES:QuickScores, Volleyball - Adult Game
TRANSP:OPAQUE
BEGIN:VALARM
TRIGGER:-PT2H
ACTION:DISPLAY
DESCRIPTION:Jake Gyllenhaal Haters vs. Kiss My Ace
END:VALARM
END:VEVENT
BEGIN:VEVENT
UID:cityofpriorlake-70018616-20250813T181500@quickscores.com
DTSTAMP:20260419T150400Z
DTSTART;TZID=America/Chicago:20250813T181500
DURATION:PT1H0M0S
SUMMARY:Sandy V's vs. How I Set Your Mother
DESCRIPTION:Volleyball - Competitive - Prior Lake Parks and Recreation
LOCATION:Sand Point Beach - Volleyball Court 2
CATEGORIES:QuickScores, Volleyball - Adult Game
TRANSP:OPAQUE
BEGIN:VALARM
TRIGGER:-PT2H
ACTION:DISPLAY
DESCRIPTION:Sandy V's vs. How I Set Your Mother
END:VALARM
END:VEVENT
BEGIN:VEVENT
UID:cityofpriorlake-70018617-20250813T191500@quickscores.com
DTSTAMP:20260419T150400Z
DTSTART;TZID=America/Chicago:20250813T191500
DURATION:PT1H0M0S
SUMMARY:Kiss My Ace vs. How I Set Your Mother
DESCRIPTION:Volleyball - Competitive - Prior Lake Parks and Recreation
LOCATION:Sand Point Beach - Volleyball Court 1
CATEGORIES:QuickScores, Volleyball - Adult Game
TRANSP:OPAQUE
BEGIN:VALARM
TRIGGER:-PT2H
ACTION:DISPLAY
DESCRIPTION:Kiss My Ace vs. How I Set Your Mother
END:VALARM
END:VEVENT
END:VCALENDAR
