BEGIN:VCALENDAR
VERSION:2.0
PRODID:-//QuickScores.com//BQ Dynamic iCal Creator//EN
METHOD:PUBLISH
X-WR-CALNAME:Wednesday Beginning Mixed Doubles - 2025 Winter Pickleball Leagues
X-WR-CALDESC:QuickScores game calendar
X-PUBLISHED-TTL:PT24H
REFRESH-INTERVAL;VALUE=DURATION:PT24H
CALSCALE:GREGORIAN
BEGIN:VTIMEZONE
TZID:America/Los_Angeles
X-LIC-LOCATION:America/Los_Angeles
BEGIN:DAYLIGHT
TZNAME:PDT
TZOFFSETFROM:-0800
TZOFFSETTO:-0700
DTSTART:19700308T020000
RRULE:FREQ=YEARLY;BYMONTH=3;BYDAY=2SU
END:DAYLIGHT
BEGIN:STANDARD
TZNAME:PST
TZOFFSETFROM:-0700
TZOFFSETTO:-0800
DTSTART:19701101T020000
RRULE:FREQ=YEARLY;BYMONTH=11;BYDAY=1SU
END:STANDARD
END:VTIMEZONE
BEGIN:VEVENT
UID:crpd-66918357-20250129T183000@quickscores.com
DTSTAMP:20260422T212200Z
DTSTART;TZID=America/Los_Angeles:20250129T183000
DURATION:PT0H45M0S
SUMMARY:Kim & Christine vs. Katie & Sue
DESCRIPTION:Wednesday Beginning Mixed Doubles - Conejo Recreation and Park District
LOCATION:Rancho Conejo Pickleball Court #3
CATEGORIES:QuickScores, Pickleball Game
TRANSP:OPAQUE
BEGIN:VALARM
TRIGGER:-PT2H
ACTION:DISPLAY
DESCRIPTION:Kim & Christine vs. Katie & Sue
END:VALARM
END:VEVENT
BEGIN:VEVENT
UID:crpd-66918361-20250129T183000@quickscores.com
DTSTAMP:20260422T212200Z
DTSTART;TZID=America/Los_Angeles:20250129T183000
DURATION:PT0H45M0S
SUMMARY:Michelle & Ken vs. Tamara & Ken
DESCRIPTION:Wednesday Beginning Mixed Doubles - Conejo Recreation and Park District
LOCATION:Rancho Conejo Pickleball Court #2
CATEGORIES:QuickScores, Pickleball Game
TRANSP:OPAQUE
BEGIN:VALARM
TRIGGER:-PT2H
ACTION:DISPLAY
DESCRIPTION:Michelle & Ken vs. Tamara & Ken
END:VALARM
END:VEVENT
BEGIN:VEVENT
UID:crpd-66918359-20250129T183000@quickscores.com
DTSTAMP:20260422T212200Z
DTSTART;TZID=America/Los_Angeles:20250129T183000
DURATION:PT0H45M0S
SUMMARY:Amy & Steve vs. Candi & Chad
DESCRIPTION:Wednesday Beginning Mixed Doubles - Conejo Recreation and Park District
LOCATION:Rancho Conejo Pickleball Court #1
CATEGORIES:QuickScores, Pickleball Game
TRANSP:OPAQUE
BEGIN:VALARM
TRIGGER:-PT2H
ACTION:DISPLAY
DESCRIPTION:Amy & Steve vs. Candi & Chad
END:VALARM
END:VEVENT
BEGIN:VEVENT
UID:crpd-66918362-20250129T191500@quickscores.com
DTSTAMP:20260422T212200Z
DTSTART;TZID=America/Los_Angeles:20250129T191500
DURATION:PT0H45M0S
SUMMARY:Kim & Christine vs. Tamara & Ken
DESCRIPTION:Wednesday Beginning Mixed Doubles - Conejo Recreation and Park District
LOCATION:Rancho Conejo Pickleball Court #2
CATEGORIES:QuickScores, Pickleball Game
TRANSP:OPAQUE
BEGIN:VALARM
TRIGGER:-PT2H
ACTION:DISPLAY
DESCRIPTION:Kim & Christine vs. Tamara & Ken
END:VALARM
END:VEVENT
BEGIN:VEVENT
UID:crpd-66918360-20250129T191500@quickscores.com
DTSTAMP:20260422T212200Z
DTSTART;TZID=America/Los_Angeles:20250129T191500
DURATION:PT0H45M0S
SUMMARY:Candi & Chad vs. Michelle & Ken
DESCRIPTION:Wednesday Beginning Mixed Doubles - Conejo Recreation and Park District
LOCATION:Rancho Conejo Pickleball Court #1
CATEGORIES:QuickScores, Pickleball Game
TRANSP:OPAQUE
BEGIN:VALARM
TRIGGER:-PT2H
ACTION:DISPLAY
DESCRIPTION:Candi & Chad vs. Michelle & Ken
END:VALARM
END:VEVENT
BEGIN:VEVENT
UID:crpd-66918358-20250129T191500@quickscores.com
DTSTAMP:20260422T212200Z
DTSTART;TZID=America/Los_Angeles:20250129T191500
DURATION:PT0H45M0S
SUMMARY:Katie & Sue vs. Amy & Steve
DESCRIPTION:Wednesday Beginning Mixed Doubles - Conejo Recreation and Park District
LOCATION:Rancho Conejo Pickleball Court #3
CATEGORIES:QuickScores, Pickleball Game
TRANSP:OPAQUE
BEGIN:VALARM
TRIGGER:-PT2H
ACTION:DISPLAY
DESCRIPTION:Katie & Sue vs. Amy & Steve
END:VALARM
END:VEVENT
BEGIN:VEVENT
UID:crpd-66918368-20250205T183000@quickscores.com
DTSTAMP:20260422T212200Z
DTSTART;TZID=America/Los_Angeles:20250205T183000
DURATION:PT0H45M0S
SUMMARY:Amy & Steve vs. Michelle & Ken
DESCRIPTION:Wednesday Beginning Mixed Doubles - Conejo Recreation and Park District
LOCATION:Rancho Conejo Pickleball Court #1
CATEGORIES:QuickScores, Pickleball Game
TRANSP:OPAQUE
BEGIN:VALARM
TRIGGER:-PT2H
ACTION:DISPLAY
DESCRIPTION:Amy & Steve vs. Michelle & Ken
END:VALARM
END:VEVENT
BEGIN:VEVENT
UID:crpd-66918367-20250205T183000@quickscores.com
DTSTAMP:20260422T212200Z
DTSTART;TZID=America/Los_Angeles:20250205T183000
DURATION:PT0H45M0S
SUMMARY:Katie & Sue vs. Tamara & Ken
DESCRIPTION:Wednesday Beginning Mixed Doubles - Conejo Recreation and Park District
LOCATION:Rancho Conejo Pickleball Court #3
CATEGORIES:QuickScores, Pickleball Game
TRANSP:OPAQUE
BEGIN:VALARM
TRIGGER:-PT2H
ACTION:DISPLAY
DESCRIPTION:Katie & Sue vs. Tamara & Ken
END:VALARM
END:VEVENT
BEGIN:VEVENT
UID:crpd-66918366-20250205T183000@quickscores.com
DTSTAMP:20260422T212200Z
DTSTART;TZID=America/Los_Angeles:20250205T183000
DURATION:PT0H45M0S
SUMMARY:Kim & Christine vs. Candi & Chad
DESCRIPTION:Wednesday Beginning Mixed Doubles - Conejo Recreation and Park District
LOCATION:Rancho Conejo Pickleball Court #2
CATEGORIES:QuickScores, Pickleball Game
TRANSP:OPAQUE
BEGIN:VALARM
TRIGGER:-PT2H
ACTION:DISPLAY
DESCRIPTION:Kim & Christine vs. Candi & Chad
END:VALARM
END:VEVENT
BEGIN:VEVENT
UID:crpd-66918363-20250205T191500@quickscores.com
DTSTAMP:20260422T212200Z
DTSTART;TZID=America/Los_Angeles:20250205T191500
DURATION:PT0H45M0S
SUMMARY:Amy & Steve vs. Kim & Christine
DESCRIPTION:Wednesday Beginning Mixed Doubles - Conejo Recreation and Park District
LOCATION:Rancho Conejo Pickleball Court #1
CATEGORIES:QuickScores, Pickleball Game
TRANSP:OPAQUE
BEGIN:VALARM
TRIGGER:-PT2H
ACTION:DISPLAY
DESCRIPTION:Amy & Steve vs. Kim & Christine
END:VALARM
END:VEVENT
BEGIN:VEVENT
UID:crpd-66918365-20250205T191500@quickscores.com
DTSTAMP:20260422T212200Z
DTSTART;TZID=America/Los_Angeles:20250205T191500
DURATION:PT0H45M0S
SUMMARY:Katie & Sue vs. Michelle & Ken
DESCRIPTION:Wednesday Beginning Mixed Doubles - Conejo Recreation and Park District
LOCATION:Rancho Conejo Pickleball Court #3
CATEGORIES:QuickScores, Pickleball Game
TRANSP:OPAQUE
BEGIN:VALARM
TRIGGER:-PT2H
ACTION:DISPLAY
DESCRIPTION:Katie & Sue vs. Michelle & Ken
END:VALARM
END:VEVENT
BEGIN:VEVENT
UID:crpd-66918364-20250205T191500@quickscores.com
DTSTAMP:20260422T212200Z
DTSTART;TZID=America/Los_Angeles:20250205T191500
DURATION:PT0H45M0S
SUMMARY:Candi & Chad vs. Tamara & Ken
DESCRIPTION:Wednesday Beginning Mixed Doubles - Conejo Recreation and Park District
LOCATION:Rancho Conejo Pickleball Court #2
CATEGORIES:QuickScores, Pickleball Game
TRANSP:OPAQUE
BEGIN:VALARM
TRIGGER:-PT2H
ACTION:DISPLAY
DESCRIPTION:Candi & Chad vs. Tamara & Ken
END:VALARM
END:VEVENT
BEGIN:VEVENT
UID:crpd-66918373-20250212T183000@quickscores.com
DTSTAMP:20260422T212200Z
DTSTART;TZID=America/Los_Angeles:20250212T183000
DURATION:PT0H45M0S
SUMMARY:Candi & Chad vs. Amy & Steve
DESCRIPTION:Wednesday Beginning Mixed Doubles - Conejo Recreation and Park District
LOCATION:Rancho Conejo Pickleball Court #3
CATEGORIES:QuickScores, Pickleball Game
TRANSP:OPAQUE
BEGIN:VALARM
TRIGGER:-PT2H
ACTION:DISPLAY
DESCRIPTION:Candi & Chad vs. Amy & Steve
END:VALARM
END:VEVENT
BEGIN:VEVENT
UID:crpd-66918374-20250212T183000@quickscores.com
DTSTAMP:20260422T212200Z
DTSTART;TZID=America/Los_Angeles:20250212T183000
DURATION:PT0H45M0S
SUMMARY:Tamara & Ken vs. Michelle & Ken
DESCRIPTION:Wednesday Beginning Mixed Doubles - Conejo Recreation and Park District
LOCATION:Rancho Conejo Pickleball Court #2
CATEGORIES:QuickScores, Pickleball Game
TRANSP:OPAQUE
BEGIN:VALARM
TRIGGER:-PT2H
ACTION:DISPLAY
DESCRIPTION:Tamara & Ken vs. Michelle & Ken
END:VALARM
END:VEVENT
BEGIN:VEVENT
UID:crpd-66918372-20250212T183000@quickscores.com
DTSTAMP:20260422T212200Z
DTSTART;TZID=America/Los_Angeles:20250212T183000
DURATION:PT0H45M0S
SUMMARY:Katie & Sue vs. Kim & Christine
DESCRIPTION:Wednesday Beginning Mixed Doubles - Conejo Recreation and Park District
LOCATION:Rancho Conejo Pickleball Court #1
CATEGORIES:QuickScores, Pickleball Game
TRANSP:OPAQUE
BEGIN:VALARM
TRIGGER:-PT2H
ACTION:DISPLAY
DESCRIPTION:Katie & Sue vs. Kim & Christine
END:VALARM
END:VEVENT
BEGIN:VEVENT
UID:crpd-66918369-20250212T191500@quickscores.com
DTSTAMP:20260422T212200Z
DTSTART;TZID=America/Los_Angeles:20250212T191500
DURATION:PT0H45M0S
SUMMARY:Amy & Steve vs. Tamara & Ken
DESCRIPTION:Wednesday Beginning Mixed Doubles - Conejo Recreation and Park District
LOCATION:Rancho Conejo Pickleball Court #2
CATEGORIES:QuickScores, Pickleball Game
TRANSP:OPAQUE
BEGIN:VALARM
TRIGGER:-PT2H
ACTION:DISPLAY
DESCRIPTION:Amy & Steve vs. Tamara & Ken
END:VALARM
END:VEVENT
BEGIN:VEVENT
UID:crpd-66918370-20250212T191500@quickscores.com
DTSTAMP:20260422T212200Z
DTSTART;TZID=America/Los_Angeles:20250212T191500
DURATION:PT0H45M0S
SUMMARY:Katie & Sue vs. Candi & Chad
DESCRIPTION:Wednesday Beginning Mixed Doubles - Conejo Recreation and Park District
LOCATION:Rancho Conejo Pickleball Court #3
CATEGORIES:QuickScores, Pickleball Game
TRANSP:OPAQUE
BEGIN:VALARM
TRIGGER:-PT2H
ACTION:DISPLAY
DESCRIPTION:Katie & Sue vs. Candi & Chad
END:VALARM
END:VEVENT
BEGIN:VEVENT
UID:crpd-66918371-20250212T191500@quickscores.com
DTSTAMP:20260422T212200Z
DTSTART;TZID=America/Los_Angeles:20250212T191500
DURATION:PT0H45M0S
SUMMARY:Michelle & Ken vs. Kim & Christine
DESCRIPTION:Wednesday Beginning Mixed Doubles - Conejo Recreation and Park District
LOCATION:Rancho Conejo Pickleball Court #1
CATEGORIES:QuickScores, Pickleball Game
TRANSP:OPAQUE
BEGIN:VALARM
TRIGGER:-PT2H
ACTION:DISPLAY
DESCRIPTION:Michelle & Ken vs. Kim & Christine
END:VALARM
END:VEVENT
BEGIN:VEVENT
UID:crpd-66918377-20250219T183000@quickscores.com
DTSTAMP:20260422T212200Z
DTSTART;TZID=America/Los_Angeles:20250219T183000
DURATION:PT0H45M0S
SUMMARY:Tamara & Ken vs. Kim & Christine
DESCRIPTION:Wednesday Beginning Mixed Doubles - Conejo Recreation and Park District
LOCATION:Rancho Conejo Pickleball Court #1
CATEGORIES:QuickScores, Pickleball Game
TRANSP:OPAQUE
BEGIN:VALARM
TRIGGER:-PT2H
ACTION:DISPLAY
DESCRIPTION:Tamara & Ken vs. Kim & Christine
END:VALARM
END:VEVENT
BEGIN:VEVENT
UID:crpd-66918376-20250219T183000@quickscores.com
DTSTAMP:20260422T212200Z
DTSTART;TZID=America/Los_Angeles:20250219T183000
DURATION:PT0H45M0S
SUMMARY:Michelle & Ken vs. Candi & Chad
DESCRIPTION:Wednesday Beginning Mixed Doubles - Conejo Recreation and Park District
LOCATION:Rancho Conejo Pickleball Court #3
CATEGORIES:QuickScores, Pickleball Game
TRANSP:OPAQUE
BEGIN:VALARM
TRIGGER:-PT2H
ACTION:DISPLAY
DESCRIPTION:Michelle & Ken vs. Candi & Chad
END:VALARM
END:VEVENT
BEGIN:VEVENT
UID:crpd-66918375-20250219T183000@quickscores.com
DTSTAMP:20260422T212200Z
DTSTART;TZID=America/Los_Angeles:20250219T183000
DURATION:PT0H45M0S
SUMMARY:Amy & Steve vs. Katie & Sue
DESCRIPTION:Wednesday Beginning Mixed Doubles - Conejo Recreation and Park District
LOCATION:Rancho Conejo Pickleball Court #2
CATEGORIES:QuickScores, Pickleball Game
TRANSP:OPAQUE
BEGIN:VALARM
TRIGGER:-PT2H
ACTION:DISPLAY
DESCRIPTION:Amy & Steve vs. Katie & Sue
END:VALARM
END:VEVENT
BEGIN:VEVENT
UID:crpd-66918378-20250219T191500@quickscores.com
DTSTAMP:20260422T212200Z
DTSTART;TZID=America/Los_Angeles:20250219T191500
DURATION:PT0H45M0S
SUMMARY:Candi & Chad vs. Kim & Christine
DESCRIPTION:Wednesday Beginning Mixed Doubles - Conejo Recreation and Park District
LOCATION:Rancho Conejo Pickleball Court #3
CATEGORIES:QuickScores, Pickleball Game
TRANSP:OPAQUE
BEGIN:VALARM
TRIGGER:-PT2H
ACTION:DISPLAY
DESCRIPTION:Candi & Chad vs. Kim & Christine
END:VALARM
END:VEVENT
BEGIN:VEVENT
UID:crpd-66918379-20250219T191500@quickscores.com
DTSTAMP:20260422T212200Z
DTSTART;TZID=America/Los_Angeles:20250219T191500
DURATION:PT0H45M0S
SUMMARY:Tamara & Ken vs. Katie & Sue
DESCRIPTION:Wednesday Beginning Mixed Doubles - Conejo Recreation and Park District
LOCATION:Rancho Conejo Pickleball Court #1
CATEGORIES:QuickScores, Pickleball Game
TRANSP:OPAQUE
BEGIN:VALARM
TRIGGER:-PT2H
ACTION:DISPLAY
DESCRIPTION:Tamara & Ken vs. Katie & Sue
END:VALARM
END:VEVENT
BEGIN:VEVENT
UID:crpd-66918380-20250219T191500@quickscores.com
DTSTAMP:20260422T212200Z
DTSTART;TZID=America/Los_Angeles:20250219T191500
DURATION:PT0H45M0S
SUMMARY:Michelle & Ken vs. Amy & Steve
DESCRIPTION:Wednesday Beginning Mixed Doubles - Conejo Recreation and Park District
LOCATION:Rancho Conejo Pickleball Court #2
CATEGORIES:QuickScores, Pickleball Game
TRANSP:OPAQUE
BEGIN:VALARM
TRIGGER:-PT2H
ACTION:DISPLAY
DESCRIPTION:Michelle & Ken vs. Amy & Steve
END:VALARM
END:VEVENT
BEGIN:VEVENT
UID:crpd-66918381-20250226T183000@quickscores.com
DTSTAMP:20260422T212200Z
DTSTART;TZID=America/Los_Angeles:20250226T183000
DURATION:PT0H45M0S
SUMMARY:Amy & Steve vs. Tamara & Ken
DESCRIPTION:Wednesday Beginning Mixed Doubles - Conejo Recreation and Park District
LOCATION:Rancho Conejo Pickleball Court #1
CATEGORIES:QuickScores, Pickleball Game
TRANSP:OPAQUE
BEGIN:VALARM
TRIGGER:-PT2H
ACTION:DISPLAY
DESCRIPTION:Amy & Steve vs. Tamara & Ken
END:VALARM
END:VEVENT
BEGIN:VEVENT
UID:crpd-66918383-20250226T183000@quickscores.com
DTSTAMP:20260422T212200Z
DTSTART;TZID=America/Los_Angeles:20250226T183000
DURATION:PT0H45M0S
SUMMARY:Michelle & Ken vs. Kim & Christine
DESCRIPTION:Wednesday Beginning Mixed Doubles - Conejo Recreation and Park District
LOCATION:Rancho Conejo Pickleball Court #3
CATEGORIES:QuickScores, Pickleball Game
TRANSP:OPAQUE
BEGIN:VALARM
TRIGGER:-PT2H
ACTION:DISPLAY
DESCRIPTION:Michelle & Ken vs. Kim & Christine
END:VALARM
END:VEVENT
BEGIN:VEVENT
UID:crpd-66918382-20250226T183000@quickscores.com
DTSTAMP:20260422T212200Z
DTSTART;TZID=America/Los_Angeles:20250226T183000
DURATION:PT0H45M0S
SUMMARY:Candi & Chad vs. Katie & Sue
DESCRIPTION:Wednesday Beginning Mixed Doubles - Conejo Recreation and Park District
LOCATION:Rancho Conejo Pickleball Court #2
CATEGORIES:QuickScores, Pickleball Game
TRANSP:OPAQUE
BEGIN:VALARM
TRIGGER:-PT2H
ACTION:DISPLAY
DESCRIPTION:Candi & Chad vs. Katie & Sue
END:VALARM
END:VEVENT
BEGIN:VEVENT
UID:crpd-66918385-20250226T191500@quickscores.com
DTSTAMP:20260422T212200Z
DTSTART;TZID=America/Los_Angeles:20250226T191500
DURATION:PT0H45M0S
SUMMARY:Tamara & Ken vs. Candi & Chad
DESCRIPTION:Wednesday Beginning Mixed Doubles - Conejo Recreation and Park District
LOCATION:Rancho Conejo Pickleball Court #1
CATEGORIES:QuickScores, Pickleball Game
TRANSP:OPAQUE
BEGIN:VALARM
TRIGGER:-PT2H
ACTION:DISPLAY
DESCRIPTION:Tamara & Ken vs. Candi & Chad
END:VALARM
END:VEVENT
BEGIN:VEVENT
UID:crpd-66918384-20250226T191500@quickscores.com
DTSTAMP:20260422T212200Z
DTSTART;TZID=America/Los_Angeles:20250226T191500
DURATION:PT0H45M0S
SUMMARY:Kim & Christine vs. Amy & Steve
DESCRIPTION:Wednesday Beginning Mixed Doubles - Conejo Recreation and Park District
LOCATION:Rancho Conejo Pickleball Court #3
CATEGORIES:QuickScores, Pickleball Game
TRANSP:OPAQUE
BEGIN:VALARM
TRIGGER:-PT2H
ACTION:DISPLAY
DESCRIPTION:Kim & Christine vs. Amy & Steve
END:VALARM
END:VEVENT
BEGIN:VEVENT
UID:crpd-66918386-20250226T191500@quickscores.com
DTSTAMP:20260422T212200Z
DTSTART;TZID=America/Los_Angeles:20250226T191500
DURATION:PT0H45M0S
SUMMARY:Michelle & Ken vs. Katie & Sue
DESCRIPTION:Wednesday Beginning Mixed Doubles - Conejo Recreation and Park District
LOCATION:Rancho Conejo Pickleball Court #2
CATEGORIES:QuickScores, Pickleball Game
TRANSP:OPAQUE
BEGIN:VALARM
TRIGGER:-PT2H
ACTION:DISPLAY
DESCRIPTION:Michelle & Ken vs. Katie & Sue
END:VALARM
END:VEVENT
BEGIN:VEVENT
UID:crpd-66918387-20250305T183000@quickscores.com
DTSTAMP:20260422T212200Z
DTSTART;TZID=America/Los_Angeles:20250305T183000
DURATION:PT0H45M0S
SUMMARY:Kim & Christine vs. Katie & Sue
DESCRIPTION:Wednesday Beginning Mixed Doubles - Conejo Recreation and Park District
LOCATION:Rancho Conejo Pickleball Court #1
CATEGORIES:QuickScores, Pickleball Game
TRANSP:OPAQUE
BEGIN:VALARM
TRIGGER:-PT2H
ACTION:DISPLAY
DESCRIPTION:Kim & Christine vs. Katie & Sue
END:VALARM
END:VEVENT
BEGIN:VEVENT
UID:crpd-66918391-20250305T183000@quickscores.com
DTSTAMP:20260422T212200Z
DTSTART;TZID=America/Los_Angeles:20250305T183000
DURATION:PT0H45M0S
SUMMARY:Tamara & Ken vs. Michelle & Ken
DESCRIPTION:Wednesday Beginning Mixed Doubles - Conejo Recreation and Park District
LOCATION:Rancho Conejo Pickleball Court #3
CATEGORIES:QuickScores, Pickleball Game
TRANSP:OPAQUE
BEGIN:VALARM
TRIGGER:-PT2H
ACTION:DISPLAY
DESCRIPTION:Tamara & Ken vs. Michelle & Ken
END:VALARM
END:VEVENT
BEGIN:VEVENT
UID:crpd-66918389-20250305T183000@quickscores.com
DTSTAMP:20260422T212200Z
DTSTART;TZID=America/Los_Angeles:20250305T183000
DURATION:PT0H45M0S
SUMMARY:Candi & Chad vs. Amy & Steve
DESCRIPTION:Wednesday Beginning Mixed Doubles - Conejo Recreation and Park District
LOCATION:Rancho Conejo Pickleball Court #2
CATEGORIES:QuickScores, Pickleball Game
TRANSP:OPAQUE
BEGIN:VALARM
TRIGGER:-PT2H
ACTION:DISPLAY
DESCRIPTION:Candi & Chad vs. Amy & Steve
END:VALARM
END:VEVENT
BEGIN:VEVENT
UID:crpd-66918392-20250305T191500@quickscores.com
DTSTAMP:20260422T212200Z
DTSTART;TZID=America/Los_Angeles:20250305T191500
DURATION:PT0H45M0S
SUMMARY:Tamara & Ken vs. Kim & Christine
DESCRIPTION:Wednesday Beginning Mixed Doubles - Conejo Recreation and Park District
LOCATION:Rancho Conejo Pickleball Court #3
CATEGORIES:QuickScores, Pickleball Game
TRANSP:OPAQUE
BEGIN:VALARM
TRIGGER:-PT2H
ACTION:DISPLAY
DESCRIPTION:Tamara & Ken vs. Kim & Christine
END:VALARM
END:VEVENT
BEGIN:VEVENT
UID:crpd-66918390-20250305T191500@quickscores.com
DTSTAMP:20260422T212200Z
DTSTART;TZID=America/Los_Angeles:20250305T191500
DURATION:PT0H45M0S
SUMMARY:Michelle & Ken vs. Candi & Chad
DESCRIPTION:Wednesday Beginning Mixed Doubles - Conejo Recreation and Park District
LOCATION:Rancho Conejo Pickleball Court #2
CATEGORIES:QuickScores, Pickleball Game
TRANSP:OPAQUE
BEGIN:VALARM
TRIGGER:-PT2H
ACTION:DISPLAY
DESCRIPTION:Michelle & Ken vs. Candi & Chad
END:VALARM
END:VEVENT
BEGIN:VEVENT
UID:crpd-66918388-20250305T191500@quickscores.com
DTSTAMP:20260422T212200Z
DTSTART;TZID=America/Los_Angeles:20250305T191500
DURATION:PT0H45M0S
SUMMARY:Katie & Sue vs. Amy & Steve
DESCRIPTION:Wednesday Beginning Mixed Doubles - Conejo Recreation and Park District
LOCATION:Rancho Conejo Pickleball Court #1
CATEGORIES:QuickScores, Pickleball Game
TRANSP:OPAQUE
BEGIN:VALARM
TRIGGER:-PT2H
ACTION:DISPLAY
DESCRIPTION:Katie & Sue vs. Amy & Steve
END:VALARM
END:VEVENT
BEGIN:VEVENT
UID:crpd-66918394-20250312T183000@quickscores.com
DTSTAMP:20260422T212200Z
DTSTART;TZID=America/Los_Angeles:20250312T183000
DURATION:PT0H45M0S
SUMMARY:Katie & Sue vs. Tamara & Ken
DESCRIPTION:Wednesday Beginning Mixed Doubles - Conejo Recreation and Park District
LOCATION:Rancho Conejo Pickleball Court #2
CATEGORIES:QuickScores, Pickleball Game
TRANSP:OPAQUE
BEGIN:VALARM
TRIGGER:-PT2H
ACTION:DISPLAY
DESCRIPTION:Katie & Sue vs. Tamara & Ken
END:VALARM
END:VEVENT
BEGIN:VEVENT
UID:crpd-66918395-20250312T183000@quickscores.com
DTSTAMP:20260422T212200Z
DTSTART;TZID=America/Los_Angeles:20250312T183000
DURATION:PT0H45M0S
SUMMARY:Amy & Steve vs. Michelle & Ken
DESCRIPTION:Wednesday Beginning Mixed Doubles - Conejo Recreation and Park District
LOCATION:Rancho Conejo Pickleball Court #3
CATEGORIES:QuickScores, Pickleball Game
TRANSP:OPAQUE
BEGIN:VALARM
TRIGGER:-PT2H
ACTION:DISPLAY
DESCRIPTION:Amy & Steve vs. Michelle & Ken
END:VALARM
END:VEVENT
BEGIN:VEVENT
UID:crpd-66918393-20250312T183000@quickscores.com
DTSTAMP:20260422T212200Z
DTSTART;TZID=America/Los_Angeles:20250312T183000
DURATION:PT0H45M0S
SUMMARY:Kim & Christine vs. Candi & Chad
DESCRIPTION:Wednesday Beginning Mixed Doubles - Conejo Recreation and Park District
LOCATION:Rancho Conejo Pickleball Court #1
CATEGORIES:QuickScores, Pickleball Game
TRANSP:OPAQUE
BEGIN:VALARM
TRIGGER:-PT2H
ACTION:DISPLAY
DESCRIPTION:Kim & Christine vs. Candi & Chad
END:VALARM
END:VEVENT
BEGIN:VEVENT
UID:crpd-66918398-20250312T191500@quickscores.com
DTSTAMP:20260422T212200Z
DTSTART;TZID=America/Los_Angeles:20250312T191500
DURATION:PT0H45M0S
SUMMARY:Katie & Sue vs. Michelle & Ken
DESCRIPTION:Wednesday Beginning Mixed Doubles - Conejo Recreation and Park District
LOCATION:Rancho Conejo Pickleball Court #2
CATEGORIES:QuickScores, Pickleball Game
TRANSP:OPAQUE
BEGIN:VALARM
TRIGGER:-PT2H
ACTION:DISPLAY
DESCRIPTION:Katie & Sue vs. Michelle & Ken
END:VALARM
END:VEVENT
BEGIN:VEVENT
UID:crpd-66918397-20250312T191500@quickscores.com
DTSTAMP:20260422T212200Z
DTSTART;TZID=America/Los_Angeles:20250312T191500
DURATION:PT0H45M0S
SUMMARY:Candi & Chad vs. Tamara & Ken
DESCRIPTION:Wednesday Beginning Mixed Doubles - Conejo Recreation and Park District
LOCATION:Rancho Conejo Pickleball Court #1
CATEGORIES:QuickScores, Pickleball Game
TRANSP:OPAQUE
BEGIN:VALARM
TRIGGER:-PT2H
ACTION:DISPLAY
DESCRIPTION:Candi & Chad vs. Tamara & Ken
END:VALARM
END:VEVENT
BEGIN:VEVENT
UID:crpd-66918396-20250312T191500@quickscores.com
DTSTAMP:20260422T212200Z
DTSTART;TZID=America/Los_Angeles:20250312T191500
DURATION:PT0H45M0S
SUMMARY:Amy & Steve vs. Kim & Christine
DESCRIPTION:Wednesday Beginning Mixed Doubles - Conejo Recreation and Park District
LOCATION:Rancho Conejo Pickleball Court #3
CATEGORIES:QuickScores, Pickleball Game
TRANSP:OPAQUE
BEGIN:VALARM
TRIGGER:-PT2H
ACTION:DISPLAY
DESCRIPTION:Amy & Steve vs. Kim & Christine
END:VALARM
END:VEVENT
BEGIN:VEVENT
UID:crpd-66918352-20250319T183000@quickscores.com
DTSTAMP:20260422T212200Z
DTSTART;TZID=America/Los_Angeles:20250319T183000
DURATION:PT0H45M0S
SUMMARY:Tamara & Ken vs. Amy & Steve
DESCRIPTION:Wednesday Beginning Mixed Doubles - Conejo Recreation and Park District
LOCATION:Rancho Conejo Pickleball Court #3
CATEGORIES:QuickScores, Pickleball Game
TRANSP:OPAQUE
BEGIN:VALARM
TRIGGER:-PT2H
ACTION:DISPLAY
DESCRIPTION:Tamara & Ken vs. Amy & Steve
END:VALARM
END:VEVENT
BEGIN:VEVENT
UID:crpd-66918356-20250319T183000@quickscores.com
DTSTAMP:20260422T212200Z
DTSTART;TZID=America/Los_Angeles:20250319T183000
DURATION:PT0H45M0S
SUMMARY:Kim & Christine vs. Michelle & Ken
DESCRIPTION:Wednesday Beginning Mixed Doubles - Conejo Recreation and Park District
LOCATION:Rancho Conejo Pickleball Court #2
CATEGORIES:QuickScores, Pickleball Game
TRANSP:OPAQUE
BEGIN:VALARM
TRIGGER:-PT2H
ACTION:DISPLAY
DESCRIPTION:Kim & Christine vs. Michelle & Ken
END:VALARM
END:VEVENT
BEGIN:VEVENT
UID:crpd-66918354-20250319T183000@quickscores.com
DTSTAMP:20260422T212200Z
DTSTART;TZID=America/Los_Angeles:20250319T183000
DURATION:PT0H45M0S
SUMMARY:Candi & Chad vs. Katie & Sue
DESCRIPTION:Wednesday Beginning Mixed Doubles - Conejo Recreation and Park District
LOCATION:Rancho Conejo Pickleball Court #1
CATEGORIES:QuickScores, Pickleball Game
TRANSP:OPAQUE
BEGIN:VALARM
TRIGGER:-PT2H
ACTION:DISPLAY
DESCRIPTION:Candi & Chad vs. Katie & Sue
END:VALARM
END:VEVENT
BEGIN:VEVENT
UID:crpd-66918355-20250319T191500@quickscores.com
DTSTAMP:20260422T212200Z
DTSTART;TZID=America/Los_Angeles:20250319T191500
DURATION:PT0H45M0S
SUMMARY:Michelle & Ken vs. Katie & Sue
DESCRIPTION:Wednesday Beginning Mixed Doubles - Conejo Recreation and Park District
LOCATION:Rancho Conejo Pickleball Court #1
CATEGORIES:QuickScores, Pickleball Game
TRANSP:OPAQUE
BEGIN:VALARM
TRIGGER:-PT2H
ACTION:DISPLAY
DESCRIPTION:Michelle & Ken vs. Katie & Sue
END:VALARM
END:VEVENT
BEGIN:VEVENT
UID:crpd-66918353-20250319T191500@quickscores.com
DTSTAMP:20260422T212200Z
DTSTART;TZID=America/Los_Angeles:20250319T191500
DURATION:PT0H45M0S
SUMMARY:Tamara & Ken vs. Candi & Chad
DESCRIPTION:Wednesday Beginning Mixed Doubles - Conejo Recreation and Park District
LOCATION:Rancho Conejo Pickleball Court #3
CATEGORIES:QuickScores, Pickleball Game
TRANSP:OPAQUE
BEGIN:VALARM
TRIGGER:-PT2H
ACTION:DISPLAY
DESCRIPTION:Tamara & Ken vs. Candi & Chad
END:VALARM
END:VEVENT
BEGIN:VEVENT
UID:crpd-66918351-20250319T191500@quickscores.com
DTSTAMP:20260422T212200Z
DTSTART;TZID=America/Los_Angeles:20250319T191500
DURATION:PT0H45M0S
SUMMARY:Kim & Christine vs. Amy & Steve
DESCRIPTION:Wednesday Beginning Mixed Doubles - Conejo Recreation and Park District
LOCATION:Rancho Conejo Pickleball Court #2
CATEGORIES:QuickScores, Pickleball Game
TRANSP:OPAQUE
BEGIN:VALARM
TRIGGER:-PT2H
ACTION:DISPLAY
DESCRIPTION:Kim & Christine vs. Amy & Steve
END:VALARM
END:VEVENT
END:VCALENDAR
