BEGIN:VCALENDAR
VERSION:2.0
PRODID:-//QuickScores.com//BQ Dynamic iCal Creator//EN
METHOD:PUBLISH
X-WR-CALNAME:2026 Men&rsquo;s Volleyball  Ads Approved (1/10/25) - Spring 2026
X-WR-CALDESC:QuickScores game calendar
X-PUBLISHED-TTL:PT24H
REFRESH-INTERVAL;VALUE=DURATION:PT24H
CALSCALE:GREGORIAN
BEGIN:VTIMEZONE
TZID:America/New_York
X-LIC-LOCATION:America/New_York
BEGIN:DAYLIGHT
TZNAME:EDT
TZOFFSETFROM:-0500
TZOFFSETTO:-0400
DTSTART:19700308T020000
RRULE:FREQ=YEARLY;BYMONTH=3;BYDAY=2SU
END:DAYLIGHT
BEGIN:STANDARD
TZNAME:EST
TZOFFSETFROM:-0400
TZOFFSETTO:-0500
DTSTART:19701101T020000
RRULE:FREQ=YEARLY;BYMONTH=11;BYDAY=1SU
END:STANDARD
END:VTIMEZONE
BEGIN:VEVENT
UID:gnac-66646696-20260307@quickscores.com
DTSTAMP:20260422T040200Z
DTSTART;TZID=America/New_York:20260307
SUMMARY:Regis vs. Rivier
DESCRIPTION:2026 Men’s Volleyball  Ads Approved (1/10/25) - Great Northeast Athletic Conference
LOCATION:Regis Weston MA
CATEGORIES:QuickScores, Volleyball Game
TRANSP:OPAQUE
BEGIN:VALARM
TRIGGER:-PT2H
ACTION:DISPLAY
DESCRIPTION:Regis vs. Rivier
END:VALARM
END:VEVENT
BEGIN:VEVENT
UID:gnac-66646710-20260307@quickscores.com
DTSTAMP:20260422T040200Z
DTSTART;TZID=America/New_York:20260307
SUMMARY:Dean vs. Lasell
DESCRIPTION:2026 Men’s Volleyball  Ads Approved (1/10/25) - Great Northeast Athletic Conference
LOCATION:Franklin MA
CATEGORIES:QuickScores, Volleyball Game
TRANSP:OPAQUE
BEGIN:VALARM
TRIGGER:-PT2H
ACTION:DISPLAY
DESCRIPTION:Dean vs. Lasell
END:VALARM
END:VEVENT
BEGIN:VEVENT
UID:gnac-66646668-20260307@quickscores.com
DTSTAMP:20260422T040200Z
DTSTART;TZID=America/New_York:20260307
SUMMARY:Emmanuel vs. Wentworth
DESCRIPTION:2026 Men’s Volleyball  Ads Approved (1/10/25) - Great Northeast Athletic Conference
LOCATION:Jean Yawkey Center
CATEGORIES:QuickScores, Volleyball Game
TRANSP:OPAQUE
BEGIN:VALARM
TRIGGER:-PT2H
ACTION:DISPLAY
DESCRIPTION:Emmanuel vs. Wentworth
END:VALARM
END:VEVENT
BEGIN:VEVENT
UID:gnac-66646673-20260312@quickscores.com
DTSTAMP:20260422T040200Z
DTSTART;TZID=America/New_York:20260312
SUMMARY:Lasell vs. Wentworth
DESCRIPTION:2026 Men’s Volleyball  Ads Approved (1/10/25) - Great Northeast Athletic Conference
LOCATION:Lasell Newton
CATEGORIES:QuickScores, Volleyball Game
TRANSP:OPAQUE
BEGIN:VALARM
TRIGGER:-PT2H
ACTION:DISPLAY
DESCRIPTION:Lasell vs. Wentworth
END:VALARM
END:VEVENT
BEGIN:VEVENT
UID:gnac-66646694-20260312@quickscores.com
DTSTAMP:20260422T040200Z
DTSTART;TZID=America/New_York:20260312
SUMMARY:Emerson vs. Regis
DESCRIPTION:2026 Men’s Volleyball  Ads Approved (1/10/25) - Great Northeast Athletic Conference
LOCATION:Bobbi Brown and Steven Plofker Gym
CATEGORIES:QuickScores, Volleyball Game
TRANSP:OPAQUE
BEGIN:VALARM
TRIGGER:-PT2H
ACTION:DISPLAY
DESCRIPTION:Emerson vs. Regis
END:VALARM
END:VEVENT
BEGIN:VEVENT
UID:gnac-66646720-20260312@quickscores.com
DTSTAMP:20260422T040200Z
DTSTART;TZID=America/New_York:20260312
SUMMARY:Rivier vs. Elms
DESCRIPTION:2026 Men’s Volleyball  Ads Approved (1/10/25) - Great Northeast Athletic Conference
LOCATION:Nashua, NH
CATEGORIES:QuickScores, Volleyball Game
TRANSP:OPAQUE
BEGIN:VALARM
TRIGGER:-PT2H
ACTION:DISPLAY
DESCRIPTION:Rivier vs. Elms
END:VALARM
END:VEVENT
BEGIN:VEVENT
UID:gnac-66646708-20260312@quickscores.com
DTSTAMP:20260422T040200Z
DTSTART;TZID=America/New_York:20260312
SUMMARY:Dean vs. Emmanuel
DESCRIPTION:2026 Men’s Volleyball  Ads Approved (1/10/25) - Great Northeast Athletic Conference
LOCATION:Franklin MA
CATEGORIES:QuickScores, Volleyball Game
TRANSP:OPAQUE
BEGIN:VALARM
TRIGGER:-PT2H
ACTION:DISPLAY
DESCRIPTION:Dean vs. Emmanuel
END:VALARM
END:VEVENT
BEGIN:VEVENT
UID:gnac-66646669-20260314@quickscores.com
DTSTAMP:20260422T040200Z
DTSTART;TZID=America/New_York:20260314
SUMMARY:Emmanuel vs. Emerson
DESCRIPTION:2026 Men’s Volleyball  Ads Approved (1/10/25) - Great Northeast Athletic Conference
LOCATION:Jean Yawkey Center
CATEGORIES:QuickScores, Volleyball Game
TRANSP:OPAQUE
BEGIN:VALARM
TRIGGER:-PT2H
ACTION:DISPLAY
DESCRIPTION:Emmanuel vs. Emerson
END:VALARM
END:VEVENT
BEGIN:VEVENT
UID:gnac-66646697-20260314@quickscores.com
DTSTAMP:20260422T040200Z
DTSTART;TZID=America/New_York:20260314
SUMMARY:Wentworth vs. Rivier
DESCRIPTION:2026 Men’s Volleyball  Ads Approved (1/10/25) - Great Northeast Athletic Conference
LOCATION:Wentworth
CATEGORIES:QuickScores, Volleyball Game
TRANSP:OPAQUE
BEGIN:VALARM
TRIGGER:-PT2H
ACTION:DISPLAY
DESCRIPTION:Wentworth vs. Rivier
END:VALARM
END:VEVENT
BEGIN:VEVENT
UID:gnac-66646711-20260314@quickscores.com
DTSTAMP:20260422T040200Z
DTSTART;TZID=America/New_York:20260314
SUMMARY:Regis vs. Elms
DESCRIPTION:2026 Men’s Volleyball  Ads Approved (1/10/25) - Great Northeast Athletic Conference
LOCATION:Regis Weston MA
CATEGORIES:QuickScores, Volleyball Game
TRANSP:OPAQUE
BEGIN:VALARM
TRIGGER:-PT2H
ACTION:DISPLAY
DESCRIPTION:Regis vs. Elms
END:VALARM
END:VEVENT
BEGIN:VEVENT
UID:gnac-66646676-20260317@quickscores.com
DTSTAMP:20260422T040200Z
DTSTART;TZID=America/New_York:20260317
SUMMARY:Wentworth vs. Regis
DESCRIPTION:2026 Men’s Volleyball  Ads Approved (1/10/25) - Great Northeast Athletic Conference
LOCATION:Wentworth
CATEGORIES:QuickScores, Volleyball Game
TRANSP:OPAQUE
BEGIN:VALARM
TRIGGER:-PT2H
ACTION:DISPLAY
DESCRIPTION:Wentworth vs. Regis
END:VALARM
END:VEVENT
BEGIN:VEVENT
UID:gnac-66646703-20260317@quickscores.com
DTSTAMP:20260422T040200Z
DTSTART;TZID=America/New_York:20260317
SUMMARY:Elms vs. Lasell
DESCRIPTION:2026 Men’s Volleyball  Ads Approved (1/10/25) - Great Northeast Athletic Conference
LOCATION:Maguire Center
CATEGORIES:QuickScores, Volleyball Game
TRANSP:OPAQUE
BEGIN:VALARM
TRIGGER:-PT2H
ACTION:DISPLAY
DESCRIPTION:Elms vs. Lasell
END:VALARM
END:VEVENT
BEGIN:VEVENT
UID:gnac-66646678-20260317@quickscores.com
DTSTAMP:20260422T040200Z
DTSTART;TZID=America/New_York:20260317
SUMMARY:Rivier vs. Emerson
DESCRIPTION:2026 Men’s Volleyball  Ads Approved (1/10/25) - Great Northeast Athletic Conference
LOCATION:Nashua, NH
CATEGORIES:QuickScores, Volleyball Game
TRANSP:OPAQUE
BEGIN:VALARM
TRIGGER:-PT2H
ACTION:DISPLAY
DESCRIPTION:Rivier vs. Emerson
END:VALARM
END:VEVENT
BEGIN:VEVENT
UID:gnac-66646671-20260321@quickscores.com
DTSTAMP:20260422T040200Z
DTSTART;TZID=America/New_York:20260321
SUMMARY:Rivier vs. Lasell
DESCRIPTION:2026 Men’s Volleyball  Ads Approved (1/10/25) - Great Northeast Athletic Conference
LOCATION:Nashua, NH
CATEGORIES:QuickScores, Volleyball Game
TRANSP:OPAQUE
BEGIN:VALARM
TRIGGER:-PT2H
ACTION:DISPLAY
DESCRIPTION:Rivier vs. Lasell
END:VALARM
END:VEVENT
BEGIN:VEVENT
UID:gnac-66646712-20260321@quickscores.com
DTSTAMP:20260422T040200Z
DTSTART;TZID=America/New_York:20260321
SUMMARY:Elms vs. Wentworth
DESCRIPTION:2026 Men’s Volleyball  Ads Approved (1/10/25) - Great Northeast Athletic Conference
LOCATION:Maguire Center
CATEGORIES:QuickScores, Volleyball Game
TRANSP:OPAQUE
BEGIN:VALARM
TRIGGER:-PT2H
ACTION:DISPLAY
DESCRIPTION:Elms vs. Wentworth
END:VALARM
END:VEVENT
BEGIN:VEVENT
UID:gnac-66646704-20260321@quickscores.com
DTSTAMP:20260422T040200Z
DTSTART;TZID=America/New_York:20260321
SUMMARY:Emerson vs. Dean
DESCRIPTION:2026 Men’s Volleyball  Ads Approved (1/10/25) - Great Northeast Athletic Conference
LOCATION:Bobbi Brown and Steven Plofker Gym
CATEGORIES:QuickScores, Volleyball Game
TRANSP:OPAQUE
BEGIN:VALARM
TRIGGER:-PT2H
ACTION:DISPLAY
DESCRIPTION:Emerson vs. Dean
END:VALARM
END:VEVENT
BEGIN:VEVENT
UID:gnac-66646674-20260326@quickscores.com
DTSTAMP:20260422T040200Z
DTSTART;TZID=America/New_York:20260326
SUMMARY:Wentworth vs. Emerson
DESCRIPTION:2026 Men’s Volleyball  Ads Approved (1/10/25) - Great Northeast Athletic Conference
LOCATION:Wentworth
CATEGORIES:QuickScores, Volleyball Game
TRANSP:OPAQUE
BEGIN:VALARM
TRIGGER:-PT2H
ACTION:DISPLAY
DESCRIPTION:Wentworth vs. Emerson
END:VALARM
END:VEVENT
BEGIN:VEVENT
UID:gnac-66646664-20260326@quickscores.com
DTSTAMP:20260422T040200Z
DTSTART;TZID=America/New_York:20260326
SUMMARY:Lasell vs. Emmanuel
DESCRIPTION:2026 Men’s Volleyball  Ads Approved (1/10/25) - Great Northeast Athletic Conference
LOCATION:Lasell Newton
CATEGORIES:QuickScores, Volleyball Game
TRANSP:OPAQUE
BEGIN:VALARM
TRIGGER:-PT2H
ACTION:DISPLAY
DESCRIPTION:Lasell vs. Emmanuel
END:VALARM
END:VEVENT
BEGIN:VEVENT
UID:gnac-66646709-20260326@quickscores.com
DTSTAMP:20260422T040200Z
DTSTART;TZID=America/New_York:20260326
SUMMARY:Regis vs. Dean
DESCRIPTION:2026 Men’s Volleyball  Ads Approved (1/10/25) - Great Northeast Athletic Conference
LOCATION:Regis Weston MA
CATEGORIES:QuickScores, Volleyball Game
TRANSP:OPAQUE
BEGIN:VALARM
TRIGGER:-PT2H
ACTION:DISPLAY
DESCRIPTION:Regis vs. Dean
END:VALARM
END:VEVENT
BEGIN:VEVENT
UID:gnac-66646715-20260328@quickscores.com
DTSTAMP:20260422T040200Z
DTSTART;TZID=America/New_York:20260328
SUMMARY:Emmanuel vs. Regis
DESCRIPTION:2026 Men’s Volleyball  Ads Approved (1/10/25) - Great Northeast Athletic Conference
LOCATION:Jean Yawkey Center
CATEGORIES:QuickScores, Volleyball Game
TRANSP:OPAQUE
BEGIN:VALARM
TRIGGER:-PT2H
ACTION:DISPLAY
DESCRIPTION:Emmanuel vs. Regis
END:VALARM
END:VEVENT
BEGIN:VEVENT
UID:gnac-66646718-20260328@quickscores.com
DTSTAMP:20260422T040200Z
DTSTART;TZID=America/New_York:20260328
SUMMARY:Dean vs. Elms
DESCRIPTION:2026 Men’s Volleyball  Ads Approved (1/10/25) - Great Northeast Athletic Conference
LOCATION:Franklin MA
CATEGORIES:QuickScores, Volleyball Game
TRANSP:OPAQUE
BEGIN:VALARM
TRIGGER:-PT2H
ACTION:DISPLAY
DESCRIPTION:Dean vs. Elms
END:VALARM
END:VEVENT
BEGIN:VEVENT
UID:gnac-66646667-20260328@quickscores.com
DTSTAMP:20260422T040200Z
DTSTART;TZID=America/New_York:20260328
SUMMARY:Lasell vs. Emerson
DESCRIPTION:2026 Men’s Volleyball  Ads Approved (1/10/25) - Great Northeast Athletic Conference
LOCATION:Lasell Newton
CATEGORIES:QuickScores, Volleyball Game
TRANSP:OPAQUE
BEGIN:VALARM
TRIGGER:-PT2H
ACTION:DISPLAY
DESCRIPTION:Lasell vs. Emerson
END:VALARM
END:VEVENT
BEGIN:VEVENT
UID:gnac-66646717-20260331@quickscores.com
DTSTAMP:20260422T040200Z
DTSTART;TZID=America/New_York:20260331
SUMMARY:Emerson vs. Elms
DESCRIPTION:2026 Men’s Volleyball  Ads Approved (1/10/25) - Great Northeast Athletic Conference
LOCATION:Bobbi Brown and Steven Plofker Gym
CATEGORIES:QuickScores, Volleyball Game
TRANSP:OPAQUE
BEGIN:VALARM
TRIGGER:-PT2H
ACTION:DISPLAY
DESCRIPTION:Emerson vs. Elms
END:VALARM
END:VEVENT
BEGIN:VEVENT
UID:gnac-66646679-20260331@quickscores.com
DTSTAMP:20260422T040200Z
DTSTART;TZID=America/New_York:20260331
SUMMARY:Emmanuel vs. Rivier
DESCRIPTION:2026 Men’s Volleyball  Ads Approved (1/10/25) - Great Northeast Athletic Conference
LOCATION:Jean Yawkey Center
CATEGORIES:QuickScores, Volleyball Game
TRANSP:OPAQUE
BEGIN:VALARM
TRIGGER:-PT2H
ACTION:DISPLAY
DESCRIPTION:Emmanuel vs. Rivier
END:VALARM
END:VEVENT
BEGIN:VEVENT
UID:gnac-66646706-20260331@quickscores.com
DTSTAMP:20260422T040200Z
DTSTART;TZID=America/New_York:20260331
SUMMARY:Dean vs. Wentworth
DESCRIPTION:2026 Men’s Volleyball  Ads Approved (1/10/25) - Great Northeast Athletic Conference
LOCATION:Franklin MA
CATEGORIES:QuickScores, Volleyball Game
TRANSP:OPAQUE
BEGIN:VALARM
TRIGGER:-PT2H
ACTION:DISPLAY
DESCRIPTION:Dean vs. Wentworth
END:VALARM
END:VEVENT
BEGIN:VEVENT
UID:gnac-66646670-20260404@quickscores.com
DTSTAMP:20260422T040200Z
DTSTART;TZID=America/New_York:20260404
SUMMARY:Elms vs. Emmanuel
DESCRIPTION:2026 Men’s Volleyball  Ads Approved (1/10/25) - Great Northeast Athletic Conference
LOCATION:Maguire Center
CATEGORIES:QuickScores, Volleyball Game
TRANSP:OPAQUE
BEGIN:VALARM
TRIGGER:-PT2H
ACTION:DISPLAY
DESCRIPTION:Elms vs. Emmanuel
END:VALARM
END:VEVENT
BEGIN:VEVENT
UID:gnac-66646701-20260404@quickscores.com
DTSTAMP:20260422T040200Z
DTSTART;TZID=America/New_York:20260404
SUMMARY:Regis vs. Lasell
DESCRIPTION:2026 Men’s Volleyball  Ads Approved (1/10/25) - Great Northeast Athletic Conference
LOCATION:Regis Weston MA
CATEGORIES:QuickScores, Volleyball Game
TRANSP:OPAQUE
BEGIN:VALARM
TRIGGER:-PT2H
ACTION:DISPLAY
DESCRIPTION:Regis vs. Lasell
END:VALARM
END:VEVENT
BEGIN:VEVENT
UID:gnac-66646699-20260404@quickscores.com
DTSTAMP:20260422T040200Z
DTSTART;TZID=America/New_York:20260404
SUMMARY:Rivier vs. Dean
DESCRIPTION:2026 Men’s Volleyball  Ads Approved (1/10/25) - Great Northeast Athletic Conference
LOCATION:Nashua, NH
CATEGORIES:QuickScores, Volleyball Game
TRANSP:OPAQUE
BEGIN:VALARM
TRIGGER:-PT2H
ACTION:DISPLAY
DESCRIPTION:Rivier vs. Dean
END:VALARM
END:VEVENT
BEGIN:VEVENT
UID:gnac-66646685-20260407@quickscores.com
DTSTAMP:20260422T040200Z
DTSTART;TZID=America/New_York:20260407
SUMMARY:#3 Seed vs. #6 Seed
DESCRIPTION:2026 Men’s Volleyball  Ads Approved (1/10/25) - Great Northeast Athletic Conference
LOCATION:Court of #3 seed
CATEGORIES:QuickScores, Volleyball Game
TRANSP:OPAQUE
BEGIN:VALARM
TRIGGER:-PT2H
ACTION:DISPLAY
DESCRIPTION:#3 Seed vs. #6 Seed
END:VALARM
END:VEVENT
BEGIN:VEVENT
UID:gnac-66646686-20260407@quickscores.com
DTSTAMP:20260422T040200Z
DTSTART;TZID=America/New_York:20260407
SUMMARY:#4 Seed vs. #5 Seed
DESCRIPTION:2026 Men’s Volleyball  Ads Approved (1/10/25) - Great Northeast Athletic Conference
LOCATION:Court of #4 seed
CATEGORIES:QuickScores, Volleyball Game
TRANSP:OPAQUE
BEGIN:VALARM
TRIGGER:-PT2H
ACTION:DISPLAY
DESCRIPTION:#4 Seed vs. #5 Seed
END:VALARM
END:VEVENT
BEGIN:VEVENT
UID:gnac-66646681-20260409@quickscores.com
DTSTAMP:20260422T040200Z
DTSTART;TZID=America/New_York:20260409
SUMMARY:#1 Seed vs. Winner of Game 1
DESCRIPTION:2026 Men’s Volleyball  Ads Approved (1/10/25) - Great Northeast Athletic Conference
LOCATION:Court of #1 seed
CATEGORIES:QuickScores, Volleyball Game
TRANSP:OPAQUE
BEGIN:VALARM
TRIGGER:-PT2H
ACTION:DISPLAY
DESCRIPTION:#1 Seed vs. Winner of Game 1
END:VALARM
END:VEVENT
BEGIN:VEVENT
UID:gnac-66646682-20260409@quickscores.com
DTSTAMP:20260422T040200Z
DTSTART;TZID=America/New_York:20260409
SUMMARY:#2 Seed vs. Winner of Game 2
DESCRIPTION:2026 Men’s Volleyball  Ads Approved (1/10/25) - Great Northeast Athletic Conference
LOCATION:Court of #2 seed
CATEGORIES:QuickScores, Volleyball Game
TRANSP:OPAQUE
BEGIN:VALARM
TRIGGER:-PT2H
ACTION:DISPLAY
DESCRIPTION:#2 Seed vs. Winner of Game 2
END:VALARM
END:VEVENT
BEGIN:VEVENT
UID:gnac-66646683-20260411@quickscores.com
DTSTAMP:20260422T040200Z
DTSTART;TZID=America/New_York:20260411
SUMMARY:Winner of Game 3 vs. Winner of Game 4
DESCRIPTION:2026 Men’s Volleyball  Ads Approved (1/10/25) - Great Northeast Athletic Conference
LOCATION:Hosted by highest remaining seed
CATEGORIES:QuickScores, Volleyball Game
TRANSP:OPAQUE
BEGIN:VALARM
TRIGGER:-PT2H
ACTION:DISPLAY
DESCRIPTION:Winner of Game 3 vs. Winner of Game 4
END:VALARM
END:VEVENT
END:VCALENDAR
