BEGIN:VCALENDAR
VERSION:2.0
PRODID:-//QuickScores.com//BQ Dynamic iCal Creator//EN
METHOD:PUBLISH
X-WR-CALNAME:Broomball 2025 - Winter 2024-2025
X-WR-CALDESC:QuickScores game calendar
X-PUBLISHED-TTL:PT24H
REFRESH-INTERVAL;VALUE=DURATION:PT24H
CALSCALE:GREGORIAN
BEGIN:VTIMEZONE
TZID:America/Denver
X-LIC-LOCATION:America/Denver
BEGIN:DAYLIGHT
TZNAME:MDT
TZOFFSETFROM:-0700
TZOFFSETTO:-0600
DTSTART:19700308T020000
RRULE:FREQ=YEARLY;BYMONTH=3;BYDAY=2SU
END:DAYLIGHT
BEGIN:STANDARD
TZNAME:MST
TZOFFSETFROM:-0600
TZOFFSETTO:-0700
DTSTART:19701101T020000
RRULE:FREQ=YEARLY;BYMONTH=11;BYDAY=1SU
END:STANDARD
END:VTIMEZONE
BEGIN:VEVENT
UID:carbondalerec-72426060-20250108T180000@quickscores.com
DTSTAMP:20260421T044000Z
DTSTART;TZID=America/Denver:20250108T180000
DURATION:PT1H0M0S
SUMMARY:Sweep Dreams vs. Baker and the Cakes on Ice
DESCRIPTION:Broomball 2025 - Carbondale Parks and Recreation
LOCATION:Gus Darien Ice Arena
CATEGORIES:QuickScores, Broomball Game
TRANSP:OPAQUE
BEGIN:VALARM
TRIGGER:-PT2H
ACTION:DISPLAY
DESCRIPTION:Sweep Dreams vs. Baker and the Cakes on Ice
END:VALARM
END:VEVENT
BEGIN:VEVENT
UID:carbondalerec-72426059-20250108T190000@quickscores.com
DTSTAMP:20260421T044000Z
DTSTART;TZID=America/Denver:20250108T190000
DURATION:PT1H0M0S
SUMMARY:Broom Pirates vs. Off on the Ice
DESCRIPTION:Broomball 2025 - Carbondale Parks and Recreation
LOCATION:Gus Darien Ice Arena
CATEGORIES:QuickScores, Broomball Game
TRANSP:OPAQUE
BEGIN:VALARM
TRIGGER:-PT2H
ACTION:DISPLAY
DESCRIPTION:Broom Pirates vs. Off on the Ice
END:VALARM
END:VEVENT
BEGIN:VEVENT
UID:carbondalerec-72426061-20250108T200000@quickscores.com
DTSTAMP:20260421T044000Z
DTSTART;TZID=America/Denver:20250108T200000
DURATION:PT1H0M0S
SUMMARY:RVR HOA vs. Team Orange
DESCRIPTION:Broomball 2025 - Carbondale Parks and Recreation
LOCATION:Gus Darien Ice Arena
CATEGORIES:QuickScores, Broomball Game
TRANSP:OPAQUE
BEGIN:VALARM
TRIGGER:-PT2H
ACTION:DISPLAY
DESCRIPTION:RVR HOA vs. Team Orange
END:VALARM
END:VEVENT
BEGIN:VEVENT
UID:carbondalerec-72426062-20250115T180000@quickscores.com
DTSTAMP:20260421T044000Z
DTSTART;TZID=America/Denver:20250115T180000
DURATION:PT1H0M0S
SUMMARY:Off on the Ice vs. Baker and the Cakes on Ice
DESCRIPTION:Broomball 2025 - Carbondale Parks and Recreation
LOCATION:Gus Darien Ice Arena
CATEGORIES:QuickScores, Broomball Game
TRANSP:OPAQUE
BEGIN:VALARM
TRIGGER:-PT2H
ACTION:DISPLAY
DESCRIPTION:Off on the Ice vs. Baker and the Cakes on Ice
END:VALARM
END:VEVENT
BEGIN:VEVENT
UID:carbondalerec-72426064-20250115T190000@quickscores.com
DTSTAMP:20260421T044000Z
DTSTART;TZID=America/Denver:20250115T190000
DURATION:PT1H0M0S
SUMMARY:RVR HOA vs. Sweep Dreams
DESCRIPTION:Broomball 2025 - Carbondale Parks and Recreation
LOCATION:Gus Darien Ice Arena
CATEGORIES:QuickScores, Broomball Game
TRANSP:OPAQUE
BEGIN:VALARM
TRIGGER:-PT2H
ACTION:DISPLAY
DESCRIPTION:RVR HOA vs. Sweep Dreams
END:VALARM
END:VEVENT
BEGIN:VEVENT
UID:carbondalerec-72426063-20250115T200000@quickscores.com
DTSTAMP:20260421T044000Z
DTSTART;TZID=America/Denver:20250115T200000
DURATION:PT1H0M0S
SUMMARY:Team Orange vs. Broom Pirates
DESCRIPTION:Broomball 2025 - Carbondale Parks and Recreation
LOCATION:Gus Darien Ice Arena
CATEGORIES:QuickScores, Broomball Game
TRANSP:OPAQUE
BEGIN:VALARM
TRIGGER:-PT2H
ACTION:DISPLAY
DESCRIPTION:Team Orange vs. Broom Pirates
END:VALARM
END:VEVENT
BEGIN:VEVENT
UID:carbondalerec-72426066-20250122T180000@quickscores.com
DTSTAMP:20260421T044000Z
DTSTART;TZID=America/Denver:20250122T180000
DURATION:PT1H0M0S
SUMMARY:Broom Pirates vs. RVR HOA
DESCRIPTION:Broomball 2025 - Carbondale Parks and Recreation
LOCATION:Gus Darien Ice Arena
CATEGORIES:QuickScores, Broomball Game
TRANSP:OPAQUE
BEGIN:VALARM
TRIGGER:-PT2H
ACTION:DISPLAY
DESCRIPTION:Broom Pirates vs. RVR HOA
END:VALARM
END:VEVENT
BEGIN:VEVENT
UID:carbondalerec-72426067-20250122T190000@quickscores.com
DTSTAMP:20260421T044000Z
DTSTART;TZID=America/Denver:20250122T190000
DURATION:PT1H0M0S
SUMMARY:Team Orange vs. Baker and the Cakes on Ice
DESCRIPTION:Broomball 2025 - Carbondale Parks and Recreation
LOCATION:Gus Darien Ice Arena
CATEGORIES:QuickScores, Broomball Game
TRANSP:OPAQUE
BEGIN:VALARM
TRIGGER:-PT2H
ACTION:DISPLAY
DESCRIPTION:Team Orange vs. Baker and the Cakes on Ice
END:VALARM
END:VEVENT
BEGIN:VEVENT
UID:carbondalerec-72426065-20250122T200000@quickscores.com
DTSTAMP:20260421T044000Z
DTSTART;TZID=America/Denver:20250122T200000
DURATION:PT1H0M0S
SUMMARY:Off on the Ice vs. Sweep Dreams
DESCRIPTION:Broomball 2025 - Carbondale Parks and Recreation
LOCATION:Gus Darien Ice Arena
CATEGORIES:QuickScores, Broomball Game
TRANSP:OPAQUE
BEGIN:VALARM
TRIGGER:-PT2H
ACTION:DISPLAY
DESCRIPTION:Off on the Ice vs. Sweep Dreams
END:VALARM
END:VEVENT
BEGIN:VEVENT
UID:carbondalerec-72426068-20250129T180000@quickscores.com
DTSTAMP:20260421T044000Z
DTSTART;TZID=America/Denver:20250129T180000
DURATION:PT1H0M0S
SUMMARY:Team Orange vs. Off on the Ice
DESCRIPTION:Broomball 2025 - Carbondale Parks and Recreation
LOCATION:Gus Darien Ice Arena
CATEGORIES:QuickScores, Broomball Game
TRANSP:OPAQUE
BEGIN:VALARM
TRIGGER:-PT2H
ACTION:DISPLAY
DESCRIPTION:Team Orange vs. Off on the Ice
END:VALARM
END:VEVENT
BEGIN:VEVENT
UID:carbondalerec-72426070-20250129T190000@quickscores.com
DTSTAMP:20260421T044000Z
DTSTART;TZID=America/Denver:20250129T190000
DURATION:PT1H0M0S
SUMMARY:Sweep Dreams vs. Broom Pirates
DESCRIPTION:Broomball 2025 - Carbondale Parks and Recreation
LOCATION:Gus Darien Ice Arena
CATEGORIES:QuickScores, Broomball Game
TRANSP:OPAQUE
BEGIN:VALARM
TRIGGER:-PT2H
ACTION:DISPLAY
DESCRIPTION:Sweep Dreams vs. Broom Pirates
END:VALARM
END:VEVENT
BEGIN:VEVENT
UID:carbondalerec-72426069-20250129T200000@quickscores.com
DTSTAMP:20260421T044000Z
DTSTART;TZID=America/Denver:20250129T200000
DURATION:PT1H0M0S
SUMMARY:Baker and the Cakes on Ice vs. RVR HOA
DESCRIPTION:Broomball 2025 - Carbondale Parks and Recreation
LOCATION:Gus Darien Ice Arena
CATEGORIES:QuickScores, Broomball Game
TRANSP:OPAQUE
BEGIN:VALARM
TRIGGER:-PT2H
ACTION:DISPLAY
DESCRIPTION:Baker and the Cakes on Ice vs. RVR HOA
END:VALARM
END:VEVENT
BEGIN:VEVENT
UID:carbondalerec-72426072-20250205T180000@quickscores.com
DTSTAMP:20260421T044000Z
DTSTART;TZID=America/Denver:20250205T180000
DURATION:PT1H0M0S
SUMMARY:Sweep Dreams vs. Team Orange
DESCRIPTION:Broomball 2025 - Carbondale Parks and Recreation
LOCATION:Gus Darien Ice Arena
CATEGORIES:QuickScores, Broomball Game
TRANSP:OPAQUE
BEGIN:VALARM
TRIGGER:-PT2H
ACTION:DISPLAY
DESCRIPTION:Sweep Dreams vs. Team Orange
END:VALARM
END:VEVENT
BEGIN:VEVENT
UID:carbondalerec-72426071-20250205T190000@quickscores.com
DTSTAMP:20260421T044000Z
DTSTART;TZID=America/Denver:20250205T190000
DURATION:PT1H0M0S
SUMMARY:RVR HOA vs. Off on the Ice
DESCRIPTION:Broomball 2025 - Carbondale Parks and Recreation
LOCATION:Gus Darien Ice Arena
CATEGORIES:QuickScores, Broomball Game
TRANSP:OPAQUE
BEGIN:VALARM
TRIGGER:-PT2H
ACTION:DISPLAY
DESCRIPTION:RVR HOA vs. Off on the Ice
END:VALARM
END:VEVENT
BEGIN:VEVENT
UID:carbondalerec-72426073-20250205T200000@quickscores.com
DTSTAMP:20260421T044000Z
DTSTART;TZID=America/Denver:20250205T200000
DURATION:PT1H0M0S
SUMMARY:Baker and the Cakes on Ice vs. Broom Pirates
DESCRIPTION:Broomball 2025 - Carbondale Parks and Recreation
LOCATION:Gus Darien Ice Arena
CATEGORIES:QuickScores, Broomball Game
TRANSP:OPAQUE
BEGIN:VALARM
TRIGGER:-PT2H
ACTION:DISPLAY
DESCRIPTION:Baker and the Cakes on Ice vs. Broom Pirates
END:VALARM
END:VEVENT
END:VCALENDAR
