BEGIN:VCALENDAR
VERSION:2.0
PRODID:-//QuickScores.com//BQ Dynamic iCal Creator//EN
METHOD:PUBLISH
X-WR-CALNAME:Men 65 Aaa - 2025 ISSA/WBSC World Tournament of Champions
X-WR-CALDESC:QuickScores game calendar
X-PUBLISHED-TTL:PT24H
REFRESH-INTERVAL;VALUE=DURATION:PT24H
CALSCALE:GREGORIAN
BEGIN:VTIMEZONE
TZID:America/New_York
X-LIC-LOCATION:America/New_York
BEGIN:DAYLIGHT
TZNAME:EDT
TZOFFSETFROM:-0500
TZOFFSETTO:-0400
DTSTART:19700308T020000
RRULE:FREQ=YEARLY;BYMONTH=3;BYDAY=2SU
END:DAYLIGHT
BEGIN:STANDARD
TZNAME:EST
TZOFFSETFROM:-0400
TZOFFSETTO:-0500
DTSTART:19701101T020000
RRULE:FREQ=YEARLY;BYMONTH=11;BYDAY=1SU
END:STANDARD
END:VTIMEZONE
BEGIN:VEVENT
UID:issa-66610946-20250128T090000@quickscores.com
DTSTAMP:20260423T075100Z
DTSTART;TZID=America/New_York:20250128T090000
DURATION:PT1H30M0S
SUMMARY:Steve Levin 65 vs. The Starboard
DESCRIPTION:Men 65 Aaa - International Senior Softball Association<br>ISSA
LOCATION:OPSC 1
CATEGORIES:QuickScores, Softball Game
TRANSP:OPAQUE
BEGIN:VALARM
TRIGGER:-PT2H
ACTION:DISPLAY
DESCRIPTION:Steve Levin 65 vs. The Starboard
END:VALARM
END:VEVENT
BEGIN:VEVENT
UID:issa-66610949-20250128T090000@quickscores.com
DTSTAMP:20260423T075100Z
DTSTART;TZID=America/New_York:20250128T090000
DURATION:PT1H30M0S
SUMMARY:Great Lakes Tornadoes vs. GAS
DESCRIPTION:Men 65 Aaa - International Senior Softball Association<br>ISSA
LOCATION:OPSC 2
CATEGORIES:QuickScores, Softball Game
TRANSP:OPAQUE
BEGIN:VALARM
TRIGGER:-PT2H
ACTION:DISPLAY
DESCRIPTION:Great Lakes Tornadoes vs. GAS
END:VALARM
END:VEVENT
BEGIN:VEVENT
UID:issa-66610950-20250128T103000@quickscores.com
DTSTAMP:20260423T075100Z
DTSTART;TZID=America/New_York:20250128T103000
DURATION:PT1H30M0S
SUMMARY:Steel Town 65 vs. Great Lakes Tornadoes
DESCRIPTION:Men 65 Aaa - International Senior Softball Association<br>ISSA
LOCATION:OPSC 2
CATEGORIES:QuickScores, Softball Game
TRANSP:OPAQUE
BEGIN:VALARM
TRIGGER:-PT2H
ACTION:DISPLAY
DESCRIPTION:Steel Town 65 vs. Great Lakes Tornadoes
END:VALARM
END:VEVENT
BEGIN:VEVENT
UID:issa-66610952-20250128T103000@quickscores.com
DTSTAMP:20260423T075100Z
DTSTART;TZID=America/New_York:20250128T103000
DURATION:PT1H30M0S
SUMMARY:The Starboard vs. Vecter Scorpions 65
DESCRIPTION:Men 65 Aaa - International Senior Softball Association<br>ISSA
LOCATION:OPSC 1
CATEGORIES:QuickScores, Softball Game
TRANSP:OPAQUE
BEGIN:VALARM
TRIGGER:-PT2H
ACTION:DISPLAY
DESCRIPTION:The Starboard vs. Vecter Scorpions 65
END:VALARM
END:VEVENT
BEGIN:VEVENT
UID:issa-66610954-20250128T103000@quickscores.com
DTSTAMP:20260423T075100Z
DTSTART;TZID=America/New_York:20250128T103000
DURATION:PT1H30M0S
SUMMARY:Northern Virginia Force 65s vs. JERSEY BOYS
DESCRIPTION:Men 65 Aaa - International Senior Softball Association<br>ISSA
LOCATION:OPSC 4
CATEGORIES:QuickScores, Softball Game
TRANSP:OPAQUE
BEGIN:VALARM
TRIGGER:-PT2H
ACTION:DISPLAY
DESCRIPTION:Northern Virginia Force 65s vs. JERSEY BOYS
END:VALARM
END:VEVENT
BEGIN:VEVENT
UID:issa-66610951-20250128T120000@quickscores.com
DTSTAMP:20260423T075100Z
DTSTART;TZID=America/New_York:20250128T120000
DURATION:PT1H30M0S
SUMMARY:SFS vs. Steve Levin 65
DESCRIPTION:Men 65 Aaa - International Senior Softball Association<br>ISSA
LOCATION:OPSC 1
CATEGORIES:QuickScores, Softball Game
TRANSP:OPAQUE
BEGIN:VALARM
TRIGGER:-PT2H
ACTION:DISPLAY
DESCRIPTION:SFS vs. Steve Levin 65
END:VALARM
END:VEVENT
BEGIN:VEVENT
UID:issa-66610948-20250128T120000@quickscores.com
DTSTAMP:20260423T075100Z
DTSTART;TZID=America/New_York:20250128T120000
DURATION:PT1H30M0S
SUMMARY:Myrtle Beach Coyotes vs. Northern Virginia Force 65s
DESCRIPTION:Men 65 Aaa - International Senior Softball Association<br>ISSA
LOCATION:OPSC 4
CATEGORIES:QuickScores, Softball Game
TRANSP:OPAQUE
BEGIN:VALARM
TRIGGER:-PT2H
ACTION:DISPLAY
DESCRIPTION:Myrtle Beach Coyotes vs. Northern Virginia Force 65s
END:VALARM
END:VEVENT
BEGIN:VEVENT
UID:issa-66610955-20250128T120000@quickscores.com
DTSTAMP:20260423T075100Z
DTSTART;TZID=America/New_York:20250128T120000
DURATION:PT1H30M0S
SUMMARY:GAS vs. Claremont Property Co.
DESCRIPTION:Men 65 Aaa - International Senior Softball Association<br>ISSA
LOCATION:OPSC 2
CATEGORIES:QuickScores, Softball Game
TRANSP:OPAQUE
BEGIN:VALARM
TRIGGER:-PT2H
ACTION:DISPLAY
DESCRIPTION:GAS vs. Claremont Property Co.
END:VALARM
END:VEVENT
BEGIN:VEVENT
UID:issa-66610956-20250128T133000@quickscores.com
DTSTAMP:20260423T075100Z
DTSTART;TZID=America/New_York:20250128T133000
DURATION:PT1H30M0S
SUMMARY:Claremont Property Co. vs. Steel Town 65
DESCRIPTION:Men 65 Aaa - International Senior Softball Association<br>ISSA
LOCATION:OPSC 2
CATEGORIES:QuickScores, Softball Game
TRANSP:OPAQUE
BEGIN:VALARM
TRIGGER:-PT2H
ACTION:DISPLAY
DESCRIPTION:Claremont Property Co. vs. Steel Town 65
END:VALARM
END:VEVENT
BEGIN:VEVENT
UID:issa-66610945-20250128T133000@quickscores.com
DTSTAMP:20260423T075100Z
DTSTART;TZID=America/New_York:20250128T133000
DURATION:PT1H30M0S
SUMMARY:Vecter Scorpions 65 vs. SFS
DESCRIPTION:Men 65 Aaa - International Senior Softball Association<br>ISSA
LOCATION:OPSC 1
CATEGORIES:QuickScores, Softball Game
TRANSP:OPAQUE
BEGIN:VALARM
TRIGGER:-PT2H
ACTION:DISPLAY
DESCRIPTION:Vecter Scorpions 65 vs. SFS
END:VALARM
END:VEVENT
BEGIN:VEVENT
UID:issa-66610947-20250128T133000@quickscores.com
DTSTAMP:20260423T075100Z
DTSTART;TZID=America/New_York:20250128T133000
DURATION:PT1H30M0S
SUMMARY:JERSEY BOYS vs. Myrtle Beach Coyotes
DESCRIPTION:Men 65 Aaa - International Senior Softball Association<br>ISSA
LOCATION:OPSC 4
CATEGORIES:QuickScores, Softball Game
TRANSP:OPAQUE
BEGIN:VALARM
TRIGGER:-PT2H
ACTION:DISPLAY
DESCRIPTION:JERSEY BOYS vs. Myrtle Beach Coyotes
END:VALARM
END:VEVENT
BEGIN:VEVENT
UID:issa-66611093-20250129T083000@quickscores.com
DTSTAMP:20260423T075100Z
DTSTART;TZID=America/New_York:20250129T083000
DURATION:PT1H30M0S
SUMMARY:[C2] Steel Town 65 vs. [B2] Myrtle Beach Coyotes
DESCRIPTION:Men 65 Aaa - International Senior Softball Association<br>ISSA
LOCATION:OPSC 1
CATEGORIES:QuickScores, Softball Game
TRANSP:OPAQUE
BEGIN:VALARM
TRIGGER:-PT2H
ACTION:DISPLAY
DESCRIPTION:[C2] Steel Town 65 vs. [B2] Myrtle Beach Coyotes
END:VALARM
END:VEVENT
BEGIN:VEVENT
UID:issa-66611089-20250129T083000@quickscores.com
DTSTAMP:20260423T075100Z
DTSTART;TZID=America/New_York:20250129T083000
DURATION:PT1H30M0S
SUMMARY:[A3] The Starboard vs. [C4] Great Lakes Tornadoes
DESCRIPTION:Men 65 Aaa - International Senior Softball Association<br>ISSA
LOCATION:OPSC 2
CATEGORIES:QuickScores, Softball Game
TRANSP:OPAQUE
BEGIN:VALARM
TRIGGER:-PT2H
ACTION:DISPLAY
DESCRIPTION:[A3] The Starboard vs. [C4] Great Lakes Tornadoes
END:VALARM
END:VEVENT
BEGIN:VEVENT
UID:issa-66611091-20250129T100000@quickscores.com
DTSTAMP:20260423T075100Z
DTSTART;TZID=America/New_York:20250129T100000
DURATION:PT1H30M0S
SUMMARY:[A2] SFS vs. [A4] Steve Levin 65
DESCRIPTION:Men 65 Aaa - International Senior Softball Association<br>ISSA
LOCATION:OPSC 4
CATEGORIES:QuickScores, Softball Game
TRANSP:OPAQUE
BEGIN:VALARM
TRIGGER:-PT2H
ACTION:DISPLAY
DESCRIPTION:[A2] SFS vs. [A4] Steve Levin 65
END:VALARM
END:VEVENT
BEGIN:VEVENT
UID:issa-66611085-20250129T100000@quickscores.com
DTSTAMP:20260423T075100Z
DTSTART;TZID=America/New_York:20250129T100000
DURATION:PT1H30M0S
SUMMARY:[B3] Northern Virginia Force 65s vs. [C3] GAS
DESCRIPTION:Men 65 Aaa - International Senior Softball Association<br>ISSA
LOCATION:OPSC 1
CATEGORIES:QuickScores, Softball Game
TRANSP:OPAQUE
BEGIN:VALARM
TRIGGER:-PT2H
ACTION:DISPLAY
DESCRIPTION:[B3] Northern Virginia Force 65s vs. [C3] GAS
END:VALARM
END:VEVENT
BEGIN:VEVENT
UID:issa-66611094-20250129T100000@quickscores.com
DTSTAMP:20260423T075100Z
DTSTART;TZID=America/New_York:20250129T100000
DURATION:PT1H30M0S
SUMMARY:[B1] JERSEY BOYS vs. Winner of Game 2
DESCRIPTION:Men 65 Aaa - International Senior Softball Association<br>ISSA
LOCATION:OPSC 2
CATEGORIES:QuickScores, Softball Game
TRANSP:OPAQUE
BEGIN:VALARM
TRIGGER:-PT2H
ACTION:DISPLAY
DESCRIPTION:[B1] JERSEY BOYS vs. Winner of Game 2
END:VALARM
END:VEVENT
BEGIN:VEVENT
UID:issa-66611092-20250129T113000@quickscores.com
DTSTAMP:20260423T075100Z
DTSTART;TZID=America/New_York:20250129T113000
DURATION:PT1H30M0S
SUMMARY:[A1] Vecter Scorpions 65 vs. Winner of Game 1
DESCRIPTION:Men 65 Aaa - International Senior Softball Association<br>ISSA
LOCATION:OPSC 1
CATEGORIES:QuickScores, Softball Game
TRANSP:OPAQUE
BEGIN:VALARM
TRIGGER:-PT2H
ACTION:DISPLAY
DESCRIPTION:[A1] Vecter Scorpions 65 vs. Winner of Game 1
END:VALARM
END:VEVENT
BEGIN:VEVENT
UID:issa-66611095-20250129T113000@quickscores.com
DTSTAMP:20260423T075100Z
DTSTART;TZID=America/New_York:20250129T113000
DURATION:PT1H30M0S
SUMMARY:[C1] Claremont Property Co. vs. Winner of Game 3
DESCRIPTION:Men 65 Aaa - International Senior Softball Association<br>ISSA
LOCATION:OPSC 4
CATEGORIES:QuickScores, Softball Game
TRANSP:OPAQUE
BEGIN:VALARM
TRIGGER:-PT2H
ACTION:DISPLAY
DESCRIPTION:[C1] Claremont Property Co. vs. Winner of Game 3
END:VALARM
END:VEVENT
BEGIN:VEVENT
UID:issa-66611102-20250129T113000@quickscores.com
DTSTAMP:20260423T075100Z
DTSTART;TZID=America/New_York:20250129T113000
DURATION:PT1H30M0S
SUMMARY:Loser of Game 4 vs. Loser of Game 2
DESCRIPTION:Men 65 Aaa - International Senior Softball Association<br>ISSA
LOCATION:OPSC 2
CATEGORIES:QuickScores, Softball Game
TRANSP:OPAQUE
BEGIN:VALARM
TRIGGER:-PT2H
ACTION:DISPLAY
DESCRIPTION:Loser of Game 4 vs. Loser of Game 2
END:VALARM
END:VEVENT
BEGIN:VEVENT
UID:issa-66611104-20250129T130000@quickscores.com
DTSTAMP:20260423T075100Z
DTSTART;TZID=America/New_York:20250129T130000
DURATION:PT1H30M0S
SUMMARY:Winner of Game 5 vs. Winner of Game 4
DESCRIPTION:Men 65 Aaa - International Senior Softball Association<br>ISSA
LOCATION:OPSC 1
CATEGORIES:QuickScores, Softball Game
TRANSP:OPAQUE
BEGIN:VALARM
TRIGGER:-PT2H
ACTION:DISPLAY
DESCRIPTION:Winner of Game 5 vs. Winner of Game 4
END:VALARM
END:VEVENT
BEGIN:VEVENT
UID:issa-66611103-20250129T130000@quickscores.com
DTSTAMP:20260423T075100Z
DTSTART;TZID=America/New_York:20250129T130000
DURATION:PT1H30M0S
SUMMARY:Loser of Game 5 vs. Loser of Game 3
DESCRIPTION:Men 65 Aaa - International Senior Softball Association<br>ISSA
LOCATION:OPSC 4
CATEGORIES:QuickScores, Softball Game
TRANSP:OPAQUE
BEGIN:VALARM
TRIGGER:-PT2H
ACTION:DISPLAY
DESCRIPTION:Loser of Game 5 vs. Loser of Game 3
END:VALARM
END:VEVENT
BEGIN:VEVENT
UID:issa-66611100-20250129T130000@quickscores.com
DTSTAMP:20260423T075100Z
DTSTART;TZID=America/New_York:20250129T130000
DURATION:PT1H30M0S
SUMMARY:Loser of Game 7 vs. Loser of Game 1
DESCRIPTION:Men 65 Aaa - International Senior Softball Association<br>ISSA
LOCATION:OPSC 2
CATEGORIES:QuickScores, Softball Game
TRANSP:OPAQUE
BEGIN:VALARM
TRIGGER:-PT2H
ACTION:DISPLAY
DESCRIPTION:Loser of Game 7 vs. Loser of Game 1
END:VALARM
END:VEVENT
BEGIN:VEVENT
UID:issa-66611107-20250129T143000@quickscores.com
DTSTAMP:20260423T075100Z
DTSTART;TZID=America/New_York:20250129T143000
DURATION:PT1H30M0S
SUMMARY:Winner of Game 9 vs. Winner of Game 10
DESCRIPTION:Men 65 Aaa - International Senior Softball Association<br>ISSA
LOCATION:OPSC 4
CATEGORIES:QuickScores, Softball Game
TRANSP:OPAQUE
BEGIN:VALARM
TRIGGER:-PT2H
ACTION:DISPLAY
DESCRIPTION:Winner of Game 9 vs. Winner of Game 10
END:VALARM
END:VEVENT
BEGIN:VEVENT
UID:issa-66611106-20250129T143000@quickscores.com
DTSTAMP:20260423T075100Z
DTSTART;TZID=America/New_York:20250129T143000
DURATION:PT1H30M0S
SUMMARY:Winner of Game 8 vs. Loser of Game 6
DESCRIPTION:Men 65 Aaa - International Senior Softball Association<br>ISSA
LOCATION:OPSC 1
CATEGORIES:QuickScores, Softball Game
TRANSP:OPAQUE
BEGIN:VALARM
TRIGGER:-PT2H
ACTION:DISPLAY
DESCRIPTION:Winner of Game 8 vs. Loser of Game 6
END:VALARM
END:VEVENT
BEGIN:VEVENT
UID:issa-66611105-20250129T143000@quickscores.com
DTSTAMP:20260423T075100Z
DTSTART;TZID=America/New_York:20250129T143000
DURATION:PT1H30M0S
SUMMARY:Winner of Game 6 vs. Winner of Game 7
DESCRIPTION:Men 65 Aaa - International Senior Softball Association<br>ISSA
LOCATION:OPSC 2
CATEGORIES:QuickScores, Softball Game
TRANSP:OPAQUE
BEGIN:VALARM
TRIGGER:-PT2H
ACTION:DISPLAY
DESCRIPTION:Winner of Game 6 vs. Winner of Game 7
END:VALARM
END:VEVENT
BEGIN:VEVENT
UID:issa-66611110-20250129T160000@quickscores.com
DTSTAMP:20260423T075100Z
DTSTART;TZID=America/New_York:20250129T160000
DURATION:PT1H30M0S
SUMMARY:Winner of Game 11 vs. Winner of Game 12
DESCRIPTION:Men 65 Aaa - International Senior Softball Association<br>ISSA
LOCATION:OPSC 2
CATEGORIES:QuickScores, Softball Game
TRANSP:OPAQUE
BEGIN:VALARM
TRIGGER:-PT2H
ACTION:DISPLAY
DESCRIPTION:Winner of Game 11 vs. Winner of Game 12
END:VALARM
END:VEVENT
BEGIN:VEVENT
UID:issa-66611108-20250129T173000@quickscores.com
DTSTAMP:20260423T075100Z
DTSTART;TZID=America/New_York:20250129T173000
DURATION:PT1H30M0S
SUMMARY:Loser of Game 11 vs. Winner of Game 13
DESCRIPTION:Men 65 Aaa - International Senior Softball Association<br>ISSA
LOCATION:OPSC 1
CATEGORIES:QuickScores, Softball Game
TRANSP:OPAQUE
BEGIN:VALARM
TRIGGER:-PT2H
ACTION:DISPLAY
DESCRIPTION:Loser of Game 11 vs. Winner of Game 13
END:VALARM
END:VEVENT
BEGIN:VEVENT
UID:issa-66611109-20250129T173000@quickscores.com
DTSTAMP:20260423T075100Z
DTSTART;TZID=America/New_York:20250129T173000
DURATION:PT1H30M0S
SUMMARY:Loser of Game 12 vs. Winner of Game 14
DESCRIPTION:Men 65 Aaa - International Senior Softball Association<br>ISSA
LOCATION:OPSC 4
CATEGORIES:QuickScores, Softball Game
TRANSP:OPAQUE
BEGIN:VALARM
TRIGGER:-PT2H
ACTION:DISPLAY
DESCRIPTION:Loser of Game 12 vs. Winner of Game 14
END:VALARM
END:VEVENT
BEGIN:VEVENT
UID:issa-66611111-20250130T083000@quickscores.com
DTSTAMP:20260423T075100Z
DTSTART;TZID=America/New_York:20250130T083000
DURATION:PT1H30M0S
SUMMARY:Winner of Game 15 vs. Winner of Game 16
DESCRIPTION:Men 65 Aaa - International Senior Softball Association<br>ISSA
LOCATION:OPSC 1
CATEGORIES:QuickScores, Softball Game
TRANSP:OPAQUE
BEGIN:VALARM
TRIGGER:-PT2H
ACTION:DISPLAY
DESCRIPTION:Winner of Game 15 vs. Winner of Game 16
END:VALARM
END:VEVENT
BEGIN:VEVENT
UID:issa-66611112-20250130T100000@quickscores.com
DTSTAMP:20260423T075100Z
DTSTART;TZID=America/New_York:20250130T100000
DURATION:PT1H30M0S
SUMMARY:Loser of Game 17 vs. Winner of Game 18
DESCRIPTION:Men 65 Aaa - International Senior Softball Association<br>ISSA
LOCATION:OPSC 1
CATEGORIES:QuickScores, Softball Game
TRANSP:OPAQUE
BEGIN:VALARM
TRIGGER:-PT2H
ACTION:DISPLAY
DESCRIPTION:Loser of Game 17 vs. Winner of Game 18
END:VALARM
END:VEVENT
BEGIN:VEVENT
UID:issa-66611113-20250130T113000@quickscores.com
DTSTAMP:20260423T075100Z
DTSTART;TZID=America/New_York:20250130T113000
DURATION:PT1H30M0S
SUMMARY:Winner of Game 17 vs. Winner of Game 19
DESCRIPTION:Men 65 Aaa - International Senior Softball Association<br>ISSA
LOCATION:OPSC 1
CATEGORIES:QuickScores, Softball Game
TRANSP:OPAQUE
BEGIN:VALARM
TRIGGER:-PT2H
ACTION:DISPLAY
DESCRIPTION:Winner of Game 17 vs. Winner of Game 19
END:VALARM
END:VEVENT
END:VCALENDAR
