BEGIN:VCALENDAR
VERSION:2.0
PRODID:-//QuickScores.com//BQ Dynamic iCal Creator//EN
METHOD:PUBLISH
X-WR-CALNAME:Men 55 Major - 2025 ISSA/WBSC World Tournament of Champions
X-WR-CALDESC:QuickScores game calendar
X-PUBLISHED-TTL:PT24H
REFRESH-INTERVAL;VALUE=DURATION:PT24H
CALSCALE:GREGORIAN
BEGIN:VTIMEZONE
TZID:America/New_York
X-LIC-LOCATION:America/New_York
BEGIN:DAYLIGHT
TZNAME:EDT
TZOFFSETFROM:-0500
TZOFFSETTO:-0400
DTSTART:19700308T020000
RRULE:FREQ=YEARLY;BYMONTH=3;BYDAY=2SU
END:DAYLIGHT
BEGIN:STANDARD
TZNAME:EST
TZOFFSETFROM:-0400
TZOFFSETTO:-0500
DTSTART:19701101T020000
RRULE:FREQ=YEARLY;BYMONTH=11;BYDAY=1SU
END:STANDARD
END:VTIMEZONE
BEGIN:VEVENT
UID:issa-66624151-20250131T090000@quickscores.com
DTSTAMP:20260421T110100Z
DTSTART;TZID=America/New_York:20250131T090000
DURATION:PT1H30M0S
SUMMARY:HOTT Softball vs. Tiffany's 55
DESCRIPTION:Men 55 Major - International Senior Softball Association<br>ISSA
LOCATION:RSC 3
CATEGORIES:QuickScores, Softball Game
TRANSP:OPAQUE
BEGIN:VALARM
TRIGGER:-PT2H
ACTION:DISPLAY
DESCRIPTION:HOTT Softball vs. Tiffany's 55
END:VALARM
END:VEVENT
BEGIN:VEVENT
UID:issa-66624152-20250131T090000@quickscores.com
DTSTAMP:20260421T110100Z
DTSTART;TZID=America/New_York:20250131T090000
DURATION:PT1H30M0S
SUMMARY:N.E. Merchants vs. Supreme softball
DESCRIPTION:Men 55 Major - International Senior Softball Association<br>ISSA
LOCATION:RSC 4
CATEGORIES:QuickScores, Softball Game
TRANSP:OPAQUE
BEGIN:VALARM
TRIGGER:-PT2H
ACTION:DISPLAY
DESCRIPTION:N.E. Merchants vs. Supreme softball
END:VALARM
END:VEVENT
BEGIN:VEVENT
UID:issa-66624153-20250131T090000@quickscores.com
DTSTAMP:20260421T110100Z
DTSTART;TZID=America/New_York:20250131T090000
DURATION:PT1H30M0S
SUMMARY:Generational Softball vs. Steve Smith Softball
DESCRIPTION:Men 55 Major - International Senior Softball Association<br>ISSA
LOCATION:RSC 5
CATEGORIES:QuickScores, Softball Game
TRANSP:OPAQUE
BEGIN:VALARM
TRIGGER:-PT2H
ACTION:DISPLAY
DESCRIPTION:Generational Softball vs. Steve Smith Softball
END:VALARM
END:VEVENT
BEGIN:VEVENT
UID:issa-66624154-20250131T090000@quickscores.com
DTSTAMP:20260421T110100Z
DTSTART;TZID=America/New_York:20250131T090000
DURATION:PT1H30M0S
SUMMARY:Chitown Assault/T2 Automotive vs. Kincaid Sports
DESCRIPTION:Men 55 Major - International Senior Softball Association<br>ISSA
LOCATION:RSC 1
CATEGORIES:QuickScores, Softball Game
TRANSP:OPAQUE
BEGIN:VALARM
TRIGGER:-PT2H
ACTION:DISPLAY
DESCRIPTION:Chitown Assault/T2 Automotive vs. Kincaid Sports
END:VALARM
END:VEVENT
BEGIN:VEVENT
UID:issa-66624155-20250131T090000@quickscores.com
DTSTAMP:20260421T110100Z
DTSTART;TZID=America/New_York:20250131T090000
DURATION:PT1H30M0S
SUMMARY:Infoquest.com vs. Backside
DESCRIPTION:Men 55 Major - International Senior Softball Association<br>ISSA
LOCATION:RSC 2
CATEGORIES:QuickScores, Softball Game
TRANSP:OPAQUE
BEGIN:VALARM
TRIGGER:-PT2H
ACTION:DISPLAY
DESCRIPTION:Infoquest.com vs. Backside
END:VALARM
END:VEVENT
BEGIN:VEVENT
UID:issa-66624160-20250131T103000@quickscores.com
DTSTAMP:20260421T110100Z
DTSTART;TZID=America/New_York:20250131T103000
DURATION:PT1H30M0S
SUMMARY:Backside vs. Chitown Assault/T2 Automotive
DESCRIPTION:Men 55 Major - International Senior Softball Association<br>ISSA
LOCATION:RSC 2
CATEGORIES:QuickScores, Softball Game
TRANSP:OPAQUE
BEGIN:VALARM
TRIGGER:-PT2H
ACTION:DISPLAY
DESCRIPTION:Backside vs. Chitown Assault/T2 Automotive
END:VALARM
END:VEVENT
BEGIN:VEVENT
UID:issa-66624159-20250131T103000@quickscores.com
DTSTAMP:20260421T110100Z
DTSTART;TZID=America/New_York:20250131T103000
DURATION:PT1H30M0S
SUMMARY:Kincaid Sports vs. Infoquest.com
DESCRIPTION:Men 55 Major - International Senior Softball Association<br>ISSA
LOCATION:RSC 1
CATEGORIES:QuickScores, Softball Game
TRANSP:OPAQUE
BEGIN:VALARM
TRIGGER:-PT2H
ACTION:DISPLAY
DESCRIPTION:Kincaid Sports vs. Infoquest.com
END:VALARM
END:VEVENT
BEGIN:VEVENT
UID:issa-66624158-20250131T103000@quickscores.com
DTSTAMP:20260421T110100Z
DTSTART;TZID=America/New_York:20250131T103000
DURATION:PT1H30M0S
SUMMARY:Supreme softball vs. Generational Softball
DESCRIPTION:Men 55 Major - International Senior Softball Association<br>ISSA
LOCATION:RSC 5
CATEGORIES:QuickScores, Softball Game
TRANSP:OPAQUE
BEGIN:VALARM
TRIGGER:-PT2H
ACTION:DISPLAY
DESCRIPTION:Supreme softball vs. Generational Softball
END:VALARM
END:VEVENT
BEGIN:VEVENT
UID:issa-66624157-20250131T103000@quickscores.com
DTSTAMP:20260421T110100Z
DTSTART;TZID=America/New_York:20250131T103000
DURATION:PT1H30M0S
SUMMARY:Steve Smith Softball vs. N.E. Merchants
DESCRIPTION:Men 55 Major - International Senior Softball Association<br>ISSA
LOCATION:RSC 4
CATEGORIES:QuickScores, Softball Game
TRANSP:OPAQUE
BEGIN:VALARM
TRIGGER:-PT2H
ACTION:DISPLAY
DESCRIPTION:Steve Smith Softball vs. N.E. Merchants
END:VALARM
END:VEVENT
BEGIN:VEVENT
UID:issa-66624156-20250131T103000@quickscores.com
DTSTAMP:20260421T110100Z
DTSTART;TZID=America/New_York:20250131T103000
DURATION:PT1H30M0S
SUMMARY:Tiffany's 55 vs. Phoenix Tube 55’s
DESCRIPTION:Men 55 Major - International Senior Softball Association<br>ISSA
LOCATION:RSC 3
CATEGORIES:QuickScores, Softball Game
TRANSP:OPAQUE
BEGIN:VALARM
TRIGGER:-PT2H
ACTION:DISPLAY
DESCRIPTION:Tiffany's 55 vs. Phoenix Tube 55’s
END:VALARM
END:VEVENT
BEGIN:VEVENT
UID:issa-66624161-20250131T120000@quickscores.com
DTSTAMP:20260421T110100Z
DTSTART;TZID=America/New_York:20250131T120000
DURATION:PT1H30M0S
SUMMARY:Phoenix Tube 55’s vs. HOTT Softball
DESCRIPTION:Men 55 Major - International Senior Softball Association<br>ISSA
LOCATION:RSC 3
CATEGORIES:QuickScores, Softball Game
TRANSP:OPAQUE
BEGIN:VALARM
TRIGGER:-PT2H
ACTION:DISPLAY
DESCRIPTION:Phoenix Tube 55’s vs. HOTT Softball
END:VALARM
END:VEVENT
BEGIN:VEVENT
UID:issa-66624261-20250201T083000@quickscores.com
DTSTAMP:20260421T110100Z
DTSTART;TZID=America/New_York:20250201T083000
DURATION:PT1H30M0S
SUMMARY:[B3] Chitown Assault/T2 Automotive vs. [C3] Tiffany's 55
DESCRIPTION:Men 55 Major - International Senior Softball Association<br>ISSA
LOCATION:RSC 4
CATEGORIES:QuickScores, Softball Game
TRANSP:OPAQUE
BEGIN:VALARM
TRIGGER:-PT2H
ACTION:DISPLAY
DESCRIPTION:[B3] Chitown Assault/T2 Automotive vs. [C3] Tiffany's 55
END:VALARM
END:VEVENT
BEGIN:VEVENT
UID:issa-66624265-20250201T083000@quickscores.com
DTSTAMP:20260421T110100Z
DTSTART;TZID=America/New_York:20250201T083000
DURATION:PT1H30M0S
SUMMARY:[A3] Generational Softball vs. [B4] Kincaid Sports
DESCRIPTION:Men 55 Major - International Senior Softball Association<br>ISSA
LOCATION:RSC 5
CATEGORIES:QuickScores, Softball Game
TRANSP:OPAQUE
BEGIN:VALARM
TRIGGER:-PT2H
ACTION:DISPLAY
DESCRIPTION:[A3] Generational Softball vs. [B4] Kincaid Sports
END:VALARM
END:VEVENT
BEGIN:VEVENT
UID:issa-66624267-20250201T083000@quickscores.com
DTSTAMP:20260421T110100Z
DTSTART;TZID=America/New_York:20250201T083000
DURATION:PT1H30M0S
SUMMARY:[B2] Backside vs. [A4] Steve Smith Softball
DESCRIPTION:Men 55 Major - International Senior Softball Association<br>ISSA
LOCATION:RSC 3
CATEGORIES:QuickScores, Softball Game
TRANSP:OPAQUE
BEGIN:VALARM
TRIGGER:-PT2H
ACTION:DISPLAY
DESCRIPTION:[B2] Backside vs. [A4] Steve Smith Softball
END:VALARM
END:VEVENT
BEGIN:VEVENT
UID:issa-66624270-20250201T100000@quickscores.com
DTSTAMP:20260421T110100Z
DTSTART;TZID=America/New_York:20250201T100000
DURATION:PT1H30M0S
SUMMARY:[B1] Infoquest.com vs. [A3] Generational Softball
DESCRIPTION:Men 55 Major - International Senior Softball Association<br>ISSA
LOCATION:RSC 3
CATEGORIES:QuickScores, Softball Game
TRANSP:OPAQUE
BEGIN:VALARM
TRIGGER:-PT2H
ACTION:DISPLAY
DESCRIPTION:[B1] Infoquest.com vs. [A3] Generational Softball
END:VALARM
END:VEVENT
BEGIN:VEVENT
UID:issa-66624269-20250201T100000@quickscores.com
DTSTAMP:20260421T110100Z
DTSTART;TZID=America/New_York:20250201T100000
DURATION:PT1H30M0S
SUMMARY:[A2] N.E. Merchants vs. [C2] HOTT Softball
DESCRIPTION:Men 55 Major - International Senior Softball Association<br>ISSA
LOCATION:RSC 4
CATEGORIES:QuickScores, Softball Game
TRANSP:OPAQUE
BEGIN:VALARM
TRIGGER:-PT2H
ACTION:DISPLAY
DESCRIPTION:[A2] N.E. Merchants vs. [C2] HOTT Softball
END:VALARM
END:VEVENT
BEGIN:VEVENT
UID:issa-66624268-20250201T100000@quickscores.com
DTSTAMP:20260421T110100Z
DTSTART;TZID=America/New_York:20250201T100000
DURATION:PT1H30M0S
SUMMARY:[A1] Supreme softball vs. [C3] Tiffany's 55
DESCRIPTION:Men 55 Major - International Senior Softball Association<br>ISSA
LOCATION:RSC 5
CATEGORIES:QuickScores, Softball Game
TRANSP:OPAQUE
BEGIN:VALARM
TRIGGER:-PT2H
ACTION:DISPLAY
DESCRIPTION:[A1] Supreme softball vs. [C3] Tiffany's 55
END:VALARM
END:VEVENT
BEGIN:VEVENT
UID:issa-66624271-20250201T113000@quickscores.com
DTSTAMP:20260421T110100Z
DTSTART;TZID=America/New_York:20250201T113000
DURATION:PT1H30M0S
SUMMARY:[C1] Phoenix Tube 55’s vs. [B2] Backside
DESCRIPTION:Men 55 Major - International Senior Softball Association<br>ISSA
LOCATION:RSC 4
CATEGORIES:QuickScores, Softball Game
TRANSP:OPAQUE
BEGIN:VALARM
TRIGGER:-PT2H
ACTION:DISPLAY
DESCRIPTION:[C1] Phoenix Tube 55’s vs. [B2] Backside
END:VALARM
END:VEVENT
BEGIN:VEVENT
UID:issa-66624278-20250201T113000@quickscores.com
DTSTAMP:20260421T110100Z
DTSTART;TZID=America/New_York:20250201T113000
DURATION:PT1H30M0S
SUMMARY:[C2] HOTT Softball vs. [B4] Kincaid Sports
DESCRIPTION:Men 55 Major - International Senior Softball Association<br>ISSA
LOCATION:RSC 5
CATEGORIES:QuickScores, Softball Game
TRANSP:OPAQUE
BEGIN:VALARM
TRIGGER:-PT2H
ACTION:DISPLAY
DESCRIPTION:[C2] HOTT Softball vs. [B4] Kincaid Sports
END:VALARM
END:VEVENT
BEGIN:VEVENT
UID:issa-66624279-20250201T113000@quickscores.com
DTSTAMP:20260421T110100Z
DTSTART;TZID=America/New_York:20250201T113000
DURATION:PT1H30M0S
SUMMARY:[C3] Tiffany's 55 vs. [A4] Steve Smith Softball
DESCRIPTION:Men 55 Major - International Senior Softball Association<br>ISSA
LOCATION:RSC 3
CATEGORIES:QuickScores, Softball Game
TRANSP:OPAQUE
BEGIN:VALARM
TRIGGER:-PT2H
ACTION:DISPLAY
DESCRIPTION:[C3] Tiffany's 55 vs. [A4] Steve Smith Softball
END:VALARM
END:VEVENT
BEGIN:VEVENT
UID:issa-66624276-20250201T130000@quickscores.com
DTSTAMP:20260421T110100Z
DTSTART;TZID=America/New_York:20250201T130000
DURATION:PT1H30M0S
SUMMARY:[C1] Phoenix Tube 55’s vs. [B3] Chitown Assault/T2 Automotive
DESCRIPTION:Men 55 Major - International Senior Softball Association<br>ISSA
LOCATION:RSC 5
CATEGORIES:QuickScores, Softball Game
TRANSP:OPAQUE
BEGIN:VALARM
TRIGGER:-PT2H
ACTION:DISPLAY
DESCRIPTION:[C1] Phoenix Tube 55’s vs. [B3] Chitown Assault/T2 Automotive
END:VALARM
END:VEVENT
BEGIN:VEVENT
UID:issa-66624280-20250201T143000@quickscores.com
DTSTAMP:20260421T110100Z
DTSTART;TZID=America/New_York:20250201T143000
DURATION:PT1H30M0S
SUMMARY:[A1] Supreme softball vs. [A2] N.E. Merchants
DESCRIPTION:Men 55 Major - International Senior Softball Association<br>ISSA
LOCATION:RSC 4
CATEGORIES:QuickScores, Softball Game
TRANSP:OPAQUE
BEGIN:VALARM
TRIGGER:-PT2H
ACTION:DISPLAY
DESCRIPTION:[A1] Supreme softball vs. [A2] N.E. Merchants
END:VALARM
END:VEVENT
BEGIN:VEVENT
UID:issa-66624281-20250201T143000@quickscores.com
DTSTAMP:20260421T110100Z
DTSTART;TZID=America/New_York:20250201T143000
DURATION:PT1H30M0S
SUMMARY:[B1] Infoquest.com vs. [B2] Backside
DESCRIPTION:Men 55 Major - International Senior Softball Association<br>ISSA
LOCATION:RSC 5
CATEGORIES:QuickScores, Softball Game
TRANSP:OPAQUE
BEGIN:VALARM
TRIGGER:-PT2H
ACTION:DISPLAY
DESCRIPTION:[B1] Infoquest.com vs. [B2] Backside
END:VALARM
END:VEVENT
BEGIN:VEVENT
UID:issa-66624286-20250201T160000@quickscores.com
DTSTAMP:20260421T110100Z
DTSTART;TZID=America/New_York:20250201T160000
DURATION:PT1H30M0S
SUMMARY:[A1] Supreme softball vs. [B1] Infoquest.com
DESCRIPTION:Men 55 Major - International Senior Softball Association<br>ISSA
LOCATION:RSC 5
CATEGORIES:QuickScores, Softball Game
TRANSP:OPAQUE
BEGIN:VALARM
TRIGGER:-PT2H
ACTION:DISPLAY
DESCRIPTION:[A1] Supreme softball vs. [B1] Infoquest.com
END:VALARM
END:VEVENT
BEGIN:VEVENT
UID:issa-66624283-20250201T160000@quickscores.com
DTSTAMP:20260421T110100Z
DTSTART;TZID=America/New_York:20250201T160000
DURATION:PT1H30M0S
SUMMARY:[B4] Kincaid Sports vs. [A4] Steve Smith Softball
DESCRIPTION:Men 55 Major - International Senior Softball Association<br>ISSA
LOCATION:RSC 3
CATEGORIES:QuickScores, Softball Game
TRANSP:OPAQUE
BEGIN:VALARM
TRIGGER:-PT2H
ACTION:DISPLAY
DESCRIPTION:[B4] Kincaid Sports vs. [A4] Steve Smith Softball
END:VALARM
END:VEVENT
BEGIN:VEVENT
UID:issa-66624282-20250201T160000@quickscores.com
DTSTAMP:20260421T110100Z
DTSTART;TZID=America/New_York:20250201T160000
DURATION:PT1H30M0S
SUMMARY:[C1] Phoenix Tube 55’s vs. [A3] Generational Softball
DESCRIPTION:Men 55 Major - International Senior Softball Association<br>ISSA
LOCATION:RSC 4
CATEGORIES:QuickScores, Softball Game
TRANSP:OPAQUE
BEGIN:VALARM
TRIGGER:-PT2H
ACTION:DISPLAY
DESCRIPTION:[C1] Phoenix Tube 55’s vs. [A3] Generational Softball
END:VALARM
END:VEVENT
BEGIN:VEVENT
UID:issa-66624284-20250201T173000@quickscores.com
DTSTAMP:20260421T110100Z
DTSTART;TZID=America/New_York:20250201T173000
DURATION:PT1H30M0S
SUMMARY:[A2] N.E. Merchants vs. [C1] Phoenix Tube 55’s
DESCRIPTION:Men 55 Major - International Senior Softball Association<br>ISSA
LOCATION:RSC 4
CATEGORIES:QuickScores, Softball Game
TRANSP:OPAQUE
BEGIN:VALARM
TRIGGER:-PT2H
ACTION:DISPLAY
DESCRIPTION:[A2] N.E. Merchants vs. [C1] Phoenix Tube 55’s
END:VALARM
END:VEVENT
BEGIN:VEVENT
UID:issa-66624285-20250201T173000@quickscores.com
DTSTAMP:20260421T110100Z
DTSTART;TZID=America/New_York:20250201T173000
DURATION:PT1H30M0S
SUMMARY:[B2] Backside vs. [B4] Kincaid Sports
DESCRIPTION:Men 55 Major - International Senior Softball Association<br>ISSA
LOCATION:RSC 5
CATEGORIES:QuickScores, Softball Game
TRANSP:OPAQUE
BEGIN:VALARM
TRIGGER:-PT2H
ACTION:DISPLAY
DESCRIPTION:[B2] Backside vs. [B4] Kincaid Sports
END:VALARM
END:VEVENT
BEGIN:VEVENT
UID:issa-66624287-20250202T083000@quickscores.com
DTSTAMP:20260421T110100Z
DTSTART;TZID=America/New_York:20250202T083000
DURATION:PT1H30M0S
SUMMARY:[C1] Phoenix Tube 55’s vs. [B2] Backside
DESCRIPTION:Men 55 Major - International Senior Softball Association<br>ISSA
LOCATION:RSC 2
CATEGORIES:QuickScores, Softball Game
TRANSP:OPAQUE
BEGIN:VALARM
TRIGGER:-PT2H
ACTION:DISPLAY
DESCRIPTION:[C1] Phoenix Tube 55’s vs. [B2] Backside
END:VALARM
END:VEVENT
BEGIN:VEVENT
UID:issa-66624288-20250202T100000@quickscores.com
DTSTAMP:20260421T110100Z
DTSTART;TZID=America/New_York:20250202T100000
DURATION:PT1H30M0S
SUMMARY:[A1] Supreme softball vs. [C1] Phoenix Tube 55’s
DESCRIPTION:Men 55 Major - International Senior Softball Association<br>ISSA
LOCATION:RSC 2
CATEGORIES:QuickScores, Softball Game
TRANSP:OPAQUE
BEGIN:VALARM
TRIGGER:-PT2H
ACTION:DISPLAY
DESCRIPTION:[A1] Supreme softball vs. [C1] Phoenix Tube 55’s
END:VALARM
END:VEVENT
BEGIN:VEVENT
UID:issa-66624289-20250202T113000@quickscores.com
DTSTAMP:20260421T110100Z
DTSTART;TZID=America/New_York:20250202T113000
DURATION:PT1H30M0S
SUMMARY:[B1] Infoquest.com vs. [A1] Supreme softball
DESCRIPTION:Men 55 Major - International Senior Softball Association<br>ISSA
LOCATION:RSC 2
CATEGORIES:QuickScores, Softball Game
TRANSP:OPAQUE
BEGIN:VALARM
TRIGGER:-PT2H
ACTION:DISPLAY
DESCRIPTION:[B1] Infoquest.com vs. [A1] Supreme softball
END:VALARM
END:VEVENT
BEGIN:VEVENT
UID:issa-66624290-20250202T130000@quickscores.com
DTSTAMP:20260421T110100Z
DTSTART;TZID=America/New_York:20250202T130000
DURATION:PT1H30M0S
SUMMARY:[A1] Supreme softball vs. [B1] Infoquest.com
DESCRIPTION:Men 55 Major - International Senior Softball Association<br>ISSA
LOCATION:RSC 2
CATEGORIES:QuickScores, Softball Game
TRANSP:OPAQUE
BEGIN:VALARM
TRIGGER:-PT2H
ACTION:DISPLAY
DESCRIPTION:[A1] Supreme softball vs. [B1] Infoquest.com
END:VALARM
END:VEVENT
END:VCALENDAR
