BEGIN:VCALENDAR
VERSION:2.0
PRODID:-//QuickScores.com//BQ Dynamic iCal Creator//EN
METHOD:PUBLISH
X-WR-CALNAME:5th/6th Grade Boys - Winter 2024-2025
X-WR-CALDESC:QuickScores game calendar
X-PUBLISHED-TTL:PT24H
REFRESH-INTERVAL;VALUE=DURATION:PT24H
CALSCALE:GREGORIAN
BEGIN:VTIMEZONE
TZID:America/Chicago
X-LIC-LOCATION:America/Chicago
BEGIN:DAYLIGHT
TZNAME:CDT
TZOFFSETFROM:-0600
TZOFFSETTO:-0500
DTSTART:19700308T020000
RRULE:FREQ=YEARLY;BYMONTH=3;BYDAY=2SU
END:DAYLIGHT
BEGIN:STANDARD
TZNAME:CST
TZOFFSETFROM:-0500
TZOFFSETTO:-0600
DTSTART:19701101T020000
RRULE:FREQ=YEARLY;BYMONTH=11;BYDAY=1SU
END:STANDARD
END:VTIMEZONE
BEGIN:VEVENT
UID:northbrook-66478102-20250111T110000@quickscores.com
DTSTAMP:20260425T054700Z
DTSTART;TZID=America/Chicago:20250111T110000
DURATION:PT0H30M0S
SUMMARY:Practice: Celtics vs. Hawks
DESCRIPTION:Practice --- 5th/6th Grade Boys - Northbrook Park District
LOCATION:GBN #3
CATEGORIES:QuickScores, Basketball - Youth Game
TRANSP:OPAQUE
BEGIN:VALARM
TRIGGER:-PT2H
ACTION:DISPLAY
DESCRIPTION:Practice: Celtics vs. Hawks
END:VALARM
END:VEVENT
BEGIN:VEVENT
UID:northbrook-66478103-20250111T113000@quickscores.com
DTSTAMP:20260425T054700Z
DTSTART;TZID=America/Chicago:20250111T113000
DURATION:PT0H30M0S
SUMMARY:Practice: Nets vs. Hornets
DESCRIPTION:Practice --- 5th/6th Grade Boys - Northbrook Park District
LOCATION:GBN #3
CATEGORIES:QuickScores, Basketball - Youth Game
TRANSP:OPAQUE
BEGIN:VALARM
TRIGGER:-PT2H
ACTION:DISPLAY
DESCRIPTION:Practice: Nets vs. Hornets
END:VALARM
END:VEVENT
BEGIN:VEVENT
UID:northbrook-66478104-20250111T120000@quickscores.com
DTSTAMP:20260425T054700Z
DTSTART;TZID=America/Chicago:20250111T120000
DURATION:PT0H30M0S
SUMMARY:Practice: Cavaliers
DESCRIPTION:Practice --- 5th/6th Grade Boys - Northbrook Park District
LOCATION:GBN #3
CATEGORIES:QuickScores, Basketball - Youth Game
TRANSP:OPAQUE
BEGIN:VALARM
TRIGGER:-PT2H
ACTION:DISPLAY
DESCRIPTION:Practice: Cavaliers
END:VALARM
END:VEVENT
BEGIN:VEVENT
UID:northbrook-66478085-20250125T133000@quickscores.com
DTSTAMP:20260425T054700Z
DTSTART;TZID=America/Chicago:20250125T133000
DURATION:PT1H0M0S
SUMMARY:Celtics vs. Hornets
DESCRIPTION:5th/6th Grade Boys - Northbrook Park District
LOCATION:GBN #3
CATEGORIES:QuickScores, Basketball - Youth Game
TRANSP:OPAQUE
BEGIN:VALARM
TRIGGER:-PT2H
ACTION:DISPLAY
DESCRIPTION:Celtics vs. Hornets
END:VALARM
END:VEVENT
BEGIN:VEVENT
UID:northbrook-66478083-20250125T143000@quickscores.com
DTSTAMP:20260425T054700Z
DTSTART;TZID=America/Chicago:20250125T143000
DURATION:PT1H0M0S
SUMMARY:Hornets vs. Hawks
DESCRIPTION:5th/6th Grade Boys - Northbrook Park District
LOCATION:GBN #3
CATEGORIES:QuickScores, Basketball - Youth Game
TRANSP:OPAQUE
BEGIN:VALARM
TRIGGER:-PT2H
ACTION:DISPLAY
DESCRIPTION:Hornets vs. Hawks
END:VALARM
END:VEVENT
BEGIN:VEVENT
UID:northbrook-66478084-20250125T163000@quickscores.com
DTSTAMP:20260425T054700Z
DTSTART;TZID=America/Chicago:20250125T163000
DURATION:PT1H0M0S
SUMMARY:Nets vs. Cavaliers
DESCRIPTION:5th/6th Grade Boys - Northbrook Park District
LOCATION:GBN #3
CATEGORIES:QuickScores, Basketball - Youth Game
TRANSP:OPAQUE
BEGIN:VALARM
TRIGGER:-PT2H
ACTION:DISPLAY
DESCRIPTION:Nets vs. Cavaliers
END:VALARM
END:VEVENT
BEGIN:VEVENT
UID:northbrook-66478088-20250201T133000@quickscores.com
DTSTAMP:20260425T054700Z
DTSTART;TZID=America/Chicago:20250201T133000
DURATION:PT1H0M0S
SUMMARY:Hornets vs. Nets
DESCRIPTION:Picture Day --- 5th/6th Grade Boys - Northbrook Park District
LOCATION:GBN #3
CATEGORIES:QuickScores, Basketball - Youth Game
TRANSP:OPAQUE
BEGIN:VALARM
TRIGGER:-PT2H
ACTION:DISPLAY
DESCRIPTION:Hornets vs. Nets
END:VALARM
END:VEVENT
BEGIN:VEVENT
UID:northbrook-66478086-20250201T143000@quickscores.com
DTSTAMP:20260425T054700Z
DTSTART;TZID=America/Chicago:20250201T143000
DURATION:PT1H0M0S
SUMMARY:Nets vs. Celtics
DESCRIPTION:Picture Day --- 5th/6th Grade Boys - Northbrook Park District
LOCATION:GBN #3
CATEGORIES:QuickScores, Basketball - Youth Game
TRANSP:OPAQUE
BEGIN:VALARM
TRIGGER:-PT2H
ACTION:DISPLAY
DESCRIPTION:Nets vs. Celtics
END:VALARM
END:VEVENT
BEGIN:VEVENT
UID:northbrook-66478087-20250201T163000@quickscores.com
DTSTAMP:20260425T054700Z
DTSTART;TZID=America/Chicago:20250201T163000
DURATION:PT1H0M0S
SUMMARY:Cavaliers vs. Hawks
DESCRIPTION:Picture Day --- 5th/6th Grade Boys - Northbrook Park District
LOCATION:GBN #3
CATEGORIES:QuickScores, Basketball - Youth Game
TRANSP:OPAQUE
BEGIN:VALARM
TRIGGER:-PT2H
ACTION:DISPLAY
DESCRIPTION:Cavaliers vs. Hawks
END:VALARM
END:VEVENT
BEGIN:VEVENT
UID:northbrook-66478091-20250208T133000@quickscores.com
DTSTAMP:20260425T054700Z
DTSTART;TZID=America/Chicago:20250208T133000
DURATION:PT1H0M0S
SUMMARY:Celtics vs. Cavaliers
DESCRIPTION:5th/6th Grade Boys - Northbrook Park District
LOCATION:GBN #3
CATEGORIES:QuickScores, Basketball - Youth Game
TRANSP:OPAQUE
BEGIN:VALARM
TRIGGER:-PT2H
ACTION:DISPLAY
DESCRIPTION:Celtics vs. Cavaliers
END:VALARM
END:VEVENT
BEGIN:VEVENT
UID:northbrook-66478089-20250208T143000@quickscores.com
DTSTAMP:20260425T054700Z
DTSTART;TZID=America/Chicago:20250208T143000
DURATION:PT1H0M0S
SUMMARY:Hawks vs. Cavaliers
DESCRIPTION:5th/6th Grade Boys - Northbrook Park District
LOCATION:GBN #3
CATEGORIES:QuickScores, Basketball - Youth Game
TRANSP:OPAQUE
BEGIN:VALARM
TRIGGER:-PT2H
ACTION:DISPLAY
DESCRIPTION:Hawks vs. Cavaliers
END:VALARM
END:VEVENT
BEGIN:VEVENT
UID:northbrook-66478090-20250208T163000@quickscores.com
DTSTAMP:20260425T054700Z
DTSTART;TZID=America/Chicago:20250208T163000
DURATION:PT1H0M0S
SUMMARY:Nets vs. Hornets
DESCRIPTION:5th/6th Grade Boys - Northbrook Park District
LOCATION:GBN #3
CATEGORIES:QuickScores, Basketball - Youth Game
TRANSP:OPAQUE
BEGIN:VALARM
TRIGGER:-PT2H
ACTION:DISPLAY
DESCRIPTION:Nets vs. Hornets
END:VALARM
END:VEVENT
BEGIN:VEVENT
UID:northbrook-66478092-20250215T133000@quickscores.com
DTSTAMP:20260425T054700Z
DTSTART;TZID=America/Chicago:20250215T133000
DURATION:PT1H0M0S
SUMMARY:Hornets vs. Cavaliers
DESCRIPTION:5th/6th Grade Boys - Northbrook Park District
LOCATION:GBN #3
CATEGORIES:QuickScores, Basketball - Youth Game
TRANSP:OPAQUE
BEGIN:VALARM
TRIGGER:-PT2H
ACTION:DISPLAY
DESCRIPTION:Hornets vs. Cavaliers
END:VALARM
END:VEVENT
BEGIN:VEVENT
UID:northbrook-66478094-20250215T143000@quickscores.com
DTSTAMP:20260425T054700Z
DTSTART;TZID=America/Chicago:20250215T143000
DURATION:PT1H0M0S
SUMMARY:Hawks vs. Nets
DESCRIPTION:5th/6th Grade Boys - Northbrook Park District
LOCATION:GBN #3
CATEGORIES:QuickScores, Basketball - Youth Game
TRANSP:OPAQUE
BEGIN:VALARM
TRIGGER:-PT2H
ACTION:DISPLAY
DESCRIPTION:Hawks vs. Nets
END:VALARM
END:VEVENT
BEGIN:VEVENT
UID:northbrook-66478093-20250215T153000@quickscores.com
DTSTAMP:20260425T054700Z
DTSTART;TZID=America/Chicago:20250215T153000
DURATION:PT1H0M0S
SUMMARY:Hawks vs. Celtics
DESCRIPTION:5th/6th Grade Boys - Northbrook Park District
LOCATION:GBN #3
CATEGORIES:QuickScores, Basketball - Youth Game
TRANSP:OPAQUE
BEGIN:VALARM
TRIGGER:-PT2H
ACTION:DISPLAY
DESCRIPTION:Hawks vs. Celtics
END:VALARM
END:VEVENT
BEGIN:VEVENT
UID:northbrook-66478096-20250222T133000@quickscores.com
DTSTAMP:20260425T054700Z
DTSTART;TZID=America/Chicago:20250222T133000
DURATION:PT1H0M0S
SUMMARY:Cavaliers vs. Celtics
DESCRIPTION:5th/6th Grade Boys - Northbrook Park District
LOCATION:GBN #3
CATEGORIES:QuickScores, Basketball - Youth Game
TRANSP:OPAQUE
BEGIN:VALARM
TRIGGER:-PT2H
ACTION:DISPLAY
DESCRIPTION:Cavaliers vs. Celtics
END:VALARM
END:VEVENT
BEGIN:VEVENT
UID:northbrook-66478095-20250222T143000@quickscores.com
DTSTAMP:20260425T054700Z
DTSTART;TZID=America/Chicago:20250222T143000
DURATION:PT1H0M0S
SUMMARY:Hornets vs. Celtics
DESCRIPTION:5th/6th Grade Boys - Northbrook Park District
LOCATION:GBN #3
CATEGORIES:QuickScores, Basketball - Youth Game
TRANSP:OPAQUE
BEGIN:VALARM
TRIGGER:-PT2H
ACTION:DISPLAY
DESCRIPTION:Hornets vs. Celtics
END:VALARM
END:VEVENT
BEGIN:VEVENT
UID:northbrook-66478097-20250222T163000@quickscores.com
DTSTAMP:20260425T054700Z
DTSTART;TZID=America/Chicago:20250222T163000
DURATION:PT1H0M0S
SUMMARY:Nets vs. Hawks
DESCRIPTION:5th/6th Grade Boys - Northbrook Park District
LOCATION:GBN #3
CATEGORIES:QuickScores, Basketball - Youth Game
TRANSP:OPAQUE
BEGIN:VALARM
TRIGGER:-PT2H
ACTION:DISPLAY
DESCRIPTION:Nets vs. Hawks
END:VALARM
END:VEVENT
BEGIN:VEVENT
UID:northbrook-66478098-20250301T140000@quickscores.com
DTSTAMP:20260425T054700Z
DTSTART;TZID=America/Chicago:20250301T140000
DURATION:PT1H0M0S
SUMMARY:Hawks vs. Hornets
DESCRIPTION:5th/6th Grade Boys - Northbrook Park District
LOCATION:TPAC - East Court
CATEGORIES:QuickScores, Basketball - Youth Game
TRANSP:OPAQUE
BEGIN:VALARM
TRIGGER:-PT2H
ACTION:DISPLAY
DESCRIPTION:Hawks vs. Hornets
END:VALARM
END:VEVENT
BEGIN:VEVENT
UID:northbrook-66478100-20250301T140000@quickscores.com
DTSTAMP:20260425T054700Z
DTSTART;TZID=America/Chicago:20250301T140000
DURATION:PT1H0M0S
SUMMARY:Celtics vs. Nets
DESCRIPTION:5th/6th Grade Boys - Northbrook Park District
LOCATION:TPAC - West Court
CATEGORIES:QuickScores, Basketball - Youth Game
TRANSP:OPAQUE
BEGIN:VALARM
TRIGGER:-PT2H
ACTION:DISPLAY
DESCRIPTION:Celtics vs. Nets
END:VALARM
END:VEVENT
BEGIN:VEVENT
UID:northbrook-66478099-20250301T150000@quickscores.com
DTSTAMP:20260425T054700Z
DTSTART;TZID=America/Chicago:20250301T150000
DURATION:PT1H0M0S
SUMMARY:Cavaliers vs. Nets
DESCRIPTION:5th/6th Grade Boys - Northbrook Park District
LOCATION:TPAC - West Court
CATEGORIES:QuickScores, Basketball - Youth Game
TRANSP:OPAQUE
BEGIN:VALARM
TRIGGER:-PT2H
ACTION:DISPLAY
DESCRIPTION:Cavaliers vs. Nets
END:VALARM
END:VEVENT
END:VCALENDAR
