BEGIN:VCALENDAR
VERSION:2.0
PRODID:-//QuickScores.com//BQ Dynamic iCal Creator//EN
METHOD:PUBLISH
X-WR-CALNAME:7-8 Grade Boys - Winter 25
X-WR-CALDESC:QuickScores game calendar
X-PUBLISHED-TTL:PT24H
REFRESH-INTERVAL;VALUE=DURATION:PT24H
CALSCALE:GREGORIAN
BEGIN:VTIMEZONE
TZID:America/Denver
X-LIC-LOCATION:America/Denver
BEGIN:DAYLIGHT
TZNAME:MDT
TZOFFSETFROM:-0700
TZOFFSETTO:-0600
DTSTART:19700308T020000
RRULE:FREQ=YEARLY;BYMONTH=3;BYDAY=2SU
END:DAYLIGHT
BEGIN:STANDARD
TZNAME:MST
TZOFFSETFROM:-0600
TZOFFSETTO:-0700
DTSTART:19701101T020000
RRULE:FREQ=YEARLY;BYMONTH=11;BYDAY=1SU
END:STANDARD
END:VTIMEZONE
BEGIN:VEVENT
UID:smithfieldrecreation-66651159-20250111T140000@quickscores.com
DTSTAMP:20260424T081000Z
DTSTART;TZID=America/Denver:20250111T140000
DURATION:PT1H0M0S
SUMMARY:Nuggets: Balli vs. Jazz: Watts
DESCRIPTION:7-8 Grade Boys - Smithfield Recreation
LOCATION:Auxiliary Gym
CATEGORIES:QuickScores, Basketball - Youth Game
TRANSP:OPAQUE
BEGIN:VALARM
TRIGGER:-PT2H
ACTION:DISPLAY
DESCRIPTION:Nuggets: Balli vs. Jazz: Watts
END:VALARM
END:VEVENT
BEGIN:VEVENT
UID:smithfieldrecreation-66651161-20250111T140000@quickscores.com
DTSTAMP:20260424T081000Z
DTSTART;TZID=America/Denver:20250111T140000
DURATION:PT1H0M0S
SUMMARY:Thunder: Hancey vs. Bucks: Gunnell
DESCRIPTION:7-8 Grade Boys - Smithfield Recreation
LOCATION:Multi-Purpose North Gym
CATEGORIES:QuickScores, Basketball - Youth Game
TRANSP:OPAQUE
BEGIN:VALARM
TRIGGER:-PT2H
ACTION:DISPLAY
DESCRIPTION:Thunder: Hancey vs. Bucks: Gunnell
END:VALARM
END:VEVENT
BEGIN:VEVENT
UID:smithfieldrecreation-66651160-20250111T150000@quickscores.com
DTSTAMP:20260424T081000Z
DTSTART;TZID=America/Denver:20250111T150000
DURATION:PT1H0M0S
SUMMARY:Suns: Guthrie vs. Nuggets: Balli
DESCRIPTION:7-8 Grade Boys - Smithfield Recreation
LOCATION:Multi-Purpose North Gym
CATEGORIES:QuickScores, Basketball - Youth Game
TRANSP:OPAQUE
BEGIN:VALARM
TRIGGER:-PT2H
ACTION:DISPLAY
DESCRIPTION:Suns: Guthrie vs. Nuggets: Balli
END:VALARM
END:VEVENT
BEGIN:VEVENT
UID:smithfieldrecreation-66651164-20250118T080000@quickscores.com
DTSTAMP:20260424T081000Z
DTSTART;TZID=America/Denver:20250118T080000
DURATION:PT1H0M0S
SUMMARY:Bucks: Gunnell vs. Nuggets: Balli
DESCRIPTION:7-8 Grade Boys - Smithfield Recreation
LOCATION:Civic Center
CATEGORIES:QuickScores, Basketball - Youth Game
TRANSP:OPAQUE
BEGIN:VALARM
TRIGGER:-PT2H
ACTION:DISPLAY
DESCRIPTION:Bucks: Gunnell vs. Nuggets: Balli
END:VALARM
END:VEVENT
BEGIN:VEVENT
UID:smithfieldrecreation-66651163-20250118T090000@quickscores.com
DTSTAMP:20260424T081000Z
DTSTART;TZID=America/Denver:20250118T090000
DURATION:PT1H0M0S
SUMMARY:Bucks: Gunnell vs. Jazz: Watts
DESCRIPTION:7-8 Grade Boys - Smithfield Recreation
LOCATION:Civic Center
CATEGORIES:QuickScores, Basketball - Youth Game
TRANSP:OPAQUE
BEGIN:VALARM
TRIGGER:-PT2H
ACTION:DISPLAY
DESCRIPTION:Bucks: Gunnell vs. Jazz: Watts
END:VALARM
END:VEVENT
BEGIN:VEVENT
UID:smithfieldrecreation-66651162-20250118T100000@quickscores.com
DTSTAMP:20260424T081000Z
DTSTART;TZID=America/Denver:20250118T100000
DURATION:PT1H0M0S
SUMMARY:Thunder: Hancey vs. Suns: Guthrie
DESCRIPTION:7-8 Grade Boys - Smithfield Recreation
LOCATION:Civic Center
CATEGORIES:QuickScores, Basketball - Youth Game
TRANSP:OPAQUE
BEGIN:VALARM
TRIGGER:-PT2H
ACTION:DISPLAY
DESCRIPTION:Thunder: Hancey vs. Suns: Guthrie
END:VALARM
END:VEVENT
BEGIN:VEVENT
UID:smithfieldrecreation-66651165-20250125T130000@quickscores.com
DTSTAMP:20260424T081000Z
DTSTART;TZID=America/Denver:20250125T130000
DURATION:PT1H0M0S
SUMMARY:Suns: Guthrie vs. Bucks: Gunnell
DESCRIPTION:7-8 Grade Boys - Smithfield Recreation
LOCATION:Multi-Purpose North Gym
CATEGORIES:QuickScores, Basketball - Youth Game
TRANSP:OPAQUE
BEGIN:VALARM
TRIGGER:-PT2H
ACTION:DISPLAY
DESCRIPTION:Suns: Guthrie vs. Bucks: Gunnell
END:VALARM
END:VEVENT
BEGIN:VEVENT
UID:smithfieldrecreation-66651166-20250125T140000@quickscores.com
DTSTAMP:20260424T081000Z
DTSTART;TZID=America/Denver:20250125T140000
DURATION:PT1H0M0S
SUMMARY:Nuggets: Balli vs. Thunder: Hancey
DESCRIPTION:7-8 Grade Boys - Smithfield Recreation
LOCATION:Multi-Purpose North Gym
CATEGORIES:QuickScores, Basketball - Youth Game
TRANSP:OPAQUE
BEGIN:VALARM
TRIGGER:-PT2H
ACTION:DISPLAY
DESCRIPTION:Nuggets: Balli vs. Thunder: Hancey
END:VALARM
END:VEVENT
BEGIN:VEVENT
UID:smithfieldrecreation-66651167-20250125T150000@quickscores.com
DTSTAMP:20260424T081000Z
DTSTART;TZID=America/Denver:20250125T150000
DURATION:PT1H0M0S
SUMMARY:Jazz: Watts vs. Thunder: Hancey
DESCRIPTION:7-8 Grade Boys - Smithfield Recreation
LOCATION:Multi-Purpose North Gym
CATEGORIES:QuickScores, Basketball - Youth Game
TRANSP:OPAQUE
BEGIN:VALARM
TRIGGER:-PT2H
ACTION:DISPLAY
DESCRIPTION:Jazz: Watts vs. Thunder: Hancey
END:VALARM
END:VEVENT
BEGIN:VEVENT
UID:smithfieldrecreation-66651170-20250201T080000@quickscores.com
DTSTAMP:20260424T081000Z
DTSTART;TZID=America/Denver:20250201T080000
DURATION:PT1H0M0S
SUMMARY:Jazz: Watts vs. Suns: Guthrie
DESCRIPTION:7-8 Grade Boys - Smithfield Recreation
LOCATION:Civic Center
CATEGORIES:QuickScores, Basketball - Youth Game
TRANSP:OPAQUE
BEGIN:VALARM
TRIGGER:-PT2H
ACTION:DISPLAY
DESCRIPTION:Jazz: Watts vs. Suns: Guthrie
END:VALARM
END:VEVENT
BEGIN:VEVENT
UID:smithfieldrecreation-66651169-20250201T090000@quickscores.com
DTSTAMP:20260424T081000Z
DTSTART;TZID=America/Denver:20250201T090000
DURATION:PT1H0M0S
SUMMARY:Thunder: Hancey vs. Nuggets: Balli
DESCRIPTION:7-8 Grade Boys - Smithfield Recreation
LOCATION:Civic Center
CATEGORIES:QuickScores, Basketball - Youth Game
TRANSP:OPAQUE
BEGIN:VALARM
TRIGGER:-PT2H
ACTION:DISPLAY
DESCRIPTION:Thunder: Hancey vs. Nuggets: Balli
END:VALARM
END:VEVENT
BEGIN:VEVENT
UID:smithfieldrecreation-66651168-20250201T100000@quickscores.com
DTSTAMP:20260424T081000Z
DTSTART;TZID=America/Denver:20250201T100000
DURATION:PT1H0M0S
SUMMARY:Nuggets: Balli vs. Bucks: Gunnell
DESCRIPTION:7-8 Grade Boys - Smithfield Recreation
LOCATION:Civic Center
CATEGORIES:QuickScores, Basketball - Youth Game
TRANSP:OPAQUE
BEGIN:VALARM
TRIGGER:-PT2H
ACTION:DISPLAY
DESCRIPTION:Nuggets: Balli vs. Bucks: Gunnell
END:VALARM
END:VEVENT
BEGIN:VEVENT
UID:smithfieldrecreation-66651173-20250208T080000@quickscores.com
DTSTAMP:20260424T081000Z
DTSTART;TZID=America/Denver:20250208T080000
DURATION:PT1H0M0S
SUMMARY:Thunder: Hancey vs. Jazz: Watts
DESCRIPTION:7-8 Grade Boys - Smithfield Recreation
LOCATION:Multi-Purpose North Gym
CATEGORIES:QuickScores, Basketball - Youth Game
TRANSP:OPAQUE
BEGIN:VALARM
TRIGGER:-PT2H
ACTION:DISPLAY
DESCRIPTION:Thunder: Hancey vs. Jazz: Watts
END:VALARM
END:VEVENT
BEGIN:VEVENT
UID:smithfieldrecreation-66651172-20250208T090000@quickscores.com
DTSTAMP:20260424T081000Z
DTSTART;TZID=America/Denver:20250208T090000
DURATION:PT1H0M0S
SUMMARY:Bucks: Gunnell vs. Suns: Guthrie
DESCRIPTION:7-8 Grade Boys - Smithfield Recreation
LOCATION:Multi-Purpose North Gym
CATEGORIES:QuickScores, Basketball - Youth Game
TRANSP:OPAQUE
BEGIN:VALARM
TRIGGER:-PT2H
ACTION:DISPLAY
DESCRIPTION:Bucks: Gunnell vs. Suns: Guthrie
END:VALARM
END:VEVENT
BEGIN:VEVENT
UID:smithfieldrecreation-66651171-20250208T100000@quickscores.com
DTSTAMP:20260424T081000Z
DTSTART;TZID=America/Denver:20250208T100000
DURATION:PT1H0M0S
SUMMARY:Nuggets: Balli vs. Suns: Guthrie
DESCRIPTION:7-8 Grade Boys - Smithfield Recreation
LOCATION:Multi-Purpose North Gym
CATEGORIES:QuickScores, Basketball - Youth Game
TRANSP:OPAQUE
BEGIN:VALARM
TRIGGER:-PT2H
ACTION:DISPLAY
DESCRIPTION:Nuggets: Balli vs. Suns: Guthrie
END:VALARM
END:VEVENT
BEGIN:VEVENT
UID:smithfieldrecreation-66651175-20250222T080000@quickscores.com
DTSTAMP:20260424T081000Z
DTSTART;TZID=America/Denver:20250222T080000
DURATION:PT1H0M0S
SUMMARY:Bucks: Gunnell vs. Thunder: Hancey
DESCRIPTION:7-8 Grade Boys - Smithfield Recreation
LOCATION:Multi-Purpose North Gym
CATEGORIES:QuickScores, Basketball - Youth Game
TRANSP:OPAQUE
BEGIN:VALARM
TRIGGER:-PT2H
ACTION:DISPLAY
DESCRIPTION:Bucks: Gunnell vs. Thunder: Hancey
END:VALARM
END:VEVENT
BEGIN:VEVENT
UID:smithfieldrecreation-66651176-20250222T090000@quickscores.com
DTSTAMP:20260424T081000Z
DTSTART;TZID=America/Denver:20250222T090000
DURATION:PT1H0M0S
SUMMARY:Suns: Guthrie vs. Jazz: Watts
DESCRIPTION:7-8 Grade Boys - Smithfield Recreation
LOCATION:Multi-Purpose North Gym
CATEGORIES:QuickScores, Basketball - Youth Game
TRANSP:OPAQUE
BEGIN:VALARM
TRIGGER:-PT2H
ACTION:DISPLAY
DESCRIPTION:Suns: Guthrie vs. Jazz: Watts
END:VALARM
END:VEVENT
BEGIN:VEVENT
UID:smithfieldrecreation-66651174-20250222T100000@quickscores.com
DTSTAMP:20260424T081000Z
DTSTART;TZID=America/Denver:20250222T100000
DURATION:PT1H0M0S
SUMMARY:Jazz: Watts vs. Nuggets: Balli
DESCRIPTION:7-8 Grade Boys - Smithfield Recreation
LOCATION:Multi-Purpose North Gym
CATEGORIES:QuickScores, Basketball - Youth Game
TRANSP:OPAQUE
BEGIN:VALARM
TRIGGER:-PT2H
ACTION:DISPLAY
DESCRIPTION:Jazz: Watts vs. Nuggets: Balli
END:VALARM
END:VEVENT
BEGIN:VEVENT
UID:smithfieldrecreation-67366901-20250301T080000@quickscores.com
DTSTAMP:20260424T081000Z
DTSTART;TZID=America/Denver:20250301T080000
DURATION:PT1H0M0S
SUMMARY:[4] Thunder: Hancey vs. [5] Nuggets: Balli
DESCRIPTION:7-8 Grade Boys - Smithfield Recreation
LOCATION:Multi-Purpose North Gym
CATEGORIES:QuickScores, Basketball - Youth Game
TRANSP:OPAQUE
BEGIN:VALARM
TRIGGER:-PT2H
ACTION:DISPLAY
DESCRIPTION:[4] Thunder: Hancey vs. [5] Nuggets: Balli
END:VALARM
END:VEVENT
BEGIN:VEVENT
UID:smithfieldrecreation-67366904-20250301T090000@quickscores.com
DTSTAMP:20260424T081000Z
DTSTART;TZID=America/Denver:20250301T090000
DURATION:PT1H0M0S
SUMMARY:[1] Bucks: Gunnell vs. [5] Nuggets: Balli
DESCRIPTION:7-8 Grade Boys - Smithfield Recreation
LOCATION:Multi-Purpose North Gym
CATEGORIES:QuickScores, Basketball - Youth Game
TRANSP:OPAQUE
BEGIN:VALARM
TRIGGER:-PT2H
ACTION:DISPLAY
DESCRIPTION:[1] Bucks: Gunnell vs. [5] Nuggets: Balli
END:VALARM
END:VEVENT
BEGIN:VEVENT
UID:smithfieldrecreation-67366905-20250301T100000@quickscores.com
DTSTAMP:20260424T081000Z
DTSTART;TZID=America/Denver:20250301T100000
DURATION:PT1H0M0S
SUMMARY:[2] Jazz: Watts vs. [3] Suns: Guthrie
DESCRIPTION:7-8 Grade Boys - Smithfield Recreation
LOCATION:Multi-Purpose North Gym
CATEGORIES:QuickScores, Basketball - Youth Game
TRANSP:OPAQUE
BEGIN:VALARM
TRIGGER:-PT2H
ACTION:DISPLAY
DESCRIPTION:[2] Jazz: Watts vs. [3] Suns: Guthrie
END:VALARM
END:VEVENT
BEGIN:VEVENT
UID:smithfieldrecreation-67366906-20250301T110000@quickscores.com
DTSTAMP:20260424T081000Z
DTSTART;TZID=America/Denver:20250301T110000
DURATION:PT1H0M0S
SUMMARY:[1] Bucks: Gunnell vs. [3] Suns: Guthrie
DESCRIPTION:7-8 Grade Boys - Smithfield Recreation
LOCATION:Multi-Purpose North Gym
CATEGORIES:QuickScores, Basketball - Youth Game
TRANSP:OPAQUE
BEGIN:VALARM
TRIGGER:-PT2H
ACTION:DISPLAY
DESCRIPTION:[1] Bucks: Gunnell vs. [3] Suns: Guthrie
END:VALARM
END:VEVENT
END:VCALENDAR
