BEGIN:VCALENDAR
VERSION:2.0
PRODID:-//QuickScores.com//BQ Dynamic iCal Creator//EN
METHOD:PUBLISH
X-WR-CALNAME:10u Girls - Winter 2024-2025
X-WR-CALDESC:QuickScores game calendar
X-PUBLISHED-TTL:PT24H
REFRESH-INTERVAL;VALUE=DURATION:PT24H
CALSCALE:GREGORIAN
BEGIN:VTIMEZONE
TZID:America/New_York
X-LIC-LOCATION:America/New_York
BEGIN:DAYLIGHT
TZNAME:EDT
TZOFFSETFROM:-0500
TZOFFSETTO:-0400
DTSTART:19700308T020000
RRULE:FREQ=YEARLY;BYMONTH=3;BYDAY=2SU
END:DAYLIGHT
BEGIN:STANDARD
TZNAME:EST
TZOFFSETFROM:-0400
TZOFFSETTO:-0500
DTSTART:19701101T020000
RRULE:FREQ=YEARLY;BYMONTH=11;BYDAY=1SU
END:STANDARD
END:VTIMEZONE
BEGIN:VEVENT
UID:wrga-66498016-20250106T180000@quickscores.com
DTSTAMP:20260419T224000Z
DTSTART;TZID=America/New_York:20250106T180000
DURATION:PT1H0M0S
SUMMARY:Liberty vs. Dream
DESCRIPTION:10u Girls - Warner Robins Parks and Recreation 
LOCATION:NH Court 2
CATEGORIES:QuickScores, Basketball - Youth Game
TRANSP:OPAQUE
BEGIN:VALARM
TRIGGER:-PT2H
ACTION:DISPLAY
DESCRIPTION:Liberty vs. Dream
END:VALARM
END:VEVENT
BEGIN:VEVENT
UID:wrga-66498021-20250113T180000@quickscores.com
DTSTAMP:20260419T224000Z
DTSTART;TZID=America/New_York:20250113T180000
DURATION:PT1H0M0S
SUMMARY:Sparks vs. Aces
DESCRIPTION:10u Girls - Warner Robins Parks and Recreation 
LOCATION:NH Court 2
CATEGORIES:QuickScores, Basketball - Youth Game
TRANSP:OPAQUE
BEGIN:VALARM
TRIGGER:-PT2H
ACTION:DISPLAY
DESCRIPTION:Sparks vs. Aces
END:VALARM
END:VEVENT
BEGIN:VEVENT
UID:wrga-66498024-20250117T190000@quickscores.com
DTSTAMP:20260419T224000Z
DTSTART;TZID=America/New_York:20250117T190000
DURATION:PT1H0M0S
SUMMARY:Sparks vs. Dream
DESCRIPTION:10u Girls - Warner Robins Parks and Recreation 
LOCATION:NH Court 2
CATEGORIES:QuickScores, Basketball - Youth Game
TRANSP:OPAQUE
BEGIN:VALARM
TRIGGER:-PT2H
ACTION:DISPLAY
DESCRIPTION:Sparks vs. Dream
END:VALARM
END:VEVENT
BEGIN:VEVENT
UID:wrga-66498025-20250117T200000@quickscores.com
DTSTAMP:20260419T224000Z
DTSTART;TZID=America/New_York:20250117T200000
DURATION:PT1H0M0S
SUMMARY:Wings vs. Aces
DESCRIPTION:10u Girls - Warner Robins Parks and Recreation 
LOCATION:NH Court 2
CATEGORIES:QuickScores, Basketball - Youth Game
TRANSP:OPAQUE
BEGIN:VALARM
TRIGGER:-PT2H
ACTION:DISPLAY
DESCRIPTION:Wings vs. Aces
END:VALARM
END:VEVENT
BEGIN:VEVENT
UID:wrga-66498028-20250124T200000@quickscores.com
DTSTAMP:20260419T224000Z
DTSTART;TZID=America/New_York:20250124T200000
DURATION:PT1H0M0S
SUMMARY:Aces vs. Liberty
DESCRIPTION:10u Girls - Warner Robins Parks and Recreation 
LOCATION:NH Court 1
CATEGORIES:QuickScores, Basketball - Youth Game
TRANSP:OPAQUE
BEGIN:VALARM
TRIGGER:-PT2H
ACTION:DISPLAY
DESCRIPTION:Aces vs. Liberty
END:VALARM
END:VEVENT
BEGIN:VEVENT
UID:wrga-66498029-20250127T190000@quickscores.com
DTSTAMP:20260419T224000Z
DTSTART;TZID=America/New_York:20250127T190000
DURATION:PT1H0M0S
SUMMARY:Dream vs. Wings
DESCRIPTION:10u Girls - Warner Robins Parks and Recreation 
LOCATION:NH Court 2
CATEGORIES:QuickScores, Basketball - Youth Game
TRANSP:OPAQUE
BEGIN:VALARM
TRIGGER:-PT2H
ACTION:DISPLAY
DESCRIPTION:Dream vs. Wings
END:VALARM
END:VEVENT
BEGIN:VEVENT
UID:wrga-66498030-20250130T180000@quickscores.com
DTSTAMP:20260419T224000Z
DTSTART;TZID=America/New_York:20250130T180000
DURATION:PT1H0M0S
SUMMARY:Dream vs. Liberty
DESCRIPTION:10u Girls - Warner Robins Parks and Recreation 
LOCATION:NH Court 3
CATEGORIES:QuickScores, Basketball - Youth Game
TRANSP:OPAQUE
BEGIN:VALARM
TRIGGER:-PT2H
ACTION:DISPLAY
DESCRIPTION:Dream vs. Liberty
END:VALARM
END:VEVENT
BEGIN:VEVENT
UID:wrga-66498031-20250130T190000@quickscores.com
DTSTAMP:20260419T224000Z
DTSTART;TZID=America/New_York:20250130T190000
DURATION:PT1H0M0S
SUMMARY:Sparks vs. Wings
DESCRIPTION:10u Girls - Warner Robins Parks and Recreation 
LOCATION:NH Court 3
CATEGORIES:QuickScores, Basketball - Youth Game
TRANSP:OPAQUE
BEGIN:VALARM
TRIGGER:-PT2H
ACTION:DISPLAY
DESCRIPTION:Sparks vs. Wings
END:VALARM
END:VEVENT
BEGIN:VEVENT
UID:wrga-66498048-20250201T140000@quickscores.com
DTSTAMP:20260419T224000Z
DTSTART;TZID=America/New_York:20250201T140000
DURATION:PT1H0M0S
SUMMARY:Stars vs. Sparks
DESCRIPTION:10u Girls - Warner Robins Parks and Recreation 
LOCATION:NH Court 2
CATEGORIES:QuickScores, Basketball - Youth Game
TRANSP:OPAQUE
BEGIN:VALARM
TRIGGER:-PT2H
ACTION:DISPLAY
DESCRIPTION:Stars vs. Sparks
END:VALARM
END:VEVENT
BEGIN:VEVENT
UID:wrga-66498049-20250201T140000@quickscores.com
DTSTAMP:20260419T224000Z
DTSTART;TZID=America/New_York:20250201T140000
DURATION:PT1H0M0S
SUMMARY:Liberty vs. Aces
DESCRIPTION:10u Girls - Warner Robins Parks and Recreation 
LOCATION:NH Court 1
CATEGORIES:QuickScores, Basketball - Youth Game
TRANSP:OPAQUE
BEGIN:VALARM
TRIGGER:-PT2H
ACTION:DISPLAY
DESCRIPTION:Liberty vs. Aces
END:VALARM
END:VEVENT
BEGIN:VEVENT
UID:wrga-66498032-20250203T180000@quickscores.com
DTSTAMP:20260419T224000Z
DTSTART;TZID=America/New_York:20250203T180000
DURATION:PT1H0M0S
SUMMARY:Stars vs. Aces
DESCRIPTION:10u Girls - Warner Robins Parks and Recreation 
LOCATION:NH Court 2
CATEGORIES:QuickScores, Basketball - Youth Game
TRANSP:OPAQUE
BEGIN:VALARM
TRIGGER:-PT2H
ACTION:DISPLAY
DESCRIPTION:Stars vs. Aces
END:VALARM
END:VEVENT
BEGIN:VEVENT
UID:wrga-66498047-20250205T200000@quickscores.com
DTSTAMP:20260419T224000Z
DTSTART;TZID=America/New_York:20250205T200000
DURATION:PT1H0M0S
SUMMARY:Liberty vs. Sparks
DESCRIPTION:10u Girls - Warner Robins Parks and Recreation 
LOCATION:NH Court 3
CATEGORIES:QuickScores, Basketball - Youth Game
TRANSP:OPAQUE
BEGIN:VALARM
TRIGGER:-PT2H
ACTION:DISPLAY
DESCRIPTION:Liberty vs. Sparks
END:VALARM
END:VEVENT
BEGIN:VEVENT
UID:wrga-66498034-20250207T190000@quickscores.com
DTSTAMP:20260419T224000Z
DTSTART;TZID=America/New_York:20250207T190000
DURATION:PT1H0M0S
SUMMARY:Aces vs. Dream
DESCRIPTION:Dream forfeit --- 10u Girls - Warner Robins Parks and Recreation 
LOCATION:NH Court 3
CATEGORIES:QuickScores, Basketball - Youth Game
TRANSP:OPAQUE
BEGIN:VALARM
TRIGGER:-PT2H
ACTION:DISPLAY
DESCRIPTION:Aces vs. Dream
END:VALARM
END:VEVENT
BEGIN:VEVENT
UID:wrga-66498027-20250207T200000@quickscores.com
DTSTAMP:20260419T224000Z
DTSTART;TZID=America/New_York:20250207T200000
DURATION:PT1H0M0S
SUMMARY:Sparks vs. Stars
DESCRIPTION:10u Girls - Warner Robins Parks and Recreation 
LOCATION:NH Court 3
CATEGORIES:QuickScores, Basketball - Youth Game
TRANSP:OPAQUE
BEGIN:VALARM
TRIGGER:-PT2H
ACTION:DISPLAY
DESCRIPTION:Sparks vs. Stars
END:VALARM
END:VEVENT
BEGIN:VEVENT
UID:wrga-66498043-20250210T200000@quickscores.com
DTSTAMP:20260419T224000Z
DTSTART;TZID=America/New_York:20250210T200000
DURATION:PT1H0M0S
SUMMARY:Wings vs. Sparks
DESCRIPTION:10u Girls - Warner Robins Parks and Recreation 
LOCATION:NH Court 3
CATEGORIES:QuickScores, Basketball - Youth Game
TRANSP:OPAQUE
BEGIN:VALARM
TRIGGER:-PT2H
ACTION:DISPLAY
DESCRIPTION:Wings vs. Sparks
END:VALARM
END:VEVENT
BEGIN:VEVENT
UID:wrga-66498051-20250212T200000@quickscores.com
DTSTAMP:20260419T224000Z
DTSTART;TZID=America/New_York:20250212T200000
DURATION:PT1H0M0S
SUMMARY:Aces vs. Stars
DESCRIPTION:10u Girls - Warner Robins Parks and Recreation 
LOCATION:NH Court 3
CATEGORIES:QuickScores, Basketball - Youth Game
TRANSP:OPAQUE
BEGIN:VALARM
TRIGGER:-PT2H
ACTION:DISPLAY
DESCRIPTION:Aces vs. Stars
END:VALARM
END:VEVENT
BEGIN:VEVENT
UID:wrga-66498037-20250215T140000@quickscores.com
DTSTAMP:20260419T224000Z
DTSTART;TZID=America/New_York:20250215T140000
DURATION:PT1H0M0S
SUMMARY:Wings vs. Stars
DESCRIPTION:10u Girls - Warner Robins Parks and Recreation 
LOCATION:NH Court 2
CATEGORIES:QuickScores, Basketball - Youth Game
TRANSP:OPAQUE
BEGIN:VALARM
TRIGGER:-PT2H
ACTION:DISPLAY
DESCRIPTION:Wings vs. Stars
END:VALARM
END:VEVENT
BEGIN:VEVENT
UID:wrga-66498039-20250215T140000@quickscores.com
DTSTAMP:20260419T224000Z
DTSTART;TZID=America/New_York:20250215T140000
DURATION:PT1H0M0S
SUMMARY:Sparks vs. Liberty
DESCRIPTION:10u Girls - Warner Robins Parks and Recreation 
LOCATION:NH Court 1
CATEGORIES:QuickScores, Basketball - Youth Game
TRANSP:OPAQUE
BEGIN:VALARM
TRIGGER:-PT2H
ACTION:DISPLAY
DESCRIPTION:Sparks vs. Liberty
END:VALARM
END:VEVENT
BEGIN:VEVENT
UID:wrga-66498038-20250219T180000@quickscores.com
DTSTAMP:20260419T224000Z
DTSTART;TZID=America/New_York:20250219T180000
DURATION:PT1H0M0S
SUMMARY:Dream vs. Aces
DESCRIPTION:10u Girls - Warner Robins Parks and Recreation 
LOCATION:NH Court 2
CATEGORIES:QuickScores, Basketball - Youth Game
TRANSP:OPAQUE
BEGIN:VALARM
TRIGGER:-PT2H
ACTION:DISPLAY
DESCRIPTION:Dream vs. Aces
END:VALARM
END:VEVENT
BEGIN:VEVENT
UID:wrga-66498022-20250221T180000@quickscores.com
DTSTAMP:20260419T224000Z
DTSTART;TZID=America/New_York:20250221T180000
DURATION:PT1H0M0S
SUMMARY:Dream vs. Stars
DESCRIPTION:10u Girls - Warner Robins Parks and Recreation 
LOCATION:NH Court 1
CATEGORIES:QuickScores, Basketball - Youth Game
TRANSP:OPAQUE
BEGIN:VALARM
TRIGGER:-PT2H
ACTION:DISPLAY
DESCRIPTION:Dream vs. Stars
END:VALARM
END:VEVENT
BEGIN:VEVENT
UID:wrga-66498023-20250221T190000@quickscores.com
DTSTAMP:20260419T224000Z
DTSTART;TZID=America/New_York:20250221T190000
DURATION:PT1H0M0S
SUMMARY:Wings vs. Liberty
DESCRIPTION:10u Girls - Warner Robins Parks and Recreation 
LOCATION:NH Court 1
CATEGORIES:QuickScores, Basketball - Youth Game
TRANSP:OPAQUE
BEGIN:VALARM
TRIGGER:-PT2H
ACTION:DISPLAY
DESCRIPTION:Wings vs. Liberty
END:VALARM
END:VEVENT
BEGIN:VEVENT
UID:wrga-66498041-20250222T140000@quickscores.com
DTSTAMP:20260419T224000Z
DTSTART;TZID=America/New_York:20250222T140000
DURATION:PT1H0M0S
SUMMARY:Stars vs. Dream
DESCRIPTION:10u Girls - Warner Robins Parks and Recreation 
LOCATION:NH Court 1
CATEGORIES:QuickScores, Basketball - Youth Game
TRANSP:OPAQUE
BEGIN:VALARM
TRIGGER:-PT2H
ACTION:DISPLAY
DESCRIPTION:Stars vs. Dream
END:VALARM
END:VEVENT
BEGIN:VEVENT
UID:wrga-66498042-20250222T140000@quickscores.com
DTSTAMP:20260419T224000Z
DTSTART;TZID=America/New_York:20250222T140000
DURATION:PT1H0M0S
SUMMARY:Liberty vs. Wings
DESCRIPTION:10u Girls - Warner Robins Parks and Recreation 
LOCATION:NH Court 2
CATEGORIES:QuickScores, Basketball - Youth Game
TRANSP:OPAQUE
BEGIN:VALARM
TRIGGER:-PT2H
ACTION:DISPLAY
DESCRIPTION:Liberty vs. Wings
END:VALARM
END:VEVENT
BEGIN:VEVENT
UID:wrga-66498046-20250224T190000@quickscores.com
DTSTAMP:20260419T224000Z
DTSTART;TZID=America/New_York:20250224T190000
DURATION:PT1H0M0S
SUMMARY:Stars vs. Liberty
DESCRIPTION:10u Girls - Warner Robins Parks and Recreation 
LOCATION:NH Court 3
CATEGORIES:QuickScores, Basketball - Youth Game
TRANSP:OPAQUE
BEGIN:VALARM
TRIGGER:-PT2H
ACTION:DISPLAY
DESCRIPTION:Stars vs. Liberty
END:VALARM
END:VEVENT
BEGIN:VEVENT
UID:wrga-66498045-20250224T200000@quickscores.com
DTSTAMP:20260419T224000Z
DTSTART;TZID=America/New_York:20250224T200000
DURATION:PT1H0M0S
SUMMARY:Aces vs. Wings
DESCRIPTION:10u Girls - Warner Robins Parks and Recreation 
LOCATION:NH Court 3
CATEGORIES:QuickScores, Basketball - Youth Game
TRANSP:OPAQUE
BEGIN:VALARM
TRIGGER:-PT2H
ACTION:DISPLAY
DESCRIPTION:Aces vs. Wings
END:VALARM
END:VEVENT
BEGIN:VEVENT
UID:wrga-66498026-20250225T180000@quickscores.com
DTSTAMP:20260419T224000Z
DTSTART;TZID=America/New_York:20250225T180000
DURATION:PT1H0M0S
SUMMARY:Liberty vs. Stars
DESCRIPTION:10u Girls - Warner Robins Parks and Recreation 
LOCATION:NH Court 2
CATEGORIES:QuickScores, Basketball - Youth Game
TRANSP:OPAQUE
BEGIN:VALARM
TRIGGER:-PT2H
ACTION:DISPLAY
DESCRIPTION:Liberty vs. Stars
END:VALARM
END:VEVENT
BEGIN:VEVENT
UID:wrga-66498050-20250225T200000@quickscores.com
DTSTAMP:20260419T224000Z
DTSTART;TZID=America/New_York:20250225T200000
DURATION:PT1H0M0S
SUMMARY:Wings vs. Dream
DESCRIPTION:10u Girls - Warner Robins Parks and Recreation 
LOCATION:NH Court 3
CATEGORIES:QuickScores, Basketball - Youth Game
TRANSP:OPAQUE
BEGIN:VALARM
TRIGGER:-PT2H
ACTION:DISPLAY
DESCRIPTION:Wings vs. Dream
END:VALARM
END:VEVENT
BEGIN:VEVENT
UID:wrga-66498040-20250226T180000@quickscores.com
DTSTAMP:20260419T224000Z
DTSTART;TZID=America/New_York:20250226T180000
DURATION:PT1H0M0S
SUMMARY:Aces vs. Sparks
DESCRIPTION:10u Girls - Warner Robins Parks and Recreation 
LOCATION:NH Court 2
CATEGORIES:QuickScores, Basketball - Youth Game
TRANSP:OPAQUE
BEGIN:VALARM
TRIGGER:-PT2H
ACTION:DISPLAY
DESCRIPTION:Aces vs. Sparks
END:VALARM
END:VEVENT
BEGIN:VEVENT
UID:wrga-66498033-20250301T100000@quickscores.com
DTSTAMP:20260419T224000Z
DTSTART;TZID=America/New_York:20250301T100000
DURATION:PT1H0M0S
SUMMARY:Stars vs. Wings
DESCRIPTION:10u Girls - Warner Robins Parks and Recreation 
LOCATION:NH Court 4
CATEGORIES:QuickScores, Basketball - Youth Game
TRANSP:OPAQUE
BEGIN:VALARM
TRIGGER:-PT2H
ACTION:DISPLAY
DESCRIPTION:Stars vs. Wings
END:VALARM
END:VEVENT
BEGIN:VEVENT
UID:wrga-66498044-20250303T180000@quickscores.com
DTSTAMP:20260419T224000Z
DTSTART;TZID=America/New_York:20250303T180000
DURATION:PT1H0M0S
SUMMARY:Dream vs. Sparks
DESCRIPTION:10u Girls - Warner Robins Parks and Recreation 
LOCATION:NH Court 1
CATEGORIES:QuickScores, Basketball - Youth Game
TRANSP:OPAQUE
BEGIN:VALARM
TRIGGER:-PT2H
ACTION:DISPLAY
DESCRIPTION:Dream vs. Sparks
END:VALARM
END:VEVENT
BEGIN:VEVENT
UID:wrga-67410232-20250305T180000@quickscores.com
DTSTAMP:20260419T224000Z
DTSTART;TZID=America/New_York:20250305T180000
DURATION:PT1H0M0S
SUMMARY:[2] Aces vs. [3] Liberty
DESCRIPTION:10u Girls - Warner Robins Parks and Recreation 
LOCATION:NH Court 4
CATEGORIES:QuickScores, Basketball - Youth Game
TRANSP:OPAQUE
BEGIN:VALARM
TRIGGER:-PT2H
ACTION:DISPLAY
DESCRIPTION:[2] Aces vs. [3] Liberty
END:VALARM
END:VEVENT
BEGIN:VEVENT
UID:wrga-67410231-20250305T200000@quickscores.com
DTSTAMP:20260419T224000Z
DTSTART;TZID=America/New_York:20250305T200000
DURATION:PT1H0M0S
SUMMARY:[1] Sparks vs. [4] Wings
DESCRIPTION:10u Girls - Warner Robins Parks and Recreation 
LOCATION:NH Court 1
CATEGORIES:QuickScores, Basketball - Youth Game
TRANSP:OPAQUE
BEGIN:VALARM
TRIGGER:-PT2H
ACTION:DISPLAY
DESCRIPTION:[1] Sparks vs. [4] Wings
END:VALARM
END:VEVENT
BEGIN:VEVENT
UID:wrga-67410233-20250310T183000@quickscores.com
DTSTAMP:20260419T224000Z
DTSTART;TZID=America/New_York:20250310T183000
DURATION:PT1H0M0S
SUMMARY:[1] Sparks vs. [2] Aces
DESCRIPTION:10u Girls - Warner Robins Parks and Recreation 
LOCATION:NH Court 2
CATEGORIES:QuickScores, Basketball - Youth Game
TRANSP:OPAQUE
BEGIN:VALARM
TRIGGER:-PT2H
ACTION:DISPLAY
DESCRIPTION:[1] Sparks vs. [2] Aces
END:VALARM
END:VEVENT
END:VCALENDAR
